{"text_format":"1","workbook":"xlsx","n_sheets":18,"sheets":["HOME","GETTING STARTED","PROFILE","FOUNDATIONAL","IN-DEPTH","COMPREHENSIVE","SWOT","RISK & PREPARDNESS","AGENCY STRATEGY","WFP SUMMARY","APPENDIX","IMPLEMENTATION NOTES","CENTRAL DATA","CENTRAL ANALYSIS","DHRM ADMIN","DATA IMPORT","DATA TRANSFORM","DATA EXPORT"],"not_rendered":{"charts":2,"images":31,"macros":1,"external_links":0,"defined_names":16,"comments":0,"pivot_tables":0},"unopened":[],"bounds":{"document_bytes":16777216,"sheet_cells":100000,"rows_first":2000,"rows_last":500,"rows_between":2000,"halvings":0,"cell_chars":16384,"cell_head_chars":4096},"cells_cut":0,"cells_raw":0,"read":"whole","date_system":"1900"}

{"sheet":"HOME","index":0,"n_rows":47,"n_cols":30,"rows_kept":47,"cut":false,"hidden":false,"merged":[[46,4,46,19],[23,1,29,4],[30,2,32,4],[23,7,36,10],[39,7,43,10],[23,13,41,16],[23,19,41,22],[36,1,39,4],[40,2,42,4],[0,24,3,27],[13,19,13,21],[11,10,12,21],[19,1,21,4],[19,7,21,10],[19,13,21,16],[19,19,21,22],[15,1,15,4],[15,7,15,10],[15,13,15,16],[4,25,5,27],[16,2,16,4],[17,2,17,4],[16,8,16,10],[16,14,16,16]]}
[null,null,null,null,null,null,null,null,null,null,null,null,null,null,null,null,null,null,null,null,null,null,null,null,"DHRM ADMIN"]
[]
[]
[]
[null,null,null,null,null,null,null,null,null,null,null,null,null,null,null,null,null,null,null,null,null,null,null,null,null,{"$f":"AD6","v":"LOCKED"}]
[null,null,null,null,null,null,null,null,null,null,null,null,null,null,null,null,null,null,null,null,null,null,null,null,null,null,null,null,null,"LOCKED"]
[]
[]
[]
[]
[]
[null,null,null,null,null,null,null,null,null,null,{"$f":"IF(PROFILE!J23=\"\",\"\",PROFILE!J23)","v":""}]
[]
[null,null,null,null,null,null,null,null,null,null,null,null,null,null,null,null,null,null,null,{"$f":"IF(AND(K12<>\"\",PROFILE!L43=\"Fiscal Year WFP\"),CONCATENATE(\"Fiscal Year \",'DHRM ADMIN'!O14),IF(AND(HOME!K12<>\"\",PROFILE!L43=\"Snapshot\"),CONCATENATE(\"As of \",TEXT(PROFILE!N44,\"MM/DD/YYYY\")),\"\"))","v":""}]
[]
[null,"STEP % COMPLETION",null,null,null,null,null,"STEP % COMPLETION",null,null,null,null,null,"STEP % COMPLETION"]
[null,{"$f":"'CENTRAL ANALYSIS'!D13","v":0},{"$f":"REPT(\"█\",B17*20)","v":""},null,null,null,null,{"$f":"'CENTRAL ANALYSIS'!D14","v":0},{"$f":"REPT(\"█\",H17*20)","v":""},null,null,null,null,{"$f":"'CENTRAL ANALYSIS'!D15","v":0},{"$f":"REPT(\"█\",N17*20)","v":""}]
[]
[]
[null,"GETTING STARTED",null,null,null,null,null,"WORKFORCE ANALYSIS",null,null,null,null,null,"STRATEGY DEVELOPMENT OR MODIFICATION",null,null,null,null,null,"STRATEGY IMPLEMENTATION"]
[]
[]
[]
[null,"It is highly recommended first time users start here. \n\n\n reviews important features, setup, and instructions for using this tool to its full potential. \n\n\n",null,null,null,null,null,"\nfocuses on overall metrics to provide the foundation for a workforce strategy.\n\n\n\nfocuses on identifying internal and external elements that may impact the current and future workforce.\n\n\nidentifies the risk and preparation level for specific agency strategic plan items noted in the Agency Profile.\n\n",null,null,null,null,null,"\nis the specific plan or action items for the agency to align all aspects of workforce planning with the agency future direction to better prepare for and meet potential workforce risks and needs.\n\n\n\n\n\ncompiles key information and metrics from the analysis and the agency strategy into a single summary that meets the workforce planning annual mandate, which can be exported as a PDF.",null,null,null,null,null,"\nallows notes and snapshots to be noted throughout the year to monitor implementation of the Agency Strategy and to be used as references and updates for the following year.\n\n"]
[]
[]
[]
[]
[]
[]
[null,null,"Users can also import data from other tools and templates on the Getting Started Tab."]
[]
[]
[]
[]
[]
[null,"includes related information from the Agency Profile. All information can be entered or imported directly."]
[]
[]
[null,null,null,null,null,null,null,"focuses on providing greater depth to the workforce analysis to better target objectives and actions in the workforce strategy.  HDDEN UNTIL ENABLED."]
[null,null,"Increased levels of analysis can be enabled on the Profile Tab."]
[]
[]
[]
[]
[]
[null,null,null,null,"For questions using this template, please contact DHRM Workforce Planning at dhrm.wfp@dhrm.virginia.gov.",null,null,null,null,null,null,null,null,null,null,null,null,null,null,null,null,null,"Version 1.4"]

{"sheet":"GETTING STARTED","index":1,"n_rows":154,"n_cols":16,"rows_kept":154,"cut":false,"hidden":false,"merged":[[91,5,99,13],[51,3,56,7],[51,11,56,15],[58,3,63,7],[44,3,49,7],[44,11,49,15],[65,5,70,13],[72,5,79,13],[81,5,89,13],[134,10,134,15],[135,1,135,9],[135,10,135,14],[58,11,63,15],[6,2,8,14],[9,2,12,14],[13,1,14,15],[15,1,17,15],[39,1,40,15],[102,1,103,15],[104,1,106,15],[118,1,119,15],[120,1,124,15],[20,1,20,12],[20,13,20,15],[41,1,42,15],[152,10,152,15],[153,1,153,9],[153,10,153,14],[137,1,138,15],[139,1,143,15]]}
[]
[]
[]
[]
[]
[]
[null,null,"GETTING STARTED"]
[]
[]
[null,null,"This tab reviews key features of this tool and steps required in order to utilize all features. Taking the time to review each section will significantly enhance your understanding of the design and your ability to use the tool efficiently.\nIt is highly recommended first time users review this tab."]
[]
[]
[]
[null,"Step 1: Review Overall Setup"]
[]
[null,"To use this tool, it is recommended to follow the tabs in order from left to right, completing each step in order. For each step, instructions are included underneath. Some steps also provide sub-steps with additional instructions. Information required to be entered is noted by a yellow color and labeled either to the left or above the cell. Optional information is noted by a green color. "]
[]
[]
[]
[]
[]
[]
[]
[]
[]
[]
[]
[]
[]
[]
[]
[]
[]
[]
[]
[]
[]
[]
[]
[null,"Step 2: Review Important Features of This Tool"]
[]
[null,"This tool utilizes various features to assist with entering and interpreting workforce information. Below are descriptions of the tool's key features and design. "]
[]
[]
[null,null,null,"USE OF EXCEL MACROS\nThis tool utilizes a series of excel macros, which are custom actions used to automate specific tasks. This tool performs best when using Excel 2016 or later.  \nNOTE: MACROS MUST BE ENABLED TO USE THEM. SEE BELOW TO LEARN HOW.",null,null,null,null,null,null,null,"EASY FILE NAVIGATION\nEach excel worksheet, or tab, houses related information which is compiled together into a single report. Links to each are frozen at the top of each tab. See the HOME tab for descriptions of each."]
[]
[]
[]
[]
[]
[]
[null,null,null,"COLOR GUIDED DATA ENTRY\nColors are used to identify what data should be entered and where. Yellow indicates required information, Green indicates optional information, and Gray indicates information that is not required",null,null,null,null,null,null,null,"BUILT-IN HELP FEATURE\nThis tool has a built-in help feature, noted by a question mark in a blue circle. Simply click on the question mark to gain additional information, definitions, and steps to complete each section. (NOTE: Cannot edit template while a help box is open)"]
[]
[]
[]
[]
[]
[]
[null,null,null,"PROGRESS INDICATORS\nThe home tab shows the overall progress for each stage of developing the Agency Profile. Each tab also has indicators for each specific step to show if they are complete or incomplete. ",null,null,null,null,null,null,null,"ONLINE INSTRUCTIONS\nA full step by step guide and data definitions can be found on the DHRM Workforce Planning website. "]
[]
[]
[]
[]
[]
[]
[null,null,null,null,null,"ADVANCED FEATURE: DATA IMPORT\nThis template is part of an suite of integrated workforce planning and development tools. Using these tools allows for information to easily be imported from one tool to the next. Data cannot be imported unless using a specific template, provided by DHRM upon request.\n MACROS MUST BE ENABLED TO UTILIZE THIS FEATURE."]
[]
[]
[]
[]
[]
[]
[null,null,null,null,null,"ADVANCED FEATURE: EASILY REVIEW PRIOR INFORMATION \nAfter information is imported, select areas of the template allow for easy viewing of the prior year responses. Information can only be viewed if data from the respective template was imported.  \n MACROS MUST BE ENABLED TO UTILIZE THIS FEATURE."]
[]
[]
[]
[]
[]
[]
[]
[]
[null,null,null,null,null,"TOOL VERSIONS\nAs we continue to enhance this tool, integrate it with other elements of workforce planning and development, or as changes to any mandates or guidance occurs, new versions of this tool may be released. The version number is located on the home tab in the bottom right corner. \n\nIt is important to be using the most up to date version, which will be noted on the DHRM Workforce Planning Website. As new versions are released, the prior version data can be imported so that no progress is lost."]
[]
[]
[]
[]
[]
[]
[]
[]
[]
[null,null,null,null,null,"INCREASING LEVELS OF ANALYSIS\nTo better assist with navigating the landscape of workforce planning and development, the suite of integrated tools and templates provide indicators for three levels of analysis: foundational, thorough, and comprehensive. These levels are used to better identify why information is collected and how it can be used throughout the tools and templates.\n\nAll foundational level elements are required and both the thorough and comprehensive elements are highly encouraged, but optional."]
[]
[]
[]
[]
[]
[]
[]
[]
[]
[]
[null,"(Optional) Step 3: Enable Macros to Utilize Full Functionality"]
[]
[null,"When first opening the file, or anytime the filename changes, you will see a \"Security Warning\" at the top (shown in the picture below) indicating Macros have been disabled. Click the \"Enable Content\" button to enable macros for the file."]
[]
[]
[]
[]
[]
[]
[]
[]
[]
[]
[]
[]
[]
[null,"(Optional) Step 4: Import Data from the Prior Year Agency Strategy Template"]
[]
[null,"As workforce planning is a continual process, data from the prior year Agency Strategy template can be imported. Imported data will automatically enter the information into the respective cells. Agencies are encouraged to still review the data for accuracy. Complete this step first to ensure no progress is lost. Importing data from other sources before a prior version of the Agency Strategy may result in data being overwritten."]
[]
[]
[]
[]
[]
[]
[]
[]
[]
[]
[]
[]
[]
[null,"Last Uploaded Date and Time",null,null,null,null,null,null,null,null,"Upload Status"]
[null,null,null,null,null,null,null,null,null,null,null,null,null,null,null,{"$f":"IF(K136=\"upload complete\",3,IF(K136=\"pending\",0,IF(K136=\"upload incomplete\",-1,\"\")))","v":""}]
[]
[null,"(Optional) Step 5: Import Objectives from Employment Opportunities Plan"]
[]
[null,"For efficiency and integration, data from the objectives of the Employment Opportunities Plan can be imported. Imported data will automatically enter the information into the respective cells. Agencies are encouraged to still review the data for accuracy. Complete this step first to ensure no progress is lost. Importing data from other sources before a prior version of the Agency Strategy may result in data being overwritten."]
[]
[]
[]
[]
[]
[]
[]
[]
[]
[]
[]
[]
[null,"Last Uploaded Date and Time",null,null,null,null,null,null,null,null,"Upload Status"]
[null,null,null,null,null,null,null,null,null,null,null,null,null,null,null,{"$f":"IF(K154=\"upload complete\",3,IF(K154=\"pending\",0,IF(K154=\"upload incomplete\",-1,\"\")))","v":""}]

{"sheet":"PROFILE","index":2,"n_rows":269,"n_cols":23,"rows_kept":269,"cut":false,"hidden":false,"merged":[[236,2,239,15],[253,2,254,14],[264,2,265,14],[37,1,38,12],[37,13,38,15],[39,1,40,15],[42,11,42,15],[43,13,43,15],[93,2,94,10],[144,2,145,9],[163,2,164,9],[187,2,188,9],[209,2,210,9],[224,5,227,15],[228,5,231,15],[247,1,248,12],[247,13,248,15],[249,1,251,15],[258,1,259,12],[258,13,259,15],[260,1,262,15],[190,5,195,15],[196,5,201,15],[202,5,207,15],[234,2,235,13],[212,5,215,15],[216,5,219,15],[220,5,223,15],[166,5,169,15],[170,5,173,15],[174,5,177,15],[178,5,181,15],[182,5,185,15],[147,5,149,15],[150,5,152,15],[153,5,155,15],[156,5,158,15],[159,5,161,15],[137,1,138,12],[137,13,138,15],[139,1,142,15],[125,2,125,3],[125,4,125,10],[125,11,125,13],[125,14,125,15],[126,2,126,3],[126,4,126,10],[126,11,126,13],[126,14,126,15],[128,2,129,13],[130,2,133,15],[123,2,123,3],[123,4,123,10],[123,11,123,13],[123,14,123,15],[124,2,124,3],[124,4,124,10],[124,11,124,13],[124,14,124,15],[121,2,121,3],[121,4,121,10],[121,11,121,13],[121,14,121,15],[122,2,122,3],[122,4,122,10],[122,11,122,13],[122,14,122,15],[119,2,119,3],[119,4,119,10],[119,11,119,13],[119,14,119,15],[120,2,120,3],[120,4,120,10],[120,11,120,13],[120,14,120,15],[117,2,117,3],[117,4,117,10],[117,11,117,13],[117,14,117,15],[118,2,118,3],[118,4,118,10],[118,11,118,13],[118,14,118,15],[115,2,115,3],[115,4,115,10],[115,11,115,13],[115,14,115,15],[116,2,116,3],[116,4,116,10],[116,11,116,13],[116,14,116,15],[113,2,113,3],[113,4,113,10],[113,11,113,13],[113,14,113,15],[114,2,114,3],[114,4,114,10],[114,11,114,13],[114,14,114,15],[111,2,111,3],[111,4,111,10],[111,11,111,13],[111,14,111,15],[112,2,112,3],[112,4,112,10],[112,11,112,13],[112,14,112,15],[109,2,109,3],[109,4,109,10],[109,11,109,13],[109,14,109,15],[110,2,110,3],[110,4,110,10],[110,11,110,13],[110,14,110,15],[107,2,107,3],[107,4,107,10],[107,11,107,13],[107,14,107,15],[108,2,108,3],[108,4,108,10],[108,11,108,13],[108,14,108,15],[105,2,105,3],[105,4,105,10],[105,11,105,13],[105,14,105,15],[106,2,106,3],[106,4,106,10],[106,11,106,13],[106,14,106,15],[103,2,103,3],[103,4,103,10],[103,11,103,13],[103,14,103,15],[104,2,104,3],[104,4,104,10],[104,11,104,13],[104,14,104,15],[101,2,101,3],[101,4,101,10],[101,11,101,13],[101,14,101,15],[102,2,102,3],[102,4,102,10],[102,11,102,13],[102,14,102,15],[99,2,99,3],[99,4,99,10],[99,11,99,13],[99,14,99,15],[100,2,100,3],[100,4,100,10],[100,11,100,13],[100,14,100,15],[97,2,97,3],[97,4,97,10],[97,11,97,13],[97,14,97,15],[98,2,98,3],[98,4,98,10],[98,11,98,13],[98,14,98,15],[6,2,8,14],[9,2,12,14],[16,1,17,12],[16,13,17,15],[18,1,20,15],[84,1,86,15],[88,4,90,15],[96,2,96,3],[96,4,96,10],[96,11,96,13],[96,14,96,15],[22,9,22,15],[23,9,23,15],[25,10,28,15],[29,4,33,15],[82,1,83,12],[82,13,83,15],[47,1,48,12],[47,13,48,15],[49,1,51,15],[53,2,54,9],[56,2,56,5],[56,6,56,15],[57,2,57,5],[57,6,57,15],[58,2,58,5],[58,6,58,15],[59,2,59,5],[59,6,59,15],[60,2,60,5],[60,6,60,15],[61,2,61,5],[61,6,61,15],[62,2,62,5],[62,6,62,15],[63,2,63,5],[63,6,63,15],[64,2,64,5],[64,6,64,15],[65,2,65,5],[65,6,65,15],[66,2,66,5],[66,6,66,15],[88,0,90,3],[67,2,67,5],[67,6,67,15],[68,2,68,5],[68,6,68,15],[69,2,69,5],[69,6,69,15],[70,2,70,5],[70,6,70,15],[71,2,71,5],[71,6,71,15],[73,2,74,13],[75,2,78,15]]}
[null,null,null,null,null,null,null,null,null,null,null,null,null,null,null,null,null,null,null,null,null,null,1]
[null,null,null,null,null,null,null,null,null,null,null,null,null,null,null,null,null,null,null,null,null,null,1]
[null,null,null,null,null,null,null,null,null,null,null,null,null,null,null,null,null,null,null,null,null,null,1]
[null,null,null,null,null,null,null,null,null,null,null,null,null,null,null,null,null,null,null,null,null,null,1]
[null,null,null,null,null,null,null,null,null,null,null,null,null,null,null,null,null,null,null,null,null,null,1]
[null,null,null,null,null,null,null,null,null,null,null,null,null,null,null,null,null,null,null,null,null,null,1]
[null,null,"AGENCY PROFILE",null,null,null,null,null,null,null,null,null,null,null,null,null,null,null,null,null,null,null,1]
[null,null,null,null,null,null,null,null,null,null,null,null,null,null,null,null,null,null,null,null,null,null,1]
[null,null,null,null,null,null,null,null,null,null,null,null,null,null,null,null,null,null,null,null,null,null,1]
[null,null,"The Agency Profile tab includes general agency information that can be used to customize this Agency Strategy template and any corresponding tools in order to cater to the unique aspects of the Agency. This tab also allows agencies to enable additional features, such as the in-depth and comprehensive levels of analysis, to enhance the effectiveness of their workforce planning efforts.",null,null,null,null,null,null,null,null,null,null,null,null,null,null,null,null,null,null,null,1]
[null,null,null,null,null,null,null,null,null,null,null,null,null,null,null,null,null,null,null,null,null,null,1]
[null,null,null,null,null,null,null,null,null,null,null,null,null,null,null,null,null,null,null,null,null,null,1]
[null,null,null,null,null,null,null,null,null,null,null,null,null,null,null,null,null,null,null,null,null,null,1]
[null,null,null,null,null,null,null,null,null,null,null,null,null,null,null,null,null,null,null,null,null,null,1]
[null,null,null,null,null,null,null,null,null,null,null,null,null,null,null,null,null,null,null,null,null,null,1]
[null,null,null,null,null,null,null,null,null,null,null,null,null,null,null,null,null,null,null,null,null,null,1]
[null,"Step 1: Enter Agency Information",null,null,null,null,null,null,null,null,null,null,null,{"$f":"IF(AND(J23<>\"\",E30<>\"\"),\"Complete\",\"Incomplete\")","v":"Incomplete"},null,null,null,null,null,null,null,null,1]
[null,null,null,null,null,null,null,null,null,null,null,null,null,null,null,null,null,null,null,null,null,null,1]
[null,"INSTRUCTIONS: Please select the agency name from the drop down menu in the yellow box. The secretary and agency number will be displayed. Please also enter a brief description of the agency mission in the respective yellow box below. An optional logo can be added by using the blue \"Insert Logo\" button and then resized using the \"Resize\" blue button.",null,null,null,null,null,null,null,null,null,null,null,null,null,null,null,null,null,null,null,null,1]
[null,null,null,null,null,null,null,null,null,null,null,null,null,null,null,null,null,null,null,null,null,null,1]
[null,null,null,null,null,null,null,null,null,null,null,null,null,null,null,null,null,null,null,null,null,null,1]
[null,null,null,null,null,null,null,null,null,null,null,null,null,null,null,null,null,null,null,null,null,null,1]
[null,null,null,null,null,null,null,null," Agency Name",null,null,null,null,null,null,null,null,null,null,null,null,null,1]
[null,null,null,null,null,null,null,null," Secretariat",{"$f":"IFERROR(VLOOKUP(J23,'CENTRAL DATA'!$A$11:$C$142,2,FALSE),\"\")","v":""},null,null,null,null,null,null,null,null,null,null,null,null,1]
[null,null,null,null,null,null,null,null,null,null,null,null,null,null," Agency Number",{"$f":"IFERROR(VLOOKUP(J23,'CENTRAL DATA'!$A$11:$C$142,3,FALSE),\"\")","v":""},null,null,null,null,null,null,1]
[null,null,null,null,null,null,null,null,null,"Optional Agency Logo",null,null,null,null,null,null,null,null,null,null,null,null,1]
[null,null,null,null,null,null,null,null,null,null,null,null,null,null,null,null,null,null,null,null,null,null,1]
[null,null,null,null,null,null,null,null,null,null,null,null,null,null,null,null,null,null,null,null,null,null,1]
[null,null,null,null,null,null,null,null,null,null,null,null,null,null,null,null,null,null,null,null,null,null,1]
[null,null,null,"Agency Mission",null,null,null,null,null,null,null,null,null,null,null,null,null,null,null,null,null,null,1]
[null,null,null,null,null,null,null,null,null,null,null,null,null,null,null,null,null,null,null,null,null,null,1]
[null,null,null,null,null,null,null,null,null,null,null,null,null,null,null,null,null,null,null,null,null,null,1]
[null,null,null,null,null,null,null,null,null,null,null,null,null,null,null,null,null,null,null,null,null,null,1]
[null,null,null,null,null,null,null,null,null,null,null,null,null,null,null,null,null,null,null,null,null,null,1]
[null,null,null,null,null,null,null,null,null,null,null,null,null,null,null,null,null,null,null,null,null,null,1]
[null,null,null,null,null,null,null,null,null,null,null,null,null,null,null,null,null,null,null,null,null,null,1]
[null,null,null,null,null,null,null,null,null,null,null,null,null,null,null,null,null,null,null,null,null,null,1]
[null,"Step 2: Specify if the template is used for the FY Summary or to take a Workforce Snapshot",null,null,null,null,null,null,null,null,null,null,null,{"$f":"IF(AND(L43<>\"\",N44<>\"\"),\"Complete\",\"Incomplete\")","v":"Incomplete"},null,null,null,null,null,null,null,null,1]
[null,null,null,null,null,null,null,null,null,null,null,null,null,null,null,null,null,null,null,null,null,null,1]
[null,"INSTRUCTIONS: Please select whether the agency is using this template to complete the mandated fiscal year workforce plan or to take a workforce snapshot from the drop down menu in the yellow box. After, please enter the end of the fiscal year or the \"As of\" date.",null,null,null,null,null,null,null,null,null,null,null,null,null,null,null,null,null,null,null,null,1]
[null,null,null,null,null,null,null,null,null,null,null,null,null,null,null,null,null,null,null,null,null,null,1]
[null,null,null,null,null,null,null,null,null,null,null,null,null,null,null,null,null,null,null,null,null,null,1]
[null,null,null,null,null,null,null,null,null,null,"Is this for the Fiscal Year WFP or a Snap shop of the Workforce?",null,null,null,null,null,null,null,null,null,null,null,1]
[null,null,null,null,null,null,null,null,null,null,null,null,{"$f":"IF(L43=\"Fiscal Year WFP\",\"Please enter the date of the end of the fiscal year (MM/DD/YYYY):\",IF(L43=\"Snapshot\",\"Please enter the snapshot as of date (MM/DD/YYYY):\",\"Date:\"))","v":"Date:"},null,null,null,null,null,null,null,null,null,1]
[null,null,null,null,null,null,null,null,null,null,null,null,null,null,null,null,null,null,null,null,null,null,1]
[null,null,null,null,null,null,null,null,null,null,null,null,null,null,null,null,null,null,null,null,null,null,1]
[null,null,null,null,null,null,null,null,null,null,null,null,null,null,null,null,null,null,null,null,null,null,1]
[null,"Step 3: Identify Classifications Included",null,null,null,null,null,null,null,null,null,null,null,{"$f":"IF(C58<>\"\",\"Complete\",\"Incomplete\")","v":"Incomplete"},null,null,null,null,null,null,null,null,1]
[null,null,null,null,null,null,null,null,null,null,null,null,null,null,null,null,null,null,null,null,null,null,1]
[null,"INSTRUCTIONS: Please identify which classifications of positions are included in the workforce plan by clicking the \"add classification\" button. Please enter the classification name and a brief description of it. Up to 15 classifications can be added. A breakdown of classifications is only included if the \"Comprehensive\" level of analysis is enabled below.",null,null,null,null,null,null,null,null,null,null,null,null,null,null,null,null,null,null,null,null,1]
[null,null,null,null,null,null,null,null,null,null,null,null,null,null,null,null,null,null,null,null,null,null,1]
[null,null,null,null,null,null,null,null,null,null,null,null,null,null,null,null,null,null,null,null,null,null,1]
[null,null,null,null,null,null,null,null,null,null,null,null,null,null,null,null,null,null,null,null,null,null,1]
[null,null,"Setup Employee Classifications",null,null,null,null,null,null,null,null,null,null,null,null,null,null,null,null,null,null,null,1]
[null,null,null,null,null,null,null,null,null,null,null,null,null,null,null,null,null,null,null,null,null,null,1]
[null,null,null,null,null,null,null,null,null,null,null,null,null,null,null,null,null,null,null,null,null,null,1]
[null,null,"Classification Title",null,null,null,"Description (Very Brief)",null,null,null,null,null,null,null,null,null,null,null,null,null,null,null,{"$f":"IF('CENTRAL ANALYSIS'!$B$19>=1,1,0)","v":0}]
[null,null,null,null,null,null,null,null,null,null,null,null,null,null,null,null,null,null,null,null,null,null,{"$f":"IF('CENTRAL ANALYSIS'!$B$19>=1,1,0)","v":0}]
[null,null,null,null,null,null,null,null,null,null,null,null,null,null,null,null,null,null,null,null,null,null,{"$f":"IF('CENTRAL ANALYSIS'!$B$19>=2,1,0)","v":0}]
[null,null,null,null,null,null,"",null,null,null,null,null,null,null,null,null,null,null,null,null,null,null,{"$f":"IF('CENTRAL ANALYSIS'!$B$19>=3,1,0)","v":0}]
[null,null,null,null,null,null,"",null,null,null,null,null,null,null,null,null,null,null,null,null,null,null,{"$f":"IF('CENTRAL ANALYSIS'!$B$19>=4,1,0)","v":0}]
[null,null,null,null,null,null,"",null,null,null,null,null,null,null,null,null,null,null,null,null,null,null,{"$f":"IF('CENTRAL ANALYSIS'!$B$19>=5,1,0)","v":0}]
[null,null,null,null,null,null,"",null,null,null,null,null,null,null,null,null,null,null,null,null,null,null,{"$f":"IF('CENTRAL ANALYSIS'!$B$19>=6,1,0)","v":0}]
[null,null,null,null,null,null,"",null,null,null,null,null,null,null,null,null,null,null,null,null,null,null,{"$f":"IF('CENTRAL ANALYSIS'!$B$19>=7,1,0)","v":0}]
[null,null,null,null,null,null,"",null,null,null,null,null,null,null,null,null,null,null,null,null,null,null,{"$f":"IF('CENTRAL ANALYSIS'!$B$19>=8,1,0)","v":0}]
[null,null,null,null,null,null,"",null,null,null,null,null,null,null,null,null,null,null,null,null,null,null,{"$f":"IF('CENTRAL ANALYSIS'!$B$19>=9,1,0)","v":0}]
[null,null,null,null,null,null,"",null,null,null,null,null,null,null,null,null,null,null,null,null,null,null,{"$f":"IF('CENTRAL ANALYSIS'!$B$19>=10,1,0)","v":0}]
[null,null,null,null,null,null,"",null,null,null,null,null,null,null,null,null,null,null,null,null,null,null,{"$f":"IF('CENTRAL ANALYSIS'!$B$19>=11,1,0)","v":0}]
[null,null,null,null,null,null,"",null,null,null,null,null,null,null,null,null,null,null,null,null,null,null,{"$f":"IF('CENTRAL ANALYSIS'!$B$19>=12,1,0)","v":0}]
[null,null,null,null,null,null,"",null,null,null,null,null,null,null,null,null,null,null,null,null,null,null,{"$f":"IF('CENTRAL ANALYSIS'!$B$19>=13,1,0)","v":0}]
[null,null,null,null,null,null,"",null,null,null,null,null,null,null,null,null,null,null,null,null,null,null,{"$f":"IF('CENTRAL ANALYSIS'!$B$19>=14,1,0)","v":0}]
[null,null,null,null,null,null,null,null,null,null,null,null,null,null,null,null,null,null,null,null,null,null,{"$f":"IF('CENTRAL ANALYSIS'!$B$19>=15,1,0)","v":0}]
[null,null,null,null,null,null,null,null,null,null,null,null,null,null,null,null,null,null,null,null,null,null,1]
[null,null,"(Optional) Enter Classifications if Not Using Macros",null,null,null,null,null,null,null,null,null,null,null,null,null,null,null,null,null,null,null,1]
[null,null,null,null,null,null,null,null,null,null,null,null,null,null,null,null,null,null,null,null,null,null,1]
[null,null,"If chosen not to use Macros, please enter the total number of different classifications below. The worksheet will then need to be filtered manually by going to cell \"W1\" and clicking the Filter Icon. This will display a menu where the checkbox next to \"0\" should be empty. If it is, click the \"OK\" button to display the objective and action item entry cells above. Enter the classification information in the cells above.",null,null,null,null,null,null,null,null,null,null,null,null,null,null,null,null,null,null,null,1]
[null,null,null,null,null,null,null,null,null,null,null,null,null,null,null,null,null,null,null,null,null,null,1]
[null,null,null,null,null,null,null,null,null,null,null,null,null,null,null,null,null,null,null,null,null,null,1]
[null,null,null,null,null,null,null,null,null,null,null,null,null,null,null,null,null,null,null,null,null,null,1]
[null,null,null,null,null,null,null,null,null,null,null,null,null,null,"Number of Different Classifications Included",null,null,null,null,null,null,null,1]
[null,null,null,null,null,null,null,null,null,null,null,null,null,null,null,null,null,null,null,null,null,null,1]
[null,null,null,null,null,null,null,null,null,null,null,null,null,null,null,null,null,null,null,null,null,null,1]
[null,"Step 4: Enter Executive Team Information",null,null,null,null,null,null,null,null,null,null,null,{"$f":"IF(AND(E89<>\"\",B98<>60),\"Complete\",\"Incomplete\")","v":"Incomplete"},null,null,null,null,null,null,null,null,1]
[null,null,null,null,null,null,null,null,null,null,null,null,null,null,null,null,null,null,null,null,null,null,1]
[null,"INSTRUCTIONS: Please enter a brief description of how the agency identifies the Executive Team After, please identify the specific positions considered to be a part of the executive team by clicking the \"add position\" button. Please enter the position number, working title, the degree of separation (position levels) from the agency head and if they are in an appointed position or not. Up to 30 positions can be added.",null,null,null,null,null,null,null,null,null,null,null,null,null,null,null,null,null,null,null,null,1]
[null,null,null,null,null,null,null,null,null,null,null,null,null,null,null,null,null,null,null,null,null,null,1]
[null,null,null,null,null,null,null,null,null,null,null,null,null,null,null,null,null,null,null,null,null,null,1]
[null,null,null,null,null,null,null,null,null,null,null,null,null,null,null,null,null,null,null,null,null,null,1]
["Executive Team Description and/or the Process of How Executive Positions were identified.",null,null,null,null,null,null,null,null,null,null,null,null,null,null,null,null,null,null,null,null,null,1]
[null,null,null,null,null,null,null,null,null,null,null,null,null,null,null,null,null,null,null,null,null,null,1]
[null,null,null,null,null,null,null,null,null,null,null,null,null,null,null,null,null,null,null,null,null,null,1]
[null,null,null,null,null,null,null,null,null,null,null,null,null,null,null,null,null,null,null,null,null,null,1]
[null,null,null,null,null,null,null,null,null,null,null,null,null,null,null,null,null,null,null,null,null,null,1]
[null,null,"Step 4(a): Identify Executive Team Positions",null,null,null,null,null,null,null,null,null,null,null,null,null,null,null,null,null,null,null,1]
[null,null,null,null,null,null,null,null,null,null,null,null,null,null,null,null,null,null,null,null,null,null,1]
[null,null,null,null,null,null,null,null,null,null,null,null,null,null,null,null,null,null,null,null,null,null,1]
[null,null,"Position Number",null,"Working Title",null,null,null,null,null,null,"Degree from Agency Head",null,null,"Appointed?",null,null,null,null,null,null,null,{"$f":"IF('CENTRAL ANALYSIS'!$B$20>=1,1,0)","v":0}]
[null,{"$f":"COUNTBLANK(C98:D127)","v":60},null,null,null,null,null,null,null,null,null,null,null,null,null,null,null,null,null,null,null,null,{"$f":"IF('CENTRAL ANALYSIS'!$B$20>=1,1,0)","v":0}]
[null,null,null,null,null,null,null,null,null,null,null,null,null,null,null,null,null,null,null,null,null,null,{"$f":"IF('CENTRAL ANALYSIS'!$B$20>=2,1,0)","v":0}]
[null,null,null,null,null,null,null,null,null,null,null,null,null,null,null,null,null,null,null,null,null,null,{"$f":"IF('CENTRAL ANALYSIS'!$B$20>=3,1,0)","v":0}]
[null,null,null,null,null,null,null,null,null,null,null,null,null,null,null,null,null,null,null,null,null,null,{"$f":"IF('CENTRAL ANALYSIS'!$B$20>=4,1,0)","v":0}]
[null,null,null,null,null,null,null,null,null,null,null,null,null,null,null,null,null,null,null,null,null,null,{"$f":"IF('CENTRAL ANALYSIS'!$B$20>=5,1,0)","v":0}]
[null,null,null,null,null,null,null,null,null,null,null,null,null,null,null,null,null,null,null,null,null,null,{"$f":"IF('CENTRAL ANALYSIS'!$B$20>=6,1,0)","v":0}]
[null,null,null,null,null,null,null,null,null,null,null,null,null,null,null,null,null,null,null,null,null,null,{"$f":"IF('CENTRAL ANALYSIS'!$B$20>=7,1,0)","v":0}]
[null,null,null,null,null,null,null,null,null,null,null,null,null,null,null,null,null,null,null,null,null,null,{"$f":"IF('CENTRAL ANALYSIS'!$B$20>=8,1,0)","v":0}]
[null,null,null,null,null,null,null,null,null,null,null,null,null,null,null,null,null,null,null,null,null,null,{"$f":"IF('CENTRAL ANALYSIS'!$B$20>=9,1,0)","v":0}]
[null,null,null,null,null,null,null,null,null,null,null,null,null,null,null,null,null,null,null,null,null,null,{"$f":"IF('CENTRAL ANALYSIS'!$B$20>=10,1,0)","v":0}]
[null,null,null,null,null,null,null,null,null,null,null,null,null,null,null,null,null,null,null,null,null,null,{"$f":"IF('CENTRAL ANALYSIS'!$B$20>=11,1,0)","v":0}]
[null,null,null,null,null,null,null,null,null,null,null,null,null,null,null,null,null,null,null,null,null,null,{"$f":"IF('CENTRAL ANALYSIS'!$B$20>=12,1,0)","v":0}]
[null,null,null,null,null,null,null,null,null,null,null,null,null,null,null,null,null,null,null,null,null,null,{"$f":"IF('CENTRAL ANALYSIS'!$B$20>=13,1,0)","v":0}]
[null,null,null,null,null,null,null,null,null,null,null,null,null,null,null,null,null,null,null,null,null,null,{"$f":"IF('CENTRAL ANALYSIS'!$B$20>=14,1,0)","v":0}]
[null,null,null,null,null,null,null,null,null,null,null,null,null,null,null,null,null,null,null,null,null,null,{"$f":"IF('CENTRAL ANALYSIS'!$B$20>=15,1,0)","v":0}]
[null,null,null,null,null,null,null,null,null,null,null,null,null,null,null,null,null,null,null,null,null,null,{"$f":"IF('CENTRAL ANALYSIS'!$B$20>=16,1,0)","v":0}]
[null,null,null,null,null,null,null,null,null,null,null,null,null,null,null,null,null,null,null,null,null,null,{"$f":"IF('CENTRAL ANALYSIS'!$B$20>=17,1,0)","v":0}]
[null,null,null,null,null,null,null,null,null,null,null,null,null,null,null,null,null,null,null,null,null,null,{"$f":"IF('CENTRAL ANALYSIS'!$B$20>=18,1,0)","v":0}]
[null,null,null,null,null,null,null,null,null,null,null,null,null,null,null,null,null,null,null,null,null,null,{"$f":"IF('CENTRAL ANALYSIS'!$B$20>=19,1,0)","v":0}]
[null,null,null,null,null,null,null,null,null,null,null,null,null,null,null,null,null,null,null,null,null,null,{"$f":"IF('CENTRAL ANALYSIS'!$B$20>=20,1,0)","v":0}]
[null,null,null,null,null,null,null,null,null,null,null,null,null,null,null,null,null,null,null,null,null,null,{"$f":"IF('CENTRAL ANALYSIS'!$B$20>=21,1,0)","v":0}]
[null,null,null,null,null,null,null,null,null,null,null,null,null,null,null,null,null,null,null,null,null,null,{"$f":"IF('CENTRAL ANALYSIS'!$B$20>=22,1,0)","v":0}]
[null,null,null,null,null,null,null,null,null,null,null,null,null,null,null,null,null,null,null,null,null,null,{"$f":"IF('CENTRAL ANALYSIS'!$B$20>=23,1,0)","v":0}]
[null,null,null,null,null,null,null,null,null,null,null,null,null,null,null,null,null,null,null,null,null,null,{"$f":"IF('CENTRAL ANALYSIS'!$B$20>=24,1,0)","v":0}]
[null,null,null,null,null,null,null,null,null,null,null,null,null,null,null,null,null,null,null,null,null,null,{"$f":"IF('CENTRAL ANALYSIS'!$B$20>=25,1,0)","v":0}]
[null,null,null,null,null,null,null,null,null,null,null,null,null,null,null,null,null,null,null,null,null,null,{"$f":"IF('CENTRAL ANALYSIS'!$B$20>=26,1,0)","v":0}]
[null,null,null,null,null,null,null,null,null,null,null,null,null,null,null,null,null,null,null,null,null,null,{"$f":"IF('CENTRAL ANALYSIS'!$B$20>=27,1,0)","v":0}]
[null,null,null,null,null,null,null,null,null,null,null,null,null,null,null,null,null,null,null,null,null,null,{"$f":"IF('CENTRAL ANALYSIS'!$B$20>=28,1,0)","v":0}]
[null,null,null,null,null,null,null,null,null,null,null,null,null,null,null,null,null,null,null,null,null,null,{"$f":"IF('CENTRAL ANALYSIS'!$B$20>=29,1,0)","v":0}]
[null,null,null,null,null,null,null,null,null,null,null,null,null,null,null,null,null,null,null,null,null,null,{"$f":"IF('CENTRAL ANALYSIS'!$B$20>=30,1,0)","v":0}]
[null,null,null,null,null,null,null,null,null,null,null,null,null,null,null,null,null,null,null,null,null,null,1]
[null,null,"(Optional) Enter Executive Positions if Not Using Macros",null,null,null,null,null,null,null,null,null,null,null,null,null,null,null,null,null,null,null,1]
[null,null,null,null,null,null,null,null,null,null,null,null,null,null,null,null,null,null,null,null,null,null,1]
[null,null,"If chosen not to use Macros, please enter the total number of executive positions below. The worksheet will then need to be filtered manually by going to cell \"W1\" and clicking the Filter Icon. This will display a menu where the checkbox next to \"0\" should be empty. If it is, click the \"OK\" button to display the objective and action item entry cells above. Enter the executive positions information in the cells above.",null,null,null,null,null,null,null,null,null,null,null,null,null,null,null,null,null,null,null,1]
[null,null,null,null,null,null,null,null,null,null,null,null,null,null,null,null,null,null,null,null,null,null,1]
[null,null,null,null,null,null,null,null,null,null,null,null,null,null,null,null,null,null,null,null,null,null,1]
[null,null,null,null,null,null,null,null,null,null,null,null,null,null,null,null,null,null,null,null,null,null,1]
[null,null,null,null,null,null,null,null,null,null,null,null,null,null,"Total Number of Executive Positions",null,null,null,null,null,null,null,1]
[null,null,null,null,null,null,null,null,null,null,null,null,null,null,null,null,null,null,null,null,null,null,1]
[null,null,null,null,null,null,null,null,null,null,null,null,null,null,null,null,null,null,null,null,null,null,1]
[null,"Step 5: Add Items from Agency Strategic Plans for Greater Alignment (at least 1)",null,null,null,null,null,null,null,null,null,null,null,{"$f":"IF(COUNTA(F148:P162,F167:P186,F191:P208,F213:P232)>0,\"Complete\",\"Incomplete\")","v":"Incomplete"},null,null,null,null,null,null,null,null,1]
[null,null,null,null,null,null,null,null,null,null,null,null,null,null,null,null,null,null,null,null,null,null,1]
[null,"INSTRUCTIONS: Please enter a brief description or notes of any strategic objectives or actions from any of the following agency plans that may impact or be impacted by aspects of the workforce. Though the formats may not be an exact match between the various plans, these can be summaries or notes to depict the reasoning being the objective or expected impact, in order to be able to align the agency workforce strategy with agency strategic priorities.",null,null,null,null,null,null,null,null,null,null,null,null,null,null,null,null,null,null,null,null,1]
[null,null,null,null,null,null,null,null,null,null,null,null,null,null,null,null,null,null,null,null,null,null,1]
[null,null,null,null,null,null,null,null,null,null,null,null,null,null,null,null,null,null,null,null,null,null,1]
[null,null,null,null,null,null,null,null,null,null,null,null,null,null,null,null,null,null,null,null,null,null,1]
[null,null,null,null,null,null,null,null,null,null,null,null,null,null,null,null,null,null,null,null,null,null,1]
[null,null,"Include Employment Opportunities Plan (Up to 5 Objectives)",null,null,null,null,null,null,null,null,null,null,null,null,null,null,null,null,null,null,null,1]
[null,null,null,null,null,null,null,null,null,null,null,null,null,null,null,null,null,null,null,null,null,null,1]
[null,null,null,null,null,null,null,null,null,null,null,null,null,null,null,null,null,null,null,null,null,null,1]
[null,null,null,null,"Objective 1",null,null,null,null,null,null,null,null,null,null,null,null,null,null,null,null,null,{"$f":"IF('CENTRAL ANALYSIS'!$B$21>=1,1,0)","v":0}]
[null,null,null,null,null,null,null,null,null,null,null,null,null,null,null,null,null,null,null,null,null,null,{"$f":"IF('CENTRAL ANALYSIS'!$B$21>=1,1,0)","v":0}]
[null,null,null,null,null,null,null,null,null,null,null,null,null,null,null,null,null,null,null,null,null,null,{"$f":"IF('CENTRAL ANALYSIS'!$B$21>=1,1,0)","v":0}]
[null,null,null,null,"Objective 2",null,null,null,null,null,null,null,null,null,null,null,null,null,null,null,null,null,{"$f":"IF('CENTRAL ANALYSIS'!$B$21>=2,1,0)","v":0}]
[null,null,null,null,null,null,null,null,null,null,null,null,null,null,null,null,null,null,null,null,null,null,{"$f":"IF('CENTRAL ANALYSIS'!$B$21>=2,1,0)","v":0}]
[null,null,null,null,null,null,null,null,null,null,null,null,null,null,null,null,null,null,null,null,null,null,{"$f":"IF('CENTRAL ANALYSIS'!$B$21>=2,1,0)","v":0}]
[null,null,null,null,"Objective 3",null,null,null,null,null,null,null,null,null,null,null,null,null,null,null,null,null,{"$f":"IF('CENTRAL ANALYSIS'!$B$21>=3,1,0)","v":0}]
[null,null,null,null,null,null,null,null,null,null,null,null,null,null,null,null,null,null,null,null,null,null,{"$f":"IF('CENTRAL ANALYSIS'!$B$21>=3,1,0)","v":0}]
[null,null,null,null,null,null,null,null,null,null,null,null,null,null,null,null,null,null,null,null,null,null,{"$f":"IF('CENTRAL ANALYSIS'!$B$21>=3,1,0)","v":0}]
[null,null,null,null,"Objective 4",null,null,null,null,null,null,null,null,null,null,null,null,null,null,null,null,null,{"$f":"IF('CENTRAL ANALYSIS'!$B$21>=4,1,0)","v":0}]
[null,null,null,null,null,null,null,null,null,null,null,null,null,null,null,null,null,null,null,null,null,null,{"$f":"IF('CENTRAL ANALYSIS'!$B$21>=4,1,0)","v":0}]
[null,null,null,null,null,null,null,null,null,null,null,null,null,null,null,null,null,null,null,null,null,null,{"$f":"IF('CENTRAL ANALYSIS'!$B$21>=4,1,0)","v":0}]
[null,null,null,null,"Objective 5",null,null,null,null,null,null,null,null,null,null,null,null,null,null,null,null,null,{"$f":"IF('CENTRAL ANALYSIS'!$B$21>=5,1,0)","v":0}]
[null,null,null,null,null,null,null,null,null,null,null,null,null,null,null,null,null,null,null,null,null,null,{"$f":"IF('CENTRAL ANALYSIS'!$B$21>=5,1,0)","v":0}]
[null,null,null,null,null,null,null,null,null,null,null,null,null,null,null,null,null,null,null,null,null,null,{"$f":"IF('CENTRAL ANALYSIS'!$B$21>=5,1,0)","v":0}]
[null,null,null,null,null,null,null,null,null,null,null,null,null,null,null,null,null,null,null,null,null,null,1]
[null,null,"Include Salary Administration Plan (Up to 5 Key Notes)",null,null,null,null,null,null,null,null,null,null,null,null,null,null,null,null,null,null,null,1]
[null,null,null,null,null,null,null,null,null,null,null,null,null,null,null,null,null,null,null,null,null,null,1]
[null,null,null,null,null,null,null,null,null,null,null,null,null,null,null,null,null,null,null,null,null,null,1]
[null,null,null,null,"Key Note 1",null,null,null,null,null,null,null,null,null,null,null,null,null,null,null,null,null,{"$f":"IF('CENTRAL ANALYSIS'!$B$22>=1,1,0)","v":0}]
[null,null,null,null,null,null,null,null,null,null,null,null,null,null,null,null,null,null,null,null,null,null,{"$f":"IF('CENTRAL ANALYSIS'!$B$22>=1,1,0)","v":0}]
[null,null,null,null,null,null,null,null,null,null,null,null,null,null,null,null,null,null,null,null,null,null,{"$f":"IF('CENTRAL ANALYSIS'!$B$22>=1,1,0)","v":0}]
[null,null,null,null,null,null,null,null,null,null,null,null,null,null,null,null,null,null,null,null,null,null,{"$f":"IF('CENTRAL ANALYSIS'!$B$22>=1,1,0)","v":0}]
[null,null,null,null,"Key Note 2",null,null,null,null,null,null,null,null,null,null,null,null,null,null,null,null,null,{"$f":"IF('CENTRAL ANALYSIS'!$B$22>=2,1,0)","v":0}]
[null,null,null,null,null,null,null,null,null,null,null,null,null,null,null,null,null,null,null,null,null,null,{"$f":"IF('CENTRAL ANALYSIS'!$B$22>=2,1,0)","v":0}]
[null,null,null,null,null,null,null,null,null,null,null,null,null,null,null,null,null,null,null,null,null,null,{"$f":"IF('CENTRAL ANALYSIS'!$B$22>=2,1,0)","v":0}]
[null,null,null,null,null,null,null,null,null,null,null,null,null,null,null,null,null,null,null,null,null,null,{"$f":"IF('CENTRAL ANALYSIS'!$B$22>=2,1,0)","v":0}]
[null,null,null,null,"Key Note 3",null,null,null,null,null,null,null,null,null,null,null,null,null,null,null,null,null,{"$f":"IF('CENTRAL ANALYSIS'!$B$22>=3,1,0)","v":0}]
[null,null,null,null,null,null,null,null,null,null,null,null,null,null,null,null,null,null,null,null,null,null,{"$f":"IF('CENTRAL ANALYSIS'!$B$22>=3,1,0)","v":0}]
[null,null,null,null,null,null,null,null,null,null,null,null,null,null,null,null,null,null,null,null,null,null,{"$f":"IF('CENTRAL ANALYSIS'!$B$22>=3,1,0)","v":0}]
[null,null,null,null,null,null,null,null,null,null,null,null,null,null,null,null,null,null,null,null,null,null,{"$f":"IF('CENTRAL ANALYSIS'!$B$22>=3,1,0)","v":0}]
[null,null,null,null,"Key Note 4",null,null,null,null,null,null,null,null,null,null,null,null,null,null,null,null,null,{"$f":"IF('CENTRAL ANALYSIS'!$B$22>=4,1,0)","v":0}]
[null,null,null,null,null,null,null,null,null,null,null,null,null,null,null,null,null,null,null,null,null,null,{"$f":"IF('CENTRAL ANALYSIS'!$B$22>=4,1,0)","v":0}]
[null,null,null,null,null,null,null,null,null,null,null,null,null,null,null,null,null,null,null,null,null,null,{"$f":"IF('CENTRAL ANALYSIS'!$B$22>=4,1,0)","v":0}]
[null,null,null,null,null,null,null,null,null,null,null,null,null,null,null,null,null,null,null,null,null,null,{"$f":"IF('CENTRAL ANALYSIS'!$B$22>=4,1,0)","v":0}]
[null,null,null,null,"Key Note 5",null,null,null,null,null,null,null,null,null,null,null,null,null,null,null,null,null,{"$f":"IF('CENTRAL ANALYSIS'!$B$22>=5,1,0)","v":0}]
[null,null,null,null,null,null,null,null,null,null,null,null,null,null,null,null,null,null,null,null,null,null,{"$f":"IF('CENTRAL ANALYSIS'!$B$22>=5,1,0)","v":0}]
[null,null,null,null,null,null,null,null,null,null,null,null,null,null,null,null,null,null,null,null,null,null,{"$f":"IF('CENTRAL ANALYSIS'!$B$22>=5,1,0)","v":0}]
[null,null,null,null,null,null,null,null,null,null,null,null,null,null,null,null,null,null,null,null,null,null,{"$f":"IF('CENTRAL ANALYSIS'!$B$22>=5,1,0)","v":0}]
[null,null,null,null,null,null,null,null,null,null,null,null,null,null,null,null,null,null,null,null,null,null,1]
[null,null,"Include Diversity, Opportunity, and Inclusion Plan (Up to 3 Goals)",null,null,null,null,null,null,null,null,null,null,null,null,null,null,null,null,null,null,null,1]
[null,null,null,null,null,null,null,null,null,null,null,null,null,null,null,null,null,null,null,null,null,null,1]
[null,null,null,null,null,null,null,null,null,null,null,null,null,null,null,null,null,null,null,null,null,null,1]
[null,null,null,null,"Agency Goal 1",null,null,null,null,null,null,null,null,null,null,null,null,null,null,null,null,null,{"$f":"IF('CENTRAL ANALYSIS'!$B$23>=1,1,0)","v":0}]
[null,null,null,null,null,null,null,null,null,null,null,null,null,null,null,null,null,null,null,null,null,null,{"$f":"IF('CENTRAL ANALYSIS'!$B$23>=1,1,0)","v":0}]
[null,null,null,null,null,null,null,null,null,null,null,null,null,null,null,null,null,null,null,null,null,null,{"$f":"IF('CENTRAL ANALYSIS'!$B$23>=1,1,0)","v":0}]
[null,null,null,null,null,null,null,null,null,null,null,null,null,null,null,null,null,null,null,null,null,null,{"$f":"IF('CENTRAL ANALYSIS'!$B$23>=1,1,0)","v":0}]
[null,null,null,null,null,null,null,null,null,null,null,null,null,null,null,null,null,null,null,null,null,null,{"$f":"IF('CENTRAL ANALYSIS'!$B$23>=1,1,0)","v":0}]
[null,null,null,null,null,null,null,null,null,null,null,null,null,null,null,null,null,null,null,null,null,null,{"$f":"IF('CENTRAL ANALYSIS'!$B$23>=1,1,0)","v":0}]
[null,null,null,null,"Agency Goal 2",null,null,null,null,null,null,null,null,null,null,null,null,null,null,null,null,null,{"$f":"IF('CENTRAL ANALYSIS'!$B$23>=2,1,0)","v":0}]
[null,null,null,null,null,null,null,null,null,null,null,null,null,null,null,null,null,null,null,null,null,null,{"$f":"IF('CENTRAL ANALYSIS'!$B$23>=2,1,0)","v":0}]
[null,null,null,null,null,null,null,null,null,null,null,null,null,null,null,null,null,null,null,null,null,null,{"$f":"IF('CENTRAL ANALYSIS'!$B$23>=2,1,0)","v":0}]
[null,null,null,null,null,null,null,null,null,null,null,null,null,null,null,null,null,null,null,null,null,null,{"$f":"IF('CENTRAL ANALYSIS'!$B$23>=2,1,0)","v":0}]
[null,null,null,null,null,null,null,null,null,null,null,null,null,null,null,null,null,null,null,null,null,null,{"$f":"IF('CENTRAL ANALYSIS'!$B$23>=2,1,0)","v":0}]
[null,null,null,null,null,null,null,null,null,null,null,null,null,null,null,null,null,null,null,null,null,null,{"$f":"IF('CENTRAL ANALYSIS'!$B$23>=2,1,0)","v":0}]
[null,null,null,null,"Agency Goal 3",null,null,null,null,null,null,null,null,null,null,null,null,null,null,null,null,null,{"$f":"IF('CENTRAL ANALYSIS'!$B$23>=3,1,0)","v":0}]
[null,null,null,null,null,null,null,null,null,null,null,null,null,null,null,null,null,null,null,null,null,null,{"$f":"IF('CENTRAL ANALYSIS'!$B$23>=3,1,0)","v":0}]
[null,null,null,null,null,null,null,null,null,null,null,null,null,null,null,null,null,null,null,null,null,null,{"$f":"IF('CENTRAL ANALYSIS'!$B$23>=3,1,0)","v":0}]
[null,null,null,null,null,null,null,null,null,null,null,null,null,null,null,null,null,null,null,null,null,null,{"$f":"IF('CENTRAL ANALYSIS'!$B$23>=3,1,0)","v":0}]
[null,null,null,null,null,null,null,null,null,null,null,null,null,null,null,null,null,null,null,null,null,null,{"$f":"IF('CENTRAL ANALYSIS'!$B$23>=3,1,0)","v":0}]
[null,null,null,null,null,null,null,null,null,null,null,null,null,null,null,null,null,null,null,null,null,null,{"$f":"IF('CENTRAL ANALYSIS'!$B$23>=3,1,0)","v":0}]
[null,null,null,null,null,null,null,null,null,null,null,null,null,null,null,null,null,null,null,null,null,null,1]
[null,null,"Include Other Strategic Plan Objectives (Up to 5 Key Notes)",null,null,null,null,null,null,null,null,null,null,null,null,null,null,null,null,null,null,null,1]
[null,null,null,null,null,null,null,null,null,null,null,null,null,null,null,null,null,null,null,null,null,null,1]
[null,null,null,null,null,null,null,null,null,null,null,null,null,null,null,null,null,null,null,null,null,null,1]
[null,null,null,null,"Key Note 1",null,null,null,null,null,null,null,null,null,null,null,null,null,null,null,null,null,{"$f":"IF('CENTRAL ANALYSIS'!$B$24>=1,1,0)","v":0}]
[null,null,null,null,null,null,null,null,null,null,null,null,null,null,null,null,null,null,null,null,null,null,{"$f":"IF('CENTRAL ANALYSIS'!$B$24>=1,1,0)","v":0}]
[null,null,null,null,null,null,null,null,null,null,null,null,null,null,null,null,null,null,null,null,null,null,{"$f":"IF('CENTRAL ANALYSIS'!$B$24>=1,1,0)","v":0}]
[null,null,null,null,null,null,null,null,null,null,null,null,null,null,null,null,null,null,null,null,null,null,{"$f":"IF('CENTRAL ANALYSIS'!$B$24>=1,1,0)","v":0}]
[null,null,null,null,"Key Note 2",null,null,null,null,null,null,null,null,null,null,null,null,null,null,null,null,null,{"$f":"IF('CENTRAL ANALYSIS'!$B$24>=2,1,0)","v":0}]
[null,null,null,null,null,null,null,null,null,null,null,null,null,null,null,null,null,null,null,null,null,null,{"$f":"IF('CENTRAL ANALYSIS'!$B$24>=2,1,0)","v":0}]
[null,null,null,null,null,null,null,null,null,null,null,null,null,null,null,null,null,null,null,null,null,null,{"$f":"IF('CENTRAL ANALYSIS'!$B$24>=2,1,0)","v":0}]
[null,null,null,null,null,null,null,null,null,null,null,null,null,null,null,null,null,null,null,null,null,null,{"$f":"IF('CENTRAL ANALYSIS'!$B$24>=2,1,0)","v":0}]
[null,null,null,null,"Key Note 3",null,null,null,null,null,null,null,null,null,null,null,null,null,null,null,null,null,{"$f":"IF('CENTRAL ANALYSIS'!$B$24>=3,1,0)","v":0}]
[null,null,null,null,null,null,null,null,null,null,null,null,null,null,null,null,null,null,null,null,null,null,{"$f":"IF('CENTRAL ANALYSIS'!$B$24>=3,1,0)","v":0}]
[null,null,null,null,null,null,null,null,null,null,null,null,null,null,null,null,null,null,null,null,null,null,{"$f":"IF('CENTRAL ANALYSIS'!$B$24>=3,1,0)","v":0}]
[null,null,null,null,null,null,null,null,null,null,null,null,null,null,null,null,null,null,null,null,null,null,{"$f":"IF('CENTRAL ANALYSIS'!$B$24>=3,1,0)","v":0}]
[null,null,null,null,"Key Note 4",null,null,null,null,null,null,null,null,null,null,null,null,null,null,null,null,null,{"$f":"IF('CENTRAL ANALYSIS'!$B$24>=4,1,0)","v":0}]
[null,null,null,null,null,null,null,null,null,null,null,null,null,null,null,null,null,null,null,null,null,null,{"$f":"IF('CENTRAL ANALYSIS'!$B$24>=4,1,0)","v":0}]
[null,null,null,null,null,null,null,null,null,null,null,null,null,null,null,null,null,null,null,null,null,null,{"$f":"IF('CENTRAL ANALYSIS'!$B$24>=4,1,0)","v":0}]
[null,null,null,null,null,null,null,null,null,null,null,null,null,null,null,null,null,null,null,null,null,null,{"$f":"IF('CENTRAL ANALYSIS'!$B$24>=4,1,0)","v":0}]
[null,null,null,null,"Key Note 5",null,null,null,null,null,null,null,null,null,null,null,null,null,null,null,null,null,{"$f":"IF('CENTRAL ANALYSIS'!$B$24>=5,1,0)","v":0}]
[null,null,null,null,null,null,null,null,null,null,null,null,null,null,null,null,null,null,null,null,null,null,{"$f":"IF('CENTRAL ANALYSIS'!$B$24>=5,1,0)","v":0}]
[null,null,null,null,null,null,null,null,null,null,null,null,null,null,null,null,null,null,null,null,null,null,{"$f":"IF('CENTRAL ANALYSIS'!$B$24>=5,1,0)","v":0}]
[null,null,null,null,null,null,null,null,null,null,null,null,null,null,null,null,null,null,null,null,null,null,{"$f":"IF('CENTRAL ANALYSIS'!$B$24>=5,1,0)","v":0}]
[null,null,null,null,null,null,null,null,null,null,null,null,null,null,null,null,null,null,null,null,null,null,1]
[null,null,null,null,null,null,null,null,null,null,null,null,null,null,null,null,null,null,null,null,null,null,1]
[null,null,"(Optional) Enter Items from Strategic Plans if Not Using Macros",null,null,null,null,null,null,null,null,null,null,null,null,null,null,null,null,null,null,null,1]
[null,null,null,null,null,null,null,null,null,null,null,null,null,null,null,null,null,null,null,null,null,null,1]
[null,null,"If chosen not to use Macros, please enter the total number of items to include for any other the strategic plans in the boxes below. The worksheet will then need to be filtered manually by going to cell \"W1\" and clicking the Filter Icon. This will display a menu where the checkbox next to \"0\" should be empty. If it is, click the \"OK\" button to display the objective and action item entry cells above. Enter the executive positions information in the cells above.",null,null,null,null,null,null,null,null,null,null,null,null,null,null,null,null,null,null,null,1]
[null,null,null,null,null,null,null,null,null,null,null,null,null,null,null,null,null,null,null,null,null,null,1]
[null,null,null,null,null,null,null,null,null,null,null,null,null,null,null,null,null,null,null,null,null,null,1]
[null,null,null,null,null,null,null,null,null,null,null,null,null,null,null,null,null,null,null,null,null,null,1]
[null,null,null,null,null,null,null,null,null,null,null,null,null,null,"Total EOP Objectives",null,null,null,null,null,null,null,1]
[null,null,null,null,null,null,null,null,null,null,null,null,null,null,"Total Salary Administration Plan Notes",null,null,null,null,null,null,null,1]
[null,null,null,null,null,null,null,null,null,null,null,null,null,null,"Total Diversity, Opportunity, and Inclusion Goals",null,null,null,null,null,null,null,1]
[null,null,null,null,null,null,null,null,null,null,null,null,null,null,"Total Number of Notes from Other Strategic Plans",null,null,null,null,null,null,null,1]
[null,null,null,null,null,null,null,null,null,null,null,null,null,null,null,null,null,null,null,null,null,null,1]
[null,null,null,null,null,null,null,null,null,null,null,null,null,null,null,null,null,null,null,null,null,null,1]
[null,null,null,null,null,null,null,null,null,null,null,null,null,null,null,null,null,null,null,null,null,null,1]
[null,"(Optional): Enable \"In-Depth\" Analysis Features",null,null,null,null,null,null,null,null,null,null,null,null,null,null,null,null,null,null,null,null,1]
[null,null,null,null,null,null,null,null,null,null,null,null,null,null,null,null,null,null,null,null,null,null,1]
[null,"INSTRUCTIONS: The \"In-Depth\" analysis includes additional breakdowns for leader and executive positions and specific items for each workforce planning area; Exit Survey information, Engagement Events, Employee Recognition, Workforce Development Details, and Workforce Development Support. To enable this and un-hide the \"in-depth\" analysis tab, click the toggle switch to turn it from \"Off\" to \"On\".",null,null,null,null,null,null,null,null,null,null,null,null,null,null,null,null,null,null,null,null,1]
[null,null,null,null,null,null,null,null,null,null,null,null,null,null,null,null,null,null,null,null,null,null,1]
[null,null,null,null,null,null,null,null,null,null,null,null,null,null,null,null,null,null,null,null,null,null,1]
[null,null,null,null,null,null,null,null,null,null,null,null,null,null,null,null,null,null,null,null,null,null,1]
[null,null,"NOTE: Macros must be enable to use the On/Off Enable switch. If not using macros, please contact DHRM for assistance at dhrm.wfp@dhrm.virginia.gov.",null,null,null,null,null,null,null,null,null,null,null,null,null,null,null,null,null,null,null,1]
[null,null,null,null,null,null,null,null,null,null,null,null,null,null,null,null,null,null,null,null,null,null,1]
[null,null,null,null,null,null,null,null,null,null,null,null,null,null,null,null,null,null,null,null,null,null,1]
[null,null,null,null,null,null,null,null,null,null,null,null,null,null,null,null,null,null,null,null,null,null,1]
[null,null,null,null,null,null,null,null,null,null,null,null,null,null,null,null,null,null,null,null,null,null,1]
[null,"(Optional): Enable \"Comprehensive\" Analysis Features",null,null,null,null,null,null,null,null,null,null,null,null,null,null,null,null,null,null,null,null,1]
[null,null,null,null,null,null,null,null,null,null,null,null,null,null,null,null,null,null,null,null,null,null,1]
[null,"INSTRUCTIONS: The \"Comprehensive\" analysis includes additional breakdowns EEO Codes, Classifications, Sex, Race, and other Demographics. It also provides a breakdown for locations and lines of service at the agency. To enable this and un-hide the \"comprehensive\" analysis tab, click the toggle switch to turn it from \"Off\" to \"On\".",null,null,null,null,null,null,null,null,null,null,null,null,null,null,null,null,null,null,null,null,1]
[null,null,null,null,null,null,null,null,null,null,null,null,null,null,null,null,null,null,null,null,null,null,1]
[null,null,null,null,null,null,null,null,null,null,null,null,null,null,null,null,null,null,null,null,null,null,1]
[null,null,null,null,null,null,null,null,null,null,null,null,null,null,null,null,null,null,null,null,null,null,1]
[null,null,"NOTE: Macros must be enable to use the On/Off Enable switch. If not using macros, please contact DHRM for assistance at dhrm.wfp@dhrm.virginia.gov.",null,null,null,null,null,null,null,null,null,null,null,null,null,null,null,null,null,null,null,1]
[null,null,null,null,null,null,null,null,null,null,null,null,null,null,null,null,null,null,null,null,null,null,1]
[null,null,null,null,null,null,null,null,null,null,null,null,null,null,null,null,null,null,null,null,null,null,1]
[null,null,null,null,null,null,null,null,null,null,null,null,null,null,null,null,null,null,null,null,null,null,1]
[null,null,null,null,null,null,null,null,null,null,null,null,null,null,null,null,null,null,null,null,null,null,0]

{"sheet":"FOUNDATIONAL","index":3,"n_rows":195,"n_cols":23,"rows_kept":195,"cut":false,"hidden":false,"merged":[[181,13,182,13],[181,14,182,14],[181,15,182,15],[187,13,188,13],[187,14,188,14],[187,15,188,15],[166,1,168,15],[156,13,157,13],[156,14,157,14],[156,15,157,15],[171,13,172,13],[171,14,172,14],[171,15,172,15],[141,13,142,13],[141,14,142,14],[141,15,142,15],[164,1,165,12],[164,13,165,15],[106,1,108,15],[111,13,112,13],[111,14,112,14],[111,15,112,15],[126,13,127,13],[126,14,127,14],[126,15,127,15],[97,13,98,13],[97,14,98,14],[97,15,98,15],[104,1,105,12],[104,13,105,15],[85,13,86,13],[85,14,86,14],[85,15,86,15],[91,13,92,13],[91,14,92,14],[91,15,92,15],[73,13,74,13],[73,14,74,14],[73,15,74,15],[79,13,80,13],[79,14,80,14],[79,15,80,15],[20,13,21,13],[20,14,21,14],[20,15,21,15],[6,2,8,14],[9,2,11,14],[15,1,16,12],[15,13,16,15],[17,1,18,15],[25,13,26,13],[25,14,26,14],[25,15,26,15],[33,13,34,13],[33,14,34,14],[33,15,34,15],[41,1,42,12],[41,13,42,15],[43,1,44,15],[46,13,47,13],[46,14,47,14],[46,15,47,15],[69,1,70,15],[53,13,54,13],[53,14,54,14],[53,15,54,15],[67,1,68,12],[67,13,68,15]]}
[null,null,null,null,null,null,null,null,null,null,null,null,null,null,null,null,null,null,null,null,null,null,1]
[null,null,null,null,null,null,null,null,null,null,null,null,null,null,null,null,null,null,null,null,null,null,1]
[null,null,null,null,null,null,null,null,null,null,null,null,null,null,null,null,null,null,null,null,null,null,1]
[null,null,null,null,null,null,null,null,null,null,null,null,null,null,null,null,null,null,null,null,null,null,1]
[null,null,null,null,null,null,null,null,null,null,null,null,null,null,null,null,null,null,null,null,null,null,1]
[null,null,null,null,null,null,null,null,null,null,null,null,null,null,null,null,null,null,null,null,null,null,1]
[null,null,"FOUNDATIONAL ANALYSIS",null,null,null,null,null,null,null,null,null,null,null,null,null,null,null,null,null,null,null,1]
[null,null,null,null,null,null,null,null,null,null,null,null,null,null,null,null,null,null,null,null,null,null,1]
[null,null,null,null,null,null,null,null,null,null,null,null,null,null,null,null,null,null,null,null,null,null,1]
[null,null,"This tab includes all required, or foundational, data elements for the workforce plan. These focus on providing totals for key data points, a breakdown by agency critical roles, and specific information on the executive team to meet mandated requirements.",null,null,null,null,null,null,null,null,null,null,null,null,null,null,null,null,null,null,null,1]
[null,null,null,null,null,null,null,null,null,null,null,null,null,null,null,null,null,null,null,null,null,null,1]
[null,null,null,null,null,null,null,null,null,null,null,null,null,null,null,null,null,null,null,null,null,null,1]
[null,null,null,null,null,null,null,null,null,null,null,null,null,null,null,null,null,null,null,null,null,null,1]
[null,null,null,null,null,null,null,null,null,null,null,null,null,null,null,null,null,null,null,null,null,null,1]
[null,null,null,null,null,null,null,null,null,null,null,null,null,null,null,null,null,null,null,null,null,null,1]
[null,"Step 1: Enter Overall Agency Information",null,null,null,null,null,null,null,null,null,null,null,{"$f":"IF(COUNTA(P23,P28,P29,P30,P31,P36,P37,P38)=8,\"Complete\",\"Incomplete\")","v":"Incomplete"},null,null,null,null,null,null,null,null,1]
[null,null,null,null,null,null,null,null,null,null,null,null,null,null,null,null,null,null,null,null,null,null,1]
[null,"INSTRUCTIONS: Please enter the total number of employees or positions for the respective data fields, focusing on overall aspects of the agency, in the yellow boxes below. Executive positions are those noted on the Agency Profile tab.",null,null,null,null,null,null,null,null,null,null,null,null,null,null,null,null,null,null,null,null,1]
[null,null,null,null,null,null,null,null,null,null,null,null,null,null,null,null,null,null,null,null,null,null,1]
[null,null,null,null,null,null,null,null,null,null,null,null,null,null,null,"Maximum Employment Level",null,null,null,null,null,null,1]
[null,null,null,null,null,null,null,null,null,null,null,null,null,{"$f":"'CENTRAL DATA'!$H$12","v":"FY-2"},{"$f":"'CENTRAL DATA'!$H$13","v":"FY-1"},{"$f":"IF(PROFILE!$L$43=\"Fiscal Year WFP\",'CENTRAL DATA'!$H$14,IF(PROFILE!$L$43=\"Snapshot\",CONCATENATE(\"As of \",TEXT(PROFILE!$N$44,\"mm/dd/yy\"),\"\")))","v":false},null,null,null,null,null,null,1]
[null,null,null,null,null,null,null,null,null,null,null,null,null,null,null,null,null,null,null,null,null,null,1]
[null,null,null,null,null,null,null,null,null,null,null,null,"Maximum Employment Level","",null,null,null,null,null,null,null,null,1]
[null,null,null,null,null,null,null,null,null,null,null,null,null,null,null,null,null,null,null,null,null,null,1]
[null,null,null,null,null,null,null,null,null,null,null,null,null,null,null,"Employee Totals",null,null,null,null,null,null,1]
[null,null,null,null,null,null,null,null,null,null,null,null,null,{"$f":"'CENTRAL DATA'!$H$12","v":"FY-2"},{"$f":"'CENTRAL DATA'!$H$13","v":"FY-1"},{"$f":"IF(PROFILE!$L$43=\"Fiscal Year WFP\",'CENTRAL DATA'!$H$14,IF(PROFILE!$L$43=\"Snapshot\",CONCATENATE(\"As of \",TEXT(PROFILE!$N$44,\"mm/dd/yy\"),\"\")))","v":false},null,null,null,null,null,null,1]
[null,null,null,null,null,null,null,null,null,null,null,null,null,null,null,null,null,null,null,null,null,null,1]
[null,null,null,null,null,null,null,null,null,null,null,null,"Total Number of Positions",null,null,null,null,null,null,null,null,null,1]
[null,null,null,null,null,null,null,null,null,null,null,null,"Total Number of Employees",null,null,null,null,null,null,null,null,null,1]
[null,null,null,null,null,null,null,null,null,null,null,null,"Total Number of Employees in their First 5 years",null,null,null,null,null,null,null,null,null,1]
[null,null,null,null,null,null,null,null,null,null,null,null,"Total Number of Employees in their First Year",null,null,null,null,null,null,null,null,null,1]
[null,null,null,null,null,null,null,null,null,null,null,null,null,null,null,null,null,null,null,null,null,null,1]
[null,null,null,null,null,null,null,null,null,null,null,null,null,null,null,"Executive Team Totals",null,null,null,null,null,null,1]
[null,null,null,null,null,null,null,null,null,null,null,null,null,{"$f":"'CENTRAL DATA'!$H$12","v":"FY-2"},{"$f":"'CENTRAL DATA'!$H$13","v":"FY-1"},{"$f":"IF(PROFILE!$L$43=\"Fiscal Year WFP\",'CENTRAL DATA'!$H$14,IF(PROFILE!$L$43=\"Snapshot\",CONCATENATE(\"As of \",TEXT(PROFILE!$N$44,\"mm/dd/yy\"),\"\")))","v":false},null,null,null,null,null,null,1]
[null,null,null,null,null,null,null,null,null,null,null,null,null,null,null,null,null,null,null,null,null,null,1]
[null,null,null,null,null,null,null,null,null,null,null,null,"Total Number of Executive Positions",null,null,null,null,null,null,null,null,null,1]
[null,null,null,null,null,null,null,null,null,null,null,null,"Total Number of Appointed Executive Positions",null,null,null,null,null,null,null,null,null,1]
[null,null,null,null,null,null,null,null,null,null,null,null,"Total Number of Executive Employees",null,null,null,null,null,null,null,null,null,1]
[null,null,null,null,null,null,null,null,null,null,null,null,null,null,null,null,null,null,null,null,null,null,1]
[null,null,null,null,null,null,null,null,null,null,null,null,null,null,null,null,null,null,null,null,null,null,1]
[null,null,null,null,null,null,null,null,null,null,null,null,null,null,null,null,null,null,null,null,null,null,1]
[null,"Step 2: Enter Organizational Resilience Information",null,null,null,null,null,null,null,null,null,null,null,{"$f":"IF(COUNTA(P49,P50,P51,P56,P57,P58,L62:P62,L64:P64,L63:P63)=21,\"Complete\",\"Incomplete\")","v":"Incomplete"},null,null,null,null,null,null,null,null,1]
[null,null,null,null,null,null,null,null,null,null,null,null,null,null,null,null,null,null,null,null,null,null,1]
[null,"INSTRUCTIONS: Please enter the total number of positions or employees in the yellow boxes below for the respective data fields related to organizational resilience, which include critical roles, retirements, and executives. ",null,null,null,null,null,null,null,null,null,null,null,null,null,null,null,null,null,null,null,null,1]
[null,null,null,null,null,null,null,null,null,null,null,null,null,null,null,null,null,null,null,null,null,null,1]
[null,null,null,null,null,null,null,null,null,null,null,null,null,null,null,"Critical Roles",null,null,null,null,null,null,1]
[null,null,null,null,null,null,null,null,null,null,null,null,null,{"$f":"'CENTRAL DATA'!$H$12","v":"FY-2"},{"$f":"'CENTRAL DATA'!$H$13","v":"FY-1"},{"$f":"IF(PROFILE!$L$43=\"Fiscal Year WFP\",'CENTRAL DATA'!$H$14,IF(PROFILE!$L$43=\"Snapshot\",CONCATENATE(\"As of \",TEXT(PROFILE!$N$44,\"mm/dd/yy\"),\"\")))","v":false},null,null,null,null,null,null,1]
[null,null,null,null,null,null,null,null,null,null,null,null,null,null,null,null,null,null,null,null,null,null,1]
[null,null,null,null,null,null,null,null,null,null,null,null,"Total Number of Positions Assessed for Criticality",null,null,null,null,null,null,null,null,null,1]
[null,null,null,null,null,null,null,null,null,null,null,null,"Total Number of Positions Identified as Critical",null,null,null,null,null,null,null,null,null,1]
[null,null,null,null,null,null,null,null,null,null,null,null,"Total Number of Executive Team Positions Identified as Critical",null,null,null,null,null,null,null,null,null,1]
[null,null,null,null,null,null,null,null,null,null,null,null,null,null,null,null,null,null,null,null,null,null,1]
[null,null,null,null,null,null,null,null,null,null,null,null,null,null,null,"Current Retirement Eligibility (65 Years Old + 5 Years of Service)",null,null,null,null,null,null,1]
[null,null,null,null,null,null,null,null,null,null,null,null,null,{"$f":"'CENTRAL DATA'!$H$12","v":"FY-2"},{"$f":"'CENTRAL DATA'!$H$13","v":"FY-1"},{"$f":"IF(PROFILE!$L$43=\"Fiscal Year WFP\",'CENTRAL DATA'!$H$14,IF(PROFILE!$L$43=\"Snapshot\",CONCATENATE(\"As of \",TEXT(PROFILE!$N$44,\"mm/dd/yy\"),\"\")))","v":false},null,null,null,null,null,null,1]
[null,null,null,null,null,null,null,null,null,null,null,null,null,null,null,null,null,null,null,null,null,null,1]
[null,null,null,null,null,null,null,null,null,null,null,null,"Total Number of Employees Currently Eligible to Retire",null,null,null,null,null,null,null,null,null,1]
[null,null,null,null,null,null,null,null,null,null,null,null,"Total Number of Employees in Critical Roles Currently Eligible to Retire",null,null,null,null,null,null,null,null,null,1]
[null,null,null,null,null,null,null,null,null,null,null,null,"Total Number of Executives Currently Eligible to Retire",null,null,null,null,null,null,null,null,null,1]
[null,null,null,null,null,null,null,null,null,null,null,null,null,null,null,null,null,null,null,null,null,null,1]
[null,null,null,null,null,null,null,null,null,null,null,null,null,null,null,"Upcoming Retirement Eligibility (65 Years Old + 5 Years of Service)",null,null,null,null,null,null,1]
[null,null,null,null,null,null,null,null,null,null,null,{"$f":"'CENTRAL DATA'!H15","v":"FY00"},{"$f":"'CENTRAL DATA'!H16","v":"FY01"},{"$f":"'CENTRAL DATA'!H17","v":"FY02"},{"$f":"'CENTRAL DATA'!H18","v":"FY03"},{"$f":"'CENTRAL DATA'!H19","v":"FY04"},null,null,null,null,null,null,1]
[null,null,null,null,null,null,null,null,null,null,"Total Number of Employees Newly Eligible to Retire in Each Upcoming Fiscal Years",null,null,null,null,null,null,null,null,null,null,null,1]
[null,null,null,null,null,null,null,null,null,null,"Total Number of Employees in Critical Roles Newly Eligible to Retire in Each Upcoming Fiscal Years",null,null,null,null,null,null,null,null,null,null,null,1]
[null,null,null,null,null,null,null,null,null,null,"Total Number of Executives Newly Eligible to Retire in Each Upcoming Fiscal Years",null,null,null,null,null,null,null,null,null,null,null,1]
[null,null,null,null,null,null,null,null,null,null,null,null,null,null,null,null,null,null,null,null,null,null,1]
[null,null,null,null,null,null,null,null,null,null,null,null,null,null,null,null,null,null,null,null,null,null,1]
[null,null,null,null,null,null,null,null,null,null,null,null,null,null,null,null,null,null,null,null,null,null,1]
[null,"Step 3: Enter Recruitment Information",null,null,null,null,null,null,null,null,null,null,null,{"$f":"IF(COUNTA(P76:P77,P82:P83,P88:P89,P94:P95,P100:P101)=10,\"Complete\",\"Incomplete\")","v":"Incomplete"},null,null,null,null,null,null,null,null,1]
[null,null,null,null,null,null,null,null,null,null,null,null,null,null,null,null,null,null,null,null,null,null,1]
[null,"INSTRUCTIONS: Please enter the total number of employees or positions in the yellow boxes below for the respective data fields related to recruitment, which includes applicants, hires, filled positions, vacant positions, and average time to fill (in days).",null,null,null,null,null,null,null,null,null,null,null,null,null,null,null,null,null,null,null,null,1]
[null,null,null,null,null,null,null,null,null,null,null,null,null,null,null,null,null,null,null,null,null,null,1]
[null,null,null,null,null,null,null,null,null,null,null,null,null,null,null,null,null,null,null,null,null,null,1]
[null,null,null,null,null,null,null,null,null,null,null,null,null,null,null,"Applicants",null,null,null,null,null,null,1]
[null,null,null,null,null,null,null,null,null,null,null,null,null,{"$f":"'CENTRAL DATA'!$H$12","v":"FY-2"},{"$f":"'CENTRAL DATA'!$H$13","v":"FY-1"},{"$f":"IF(PROFILE!$L$43=\"Fiscal Year WFP\",'CENTRAL DATA'!$H$14,IF(PROFILE!$L$43=\"Snapshot\",CONCATENATE(\"As of \",TEXT(PROFILE!$N$44,\"mm/dd/yy\"),\"\")))","v":false},null,null,null,null,null,null,1]
[null,null,null,null,null,null,null,null,null,null,null,null,null,null,null,null,null,null,null,null,null,null,1]
[null,null,null,null,null,null,null,null,null,null,null,null,"Total Number of Applicants",null,null,null,null,null,null,null,null,null,1]
[null,null,null,null,null,null,null,null,null,null,null,null,"Total Number of Applicants to Positions Identified as Critical",null,null,null,null,null,null,null,null,null,1]
[null,null,null,null,null,null,null,null,null,null,null,null,null,null,null,null,null,null,null,null,null,null,1]
[null,null,null,null,null,null,null,null,null,null,null,null,null,null,null,"Hires",null,null,null,null,null,null,1]
[null,null,null,null,null,null,null,null,null,null,null,null,null,{"$f":"'CENTRAL DATA'!$H$12","v":"FY-2"},{"$f":"'CENTRAL DATA'!$H$13","v":"FY-1"},{"$f":"IF(PROFILE!$L$43=\"Fiscal Year WFP\",'CENTRAL DATA'!$H$14,IF(PROFILE!$L$43=\"Snapshot\",CONCATENATE(\"As of \",TEXT(PROFILE!$N$44,\"mm/dd/yy\"),\"\")))","v":false},null,null,null,null,null,null,1]
[null,null,null,null,null,null,null,null,null,null,null,null,null,null,null,null,null,null,null,null,null,null,1]
[null,null,null,null,null,null,null,null,null,null,null,null,"Total Number of Hires",null,null,null,null,null,null,null,null,null,1]
[null,null,null,null,null,null,null,null,null,null,null,null,"Total Number of Hires to Positions Identified as Critical",null,null,null,null,null,null,null,null,null,1]
[null,null,null,null,null,null,null,null,null,null,null,null,null,null,null,null,null,null,null,null,null,null,1]
[null,null,null,null,null,null,null,null,null,null,null,null,null,null,null,"Filled Positions",null,null,null,null,null,null,1]
[null,null,null,null,null,null,null,null,null,null,null,null,null,{"$f":"'CENTRAL DATA'!$H$12","v":"FY-2"},{"$f":"'CENTRAL DATA'!$H$13","v":"FY-1"},{"$f":"IF(PROFILE!$L$43=\"Fiscal Year WFP\",'CENTRAL DATA'!$H$14,IF(PROFILE!$L$43=\"Snapshot\",CONCATENATE(\"As of \",TEXT(PROFILE!$N$44,\"mm/dd/yy\"),\"\")))","v":false},null,null,null,null,null,null,1]
[null,null,null,null,null,null,null,null,null,null,null,null,null,null,null,null,null,null,null,null,null,null,1]
[null,null,null,null,null,null,null,null,null,null,null,null,"Total Number of Positions Filled during the FY",null,null,null,null,null,null,null,null,null,1]
[null,null,null,null,null,null,null,null,null,null,null,null,"Total Number of Positions Filled During the FY Identified as Critical",null,null,null,null,null,null,null,null,null,1]
[null,null,null,null,null,null,null,null,null,null,null,null,null,null,null,null,null,null,null,null,null,null,1]
[null,null,null,null,null,null,null,null,null,null,null,null,null,null,null,"Vacant Positions",null,null,null,null,null,null,1]
[null,null,null,null,null,null,null,null,null,null,null,null,null,{"$f":"'CENTRAL DATA'!$H$12","v":"FY-2"},{"$f":"'CENTRAL DATA'!$H$13","v":"FY-1"},{"$f":"IF(PROFILE!$L$43=\"Fiscal Year WFP\",'CENTRAL DATA'!$H$14,IF(PROFILE!$L$43=\"Snapshot\",CONCATENATE(\"As of \",TEXT(PROFILE!$N$44,\"mm/dd/yy\"),\"\")))","v":false},null,null,null,null,null,null,1]
[null,null,null,null,null,null,null,null,null,null,null,null,null,null,null,null,null,null,null,null,null,null,1]
[null,null,null,null,null,null,null,null,null,null,null,null,"Total Number of Vacant Positions at the End of the FY",null,null,null,null,null,null,null,null,null,1]
[null,null,null,null,null,null,null,null,null,null,null,null,"Total Number of Vacant Positions at the End of the FY Identified as Critical",null,null,null,null,null,null,null,null,null,1]
[null,null,null,null,null,null,null,null,null,null,null,null,null,null,null,null,null,null,null,null,null,null,1]
[null,null,null,null,null,null,null,null,null,null,null,null,null,null,null,"Average Time to Fill",null,null,null,null,null,null,1]
[null,null,null,null,null,null,null,null,null,null,null,null,null,{"$f":"'CENTRAL DATA'!$H$12","v":"FY-2"},{"$f":"'CENTRAL DATA'!$H$13","v":"FY-1"},{"$f":"IF(PROFILE!$L$43=\"Fiscal Year WFP\",'CENTRAL DATA'!$H$14,IF(PROFILE!$L$43=\"Snapshot\",CONCATENATE(\"As of \",TEXT(PROFILE!$N$44,\"mm/dd/yy\"),\"\")))","v":false},null,null,null,null,null,null,1]
[null,null,null,null,null,null,null,null,null,null,null,null,null,null,null,null,null,null,null,null,null,null,1]
[null,null,null,null,null,null,null,null,null,null,null,null,"Average Time to Fill (Days) for All Positions",null,null,null,null,null,null,null,null,null,1]
[null,null,null,null,null,null,null,null,null,null,null,null,"Average Time to Fill (Days) for Positions Identified as Critical",null,null,null,null,null,null,null,null,null,1]
[null,null,null,null,null,null,null,null,null,null,null,null,null,null,null,null,null,null,null,null,null,null,1]
[null,null,null,null,null,null,null,null,null,null,null,null,null,null,null,null,null,null,null,null,null,null,1]
[null,null,null,null,null,null,null,null,null,null,null,null,null,null,null,null,null,null,null,null,null,null,1]
[null,"Step 4: Enter Retention and Engagement Information",null,null,null,null,null,null,null,null,null,null,null,{"$f":"IF(COUNTA(P114:P118,P120:P124,P129:P133,P135:P139,P144:P148,P150:P154,P161)=31,\"Complete\",\"Incomplete\")","v":"Incomplete"},null,null,null,null,null,null,null,null,1]
[null,null,null,null,null,null,null,null,null,null,null,null,null,null,null,null,null,null,null,null,null,null,1]
[null,"INSTRUCTIONS: Please enter the total number of  employees in the yellow boxes below for the respective data fields related to retention and engagement, which include average years of service, internal promotions, internal transfers, external transfers, and voluntary separations for all employees, employees in their first five years, and employees in their first year. It also includes the overall responses, response rate, and net promoter score from the COV Exit Survey.",null,null,null,null,null,null,null,null,null,null,null,null,null,null,null,null,null,null,null,null,1]
[null,null,null,null,null,null,null,null,null,null,null,null,null,null,null,null,null,null,null,null,null,null,1]
[null,null,null,null,null,null,null,null,null,null,null,null,null,null,null,null,null,null,null,null,null,null,1]
[null,null,null,null,null,null,null,null,null,null,null,null,null,null,null,null,null,null,null,null,null,null,1]
[null,null,null,null,null,null,null,null,null,null,null,null,null,null,null,"All Employees",null,null,null,null,null,null,1]
[null,null,null,null,null,null,null,null,null,null,null,null,null,{"$f":"'CENTRAL DATA'!$H$12","v":"FY-2"},{"$f":"'CENTRAL DATA'!$H$13","v":"FY-1"},{"$f":"IF(PROFILE!$L$43=\"Fiscal Year WFP\",'CENTRAL DATA'!$H$14,IF(PROFILE!$L$43=\"Snapshot\",CONCATENATE(\"As of \",TEXT(PROFILE!$N$44,\"mm/dd/yy\"),\"\")))","v":false},null,null,null,null,null,null,1]
[null,null,null,null,null,null,null,null,null,null,null,null,null,null,null,null,null,null,null,null,null,null,1]
[null,null,null,null,null,null,null,null,null,null,null,null,"Average Years of Service for All Employees",null,null,null,null,null,null,null,null,null,1]
[null,null,null,null,null,null,null,null,null,null,null,null,"Total Internal Promotions for All Employees",null,null,null,null,null,null,null,null,null,1]
[null,null,null,null,null,null,null,null,null,null,null,null,"Total Internal Transfers for All Employees",null,null,null,null,null,null,null,null,null,1]
[null,null,null,null,null,null,null,null,null,null,null,null,"Total External Transfers for All Employees",null,null,null,null,null,null,null,null,null,1]
[null,null,null,null,null,null,null,null,null,null,null,null,"Total Voluntary Separations for All Employees",null,null,null,null,null,null,null,null,null,1]
[null,null,null,null,null,null,null,null,null,null,null,null,null,null,null,null,null,null,null,null,null,null,1]
[null,null,null,null,null,null,null,null,null,null,null,null,"Average Years of Service for All Employees in Critical Roles",null,null,null,null,null,null,null,null,null,1]
[null,null,null,null,null,null,null,null,null,null,null,null,"Total Internal Promotions for All Employees in Critical Roles",null,null,null,null,null,null,null,null,null,1]
[null,null,null,null,null,null,null,null,null,null,null,null,"Total Internal Transfers for All Employees in Critical Roles",null,null,null,null,null,null,null,null,null,1]
[null,null,null,null,null,null,null,null,null,null,null,null,"Total External Transfers for All Employees in Critical Roles",null,null,null,null,null,null,null,null,null,1]
[null,null,null,null,null,null,null,null,null,null,null,null,"Total Voluntary Separations for All Employees in Critical Roles",null,null,null,null,null,null,null,null,null,1]
[null,null,null,null,null,null,null,null,null,null,null,null,null,null,null,null,null,null,null,null,null,null,1]
[null,null,null,null,null,null,null,null,null,null,null,null,null,null,null,"Employees in their First Five Years",null,null,null,null,null,null,1]
[null,null,null,null,null,null,null,null,null,null,null,null,null,{"$f":"'CENTRAL DATA'!$H$12","v":"FY-2"},{"$f":"'CENTRAL DATA'!$H$13","v":"FY-1"},{"$f":"IF(PROFILE!$L$43=\"Fiscal Year WFP\",'CENTRAL DATA'!$H$14,IF(PROFILE!$L$43=\"Snapshot\",CONCATENATE(\"As of \",TEXT(PROFILE!$N$44,\"mm/dd/yy\"),\"\")))","v":false},null,null,null,null,null,null,1]
[null,null,null,null,null,null,null,null,null,null,null,null,null,null,null,null,null,null,null,null,null,null,1]
[null,null,null,null,null,null,null,null,null,null,null,null,"Average Years of Service of Employees in their First 5 Years",null,null,null,null,null,null,null,null,null,1]
[null,null,null,null,null,null,null,null,null,null,null,null,"Total Internal Promotions of Employees in their First 5 Years",null,null,null,null,null,null,null,null,null,1]
[null,null,null,null,null,null,null,null,null,null,null,null,"Total Internal Transfers of Employees in their First 5 Years",null,null,null,null,null,null,null,null,null,1]
[null,null,null,null,null,null,null,null,null,null,null,null,"Total External Transfers of Employees in their First 5 Years",null,null,null,null,null,null,null,null,null,1]
[null,null,null,null,null,null,null,null,null,null,null,null,"Total Voluntary Separations of Employees in their First 5 Years",null,null,null,null,null,null,null,null,null,1]
[null,null,null,null,null,null,null,null,null,null,null,null,null,null,null,null,null,null,null,null,null,null,1]
[null,null,null,null,null,null,null,null,null,null,null,null,"Average Years of Service of Employees in their First 5 Years in Critical Roles",null,null,null,null,null,null,null,null,null,1]
[null,null,null,null,null,null,null,null,null,null,null,null,"Total Internal Promotions of Employees in their First 5 Years in Critical Roles",null,null,null,null,null,null,null,null,null,1]
[null,null,null,null,null,null,null,null,null,null,null,null,"Total Internal Transfers of Employees in their First 5 Years in Critical Roles",null,null,null,null,null,null,null,null,null,1]
[null,null,null,null,null,null,null,null,null,null,null,null,"Total External Transfers of Employees in their First 5 Years in Critical Roles",null,null,null,null,null,null,null,null,null,1]
[null,null,null,null,null,null,null,null,null,null,null,null,"Total Voluntary Separations of Employees in their First 5 Years in Critical Roles",null,null,null,null,null,null,null,null,null,1]
[null,null,null,null,null,null,null,null,null,null,null,null,null,null,null,null,null,null,null,null,null,null,1]
[null,null,null,null,null,null,null,null,null,null,null,null,null,null,null,"Employees in their First Year",null,null,null,null,null,null,1]
[null,null,null,null,null,null,null,null,null,null,null,null,null,{"$f":"'CENTRAL DATA'!$H$12","v":"FY-2"},{"$f":"'CENTRAL DATA'!$H$13","v":"FY-1"},{"$f":"IF(PROFILE!$L$43=\"Fiscal Year WFP\",'CENTRAL DATA'!$H$14,IF(PROFILE!$L$43=\"Snapshot\",CONCATENATE(\"As of \",TEXT(PROFILE!$N$44,\"mm/dd/yy\"),\"\")))","v":false},null,null,null,null,null,null,1]
[null,null,null,null,null,null,null,null,null,null,null,null,null,null,null,null,null,null,null,null,null,null,1]
[null,null,null,null,null,null,null,null,null,null,null,null,"Average Years of Service of Employees in their First Year",null,null,null,null,null,null,null,null,null,1]
[null,null,null,null,null,null,null,null,null,null,null,null,"Total Internal Promotions of Employees in their First Year",null,null,null,null,null,null,null,null,null,1]
[null,null,null,null,null,null,null,null,null,null,null,null,"Total Internal Transfers of Employees in their First Year",null,null,null,null,null,null,null,null,null,1]
[null,null,null,null,null,null,null,null,null,null,null,null,"Total External Transfers of Employees in their First Year",null,null,null,null,null,null,null,null,null,1]
[null,null,null,null,null,null,null,null,null,null,null,null,"Total Voluntary Separations of Employees in their First Year",null,null,null,null,null,null,null,null,null,1]
[null,null,null,null,null,null,null,null,null,null,null,null,null,null,null,null,null,null,null,null,null,null,1]
[null,null,null,null,null,null,null,null,null,null,null,null,"Average Years of Service of Employees in their First Year in Critical Roles",null,null,null,null,null,null,null,null,null,1]
[null,null,null,null,null,null,null,null,null,null,null,null,"Total Internal Promotions of Employees in their First Year in Critical Roles",null,null,null,null,null,null,null,null,null,1]
[null,null,null,null,null,null,null,null,null,null,null,null,"Total Internal Transfers of Employees in their First Year in Critical Roles",null,null,null,null,null,null,null,null,null,1]
[null,null,null,null,null,null,null,null,null,null,null,null,"Total External Transfers of Employees in their First Year in Critical Roles",null,null,null,null,null,null,null,null,null,1]
[null,null,null,null,null,null,null,null,null,null,null,null,"Total Voluntary Separations of Employees in their First Year in Critical Roles",null,null,null,null,null,null,null,null,null,1]
[null,null,null,null,null,null,null,null,null,null,null,null,null,null,null,null,null,null,null,null,null,null,1]
[null,null,null,null,null,null,null,null,null,null,null,null,null,null,null,"Commonwealth of Virginia Exit Survey",null,null,null,null,null,null,1]
[null,null,null,null,null,null,null,null,null,null,null,null,null,{"$f":"'CENTRAL DATA'!$H$12","v":"FY-2"},{"$f":"'CENTRAL DATA'!$H$13","v":"FY-1"},{"$f":"IF(PROFILE!$L$43=\"Fiscal Year WFP\",'CENTRAL DATA'!$H$14,IF(PROFILE!$L$43=\"Snapshot\",CONCATENATE(\"As of \",TEXT(PROFILE!$N$44,\"mm/dd/yy\"),\"\")))","v":false},null,null,null,null,null,null,1]
[null,null,null,null,null,null,null,null,null,null,null,null,null,null,null,null,null,null,null,null,null,null,1]
[null,null,null,null,null,null,null,null,null,null,null,null,"Exit Survey Responses","",null,null,null,null,null,null,null,null,1]
[null,null,null,null,null,null,null,null,null,null,null,null,"Exit Survey Response Rate","",null,null,null,null,null,null,null,null,1]
[null,null,null,null,null,null,null,null,null,null,null,null,"Net Promoter Score","",null,null,null,null,null,null,null,null,1]
[null,null,null,null,null,null,null,null,null,null,null,null,null,null,null,null,null,null,null,null,null,null,1]
[null,null,null,null,null,null,null,null,null,null,null,null,null,null,null,null,null,null,null,null,null,null,1]
[null,null,null,null,null,null,null,null,null,null,null,null,null,null,null,null,null,null,null,null,null,null,1]
[null,"Step 5: Enter Workforce Development Information",null,null,null,null,null,null,null,null,null,null,null,{"$f":"IF(COUNTA(P174:P179,P184:P185,P190:P191)=10,\"Complete\",\"Incomplete\")","v":"Incomplete"},null,null,null,null,null,null,null,null,1]
[null,null,null,null,null,null,null,null,null,null,null,null,null,null,null,null,null,null,null,null,null,null,1]
[null,"INSTRUCTIONS: Please enter the total number of employees in the yellow boxes below for the respective data fields related to workforce development, to include internships, internal workforce development, and external development. Development initiatives are defined as those for career/professional development and should NOT  include any mandatory or required training.",null,null,null,null,null,null,null,null,null,null,null,null,null,null,null,null,null,null,null,null,1]
[null,null,null,null,null,null,null,null,null,null,null,null,null,null,null,null,null,null,null,null,null,null,1]
[null,null,null,null,null,null,null,null,null,null,null,null,null,null,null,null,null,null,null,null,null,null,1]
[null,null,null,null,null,null,null,null,null,null,null,null,null,null,null,null,null,null,null,null,null,null,1]
[null,null,null,null,null,null,null,null,null,null,null,null,null,null,null,"Agency Internship Information",null,null,null,null,null,null,1]
[null,null,null,null,null,null,null,null,null,null,null,null,null,{"$f":"'CENTRAL DATA'!$H$12","v":"FY-2"},{"$f":"'CENTRAL DATA'!$H$13","v":"FY-1"},{"$f":"IF(PROFILE!$L$43=\"Fiscal Year WFP\",'CENTRAL DATA'!$H$14,IF(PROFILE!$L$43=\"Snapshot\",CONCATENATE(\"As of \",TEXT(PROFILE!$N$44,\"mm/dd/yy\"),\"\")))","v":false},null,null,null,null,null,null,1]
[null,null,null,null,null,null,null,null,null,null,null,null,null,null,null,null,null,null,null,null,null,null,1]
[null,null,null,null,null,null,null,null,null,null,null,null,"Did the Agency employ interns in the reporting fiscal year?",null,null,null,null,null,null,null,null,null,1]
[null,null,null,null,null,null,null,null,null,null,null,null,"How may individuals were in internship roles at the agency?",null,null,null,null,null,null,null,null,null,1]
[null,null,null,null,null,null,null,null,null,null,null,null,"How may individuals participated in paid internships supported by agency funds?",null,null,null,null,null,null,null,null,null,1]
[null,null,null,null,null,null,null,null,null,null,null,null,"How many individuals participated in paid-internships supported by outside resources/funds (scholarships, grants, etc.)?",null,null,null,null,null,null,null,null,null,1]
[null,null,null,null,null,null,null,null,null,null,null,null,"How may individuals participated in unpaid internships (not compensated monetarily in any way)?",null,null,null,null,null,null,null,null,null,1]
[null,null,null,null,null,null,null,null,null,null,null,null,"How many unpaid interns received academic credit?",null,null,null,null,null,null,null,null,null,1]
[null,null,null,null,null,null,null,null,null,null,null,null,null,null,null,null,null,null,null,null,null,null,1]
[null,null,null,null,null,null,null,null,null,null,null,null,null,null,null,"Agency Internal Workforce Development",null,null,null,null,null,null,1]
[null,null,null,null,null,null,null,null,null,null,null,null,null,{"$f":"'CENTRAL DATA'!$H$12","v":"FY-2"},{"$f":"'CENTRAL DATA'!$H$13","v":"FY-1"},{"$f":"IF(PROFILE!$L$43=\"Fiscal Year WFP\",'CENTRAL DATA'!$H$14,IF(PROFILE!$L$43=\"Snapshot\",CONCATENATE(\"As of \",TEXT(PROFILE!$N$44,\"mm/dd/yy\"),\"\")))","v":false},null,null,null,null,null,null,1]
[null,null,null,null,null,null,null,null,null,null,null,null,null,null,null,null,null,null,null,null,null,null,1]
[null,null,null,null,null,null,null,null,null,null,null,null,"Total Internal Development Initiatives (Agency Conducted or Hosted)",null,null,null,null,null,null,null,null,null,1]
[null,null,null,null,null,null,null,null,null,null,null,null,"Total Number of Employees who Participated in Internal Development",null,null,null,null,null,null,null,null,null,1]
[null,null,null,null,null,null,null,null,null,null,null,null,null,null,null,null,null,null,null,null,null,null,1]
[null,null,null,null,null,null,null,null,null,null,null,null,null,null,null,"External Workforce Development",null,null,null,null,null,null,1]
[null,null,null,null,null,null,null,null,null,null,null,null,null,{"$f":"'CENTRAL DATA'!$H$12","v":"FY-2"},{"$f":"'CENTRAL DATA'!$H$13","v":"FY-1"},{"$f":"IF(PROFILE!$L$43=\"Fiscal Year WFP\",'CENTRAL DATA'!$H$14,IF(PROFILE!$L$43=\"Snapshot\",CONCATENATE(\"As of \",TEXT(PROFILE!$N$44,\"mm/dd/yy\"),\"\")))","v":false},null,null,null,null,null,null,1]
[null,null,null,null,null,null,null,null,null,null,null,null,null,null,null,null,null,null,null,null,null,null,1]
[null,null,null,null,null,null,null,null,null,null,null,null,"Total External Development Initiatives (Employees Offsite)",null,null,null,null,null,null,null,null,null,1]
[null,null,null,null,null,null,null,null,null,null,null,null,"Total Number of Employees who Participated in External Development",null,null,null,null,null,null,null,null,null,1]
[null,null,null,null,null,null,null,null,null,null,null,null,null,null,null,null,null,null,null,null,null,null,1]
[null,null,null,null,null,null,null,null,null,null,null,null,null,null,null,null,null,null,null,null,null,null,1]
[null,null,null,null,null,null,null,null,null,null,null,null,null,null,null,null,null,null,null,null,null,null,1]
[null,null,null,null,null,null,null,null,null,null,null,null,null,null,null,null,null,null,null,null,null,null,0]

{"sheet":"IN-DEPTH","index":4,"n_rows":595,"n_cols":23,"rows_kept":595,"cut":false,"hidden":true,"merged":[[584,2,585,13],[586,2,589,15],[510,1,512,15],[50,6,50,7],[39,10,39,11],[40,10,40,11],[42,10,42,11],[41,10,41,11],[40,6,40,7],[41,6,41,7],[39,6,39,7],[493,11,493,15],[494,13,494,15],[495,13,495,15],[498,6,501,15],[502,6,505,15],[496,13,496,15],[477,11,477,15],[478,13,478,15],[479,13,479,15],[482,6,485,15],[486,6,489,15],[480,13,480,15],[461,11,461,15],[574,6,577,15],[578,6,581,15],[197,1,198,12],[197,13,198,15],[199,1,201,15],[254,1,255,12],[254,13,255,15],[256,1,258,15],[279,1,280,12],[279,13,280,15],[281,1,284,15],[341,1,342,12],[341,13,342,15],[343,1,345,15],[508,1,509,12],[508,13,509,15],[558,13,558,15],[560,6,563,15],[564,6,567,15],[571,11,571,15],[572,13,572,15],[543,11,543,15],[544,13,544,15],[546,6,549,15],[550,6,553,15],[557,11,557,15],[522,6,525,15],[529,11,529,15],[530,13,530,15],[532,6,535,15],[536,6,539,15],[515,11,515,15],[516,13,516,15],[518,6,521,15],[466,6,469,15],[470,6,473,15],[464,13,464,15],[445,11,445,15],[446,13,446,15],[447,13,447,15],[450,6,453,15],[454,6,457,15],[448,13,448,15],[462,13,462,15],[463,13,463,15],[429,11,429,15],[430,13,430,15],[431,13,431,15],[434,6,437,15],[438,6,441,15],[432,13,432,15],[413,11,413,15],[414,13,414,15],[415,13,415,15],[418,6,421,15],[422,6,425,15],[416,13,416,15],[397,11,397,15],[398,13,398,15],[399,13,399,15],[402,6,405,15],[406,6,409,15],[400,13,400,15],[381,11,381,15],[382,13,382,15],[383,13,383,15],[386,6,389,15],[390,6,393,15],[384,13,384,15],[365,11,365,15],[366,13,366,15],[367,13,367,15],[370,6,373,15],[374,6,377,15],[368,13,368,15],[349,11,349,15],[350,13,350,15],[351,13,351,15],[354,6,357,15],[358,6,361,15],[352,13,352,15],[305,1,305,3],[305,4,305,6],[305,7,305,13],[305,14,305,15],[306,1,306,3],[306,4,306,6],[306,7,306,13],[306,14,306,15],[303,1,303,3],[303,4,303,6],[303,7,303,13],[303,14,303,15],[304,1,304,3],[304,4,304,6],[304,7,304,13],[304,14,304,15],[301,1,301,3],[301,4,301,6],[301,7,301,13],[301,14,301,15],[302,1,302,3],[302,4,302,6],[302,7,302,13],[302,14,302,15],[299,1,299,3],[299,4,299,6],[299,7,299,13],[299,14,299,15],[300,1,300,3],[300,4,300,6],[300,7,300,13],[300,14,300,15],[297,1,297,3],[297,4,297,6],[297,7,297,13],[297,14,297,15],[298,1,298,3],[298,4,298,6],[298,7,298,13],[298,14,298,15],[295,1,295,3],[295,4,295,6],[295,7,295,13],[295,14,295,15],[296,1,296,3],[296,4,296,6],[296,7,296,13],[296,14,296,15],[293,1,293,3],[293,4,293,6],[293,7,293,13],[293,14,293,15],[294,1,294,3],[294,4,294,6],[294,7,294,13],[294,14,294,15],[291,1,291,3],[291,4,291,6],[291,7,291,13],[291,14,291,15],[292,1,292,3],[292,4,292,6],[292,7,292,13],[292,14,292,15],[289,1,289,3],[289,4,289,6],[289,7,289,13],[289,14,289,15],[290,1,290,3],[290,4,290,6],[290,7,290,13],[290,14,290,15],[287,1,287,3],[287,4,287,6],[287,14,287,15],[287,7,287,13],[288,1,288,3],[288,4,288,6],[288,7,288,13],[288,14,288,15],[286,1,286,3],[286,14,286,15],[286,4,286,6],[286,7,286,13],[274,1,274,3],[274,4,274,10],[274,11,274,13],[274,14,274,15],[275,1,275,3],[275,4,275,10],[275,11,275,13],[275,14,275,15],[272,1,272,3],[272,4,272,10],[272,11,272,13],[272,14,272,15],[273,1,273,3],[273,4,273,10],[273,11,273,13],[273,14,273,15],[270,1,270,3],[270,4,270,10],[270,11,270,13],[270,14,270,15],[271,1,271,3],[271,4,271,10],[271,11,271,13],[271,14,271,15],[268,1,268,3],[268,4,268,10],[268,11,268,13],[268,14,268,15],[269,1,269,3],[269,4,269,10],[269,11,269,13],[269,14,269,15],[266,1,266,3],[266,4,266,10],[266,11,266,13],[266,14,266,15],[267,1,267,3],[267,4,267,10],[267,11,267,13],[267,14,267,15],[264,1,264,3],[264,4,264,10],[264,11,264,13],[264,14,264,15],[265,1,265,3],[265,4,265,10],[265,11,265,13],[265,14,265,15],[262,1,262,3],[262,4,262,10],[262,11,262,13],[262,14,262,15],[263,1,263,3],[263,4,263,10],[263,11,263,13],[263,14,263,15],[260,14,260,15],[260,11,260,13],[260,4,260,10],[260,1,260,3],[261,1,261,3],[261,14,261,15],[261,11,261,13],[261,4,261,10],[246,10,246,12],[247,10,247,12],[248,10,248,12],[249,10,249,12],[250,10,250,12],[241,10,241,12],[242,10,242,12],[243,10,243,12],[244,10,244,12],[245,10,245,12],[238,10,238,12],[239,13,240,13],[239,14,240,14],[239,15,240,15],[240,10,240,12],[233,10,233,12],[234,10,234,12],[235,10,235,12],[236,10,236,12],[237,10,237,12],[229,10,229,12],[230,10,230,12],[228,10,228,12],[231,10,231,12],[232,10,232,12],[223,13,224,13],[223,14,224,14],[223,15,224,15],[227,13,228,13],[227,14,228,14],[227,15,228,15],[217,13,217,15],[218,13,218,15],[219,13,220,13],[219,14,220,14],[219,15,220,15],[135,6,136,6],[135,13,136,13],[135,14,136,14],[135,15,136,15],[135,10,136,10],[135,11,136,11],[135,12,136,12],[167,13,168,13],[167,14,168,14],[47,6,47,7],[48,6,48,7],[49,6,49,7],[27,10,27,11],[28,10,28,11],[29,10,29,11],[31,10,31,11],[32,10,32,11],[33,10,33,11],[35,10,35,11],[36,10,36,11],[48,9,49,12],[43,6,43,7],[44,6,44,7],[45,6,45,7],[35,14,35,15],[36,14,36,15],[37,14,37,15],[27,14,27,15],[28,14,28,15],[29,14,29,15],[31,14,31,15],[32,14,32,15],[35,6,35,7],[36,6,36,7],[37,6,37,7],[33,14,33,15],[38,2,38,3],[34,2,34,3],[45,9,46,12],[318,13,319,13],[318,14,319,14],[318,15,319,15],[329,13,330,13],[329,14,330,14],[329,15,330,15],[310,1,311,12],[310,13,311,15],[312,1,314,15],[167,15,168,15],[182,13,183,13],[182,14,183,14],[182,15,183,15],[145,1,146,12],[145,13,146,15],[147,1,149,15],[152,13,153,13],[152,14,153,14],[152,15,153,15],[72,1,73,12],[72,13,73,15],[6,2,8,14],[9,2,11,14],[54,1,55,12],[54,13,55,15],[56,1,57,15],[13,1,14,12],[13,13,14,15],[15,1,18,15],[27,2,27,3],[28,2,28,3],[29,2,29,3],[31,2,31,3],[32,2,32,3],[33,2,33,3],[35,2,35,3],[37,10,37,11],[37,2,37,3],[45,2,45,3],[27,6,27,7],[28,6,28,7],[29,6,29,7],[31,6,31,7],[32,6,32,7],[33,6,33,7],[60,13,61,13],[60,14,61,14],[60,15,61,15],[98,13,99,13],[98,14,99,14],[98,15,99,15],[105,13,106,13],[105,14,106,14],[105,15,106,15],[92,1,93,12],[92,13,93,15],[94,1,95,15],[74,1,75,15],[77,13,78,13],[77,14,78,14],[77,15,78,15],[82,13,83,13],[82,14,83,14],[82,15,83,15],[206,7,207,7],[206,6,207,6],[126,13,127,13],[126,14,127,14],[126,15,127,15],[112,13,113,13],[112,14,113,14],[112,15,113,15],[119,13,120,13],[119,14,120,14],[119,15,120,15],[134,4,134,6],[134,7,134,9],[134,10,134,12],[134,13,134,15],[206,13,207,13],[206,14,207,14],[206,15,207,15],[206,8,207,8],[135,7,136,7],[135,8,136,8],[135,9,136,9],[135,4,136,4],[135,5,136,5]]}
[null,null,null,null,null,null,null,null,null,null,null,null,null,null,null,null,null,null,null,null,null,null,1]
[null,null,null,null,null,null,null,null,null,null,null,null,null,null,null,null,null,null,null,null,null,null,1]
[null,null,null,null,null,null,null,null,null,null,null,null,null,null,null,null,null,null,null,null,null,null,1]
[null,null,null,null,null,null,null,null,null,null,null,null,null,null,null,null,null,null,null,null,null,null,1]
[null,null,null,null,null,null,null,null,null,null,null,null,null,null,null,null,null,null,null,null,null,null,1]
[null,null,null,null,null,null,null,null,null,null,null,null,null,null,null,null,null,null,null,null,null,null,1]
[null,null,"IN-DEPTH ANALYSIS (OPTIONAL)",null,null,null,null,null,null,null,null,null,null,null,null,null,null,null,null,null,null,null,1]
[null,null,null,null,null,null,null,null,null,null,null,null,null,null,null,null,null,null,null,null,null,null,1]
[null,null,null,null,null,null,null,null,null,null,null,null,null,null,null,null,null,null,null,null,null,null,1]
[null,null,"This tab includes all the in-depth level of analysis, which mainly focuses on a breakdown of the metrics for leader and executive levels at the agency. Additional fields are also included, such as engagement events, employee recognition, or development support.",null,null,null,null,null,null,null,null,null,null,null,null,null,null,null,null,null,null,null,1]
[null,null,null,null,null,null,null,null,null,null,null,null,null,null,null,null,null,null,null,null,null,null,1]
[null,null,null,null,null,null,null,null,null,null,null,null,null,null,null,null,null,null,null,null,null,null,1]
[null,null,null,null,null,null,null,null,null,null,null,null,null,null,null,null,null,null,null,null,null,null,1]
[null,"Step 1: Select the Fields to be Displayed",null,null,null,null,null,null,null,null,null,null,null,null,null,null,null,null,null,null,null,null,1]
[null,null,null,null,null,null,null,null,null,null,null,null,null,null,null,null,null,null,null,null,null,null,1]
[null,"INSTRUCTIONS: Please select which fields to enter data using the blue buttons below. You can further customize which fields are visible using the custom fields button and selecting \"enabled\" next to which fields to enter data. If not using macros, go to cell \"W1\",click the filter icon, click the box next to 0 and then click okay. Select which fields to be visible by selecting \"enabled\" next to the respective fields. After, go to cell \"W1\", click the filter icon, and then unclick the box next to 0 and then click okay.",null,null,null,null,null,null,null,null,null,null,null,null,null,null,null,null,null,null,null,null,1]
[null,null,null,null,null,null,null,null,null,null,null,null,null,null,null,null,null,null,null,null,null,null,1]
[null,null,null,null,null,null,null,null,null,null,null,null,null,null,null,null,null,null,null,null,null,null,1]
[null,null,null,null,null,null,null,null,null,null,null,null,null,null,null,null,null,null,null,null,null,null,1]
[null,null,null,null,null,null,null,null,null,null,null,null,null,null,null,null,null,null,null,null,null,null,1]
[null,null,null,null,null,null,null,null,null,null,null,null,null,null,null,null,null,null,null,null,null,null,1]
[null,null,null,null,null,null,null,null,null,null,null,null,null,null,null,null,null,null,null,null,null,null,1]
[null,null,null,null,null,null,null,null,null,null,null,null,null,null,null,null,null,null,null,null,null,null,1]
[null,null,null,null,null,null,null,null,null,null,null,null,null,null,null,null,null,null,null,null,null,null,1]
[null,null,null,null,null,null,null,null,null,null,null,null,null,null,null,null,null,null,null,null,null,null,1]
[null,null,null,null,null,null,null,null,null,null,null,null,null,null,null,null,null,null,null,null,null,null,0]
[null,null,null,null,null,null,null,null,null,null,null,null,null,null,null,null,null,null,null,null,null,null,0]
[null,null,"Employee Totals",null,null,null,"Applicants",null,null,null," All Employees",null,null,null,"Internal Dev.",null,null,null,null,null,null,null,0]
[null,"Leader","Hidden",null,null,"Leader","Hidden",null,null,"Leader","Hidden",null,null,"Leader","Hidden",null,null,null,null,null,null,null,0]
[null,"Executive","Hidden",null,null,"Executive","Hidden",null,null,"Executive","Hidden",null,null,"Executive","Hidden",null,null,null,null,null,null,null,0]
[null,null,null,null,null,null,null,null,null,null,null,null,null,null,null,null,null,null,null,null,null,null,0]
[null,null,"Critical Roles",null,null,null,"Hires",null,null,null,"First Five Years",null,null,null,"External Dev.",null,null,null,null,null,null,null,0]
[null,"Leader","Hidden",null,null,"Leader","Hidden",null,null,"Leader","Hidden",null,null,"Leader","Hidden",null,null,null,null,null,null,null,0]
[null,null,null,null,null,"Executive","Hidden",null,null,"Executive","Hidden",null,null,"Executive","Hidden",null,null,null,null,null,null,null,0]
[null,null,"Current Retirements",null,null,null,null,null,null,null,null,null,null,null,null,null,null,null,null,null,null,null,0]
[null,"Leader","Hidden",null,null,null,"Filled Positions",null,null,null,"First Year",null,null,null,"Development Details",null,null,null,null,null,null,null,0]
[null,null,null,null,null,"Leader","Hidden",null,null,"Leader","Hidden",null,null,"Programs","Hidden",null,null,null,null,null,null,null,0]
[null,null,"Future Retirements",null,null,"Executive","Hidden",null,null,"Executive","Hidden",null,null,"Support","Hidden",null,null,null,null,null,null,null,0]
[null,"Leader","Hidden",null,null,null,null,null,null,null,null,null,null,null,null,null,null,null,null,null,null,null,0]
[null,null,null,null,null,null,"Vacant Positions",null,null,null,"Engagement",null,null,null,null,null,null,null,null,null,null,null,0]
[null,null,null,null,null,"Leader","Hidden",null,null,"Surveys","Hidden",null,null,null,null,null,null,null,null,null,null,null,0]
[null,null,null,null,null,"Executive","Hidden",null,null,"Events","Hidden",null,null,null,null,null,null,null,null,null,null,null,0]
[null,null,null,null,null,null,null,null,null,"Recognition","Hidden",null,null,null,null,null,null,null,null,null,null,null,0]
[null,null,null,null,null,null,"Time to Fill",null,null,null,null,null,null,null,null,null,null,null,null,null,null,null,0]
[null,null,null,null,null,"Leader","Hidden",null,null,null,null,null,null,null,null,null,null,null,null,null,null,null,0]
[null,null,null,null,null,"Executive","Hidden",null,null,"Refresh Worksheet to See Fields",null,null,null,null,null,null,null,null,null,null,null,null,0]
[null,null,null,null,null,null,null,null,null,null,null,null,null,null,null,null,null,null,null,null,null,null,0]
[null,null,null,null,null,null,"Quarter TTF",null,null,null,null,null,null,null,null,null,null,null,null,null,null,null,0]
[null,null,null,null,null,"All Employees","Hidden",null,null,"Click button to hide these                               custom fields.  ",null,null,null,null,null,null,null,null,null,null,null,null,0]
[null,null,null,null,null,"Leader","Hidden",null,null,null,null,null,null,null,null,null,null,null,null,null,null,null,0]
[null,null,null,null,null,"Executive","Hidden",null,null,null,null,null,null,null,null,null,null,null,null,null,null,null,0]
[null,null,null,null,null,null,null,null,null,null,null,null,null,null,null,null,null,null,null,null,null,null,0]
[null,null,null,null,null,null,null,null,null,null,null,null,null,null,null,null,null,null,null,null,null,null,1]
[null,null,null,null,null,null,null,null,null,null,null,null,null,null,null,null,null,null,null,null,null,null,1]
[null,"Step 1: Enter Overall Agency Information",null,null,null,null,null,null,null,null,null,null,null,null,null,null,null,null,null,null,null,null,{"$f":"IF(OR($C$29=\"Enabled\",$C$30=\"enabled\"),1,0)","v":0}]
[null,null,null,null,null,null,null,null,null,null,null,null,null,null,null,null,null,null,null,null,null,null,{"$f":"IF(OR($C$29=\"Enabled\",$C$30=\"enabled\"),1,0)","v":0}]
[null,"INSTRUCTIONS: Please enter the total number of employees or positions for the respective data fields, focusing on overall aspects of the agency, in the boxes below. Executive positions are those noted on the Agency Profile tab.",null,null,null,null,null,null,null,null,null,null,null,null,null,null,null,null,null,null,null,null,0]
[null,null,null,null,null,null,null,null,null,null,null,null,null,null,null,null,null,null,null,null,null,null,0]
[null,null,null,null,null,null,null,null,null,null,null,null,null,null,null,null,null,null,null,null,null,null,0]
[null,null,null,null,null,null,null,null,null,null,null,null,null,null,null,"Employee Totals",null,null,null,null,null,null,0]
[null,null,null,null,null,null,null,null,null,null,null,null,null,{"$f":"'CENTRAL DATA'!$H$12","v":"FY-2"},{"$f":"'CENTRAL DATA'!$H$13","v":"FY-1"},{"$f":"IF(PROFILE!$L$43=\"Fiscal Year WFP\",'CENTRAL DATA'!$H$14,IF(PROFILE!$L$43=\"Snapshot\",CONCATENATE(\"As of \",TEXT(PROFILE!$N$44,\"mm/dd/yy\"),\"\")))","v":false},null,null,null,null,null,null,0]
[null,null,null,null,null,null,null,null,null,null,null,null,null,null,null,null,null,null,null,null,null,null,0]
[null,null,null,null,null,null,null,null,null,null,null,null,"Total Number of Leader Positions","",null,null,null,null,null,null,null,null,{"$f":"IF($C$29=\"Enabled\",1,0)","v":0}]
[null,null,null,null,null,null,null,null,null,null,null,null,"Total Number of Leader Employees","",null,null,null,null,null,null,null,null,{"$f":"IF($C$29=\"Enabled\",1,0)","v":0}]
[null,null,null,null,null,null,null,null,null,null,null,null,"Total Number of Leader Employees in their First 5 years","",null,null,null,null,null,null,null,null,0]
[null,null,null,null,null,null,null,null,null,null,null,null,"Total Number of Leader Employees in their First Year","",null,null,null,null,null,null,null,null,0]
[null,null,null,null,null,null,null,null,null,null,null,null,null,null,null,null,null,null,null,null,null,null,0]
[null,null,null,null,null,null,null,null,null,null,null,null,"Total Number of Executive Employees in their First 5 years","",null,null,null,null,null,null,null,null,{"$f":"IF($C$30=\"enabled\",1,0)","v":0}]
[null,null,null,null,null,null,null,null,null,null,null,null,"Total Number of Executive Employees in their First Year","",null,null,null,null,null,null,null,null,{"$f":"IF($C$30=\"enabled\",1,0)","v":0}]
[null,null,null,null,null,null,null,null,null,null,null,null,null,null,null,null,null,null,null,null,null,null,{"$f":"IF(OR($C$29=\"Enabled\",$C$30=\"enabled\"),1,0)","v":0}]
[null,null,null,null,null,null,null,null,null,null,null,null,null,null,null,null,null,null,null,null,null,null,0]
[null,null,null,null,null,null,null,null,null,null,null,null,null,null,null,null,null,null,null,null,null,null,0]
[null,"Step 2: Enter Organizational Resilience Information",null,null,null,null,null,null,null,null,null,null,null,null,null,null,null,null,null,null,null,null,{"$f":"IF(OR($C$33=\"Enabled\",$C$36=\"enabled\",C39=\"enabled\"),1,0)","v":0}]
[null,null,null,null,null,null,null,null,null,null,null,null,null,null,null,null,null,null,null,null,null,null,{"$f":"IF(OR($C$33=\"Enabled\",$C$36=\"enabled\",C40=\"enabled\"),1,0)","v":0}]
[null,"INSTRUCTIONS: Please enter the total number of positions or employees in the boxes below for the respective data fields related to organizational resilience, which include critical roles, retirements, and executives. ",null,null,null,null,null,null,null,null,null,null,null,null,null,null,null,null,null,null,null,null,0]
[null,null,null,null,null,null,null,null,null,null,null,null,null,null,null,null,null,null,null,null,null,null,0]
[null,null,null,null,null,null,null,null,null,null,null,null,null,null,null,"Critical Roles",null,null,null,null,null,null,{"$f":"IF($C$33=\"Enabled\",1,0)","v":0}]
[null,null,null,null,null,null,null,null,null,null,null,null,null,{"$f":"'CENTRAL DATA'!$H$12","v":"FY-2"},{"$f":"'CENTRAL DATA'!$H$13","v":"FY-1"},{"$f":"IF(PROFILE!$L$43=\"Fiscal Year WFP\",'CENTRAL DATA'!$H$14,IF(PROFILE!$L$43=\"Snapshot\",CONCATENATE(\"As of \",TEXT(PROFILE!$N$44,\"mm/dd/yy\"),\"\")))","v":false},null,null,null,null,null,null,{"$f":"IF($C$33=\"Enabled\",1,0)","v":0}]
[null,null,null,null,null,null,null,null,null,null,null,null,null,null,null,null,null,null,null,null,null,null,0]
[null,null,null,null,null,null,null,null,null,null,null,null,"Total Number of Leader Positions Identified as Critical","",null,null,null,null,null,null,null,null,0]
[null,null,null,null,null,null,null,null,null,null,null,null,null,null,null,null,null,null,null,null,null,null,0]
[null,null,null,null,null,null,null,null,null,null,null,null,null,null,null,"Current Retirement Eligibility (65 Years Old + 5 Years of Service)",null,null,null,null,null,null,{"$f":"IF($C$36=\"Enabled\",1,0)","v":0}]
[null,null,null,null,null,null,null,null,null,null,null,null,null,{"$f":"'CENTRAL DATA'!$H$12","v":"FY-2"},{"$f":"'CENTRAL DATA'!$H$13","v":"FY-1"},{"$f":"IF(PROFILE!$L$43=\"Fiscal Year WFP\",'CENTRAL DATA'!$H$14,IF(PROFILE!$L$43=\"Snapshot\",CONCATENATE(\"As of \",TEXT(PROFILE!$N$44,\"mm/dd/yy\"),\"\")))","v":false},null,null,null,null,null,null,{"$f":"IF($C$36=\"Enabled\",1,0)","v":0}]
[null,null,null,null,null,null,null,null,null,null,null,null,null,null,null,null,null,null,null,null,null,null,0]
[null,null,null,null,null,null,null,null,null,null,null,null,"Total Number of Leaders Currently Eligible to Retire","",null,null,null,null,null,null,null,null,0]
[null,null,null,null,null,null,null,null,null,null,null,null,null,null,null,null,null,null,null,null,null,null,0]
[null,null,null,null,null,null,null,null,null,null,null,null,null,null,null,"Upcoming Retirement Eligibility (65 Years Old + 5 Years of Service)",null,null,null,null,null,null,{"$f":"IF($C$39=\"Enabled\",1,0)","v":0}]
[null,null,null,null,null,null,null,null,null,null,null,{"$f":"'CENTRAL DATA'!H15","v":"FY00"},{"$f":"'CENTRAL DATA'!H16","v":"FY01"},{"$f":"'CENTRAL DATA'!H17","v":"FY02"},{"$f":"'CENTRAL DATA'!H18","v":"FY03"},{"$f":"'CENTRAL DATA'!H19","v":"FY04"},null,null,null,null,null,null,{"$f":"IF($C$39=\"Enabled\",1,0)","v":0}]
[null,null,null,null,null,null,null,null,null,null,"Total Number of Leaders Newly Eligible to Retire in Each Upcoming Fiscal Years","","","",null,null,null,null,null,null,null,null,0]
[null,null,null,null,null,null,null,null,null,null,null,null,null,null,null,null,null,null,null,null,null,null,{"$f":"IF(OR($C$33=\"Enabled\",$C$36=\"enabled\",C56=\"enabled\"),1,0)","v":0}]
[null,null,null,null,null,null,null,null,null,null,null,null,null,null,null,null,null,null,null,null,null,null,0]
[null,null,null,null,null,null,null,null,null,null,null,null,null,null,null,null,null,null,null,null,null,null,{"$f":"IF(OR($G$29=\"enabled\",$G$30=\"enabled\",$G$33=\"enabled\",$G$34=\"enabled\",$G$37=\"enabled\",$G$38=\"enabled\",$G$41=\"enabled\",$G$42=\"enabled\",$G$45=\"enabled\",$G$46=\"enabled\",$G$49=\"enabled\",$G$50=\"enabled\",$G$51=\"enabled\"),1,0)","v":0}]
[null,"Step 3: Enter Recruitment Information",null,null,null,null,null,null,null,null,null,null,null,null,null,null,null,null,null,null,null,null,{"$f":"IF(OR($G$29=\"enabled\",$G$30=\"enabled\",$G$33=\"enabled\",$G$34=\"enabled\",$G$37=\"enabled\",$G$38=\"enabled\",$G$41=\"enabled\",$G$42=\"enabled\",$G$45=\"enabled\",$G$46=\"enabled\",$G$49=\"enabled\",$G$50=\"enabled\",$G$51=\"enabled\"),1,0)","v":0}]
[null,null,null,null,null,null,null,null,null,null,null,null,null,null,null,null,null,null,null,null,null,null,0]
[null,"INSTRUCTIONS: Please enter the total number of employees or positions in the boxes below for the respective data fields related to recruitment, which includes applicants, hires, filled positions, vacant positions, and average time to fill.",null,null,null,null,null,null,null,null,null,null,null,null,null,null,null,null,null,null,null,null,0]
[null,null,null,null,null,null,null,null,null,null,null,null,null,null,null,null,null,null,null,null,null,null,0]
[null,null,null,null,null,null,null,null,null,null,null,null,null,null,null,null,null,null,null,null,null,null,0]
[null,null,null,null,null,null,null,null,null,null,null,null,null,null,null,"Applicants",null,null,null,null,null,null,{"$f":"IF(OR($G$29=\"enabled\",$G$30=\"enabled\"),1,0)","v":0}]
[null,null,null,null,null,null,null,null,null,null,null,null,null,{"$f":"'CENTRAL DATA'!$H$12","v":"FY-2"},{"$f":"'CENTRAL DATA'!$H$13","v":"FY-1"},{"$f":"IF(PROFILE!$L$43=\"Fiscal Year WFP\",'CENTRAL DATA'!$H$14,IF(PROFILE!$L$43=\"Snapshot\",CONCATENATE(\"As of \",TEXT(PROFILE!$N$44,\"mm/dd/yy\"),\"\")))","v":false},null,null,null,null,null,null,{"$f":"IF(OR($G$29=\"enabled\",$G$30=\"enabled\"),1,0)","v":0}]
[null,null,null,null,null,null,null,null,null,null,null,null,null,null,null,null,null,null,null,null,null,null,0]
[null,null,null,null,null,null,null,null,null,null,null,null,"Total Number of Applicants to Leader Positions","",null,null,null,null,null,null,null,null,{"$f":"IF($G$29=\"enabled\",1,0)","v":0}]
[null,null,null,null,null,null,null,null,null,null,null,null,null,null,null,null,null,null,null,null,null,null,{"$f":"IF($G$29=\"enabled\",1,0)","v":0}]
[null,null,null,null,null,null,null,null,null,null,null,null,"Total Number of Applicants to Executive Positions","",null,null,null,null,null,null,null,null,{"$f":"IF($G$30=\"enabled\",1,0)","v":0}]
[null,null,null,null,null,null,null,null,null,null,null,null,null,null,null,null,null,null,null,null,null,null,0]
[null,null,null,null,null,null,null,null,null,null,null,null,null,null,null,"Hires",null,null,null,null,null,null,{"$f":"IF(OR(,$G$33=\"enabled\",$G$34=\"enabled\"),1,0)","v":0}]
[null,null,null,null,null,null,null,null,null,null,null,null,null,{"$f":"'CENTRAL DATA'!$H$12","v":"FY-2"},{"$f":"'CENTRAL DATA'!$H$13","v":"FY-1"},{"$f":"IF(PROFILE!$L$43=\"Fiscal Year WFP\",'CENTRAL DATA'!$H$14,IF(PROFILE!$L$43=\"Snapshot\",CONCATENATE(\"As of \",TEXT(PROFILE!$N$44,\"mm/dd/yy\"),\"\")))","v":false},null,null,null,null,null,null,{"$f":"IF(OR(,$G$33=\"enabled\",$G$34=\"enabled\"),1,0)","v":0}]
[null,null,null,null,null,null,null,null,null,null,null,null,null,null,null,null,null,null,null,null,null,null,0]
[null,null,null,null,null,null,null,null,null,null,null,null,"Total Number of Leader Hires","",null,null,null,null,null,null,null,null,{"$f":"IF(OR($G$33=\"enabled\"),1,0)","v":0}]
[null,null,null,null,null,null,null,null,null,null,null,null,null,null,null,null,null,null,null,null,null,null,{"$f":"IF(OR($G$33=\"enabled\"),1,0)","v":0}]
[null,null,null,null,null,null,null,null,null,null,null,null,"Total Number of Executive Hires","",null,null,null,null,null,null,null,null,{"$f":"IF(OR($G$34=\"enabled\"),1,0)","v":0}]
[null,null,null,null,null,null,null,null,null,null,null,null,null,null,null,null,null,null,null,null,null,null,0]
[null,null,null,null,null,null,null,null,null,null,null,null,null,null,null,"Filled Positions",null,null,null,null,null,null,{"$f":"IF(OR($G$37=\"enabled\",$G$38=\"enabled\"),1,0)","v":0}]
[null,null,null,null,null,null,null,null,null,null,null,null,null,{"$f":"'CENTRAL DATA'!$H$12","v":"FY-2"},{"$f":"'CENTRAL DATA'!$H$13","v":"FY-1"},{"$f":"IF(PROFILE!$L$43=\"Fiscal Year WFP\",'CENTRAL DATA'!$H$14,IF(PROFILE!$L$43=\"Snapshot\",CONCATENATE(\"As of \",TEXT(PROFILE!$N$44,\"mm/dd/yy\"),\"\")))","v":false},null,null,null,null,null,null,{"$f":"IF(OR($G$37=\"enabled\",$G$38=\"enabled\"),1,0)","v":0}]
[null,null,null,null,null,null,null,null,null,null,null,null,null,null,null,null,null,null,null,null,null,null,0]
[null,null,null,null,null,null,null,null,null,null,null,null,"Total Number of Leader Positions Filled during the FY","",null,null,null,null,null,null,null,null,{"$f":"IF(OR($G$37=\"enabled\"),1,0)","v":0}]
[null,null,null,null,null,null,null,null,null,null,null,null,null,null,null,null,null,null,null,null,null,null,{"$f":"IF(OR($G$37=\"enabled\"),1,0)","v":0}]
[null,null,null,null,null,null,null,null,null,null,null,null,"Total Number of Executive Positions Filled during the FY","",null,null,null,null,null,null,null,null,{"$f":"IF(OR($G$38=\"enabled\"),1,0)","v":0}]
[null,null,null,null,null,null,null,null,null,null,null,null,null,null,null,null,null,null,null,null,null,null,0]
[null,null,null,null,null,null,null,null,null,null,null,null,null,null,null,"Vacant Positions",null,null,null,null,null,null,{"$f":"IF(OR($G$41=\"enabled\",$G$42=\"enabled\"),1,0)","v":0}]
[null,null,null,null,null,null,null,null,null,null,null,null,null,{"$f":"'CENTRAL DATA'!$H$12","v":"FY-2"},{"$f":"'CENTRAL DATA'!$H$13","v":"FY-1"},{"$f":"IF(PROFILE!$L$43=\"Fiscal Year WFP\",'CENTRAL DATA'!$H$14,IF(PROFILE!$L$43=\"Snapshot\",CONCATENATE(\"As of \",TEXT(PROFILE!$N$44,\"mm/dd/yy\"),\"\")))","v":false},null,null,null,null,null,null,{"$f":"IF(OR($G$41=\"enabled\",$G$42=\"enabled\"),1,0)","v":0}]
[null,null,null,null,null,null,null,null,null,null,null,null,null,null,null,null,null,null,null,null,null,null,0]
[null,null,null,null,null,null,null,null,null,null,null,null,"Total Number of Vacant Leader Positions at the End of the FY","",null,null,null,null,null,null,null,null,{"$f":"IF(OR($G$41=\"enabled\"),1,0)","v":0}]
[null,null,null,null,null,null,null,null,null,null,null,null,null,null,null,null,null,null,null,null,null,null,{"$f":"IF(OR($G$41=\"enabled\"),1,0)","v":0}]
[null,null,null,null,null,null,null,null,null,null,null,null,"Total Number of Vacant Executive Positions at the End of the FY","",null,null,null,null,null,null,null,null,{"$f":"IF(OR($G$42=\"enabled\"),1,0)","v":0}]
[null,null,null,null,null,null,null,null,null,null,null,null,null,null,null,null,null,null,null,null,null,null,0]
[null,null,null,null,null,null,null,null,null,null,null,null,null,null,null,"Average Time to Fill",null,null,null,null,null,null,{"$f":"IF(OR($G$45=\"enabled\",$G$46=\"enabled\"),1,0)","v":0}]
[null,null,null,null,null,null,null,null,null,null,null,null,null,{"$f":"'CENTRAL DATA'!$H$12","v":"FY-2"},{"$f":"'CENTRAL DATA'!$H$13","v":"FY-1"},{"$f":"IF(PROFILE!$L$43=\"Fiscal Year WFP\",'CENTRAL DATA'!$H$14,IF(PROFILE!$L$43=\"Snapshot\",CONCATENATE(\"As of \",TEXT(PROFILE!$N$44,\"mm/dd/yy\"),\"\")))","v":false},null,null,null,null,null,null,{"$f":"IF(OR($G$45=\"enabled\",$G$46=\"enabled\"),1,0)","v":0}]
[null,null,null,null,null,null,null,null,null,null,null,null,null,null,null,null,null,null,null,null,null,null,0]
[null,null,null,null,null,null,null,null,null,null,null,null,"Average Time to Fill for Leader Positions","",null,null,null,null,null,null,null,null,{"$f":"IF(OR($G$45=\"enabled\"),1,0)","v":0}]
[null,null,null,null,null,null,null,null,null,null,null,null,null,null,null,null,null,null,null,null,null,null,{"$f":"IF(OR($G$45=\"enabled\"),1,0)","v":0}]
[null,null,null,null,null,null,null,null,null,null,null,null,"Average Time to Fill for Executive Positions","",null,null,null,null,null,null,null,null,{"$f":"IF(OR($G$46=\"enabled\"),1,0)","v":0}]
[null,null,null,null,null,null,null,null,null,null,null,null,null,null,null,null,null,null,null,null,null,null,0]
[null,null,null,null,null,null,null,null,null,null,null,null,null,null,null,"Average Time to Fill By Quarter",null,null,null,null,null,null,{"$f":"IF(OR($G$49=\"enabled\",$G$50=\"enabled\",$G$51=\"enabled\"),1,0)","v":0}]
[null,null,null,null,null,null,null,null,null,null,null,null,null,null,null,null,null,null,null,null,null,null,{"$f":"IF(OR($G$49=\"enabled\",$G$50=\"enabled\",$G$51=\"enabled\"),1,0)","v":0}]
[null,null,null,null,"Quarter 1",null,null,"Quarter 2",null,null,"Quarter 3",null,null,"Quarter 4",null,null,null,null,null,null,null,null,0]
[null,null,null,null,{"$f":"'CENTRAL DATA'!$H$12","v":"FY-2"},{"$f":"'CENTRAL DATA'!$H$13","v":"FY-1"},{"$f":"IF(PROFILE!$L$43=\"Fiscal Year WFP\",'CENTRAL DATA'!$H$14,IF(PROFILE!$L$43=\"Snapshot\",CONCATENATE(\"As of \",TEXT(PROFILE!$N$44,\"mm/dd/yy\"),\"\")))","v":false},{"$f":"'CENTRAL DATA'!$H$12","v":"FY-2"},{"$f":"'CENTRAL DATA'!$H$13","v":"FY-1"},{"$f":"IF(PROFILE!$L$43=\"Fiscal Year WFP\",'CENTRAL DATA'!$H$14,IF(PROFILE!$L$43=\"Snapshot\",CONCATENATE(\"As of \",TEXT(PROFILE!$N$44,\"mm/dd/yy\"),\"\")))","v":false},{"$f":"'CENTRAL DATA'!$H$12","v":"FY-2"},{"$f":"'CENTRAL DATA'!$H$13","v":"FY-1"},{"$f":"IF(PROFILE!$L$43=\"Fiscal Year WFP\",'CENTRAL DATA'!$H$14,IF(PROFILE!$L$43=\"Snapshot\",CONCATENATE(\"As of \",TEXT(PROFILE!$N$44,\"mm/dd/yy\"),\"\")))","v":false},{"$f":"'CENTRAL DATA'!$H$12","v":"FY-2"},{"$f":"'CENTRAL DATA'!$H$13","v":"FY-1"},{"$f":"IF(PROFILE!$L$43=\"Fiscal Year WFP\",'CENTRAL DATA'!$H$14,IF(PROFILE!$L$43=\"Snapshot\",CONCATENATE(\"As of \",TEXT(PROFILE!$N$44,\"mm/dd/yy\"),\"\")))","v":false},null,null,null,null,null,null,0]
[null,null,null,null,null,null,null,null,null,null,null,null,null,null,null,null,null,null,null,null,null,null,0]
[null,null,null,"All Employees","",null,null,null,null,null,null,null,null,null,null,null,null,null,null,null,null,null,{"$f":"IF(OR($G$49=\"enabled\"),1,0)","v":0}]
[null,null,null,null,null,null,null,null,null,null,null,null,null,null,null,null,null,null,null,null,null,null,{"$f":"IF(OR($G$49=\"enabled\"),1,0)","v":0}]
[null,null,null,"Leaders","",null,null,null,null,null,null,null,null,null,null,null,null,null,null,null,null,null,{"$f":"IF(OR($G$50=\"enabled\"),1,0)","v":0}]
[null,null,null,null,null,null,null,null,null,null,null,null,null,null,null,null,null,null,null,null,null,null,{"$f":"IF(OR($G$50=\"enabled\"),1,0)","v":0}]
[null,null,null,"Executives","",null,null,null,null,null,null,null,null,null,null,null,null,null,null,null,null,null,{"$f":"IF(OR($G$51=\"enabled\"),1,0)","v":0}]
[null,null,null,null,null,null,null,null,null,null,null,null,null,null,null,null,null,null,null,null,null,null,{"$f":"IF(OR($G$51=\"enabled\"),1,0)","v":0}]
[null,null,null,null,null,null,null,null,null,null,null,null,null,null,null,null,null,null,null,null,null,null,0]
[null,null,null,null,null,null,null,null,null,null,null,null,null,null,null,null,null,null,null,null,null,null,{"$f":"IF(OR($K$29=\"enabled\",$K$30=\"enabled\",$K$33=\"enabled\",$K$34=\"enabled\",$K$37=\"enabled\",$K$38=\"enabled\",$K$41=\"enabled\",$K$42=\"enabled\",$K$43=\"enabled\"),1,0)","v":0}]
[null,"Step 4: Enter Retention and Engagement Information",null,null,null,null,null,null,null,null,null,null,null,null,null,null,null,null,null,null,null,null,{"$f":"IF(OR($K$29=\"enabled\",$K$30=\"enabled\",$K$33=\"enabled\",$K$34=\"enabled\",$K$37=\"enabled\",$K$38=\"enabled\",$K$41=\"enabled\",$K$42=\"enabled\",$K$43=\"enabled\"),1,0)","v":0}]
[null,null,null,null,null,null,null,null,null,null,null,null,null,null,null,null,null,null,null,null,null,null,0]
[null,"INSTRUCTIONS: Please enter the total number of  employees in the boxes below for the respective data fields related to retention and engagement, which include average years of service, internal promotions, internal transfers, external transfers, and voluntary separations for all employees, employees in their first five years, and employees in their first year. ",null,null,null,null,null,null,null,null,null,null,null,null,null,null,null,null,null,null,null,null,0]
[null,null,null,null,null,null,null,null,null,null,null,null,null,null,null,null,null,null,null,null,null,null,0]
[null,null,null,null,null,null,null,null,null,null,null,null,null,null,null,null,null,null,null,null,null,null,0]
[null,null,null,null,null,null,null,null,null,null,null,null,null,null,null,null,null,null,null,null,null,null,0]
[null,null,null,null,null,null,null,null,null,null,null,null,null,null,null,"All Employees",null,null,null,null,null,null,{"$f":"IF(OR($K$29=\"enabled\",$K$30=\"enabled\"),1,0)","v":0}]
[null,null,null,null,null,null,null,null,null,null,null,null,null,{"$f":"'CENTRAL DATA'!$H$12","v":"FY-2"},{"$f":"'CENTRAL DATA'!$H$13","v":"FY-1"},{"$f":"IF(PROFILE!$L$43=\"Fiscal Year WFP\",'CENTRAL DATA'!$H$14,IF(PROFILE!$L$43=\"Snapshot\",CONCATENATE(\"As of \",TEXT(PROFILE!$N$44,\"mm/dd/yy\"),\"\")))","v":false},null,null,null,null,null,null,{"$f":"IF(OR($K$29=\"enabled\",$K$30=\"enabled\"),1,0)","v":0}]
[null,null,null,null,null,null,null,null,null,null,null,null,null,null,null,null,null,null,null,null,null,null,0]
[null,null,null,null,null,null,null,null,null,null,null,null,"Average Years of Service for All Leaders","",null,null,null,null,null,null,null,null,{"$f":"IF(OR($K$29=\"enabled\"),1,0)","v":0}]
[null,null,null,null,null,null,null,null,null,null,null,null,"Total Internal Promotions for All Leaders","",null,null,null,null,null,null,null,null,{"$f":"IF(OR($K$29=\"enabled\"),1,0)","v":0}]
[null,null,null,null,null,null,null,null,null,null,null,null,"Total Internal Transfers for All Leaders","",null,null,null,null,null,null,null,null,0]
[null,null,null,null,null,null,null,null,null,null,null,null,"Total External Transfers for All Leaders","",null,null,null,null,null,null,null,null,0]
[null,null,null,null,null,null,null,null,null,null,null,null,"Total Voluntary Separations for All Leaders","",null,null,null,null,null,null,null,null,0]
[null,null,null,null,null,null,null,null,null,null,null,null,null,null,null,null,null,null,null,null,null,null,0]
[null,null,null,null,null,null,null,null,null,null,null,null,"Average Years of Service for All Executives","",null,null,null,null,null,null,null,null,{"$f":"IF(OR($K$30=\"enabled\"),1,0)","v":0}]
[null,null,null,null,null,null,null,null,null,null,null,null,"Total Internal Promotions for All Executives","",null,null,null,null,null,null,null,null,{"$f":"IF(OR($K$30=\"enabled\"),1,0)","v":0}]
[null,null,null,null,null,null,null,null,null,null,null,null,"Total Internal Transfers for All Executives","",null,null,null,null,null,null,null,null,0]
[null,null,null,null,null,null,null,null,null,null,null,null,"Total External Transfers for All Executives","",null,null,null,null,null,null,null,null,0]
[null,null,null,null,null,null,null,null,null,null,null,null,"Total Voluntary Separations for All Executives","",null,null,null,null,null,null,null,null,0]
[null,null,null,null,null,null,null,null,null,null,null,null,null,null,null,null,null,null,null,null,null,null,0]
[null,null,null,null,null,null,null,null,null,null,null,null,null,null,null,"Employees in their First Five Years",null,null,null,null,null,null,{"$f":"IF(OR($K$33=\"enabled\",$K$34=\"enabled\"),1,0)","v":0}]
[null,null,null,null,null,null,null,null,null,null,null,null,null,{"$f":"'CENTRAL DATA'!$H$12","v":"FY-2"},{"$f":"'CENTRAL DATA'!$H$13","v":"FY-1"},{"$f":"IF(PROFILE!$L$43=\"Fiscal Year WFP\",'CENTRAL DATA'!$H$14,IF(PROFILE!$L$43=\"Snapshot\",CONCATENATE(\"As of \",TEXT(PROFILE!$N$44,\"mm/dd/yy\"),\"\")))","v":false},null,null,null,null,null,null,{"$f":"IF(OR($K$33=\"enabled\",$K$34=\"enabled\"),1,0)","v":0}]
[null,null,null,null,null,null,null,null,null,null,null,null,null,null,null,null,null,null,null,null,null,null,0]
[null,null,null,null,null,null,null,null,null,null,null,null,"Average Years of Service of Leaders in their First 5 Years","",null,null,null,null,null,null,null,null,{"$f":"IF(OR($K$33=\"enabled\"),1,0)","v":0}]
[null,null,null,null,null,null,null,null,null,null,null,null,"Total Internal Promotions of Leaders in their First 5 Years","",null,null,null,null,null,null,null,null,{"$f":"IF(OR($K$33=\"enabled\"),1,0)","v":0}]
[null,null,null,null,null,null,null,null,null,null,null,null,"Total Internal Transfers of Leaders in their First 5 Years","",null,null,null,null,null,null,null,null,0]
[null,null,null,null,null,null,null,null,null,null,null,null,"Total External Transfers of Leaders in their First 5 Years","",null,null,null,null,null,null,null,null,0]
[null,null,null,null,null,null,null,null,null,null,null,null,"Total Voluntary Separations of Leaders in their First 5 Years","",null,null,null,null,null,null,null,null,0]
[null,null,null,null,null,null,null,null,null,null,null,null,null,null,null,null,null,null,null,null,null,null,0]
[null,null,null,null,null,null,null,null,null,null,null,null,"Average Years of Service of Executives in their First 5 Years","",null,null,null,null,null,null,null,null,{"$f":"IF(OR($K$34=\"enabled\"),1,0)","v":0}]
[null,null,null,null,null,null,null,null,null,null,null,null,"Total Internal Promotions of Executives in their First 5 Years","",null,null,null,null,null,null,null,null,{"$f":"IF(OR($K$34=\"enabled\"),1,0)","v":0}]
[null,null,null,null,null,null,null,null,null,null,null,null,"Total Internal Transfers of Executives in their First 5 Years","",null,null,null,null,null,null,null,null,0]
[null,null,null,null,null,null,null,null,null,null,null,null,"Total External Transfers of Executives in their First 5 Years","",null,null,null,null,null,null,null,null,0]
[null,null,null,null,null,null,null,null,null,null,null,null,"Total Voluntary Separations of Executives in their First 5 Years","",null,null,null,null,null,null,null,null,0]
[null,null,null,null,null,null,null,null,null,null,null,null,null,null,null,null,null,null,null,null,null,null,0]
[null,null,null,null,null,null,null,null,null,null,null,null,null,null,null,"Employees in their First Year",null,null,null,null,null,null,{"$f":"IF(OR($K$37=\"enabled\",$K$38=\"enabled\"),1,0)","v":0}]
[null,null,null,null,null,null,null,null,null,null,null,null,null,{"$f":"'CENTRAL DATA'!$H$12","v":"FY-2"},{"$f":"'CENTRAL DATA'!$H$13","v":"FY-1"},{"$f":"IF(PROFILE!$L$43=\"Fiscal Year WFP\",'CENTRAL DATA'!$H$14,IF(PROFILE!$L$43=\"Snapshot\",CONCATENATE(\"As of \",TEXT(PROFILE!$N$44,\"mm/dd/yy\"),\"\")))","v":false},null,null,null,null,null,null,{"$f":"IF(OR($K$37=\"enabled\",$K$38=\"enabled\"),1,0)","v":0}]
[null,null,null,null,null,null,null,null,null,null,null,null,null,null,null,null,null,null,null,null,null,null,0]
[null,null,null,null,null,null,null,null,null,null,null,null,"Average Years of Service of Leaders in their First Year","",null,null,null,null,null,null,null,null,{"$f":"IF(OR($K$37=\"enabled\"),1,0)","v":0}]
[null,null,null,null,null,null,null,null,null,null,null,null,"Total Internal Promotions of Leaders in their First Year","",null,null,null,null,null,null,null,null,{"$f":"IF(OR($K$37=\"enabled\"),1,0)","v":0}]
[null,null,null,null,null,null,null,null,null,null,null,null,"Total Internal Transfers of Leaders in their First Year","",null,null,null,null,null,null,null,null,0]
[null,null,null,null,null,null,null,null,null,null,null,null,"Total External Transfers of Leaders in their First Year","",null,null,null,null,null,null,null,null,0]
[null,null,null,null,null,null,null,null,null,null,null,null,"Total Voluntary Separations of Leaders in their First Year","",null,null,null,null,null,null,null,null,0]
[null,null,null,null,null,null,null,null,null,null,null,null,null,null,null,null,null,null,null,null,null,null,0]
[null,null,null,null,null,null,null,null,null,null,null,null,"Average Years of Service of Executives in their First Year","",null,null,null,null,null,null,null,null,{"$f":"IF(OR($K$38=\"enabled\"),1,0)","v":0}]
[null,null,null,null,null,null,null,null,null,null,null,null,"Total Internal Promotions of Executives in their First Year","",null,null,null,null,null,null,null,null,{"$f":"IF(OR($K$38=\"enabled\"),1,0)","v":0}]
[null,null,null,null,null,null,null,null,null,null,null,null,"Total Internal Transfers of Executives in their First Year","",null,null,null,null,null,null,null,null,0]
[null,null,null,null,null,null,null,null,null,null,null,null,"Total External Transfers of Executives in their First Year","",null,null,null,null,null,null,null,null,0]
[null,null,null,null,null,null,null,null,null,null,null,null,"Total Voluntary Separations of Executives in their First Year","",null,null,null,null,null,null,null,null,0]
[null,null,null,null,null,null,null,null,null,null,null,null,null,null,null,null,null,null,null,null,null,null,0]
[null,null,null,null,null,null,null,null,null,null,null,null,null,null,null,null,null,null,null,null,null,null,{"$f":"IF(OR($K$41=\"enabled\"),1,0)","v":0}]
[null,"Enter Survey Information",null,null,null,null,null,null,null,null,null,null,null,null,null,null,null,null,null,null,null,null,{"$f":"IF(OR($K$41=\"enabled\"),1,0)","v":0}]
[null,null,null,null,null,null,null,null,null,null,null,null,null,null,null,null,null,null,null,null,null,null,0]
[null,"INSTRUCTIONS: Please enter the information regarding the Commonwealth of Virginia Exit Survey or an Agency survey. Though the agency survey fields may not be a direct match to the original survey design, Agencies can try to match the fields to the best of their ability. For assistance, please contact DHRM workforce planning. ",null,null,null,null,null,null,null,null,null,null,null,null,null,null,null,null,null,null,null,null,0]
[null,null,null,null,null,null,null,null,null,null,null,null,null,null,null,null,null,null,null,null,null,null,0]
[null,null,null,null,null,null,null,null,null,null,null,null,null,null,null,null,null,null,null,null,null,null,0]
[null,null,null,null,null,null,null,null,null,null,null,null,null,null,null,null,null,null,null,null,null,null,0]
[null,null,null,null,null,null,null,null,null,null,null,null,null,null,null,"Commonwealth of Virginia Exit Survey Measurement Details",null,null,null,null,null,null,0]
[null,null,null,null,null,null,null,null,null,null,null,null,null,null,null,null,null,null,null,null,null,null,0]
[null,null,null,null,null,null,null,null,"Job Experience % Favorable",null,null,null,null,null,null,"Reason for Leaving % Highly Influenced",null,null,null,null,null,null,0]
[null,null,null,null,null,null,{"$f":"'CENTRAL DATA'!$H$12","v":"FY-2"},{"$f":"'CENTRAL DATA'!$H$13","v":"FY-1"},{"$f":"IF(PROFILE!$L$43=\"Fiscal Year WFP\",'CENTRAL DATA'!$H$14,IF(PROFILE!$L$43=\"Snapshot\",CONCATENATE(\"As of \",TEXT(PROFILE!$N$44,\"mm/dd/yy\"),\"\")))","v":false},null,null,null,null,{"$f":"'CENTRAL DATA'!$H$12","v":"FY-2"},{"$f":"'CENTRAL DATA'!$H$13","v":"FY-1"},{"$f":"IF(PROFILE!$L$43=\"Fiscal Year WFP\",'CENTRAL DATA'!$H$14,IF(PROFILE!$L$43=\"Snapshot\",CONCATENATE(\"As of \",TEXT(PROFILE!$N$44,\"mm/dd/yy\"),\"\")))","v":false},null,null,null,null,null,null,0]
[null,null,null,null,null,null,null,null,null,null,null,null,null,null,null,null,null,null,null,null,null,null,0]
[null,null,null,null,null,"Management & Leadership","",null,null,null,null,null,"Management & Leadership","",null,null,null,null,null,null,null,null,0]
[null,null,null,null,null,"Growth Opportunities","",null,null,null,null,null,"Growth Opportunities","",null,null,null,null,null,null,null,null,0]
[null,null,null,null,null,"Person / Work Fit","",null,null,null,null,null,"Person / Work Fit","",null,null,null,null,null,null,null,null,0]
[null,null,null,null,null,"Work Environment","",null,null,null,null,null,"Work Environment","",null,null,null,null,null,null,null,null,0]
[null,null,null,null,null,"Rewards","",null,null,null,null,null,"Rewards","",null,null,null,null,null,null,null,null,0]
[null,null,null,null,null,"Meaningful Work","",null,null,null,null,null,null,null,null,null,null,null,null,null,null,null,0]
[null,null,null,null,null,null,null,null,null,null,null,null,null,null,null,null,null,null,null,null,null,null,0]
[null,null,null,null,null,null,null,null,null,null,null,null,null,null,null,"Agency Exit and Engagement Survey Details",null,null,null,null,null,null,0]
[null,null,null,null,null,null,null,null,null,null,null,null,null,null,null,null,null,null,null,null,null,null,0]
[null,null,null,null,null,null,null,null,null,null,null,null,"Exit Survey Name",null,null,null,null,null,null,null,null,null,0]
[null,null,null,null,null,null,null,null,null,null,null,null,"Engagement Survey Name",null,null,null,null,null,null,null,null,null,0]
[null,null,null,null,null,null,null,null,null,null,null,null,null,{"$f":"'CENTRAL DATA'!$H$12","v":"FY-2"},{"$f":"'CENTRAL DATA'!$H$13","v":"FY-1"},{"$f":"IF(PROFILE!$L$43=\"Fiscal Year WFP\",'CENTRAL DATA'!$H$14,IF(PROFILE!$L$43=\"Snapshot\",CONCATENATE(\"As of \",TEXT(PROFILE!$N$44,\"mm/dd/yy\"),\"\")))","v":false},null,null,null,null,null,null,0]
[null,null,null,null,null,null,null,null,null,null,null,null,null,null,null,null,null,null,null,null,null,null,0]
[null,null,null,null,null,null,null,null,null,null,null,null,{"$f":"CONCATENATE(N218,\" Survey Participants\")","v":" Survey Participants"},"",null,null,null,null,null,null,null,null,0]
[null,null,null,null,null,null,null,null,null,null,null,null,{"$f":"CONCATENATE(N219,\" Survey Participants\")","v":" Survey Participants"},"",null,null,null,null,null,null,null,null,0]
[null,null,null,null,null,null,null,null,null,null,null,null,null,{"$f":"'CENTRAL DATA'!$H$12","v":"FY-2"},{"$f":"'CENTRAL DATA'!$H$13","v":"FY-1"},{"$f":"IF(PROFILE!$L$43=\"Fiscal Year WFP\",'CENTRAL DATA'!$H$14,IF(PROFILE!$L$43=\"Snapshot\",CONCATENATE(\"As of \",TEXT(PROFILE!$N$44,\"mm/dd/yy\"),\"\")))","v":false},null,null,null,null,null,null,0]
[null,null,null,null,null,null,null,null,null,null,null,null,null,null,null,null,null,null,null,null,null,null,0]
[null,null,null,null,null,null,null,null,null,null,null,null,{"$f":"CONCATENATE(N218,\" Survey Overall Score\")","v":" Survey Overall Score"},"",null,null,null,null,null,null,null,null,0]
[null,null,null,null,null,null,null,null,null,null,null,null,{"$f":"CONCATENATE(N219,\" Survey Overall Score\")","v":" Survey Overall Score"},"",null,null,null,null,null,null,null,null,0]
[null,null,null,null,null,null,null,null,null,null,null,null,null,{"$f":"'CENTRAL DATA'!$H$12","v":"FY-2"},{"$f":"'CENTRAL DATA'!$H$13","v":"FY-1"},{"$f":"IF(PROFILE!$L$43=\"Fiscal Year WFP\",'CENTRAL DATA'!$H$14,IF(PROFILE!$L$43=\"Snapshot\",CONCATENATE(\"As of \",TEXT(PROFILE!$N$44,\"mm/dd/yy\"),\"\")))","v":false},null,null,null,null,null,null,0]
[null,null,null,null,null,null,null,null,null,null,"Exit Survey Category",null,null,null,null,null,null,null,null,null,null,null,0]
[null,null,null,null,null,null,null,null,null,null,null,null,null,"",null,null,null,null,null,null,null,null,0]
[null,null,null,null,null,null,null,null,null,null,null,null,null,"",null,null,null,null,null,null,null,null,0]
[null,null,null,null,null,null,null,null,null,null,null,null,null,"",null,null,null,null,null,null,null,null,0]
[null,null,null,null,null,null,null,null,null,null,null,null,null,"",null,null,null,null,null,null,null,null,0]
[null,null,null,null,null,null,null,null,null,null,null,null,null,"",null,null,null,null,null,null,null,null,0]
[null,null,null,null,null,null,null,null,null,null,null,null,null,"",null,null,null,null,null,null,null,null,0]
[null,null,null,null,null,null,null,null,null,null,null,null,null,"",null,null,null,null,null,null,null,null,0]
[null,null,null,null,null,null,null,null,null,null,null,null,null,"",null,null,null,null,null,null,null,null,0]
[null,null,null,null,null,null,null,null,null,null,null,null,null,"",null,null,null,null,null,null,null,null,0]
[null,null,null,null,null,null,null,null,null,null,null,null,null,"",null,null,null,null,null,null,null,null,0]
[null,null,null,null,null,null,null,null,null,null,null,null,null,{"$f":"'CENTRAL DATA'!$H$12","v":"FY-2"},{"$f":"'CENTRAL DATA'!$H$13","v":"FY-1"},{"$f":"IF(PROFILE!$L$43=\"Fiscal Year WFP\",'CENTRAL DATA'!$H$14,IF(PROFILE!$L$43=\"Snapshot\",CONCATENATE(\"As of \",TEXT(PROFILE!$N$44,\"mm/dd/yy\"),\"\")))","v":false},null,null,null,null,null,null,0]
[null,null,null,null,null,null,null,null,null,null,"Engagement Survey Category",null,null,null,null,null,null,null,null,null,null,null,0]
[null,null,null,null,null,null,null,null,null,null,null,null,null,"",null,null,null,null,null,null,null,null,0]
[null,null,null,null,null,null,null,null,null,null,null,null,null,"",null,null,null,null,null,null,null,null,0]
[null,null,null,null,null,null,null,null,null,null,null,null,null,"",null,null,null,null,null,null,null,null,0]
[null,null,null,null,null,null,null,null,null,null,null,null,null,"",null,null,null,null,null,null,null,null,0]
[null,null,null,null,null,null,null,null,null,null,null,null,null,"",null,null,null,null,null,null,null,null,0]
[null,null,null,null,null,null,null,null,null,null,null,null,null,"",null,null,null,null,null,null,null,null,0]
[null,null,null,null,null,null,null,null,null,null,null,null,null,"",null,null,null,null,null,null,null,null,0]
[null,null,null,null,null,null,null,null,null,null,null,null,null,"",null,null,null,null,null,null,null,null,0]
[null,null,null,null,null,null,null,null,null,null,null,null,null,"",null,null,null,null,null,null,null,null,0]
[null,null,null,null,null,null,null,null,null,null,null,null,null,"",null,null,null,null,null,null,null,null,0]
[null,null,null,null,null,null,null,null,null,null,null,null,null,null,null,null,null,null,null,null,null,null,0]
[null,null,null,null,null,null,null,null,null,null,null,null,null,null,null,null,null,null,null,null,null,null,0]
[null,null,null,null,null,null,null,null,null,null,null,null,null,null,null,null,null,null,null,null,null,null,{"$f":"IF(OR($K$42=\"enabled\"),1,0)","v":0}]
[null,"Enter Engagement Events Information",null,null,null,null,null,null,null,null,null,null,null,null,null,null,null,null,null,null,null,null,{"$f":"IF(OR($K$42=\"enabled\"),1,0)","v":0}]
[null,null,null,null,null,null,null,null,null,null,null,null,null,null,null,null,null,null,null,null,null,null,0]
[null,"INSTRUCTIONS: Please enter any events hosted by the agency to promote employee engagement (such as social events, recognition events, thank you events, etc.). Please enter the name, a very brief description or purpose of the event, the date the event was held and the number of individuals who attended int he boxes below. Up to 15 events can be added.",null,null,null,null,null,null,null,null,null,null,null,null,null,null,null,null,null,null,null,null,0]
[null,null,null,null,null,null,null,null,null,null,null,null,null,null,null,null,null,null,null,null,null,null,0]
[null,null,null,null,null,null,null,null,null,null,null,null,null,null,null,null,null,null,null,null,null,null,0]
[null,null,null,null,null,null,null,null,null,null,null,null,null,null,null,null,null,null,null,null,null,null,0]
[null,"Event Name",null,null,"Event Description/Purpose (Very Brief)",null,null,null,null,null,null,"Date Held",null,null,"Attendance",null,null,null,null,null,null,null,0]
[null,null,null,null,null,null,null,null,null,null,null,null,null,null,null,null,null,null,null,null,null,null,0]
[null,null,null,null,null,null,null,null,null,null,null,null,null,null,null,null,null,null,null,null,null,null,0]
[null,null,null,null,null,null,null,null,null,null,null,null,null,null,null,null,null,null,null,null,null,null,0]
[null,null,null,null,null,null,null,null,null,null,null,null,null,null,null,null,null,null,null,null,null,null,0]
[null,null,null,null,null,null,null,null,null,null,null,null,null,null,null,null,null,null,null,null,null,null,0]
[null,null,null,null,null,null,null,null,null,null,null,null,null,null,null,null,null,null,null,null,null,null,0]
[null,null,null,null,null,null,null,null,null,null,null,null,null,null,null,null,null,null,null,null,null,null,0]
[null,null,null,null,null,null,null,null,null,null,null,null,null,null,null,null,null,null,null,null,null,null,0]
[null,null,null,null,null,null,null,null,null,null,null,null,null,null,null,null,null,null,null,null,null,null,0]
[null,null,null,null,null,null,null,null,null,null,null,null,null,null,null,null,null,null,null,null,null,null,0]
[null,null,null,null,null,null,null,null,null,null,null,null,null,null,null,null,null,null,null,null,null,null,0]
[null,null,null,null,null,null,null,null,null,null,null,null,null,null,null,null,null,null,null,null,null,null,0]
[null,null,null,null,null,null,null,null,null,null,null,null,null,null,null,null,null,null,null,null,null,null,0]
[null,null,null,null,null,null,null,null,null,null,null,null,null,null,null,null,null,null,null,null,null,null,0]
[null,null,null,null,null,null,null,null,null,null,null,null,null,null,null,null,null,null,null,null,null,null,0]
[null,null,null,null,null,null,null,null,null,null,null,null,null,null,null,null,null,null,null,null,null,null,0]
[null,null,null,null,null,null,null,null,null,null,null,null,null,null,null,null,null,null,null,null,null,null,0]
[null,null,null,null,null,null,null,null,null,null,null,null,null,null,null,null,null,null,null,null,null,null,{"$f":"IF(OR($K$43=\"enabled\"),1,0)","v":0}]
[null,"Enter Employee Recognition Information",null,null,null,null,null,null,null,null,null,null,null,null,null,null,null,null,null,null,null,null,{"$f":"IF(OR($K$43=\"enabled\"),1,0)","v":0}]
[null,null,null,null,null,null,null,null,null,null,null,null,null,null,null,null,null,null,null,null,null,null,0]
[null,"INSTRUCTIONS: Please enter any types of recognition used at the agency during the reporting time period. Please enter the recognition type from the dropdown menu, enter a brief name if other, a very brief description of the recognition or award and the number of individuals who have been recognized with the award in the boxes below. Up to 20 recognition items can be added.",null,null,null,null,null,null,null,null,null,null,null,null,null,null,null,null,null,null,null,null,0]
[null,null,null,null,null,null,null,null,null,null,null,null,null,null,null,null,null,null,null,null,null,null,0]
[null,null,null,null,null,null,null,null,null,null,null,null,null,null,null,null,null,null,null,null,null,null,0]
[null,null,null,null,null,null,null,null,null,null,null,null,null,null,null,null,null,null,null,null,null,null,0]
[null,null,null,null,null,null,null,null,null,null,null,null,null,null,null,null,null,null,null,null,null,null,0]
[null,"Recognition Type",null,null,"If Other, Enter Type/Name",null,null,"Brief Description of Recognition / Award",null,null,null,null,null,null,"Number Recognized",null,null,null,null,null,null,null,0]
[null,null,null,null,null,null,null,null,null,null,null,null,null,null,null,null,null,null,null,null,null,null,0]
[null,null,null,null,null,null,null,null,null,null,null,null,null,null,null,null,null,null,null,null,null,null,0]
[null,null,null,null,null,null,null,null,null,null,null,null,null,null,null,null,null,null,null,null,null,null,0]
[null,null,null,null,null,null,null,null,null,null,null,null,null,null,null,null,null,null,null,null,null,null,0]
[null,null,null,null,null,null,null,null,null,null,null,null,null,null,null,null,null,null,null,null,null,null,0]
[null,null,null,null,null,null,null,null,null,null,null,null,null,null,null,null,null,null,null,null,null,null,0]
[null,null,null,null,null,null,null,null,null,null,null,null,null,null,null,null,null,null,null,null,null,null,0]
[null,null,null,null,null,null,null,null,null,null,null,null,null,null,null,null,null,null,null,null,null,null,0]
[null,null,null,null,null,null,null,null,null,null,null,null,null,null,null,null,null,null,null,null,null,null,0]
[null,null,null,null,null,null,null,null,null,null,null,null,null,null,null,null,null,null,null,null,null,null,0]
[null,null,null,null,null,null,null,null,null,null,null,null,null,null,null,null,null,null,null,null,null,null,0]
[null,null,null,null,null,null,null,null,null,null,null,null,null,null,null,null,null,null,null,null,null,null,0]
[null,null,null,null,null,null,null,null,null,null,null,null,null,null,null,null,null,null,null,null,null,null,0]
[null,null,null,null,null,null,null,null,null,null,null,null,null,null,null,null,null,null,null,null,null,null,0]
[null,null,null,null,null,null,null,null,null,null,null,null,null,null,null,null,null,null,null,null,null,null,0]
[null,null,null,null,null,null,null,null,null,null,null,null,null,null,null,null,null,null,null,null,null,null,0]
[null,null,null,null,null,null,null,null,null,null,null,null,null,null,null,null,null,null,null,null,null,null,0]
[null,null,null,null,null,null,null,null,null,null,null,null,null,null,null,null,null,null,null,null,null,null,0]
[null,null,null,null,null,null,null,null,null,null,null,null,null,null,null,null,null,null,null,null,null,null,0]
[null,null,null,null,null,null,null,null,null,null,null,null,null,null,null,null,null,null,null,null,null,null,0]
[null,null,null,null,null,null,null,null,null,null,null,null,null,null,null,null,null,null,null,null,null,null,0]
[null,null,null,null,null,null,null,null,null,null,null,null,null,null,null,null,null,null,null,null,null,null,0]
[null,null,null,null,null,null,null,null,null,null,null,null,null,null,null,null,null,null,null,null,null,null,{"$f":"IF(OR($O$29=\"enabled\",$O$30=\"enabled\",$O$33=\"enabled\",$O$34=\"enabled\",$O$37=\"enabled\",$O$38=\"enabled\"),1,0)","v":0}]
[null,"Step 5: Enter Workforce Development Information",null,null,null,null,null,null,null,null,null,null,null,null,null,null,null,null,null,null,null,null,{"$f":"IF(OR($O$29=\"enabled\",$O$30=\"enabled\",$O$33=\"enabled\",$O$34=\"enabled\",$O$37=\"enabled\",$O$38=\"enabled\"),1,0)","v":0}]
[null,null,null,null,null,null,null,null,null,null,null,null,null,null,null,null,null,null,null,null,null,null,{"$f":"IF(OR($O$29=\"enabled\",$O$30=\"enabled\",$O$33=\"enabled\",$O$34=\"enabled\",$O$37=\"enabled\",$O$38=\"enabled\"),1,0)","v":0}]
[null,"INSTRUCTIONS: Please enter the total number of employees in the boxes below for the respective data fields related to workforce development, to include internships, internal workforce development, and external development. Development initiatives are defined as those for career/professional development and should NOT  include any mandatory or required training.",null,null,null,null,null,null,null,null,null,null,null,null,null,null,null,null,null,null,null,null,0]
[null,null,null,null,null,null,null,null,null,null,null,null,null,null,null,null,null,null,null,null,null,null,0]
[null,null,null,null,null,null,null,null,null,null,null,null,null,null,null,null,null,null,null,null,null,null,0]
[null,null,null,null,null,null,null,null,null,null,null,null,null,null,null,null,null,null,null,null,null,null,0]
[null,null,null,null,null,null,null,null,null,null,null,null,null,null,null,null,null,null,null,null,null,null,0]
[null,null,null,null,null,null,null,null,null,null,null,null,null,null,null,"Agency Internal Workforce Development",null,null,null,null,null,null,{"$f":"IF(OR($O$29=\"enabled\",$O$30=\"enabled\"),1,0)","v":0}]
[null,null,null,null,null,null,null,null,null,null,null,null,null,{"$f":"'CENTRAL DATA'!$H$12","v":"FY-2"},{"$f":"'CENTRAL DATA'!$H$13","v":"FY-1"},{"$f":"IF(PROFILE!$L$43=\"Fiscal Year WFP\",'CENTRAL DATA'!$H$14,IF(PROFILE!$L$43=\"Snapshot\",CONCATENATE(\"As of \",TEXT(PROFILE!$N$44,\"mm/dd/yy\"),\"\")))","v":false},null,null,null,null,null,null,{"$f":"IF(OR($O$29=\"enabled\",$O$30=\"enabled\"),1,0)","v":0}]
[null,null,null,null,null,null,null,null,null,null,null,null,null,null,null,null,null,null,null,null,null,null,{"$f":"IF(OR($O$29=\"enabled\",$O$30=\"enabled\"),1,0)","v":0}]
[null,null,null,null,null,null,null,null,null,null,null,null,"Total Internal Development Initiatives for Leaders (Agency Conducted or Hosted)","",null,null,null,null,null,null,null,null,{"$f":"IF(OR($O$29=\"enabled\"),1,0)","v":0}]
[null,null,null,null,null,null,null,null,null,null,null,null,"Total Number of Leaders who Participated in Internal Development for Leaders","",null,null,null,null,null,null,null,null,{"$f":"IF(OR($O$29=\"enabled\"),1,0)","v":0}]
[null,null,null,null,null,null,null,null,null,null,null,null,"Total Number of Leaders who Participated any Internal Development (Not just for Leaders)","",null,null,null,null,null,null,null,null,0]
[null,null,null,null,null,null,null,null,null,null,null,null,null,null,null,null,null,null,null,null,null,null,0]
[null,null,null,null,null,null,null,null,null,null,null,null,"Total Internal Development Initiatives for Executives (Agency Conducted or Hosted)","",null,null,null,null,null,null,null,null,{"$f":"IF(OR($O$30=\"enabled\"),1,0)","v":0}]
[null,null,null,null,null,null,null,null,null,null,null,null,"Total Number of Leaders who Participated in Internal Development for Executives","",null,null,null,null,null,null,null,null,{"$f":"IF(OR($O$30=\"enabled\"),1,0)","v":0}]
[null,null,null,null,null,null,null,null,null,null,null,null,"Total Number of Leaders who Participated any Internal Development (Not just for Executives)","",null,null,null,null,null,null,null,null,0]
[null,null,null,null,null,null,null,null,null,null,null,null,null,null,null,null,null,null,null,null,null,null,{"$f":"IF(OR($O$29=\"enabled\",$O$30=\"enabled\"),1,0)","v":0}]
[null,null,null,null,null,null,null,null,null,null,null,null,null,null,null,"External Workforce Development",null,null,null,null,null,null,{"$f":"IF(OR($O$33=\"enabled\",$O$34=\"enabled\"),1,0)","v":0}]
[null,null,null,null,null,null,null,null,null,null,null,null,null,{"$f":"'CENTRAL DATA'!$H$12","v":"FY-2"},{"$f":"'CENTRAL DATA'!$H$13","v":"FY-1"},{"$f":"IF(PROFILE!$L$43=\"Fiscal Year WFP\",'CENTRAL DATA'!$H$14,IF(PROFILE!$L$43=\"Snapshot\",CONCATENATE(\"As of \",TEXT(PROFILE!$N$44,\"mm/dd/yy\"),\"\")))","v":false},null,null,null,null,null,null,{"$f":"IF(OR($O$33=\"enabled\",$O$34=\"enabled\"),1,0)","v":0}]
[null,null,null,null,null,null,null,null,null,null,null,null,null,null,null,null,null,null,null,null,null,null,{"$f":"IF(OR($O$33=\"enabled\",$O$34=\"enabled\"),1,0)","v":0}]
[null,null,null,null,null,null,null,null,null,null,null,null,"Total Internal Development Initiatives for Leaders (External or Offsite)","",null,null,null,null,null,null,null,null,{"$f":"IF(OR($O$33=\"enabled\"),1,0)","v":0}]
[null,null,null,null,null,null,null,null,null,null,null,null,"Total Number of Leaders who Participated in External Development for Leaders","",null,null,null,null,null,null,null,null,{"$f":"IF(OR($O$33=\"enabled\"),1,0)","v":0}]
[null,null,null,null,null,null,null,null,null,null,null,null,"Total Number of Leaders who Participated any External Development (Not just for Leaders)","",null,null,null,null,null,null,null,null,0]
[null,null,null,null,null,null,null,null,null,null,null,null,null,null,null,null,null,null,null,null,null,null,0]
[null,null,null,null,null,null,null,null,null,null,null,null,"Total Internal Development Initiatives for Executives (External or Offsite)","",null,null,null,null,null,null,null,null,{"$f":"IF(OR($O$34=\"enabled\"),1,0)","v":0}]
[null,null,null,null,null,null,null,null,null,null,null,null,"Total Number of Leaders who Participated in External Development for Executives","",null,null,null,null,null,null,null,null,{"$f":"IF(OR($O$34=\"enabled\"),1,0)","v":0}]
[null,null,null,null,null,null,null,null,null,null,null,null,"Total Number of Leaders who Participated any External Development (Not just for Executives)","",null,null,null,null,null,null,null,null,0]
[null,null,null,null,null,null,null,null,null,null,null,null,null,null,null,null,null,null,null,null,null,null,{"$f":"IF(OR($O$33=\"enabled\",$O$34=\"enabled\"),1,0)","v":0}]
[null,null,null,null,null,null,null,null,null,null,null,null,null,null,null,null,null,null,null,null,null,null,{"$f":"IF(OR($O$37=\"enabled\"),1,0)","v":0}]
[null,null,null,null,null,null,null,null,null,null,null,null,null,null,null,null,null,null,null,null,null,null,0]
[null,"Enter Employee Development Details",null,null,null,null,null,null,null,null,null,null,null,null,null,null,null,null,null,null,null,null,0]
[null,null,null,null,null,null,null,null,null,null,null,null,null,null,null,null,null,null,null,null,null,null,0]
[null,"INSTRUCTIONS: Please enter the details of any development opportunities from the reporting time period, to include the name, internal or external to the agency, delivery method, target audience, participants, key learnings, and potential or observed impacts by clicking the blue \"Add Development Item\" button. Development initiatives are defined as those for career/professional development and should NOT  include any mandatory or required training.",null,null,null,null,null,null,null,null,null,null,null,null,null,null,null,null,null,null,null,null,0]
[null,null,null,null,null,null,null,null,null,null,null,null,null,null,null,null,null,null,null,null,null,null,0]
[null,null,null,null,null,null,null,null,null,null,null,null,null,null,null,null,null,null,null,null,null,null,0]
[null,null,null,null,null,null,null,null,null,null,null,null,null,null,null,null,null,null,null,null,null,null,0]
[null,null,null,null,null,null,null,null,null,null,null,null,null,null,null,"Development Item 1",null,null,null,null,null,null,{"$f":"IF('CENTRAL ANALYSIS'!$J$19>=1,1,0)","v":0}]
[null,null,null,null,null,null,null,null,null,null,null,null,null,null,null,null,null,null,null,null,null,null,{"$f":"IF('CENTRAL ANALYSIS'!$J$19>=1,1,0)","v":0}]
[null,null,null,null,null,null,null,null,null,null,"Development Item Name",null,null,null,null,null,null,null,null,null,null,null,{"$f":"IF('CENTRAL ANALYSIS'!$J$19>=1,1,0)","v":0}]
[null,null,null,null,null,null,null,null,null,null,null,null,"Internal or External to the Agency",null,null,null,null,null,null,null,null,null,{"$f":"IF('CENTRAL ANALYSIS'!$J$19>=1,1,0)","v":0}]
[null,null,null,null,null,null,null,null,null,null,null,null,"Delivery Method",null,null,null,null,null,null,null,null,null,{"$f":"IF('CENTRAL ANALYSIS'!$J$19>=1,1,0)","v":0}]
[null,null,null,null,null,null,null,null,null,null,null,null,"Target Audience",null,null,null,null,null,null,null,null,null,{"$f":"IF('CENTRAL ANALYSIS'!$J$19>=1,1,0)","v":0}]
[null,null,null,null,null,null,null,null,null,null,null,null,null,null,"Total Number of Participants",null,null,null,null,null,null,null,{"$f":"IF('CENTRAL ANALYSIS'!$J$19>=1,1,0)","v":0}]
[null,null,null,null,null,"Purpose or Key Learning from Development Item",null,null,null,null,null,null,null,null,null,null,null,null,null,null,null,null,{"$f":"IF('CENTRAL ANALYSIS'!$J$19>=1,1,0)","v":0}]
[null,null,null,null,null,null,null,null,null,null,null,null,null,null,null,null,null,null,null,null,null,null,{"$f":"IF('CENTRAL ANALYSIS'!$J$19>=1,1,0)","v":0}]
[null,null,null,null,null,null,null,null,null,null,null,null,null,null,null,null,null,null,null,null,null,null,{"$f":"IF('CENTRAL ANALYSIS'!$J$19>=1,1,0)","v":0}]
[null,null,null,null,null,null,null,null,null,null,null,null,null,null,null,null,null,null,null,null,null,null,{"$f":"IF('CENTRAL ANALYSIS'!$J$19>=1,1,0)","v":0}]
[null,null,null,null,null,"Potential or Observed Impacts from Development Item",null,null,null,null,null,null,null,null,null,null,null,null,null,null,null,null,{"$f":"IF('CENTRAL ANALYSIS'!$J$19>=1,1,0)","v":0}]
[null,null,null,null,null,null,null,null,null,null,null,null,null,null,null,null,null,null,null,null,null,null,{"$f":"IF('CENTRAL ANALYSIS'!$J$19>=1,1,0)","v":0}]
[null,null,null,null,null,null,null,null,null,null,null,null,null,null,null,null,null,null,null,null,null,null,{"$f":"IF('CENTRAL ANALYSIS'!$J$19>=1,1,0)","v":0}]
[null,null,null,null,null,null,null,null,null,null,null,null,null,null,null,null,null,null,null,null,null,null,{"$f":"IF('CENTRAL ANALYSIS'!$J$19>=1,1,0)","v":0}]
[null,null,null,null,null,null,null,null,null,null,null,null,null,null,null,null,null,null,null,null,null,null,{"$f":"IF('CENTRAL ANALYSIS'!$J$19>=1,1,0)","v":0}]
[null,null,null,null,null,null,null,null,null,null,null,null,null,null,null,"Development Item 2",null,null,null,null,null,null,{"$f":"IF('CENTRAL ANALYSIS'!$J$19>=2,1,0)","v":0}]
[null,null,null,null,null,null,null,null,null,null,null,null,null,null,null,null,null,null,null,null,null,null,{"$f":"IF('CENTRAL ANALYSIS'!$J$19>=2,1,0)","v":0}]
[null,null,null,null,null,null,null,null,null,null,"Development Item Name",null,null,null,null,null,null,null,null,null,null,null,{"$f":"IF('CENTRAL ANALYSIS'!$J$19>=2,1,0)","v":0}]
[null,null,null,null,null,null,null,null,null,null,null,null,"Internal or External to the Agency",null,null,null,null,null,null,null,null,null,{"$f":"IF('CENTRAL ANALYSIS'!$J$19>=2,1,0)","v":0}]
[null,null,null,null,null,null,null,null,null,null,null,null,"Delivery Method",null,null,null,null,null,null,null,null,null,{"$f":"IF('CENTRAL ANALYSIS'!$J$19>=2,1,0)","v":0}]
[null,null,null,null,null,null,null,null,null,null,null,null,"Target Audience",null,null,null,null,null,null,null,null,null,{"$f":"IF('CENTRAL ANALYSIS'!$J$19>=2,1,0)","v":0}]
[null,null,null,null,null,null,null,null,null,null,null,null,null,null,"Total Number of Participants",null,null,null,null,null,null,null,{"$f":"IF('CENTRAL ANALYSIS'!$J$19>=2,1,0)","v":0}]
[null,null,null,null,null,"Purpose or Key Learning from Development Item",null,null,null,null,null,null,null,null,null,null,null,null,null,null,null,null,{"$f":"IF('CENTRAL ANALYSIS'!$J$19>=2,1,0)","v":0}]
[null,null,null,null,null,null,null,null,null,null,null,null,null,null,null,null,null,null,null,null,null,null,{"$f":"IF('CENTRAL ANALYSIS'!$J$19>=2,1,0)","v":0}]
[null,null,null,null,null,null,null,null,null,null,null,null,null,null,null,null,null,null,null,null,null,null,{"$f":"IF('CENTRAL ANALYSIS'!$J$19>=2,1,0)","v":0}]
[null,null,null,null,null,null,null,null,null,null,null,null,null,null,null,null,null,null,null,null,null,null,{"$f":"IF('CENTRAL ANALYSIS'!$J$19>=2,1,0)","v":0}]
[null,null,null,null,null,"Potential or Observed Impacts from Development Item",null,null,null,null,null,null,null,null,null,null,null,null,null,null,null,null,{"$f":"IF('CENTRAL ANALYSIS'!$J$19>=2,1,0)","v":0}]
[null,null,null,null,null,null,null,null,null,null,null,null,null,null,null,null,null,null,null,null,null,null,{"$f":"IF('CENTRAL ANALYSIS'!$J$19>=2,1,0)","v":0}]
[null,null,null,null,null,null,null,null,null,null,null,null,null,null,null,null,null,null,null,null,null,null,{"$f":"IF('CENTRAL ANALYSIS'!$J$19>=2,1,0)","v":0}]
[null,null,null,null,null,null,null,null,null,null,null,null,null,null,null,null,null,null,null,null,null,null,{"$f":"IF('CENTRAL ANALYSIS'!$J$19>=2,1,0)","v":0}]
[null,null,null,null,null,null,null,null,null,null,null,null,null,null,null,null,null,null,null,null,null,null,{"$f":"IF('CENTRAL ANALYSIS'!$J$19>=2,1,0)","v":0}]
[null,null,null,null,null,null,null,null,null,null,null,null,null,null,null,"Development Item 3",null,null,null,null,null,null,{"$f":"IF('CENTRAL ANALYSIS'!$J$19>=3,1,0)","v":0}]
[null,null,null,null,null,null,null,null,null,null,null,null,null,null,null,null,null,null,null,null,null,null,{"$f":"IF('CENTRAL ANALYSIS'!$J$19>=3,1,0)","v":0}]
[null,null,null,null,null,null,null,null,null,null,"Development Item Name",null,null,null,null,null,null,null,null,null,null,null,{"$f":"IF('CENTRAL ANALYSIS'!$J$19>=3,1,0)","v":0}]
[null,null,null,null,null,null,null,null,null,null,null,null,"Internal or External to the Agency",null,null,null,null,null,null,null,null,null,{"$f":"IF('CENTRAL ANALYSIS'!$J$19>=3,1,0)","v":0}]
[null,null,null,null,null,null,null,null,null,null,null,null,"Delivery Method",null,null,null,null,null,null,null,null,null,{"$f":"IF('CENTRAL ANALYSIS'!$J$19>=3,1,0)","v":0}]
[null,null,null,null,null,null,null,null,null,null,null,null,"Target Audience",null,null,null,null,null,null,null,null,null,{"$f":"IF('CENTRAL ANALYSIS'!$J$19>=3,1,0)","v":0}]
[null,null,null,null,null,null,null,null,null,null,null,null,null,null,"Total Number of Participants",null,null,null,null,null,null,null,{"$f":"IF('CENTRAL ANALYSIS'!$J$19>=3,1,0)","v":0}]
[null,null,null,null,null,"Purpose or Key Learning from Development Item",null,null,null,null,null,null,null,null,null,null,null,null,null,null,null,null,{"$f":"IF('CENTRAL ANALYSIS'!$J$19>=3,1,0)","v":0}]
[null,null,null,null,null,null,null,null,null,null,null,null,null,null,null,null,null,null,null,null,null,null,{"$f":"IF('CENTRAL ANALYSIS'!$J$19>=3,1,0)","v":0}]
[null,null,null,null,null,null,null,null,null,null,null,null,null,null,null,null,null,null,null,null,null,null,{"$f":"IF('CENTRAL ANALYSIS'!$J$19>=3,1,0)","v":0}]
[null,null,null,null,null,null,null,null,null,null,null,null,null,null,null,null,null,null,null,null,null,null,{"$f":"IF('CENTRAL ANALYSIS'!$J$19>=3,1,0)","v":0}]
[null,null,null,null,null,"Potential or Observed Impacts from Development Item",null,null,null,null,null,null,null,null,null,null,null,null,null,null,null,null,{"$f":"IF('CENTRAL ANALYSIS'!$J$19>=3,1,0)","v":0}]
[null,null,null,null,null,null,null,null,null,null,null,null,null,null,null,null,null,null,null,null,null,null,{"$f":"IF('CENTRAL ANALYSIS'!$J$19>=3,1,0)","v":0}]
[null,null,null,null,null,null,null,null,null,null,null,null,null,null,null,null,null,null,null,null,null,null,{"$f":"IF('CENTRAL ANALYSIS'!$J$19>=3,1,0)","v":0}]
[null,null,null,null,null,null,null,null,null,null,null,null,null,null,null,null,null,null,null,null,null,null,{"$f":"IF('CENTRAL ANALYSIS'!$J$19>=3,1,0)","v":0}]
[null,null,null,null,null,null,null,null,null,null,null,null,null,null,null,null,null,null,null,null,null,null,{"$f":"IF('CENTRAL ANALYSIS'!$J$19>=3,1,0)","v":0}]
[null,null,null,null,null,null,null,null,null,null,null,null,null,null,null,"Development Item 4",null,null,null,null,null,null,{"$f":"IF('CENTRAL ANALYSIS'!$J$19>=4,1,0)","v":0}]
[null,null,null,null,null,null,null,null,null,null,null,null,null,null,null,null,null,null,null,null,null,null,{"$f":"IF('CENTRAL ANALYSIS'!$J$19>=4,1,0)","v":0}]
[null,null,null,null,null,null,null,null,null,null,"Development Item Name",null,null,null,null,null,null,null,null,null,null,null,{"$f":"IF('CENTRAL ANALYSIS'!$J$19>=4,1,0)","v":0}]
[null,null,null,null,null,null,null,null,null,null,null,null,"Internal or External to the Agency",null,null,null,null,null,null,null,null,null,{"$f":"IF('CENTRAL ANALYSIS'!$J$19>=4,1,0)","v":0}]
[null,null,null,null,null,null,null,null,null,null,null,null,"Delivery Method",null,null,null,null,null,null,null,null,null,{"$f":"IF('CENTRAL ANALYSIS'!$J$19>=4,1,0)","v":0}]
[null,null,null,null,null,null,null,null,null,null,null,null,"Target Audience",null,null,null,null,null,null,null,null,null,{"$f":"IF('CENTRAL ANALYSIS'!$J$19>=4,1,0)","v":0}]
[null,null,null,null,null,null,null,null,null,null,null,null,null,null,"Total Number of Participants",null,null,null,null,null,null,null,{"$f":"IF('CENTRAL ANALYSIS'!$J$19>=4,1,0)","v":0}]
[null,null,null,null,null,"Purpose or Key Learning from Development Item",null,null,null,null,null,null,null,null,null,null,null,null,null,null,null,null,{"$f":"IF('CENTRAL ANALYSIS'!$J$19>=4,1,0)","v":0}]
[null,null,null,null,null,null,null,null,null,null,null,null,null,null,null,null,null,null,null,null,null,null,{"$f":"IF('CENTRAL ANALYSIS'!$J$19>=4,1,0)","v":0}]
[null,null,null,null,null,null,null,null,null,null,null,null,null,null,null,null,null,null,null,null,null,null,{"$f":"IF('CENTRAL ANALYSIS'!$J$19>=4,1,0)","v":0}]
[null,null,null,null,null,null,null,null,null,null,null,null,null,null,null,null,null,null,null,null,null,null,{"$f":"IF('CENTRAL ANALYSIS'!$J$19>=4,1,0)","v":0}]
[null,null,null,null,null,"Potential or Observed Impacts from Development Item",null,null,null,null,null,null,null,null,null,null,null,null,null,null,null,null,{"$f":"IF('CENTRAL ANALYSIS'!$J$19>=4,1,0)","v":0}]
[null,null,null,null,null,null,null,null,null,null,null,null,null,null,null,null,null,null,null,null,null,null,{"$f":"IF('CENTRAL ANALYSIS'!$J$19>=4,1,0)","v":0}]
[null,null,null,null,null,null,null,null,null,null,null,null,null,null,null,null,null,null,null,null,null,null,{"$f":"IF('CENTRAL ANALYSIS'!$J$19>=4,1,0)","v":0}]
[null,null,null,null,null,null,null,null,null,null,null,null,null,null,null,null,null,null,null,null,null,null,{"$f":"IF('CENTRAL ANALYSIS'!$J$19>=4,1,0)","v":0}]
[null,null,null,null,null,null,null,null,null,null,null,null,null,null,null,null,null,null,null,null,null,null,{"$f":"IF('CENTRAL ANALYSIS'!$J$19>=4,1,0)","v":0}]
[null,null,null,null,null,null,null,null,null,null,null,null,null,null,null,"Development Item 5",null,null,null,null,null,null,{"$f":"IF('CENTRAL ANALYSIS'!$J$19>=5,1,0)","v":0}]
[null,null,null,null,null,null,null,null,null,null,null,null,null,null,null,null,null,null,null,null,null,null,{"$f":"IF('CENTRAL ANALYSIS'!$J$19>=5,1,0)","v":0}]
[null,null,null,null,null,null,null,null,null,null,"Development Item Name",null,null,null,null,null,null,null,null,null,null,null,{"$f":"IF('CENTRAL ANALYSIS'!$J$19>=5,1,0)","v":0}]
[null,null,null,null,null,null,null,null,null,null,null,null,"Internal or External to the Agency",null,null,null,null,null,null,null,null,null,{"$f":"IF('CENTRAL ANALYSIS'!$J$19>=5,1,0)","v":0}]
[null,null,null,null,null,null,null,null,null,null,null,null,"Delivery Method",null,null,null,null,null,null,null,null,null,{"$f":"IF('CENTRAL ANALYSIS'!$J$19>=5,1,0)","v":0}]
[null,null,null,null,null,null,null,null,null,null,null,null,"Target Audience",null,null,null,null,null,null,null,null,null,{"$f":"IF('CENTRAL ANALYSIS'!$J$19>=5,1,0)","v":0}]
[null,null,null,null,null,null,null,null,null,null,null,null,null,null,"Total Number of Participants",null,null,null,null,null,null,null,{"$f":"IF('CENTRAL ANALYSIS'!$J$19>=5,1,0)","v":0}]
[null,null,null,null,null,"Purpose or Key Learning from Development Item",null,null,null,null,null,null,null,null,null,null,null,null,null,null,null,null,{"$f":"IF('CENTRAL ANALYSIS'!$J$19>=5,1,0)","v":0}]
[null,null,null,null,null,null,null,null,null,null,null,null,null,null,null,null,null,null,null,null,null,null,{"$f":"IF('CENTRAL ANALYSIS'!$J$19>=5,1,0)","v":0}]
[null,null,null,null,null,null,null,null,null,null,null,null,null,null,null,null,null,null,null,null,null,null,{"$f":"IF('CENTRAL ANALYSIS'!$J$19>=5,1,0)","v":0}]
[null,null,null,null,null,null,null,null,null,null,null,null,null,null,null,null,null,null,null,null,null,null,{"$f":"IF('CENTRAL ANALYSIS'!$J$19>=5,1,0)","v":0}]
[null,null,null,null,null,"Potential or Observed Impacts from Development Item",null,null,null,null,null,null,null,null,null,null,null,null,null,null,null,null,{"$f":"IF('CENTRAL ANALYSIS'!$J$19>=5,1,0)","v":0}]
[null,null,null,null,null,null,null,null,null,null,null,null,null,null,null,null,null,null,null,null,null,null,{"$f":"IF('CENTRAL ANALYSIS'!$J$19>=5,1,0)","v":0}]
[null,null,null,null,null,null,null,null,null,null,null,null,null,null,null,null,null,null,null,null,null,null,{"$f":"IF('CENTRAL ANALYSIS'!$J$19>=5,1,0)","v":0}]
[null,null,null,null,null,null,null,null,null,null,null,null,null,null,null,null,null,null,null,null,null,null,{"$f":"IF('CENTRAL ANALYSIS'!$J$19>=5,1,0)","v":0}]
[null,null,null,null,null,null,null,null,null,null,null,null,null,null,null,null,null,null,null,null,null,null,{"$f":"IF('CENTRAL ANALYSIS'!$J$19>=5,1,0)","v":0}]
[null,null,null,null,null,null,null,null,null,null,null,null,null,null,null,"Development Item 6",null,null,null,null,null,null,{"$f":"IF('CENTRAL ANALYSIS'!$J$19>=6,1,0)","v":0}]
[null,null,null,null,null,null,null,null,null,null,null,null,null,null,null,null,null,null,null,null,null,null,{"$f":"IF('CENTRAL ANALYSIS'!$J$19>=6,1,0)","v":0}]
[null,null,null,null,null,null,null,null,null,null,"Development Item Name",null,null,null,null,null,null,null,null,null,null,null,{"$f":"IF('CENTRAL ANALYSIS'!$J$19>=6,1,0)","v":0}]
[null,null,null,null,null,null,null,null,null,null,null,null,"Internal or External to the Agency",null,null,null,null,null,null,null,null,null,{"$f":"IF('CENTRAL ANALYSIS'!$J$19>=6,1,0)","v":0}]
[null,null,null,null,null,null,null,null,null,null,null,null,"Delivery Method",null,null,null,null,null,null,null,null,null,{"$f":"IF('CENTRAL ANALYSIS'!$J$19>=6,1,0)","v":0}]
[null,null,null,null,null,null,null,null,null,null,null,null,"Target Audience",null,null,null,null,null,null,null,null,null,{"$f":"IF('CENTRAL ANALYSIS'!$J$19>=6,1,0)","v":0}]
[null,null,null,null,null,null,null,null,null,null,null,null,null,null,"Total Number of Participants",null,null,null,null,null,null,null,{"$f":"IF('CENTRAL ANALYSIS'!$J$19>=6,1,0)","v":0}]
[null,null,null,null,null,"Purpose or Key Learning from Development Item",null,null,null,null,null,null,null,null,null,null,null,null,null,null,null,null,{"$f":"IF('CENTRAL ANALYSIS'!$J$19>=6,1,0)","v":0}]
[null,null,null,null,null,null,null,null,null,null,null,null,null,null,null,null,null,null,null,null,null,null,{"$f":"IF('CENTRAL ANALYSIS'!$J$19>=6,1,0)","v":0}]
[null,null,null,null,null,null,null,null,null,null,null,null,null,null,null,null,null,null,null,null,null,null,{"$f":"IF('CENTRAL ANALYSIS'!$J$19>=6,1,0)","v":0}]
[null,null,null,null,null,null,null,null,null,null,null,null,null,null,null,null,null,null,null,null,null,null,{"$f":"IF('CENTRAL ANALYSIS'!$J$19>=6,1,0)","v":0}]
[null,null,null,null,null,"Potential or Observed Impacts from Development Item",null,null,null,null,null,null,null,null,null,null,null,null,null,null,null,null,{"$f":"IF('CENTRAL ANALYSIS'!$J$19>=6,1,0)","v":0}]
[null,null,null,null,null,null,null,null,null,null,null,null,null,null,null,null,null,null,null,null,null,null,{"$f":"IF('CENTRAL ANALYSIS'!$J$19>=6,1,0)","v":0}]
[null,null,null,null,null,null,null,null,null,null,null,null,null,null,null,null,null,null,null,null,null,null,{"$f":"IF('CENTRAL ANALYSIS'!$J$19>=6,1,0)","v":0}]
[null,null,null,null,null,null,null,null,null,null,null,null,null,null,null,null,null,null,null,null,null,null,{"$f":"IF('CENTRAL ANALYSIS'!$J$19>=6,1,0)","v":0}]
[null,null,null,null,null,null,null,null,null,null,null,null,null,null,null,null,null,null,null,null,null,null,{"$f":"IF('CENTRAL ANALYSIS'!$J$19>=6,1,0)","v":0}]
[null,null,null,null,null,null,null,null,null,null,null,null,null,null,null,"Development Item 7",null,null,null,null,null,null,{"$f":"IF('CENTRAL ANALYSIS'!$J$19>=7,1,0)","v":0}]
[null,null,null,null,null,null,null,null,null,null,null,null,null,null,null,null,null,null,null,null,null,null,{"$f":"IF('CENTRAL ANALYSIS'!$J$19>=7,1,0)","v":0}]
[null,null,null,null,null,null,null,null,null,null,"Development Item Name",null,null,null,null,null,null,null,null,null,null,null,{"$f":"IF('CENTRAL ANALYSIS'!$J$19>=7,1,0)","v":0}]
[null,null,null,null,null,null,null,null,null,null,null,null,"Internal or External to the Agency",null,null,null,null,null,null,null,null,null,{"$f":"IF('CENTRAL ANALYSIS'!$J$19>=7,1,0)","v":0}]
[null,null,null,null,null,null,null,null,null,null,null,null,"Delivery Method",null,null,null,null,null,null,null,null,null,{"$f":"IF('CENTRAL ANALYSIS'!$J$19>=7,1,0)","v":0}]
[null,null,null,null,null,null,null,null,null,null,null,null,"Target Audience",null,null,null,null,null,null,null,null,null,{"$f":"IF('CENTRAL ANALYSIS'!$J$19>=7,1,0)","v":0}]
[null,null,null,null,null,null,null,null,null,null,null,null,null,null,"Total Number of Participants",null,null,null,null,null,null,null,{"$f":"IF('CENTRAL ANALYSIS'!$J$19>=7,1,0)","v":0}]
[null,null,null,null,null,"Purpose or Key Learning from Development Item",null,null,null,null,null,null,null,null,null,null,null,null,null,null,null,null,{"$f":"IF('CENTRAL ANALYSIS'!$J$19>=7,1,0)","v":0}]
[null,null,null,null,null,null,null,null,null,null,null,null,null,null,null,null,null,null,null,null,null,null,{"$f":"IF('CENTRAL ANALYSIS'!$J$19>=7,1,0)","v":0}]
[null,null,null,null,null,null,null,null,null,null,null,null,null,null,null,null,null,null,null,null,null,null,{"$f":"IF('CENTRAL ANALYSIS'!$J$19>=7,1,0)","v":0}]
[null,null,null,null,null,null,null,null,null,null,null,null,null,null,null,null,null,null,null,null,null,null,{"$f":"IF('CENTRAL ANALYSIS'!$J$19>=7,1,0)","v":0}]
[null,null,null,null,null,"Potential or Observed Impacts from Development Item",null,null,null,null,null,null,null,null,null,null,null,null,null,null,null,null,{"$f":"IF('CENTRAL ANALYSIS'!$J$19>=7,1,0)","v":0}]
[null,null,null,null,null,null,null,null,null,null,null,null,null,null,null,null,null,null,null,null,null,null,{"$f":"IF('CENTRAL ANALYSIS'!$J$19>=7,1,0)","v":0}]
[null,null,null,null,null,null,null,null,null,null,null,null,null,null,null,null,null,null,null,null,null,null,{"$f":"IF('CENTRAL ANALYSIS'!$J$19>=7,1,0)","v":0}]
[null,null,null,null,null,null,null,null,null,null,null,null,null,null,null,null,null,null,null,null,null,null,{"$f":"IF('CENTRAL ANALYSIS'!$J$19>=7,1,0)","v":0}]
[null,null,null,null,null,null,null,null,null,null,null,null,null,null,null,null,null,null,null,null,null,null,{"$f":"IF('CENTRAL ANALYSIS'!$J$19>=7,1,0)","v":0}]
[null,null,null,null,null,null,null,null,null,null,null,null,null,null,null,"Development Item 8",null,null,null,null,null,null,{"$f":"IF('CENTRAL ANALYSIS'!$J$19>=8,1,0)","v":0}]
[null,null,null,null,null,null,null,null,null,null,null,null,null,null,null,null,null,null,null,null,null,null,{"$f":"IF('CENTRAL ANALYSIS'!$J$19>=8,1,0)","v":0}]
[null,null,null,null,null,null,null,null,null,null,"Development Item Name",null,null,null,null,null,null,null,null,null,null,null,{"$f":"IF('CENTRAL ANALYSIS'!$J$19>=8,1,0)","v":0}]
[null,null,null,null,null,null,null,null,null,null,null,null,"Internal or External to the Agency",null,null,null,null,null,null,null,null,null,{"$f":"IF('CENTRAL ANALYSIS'!$J$19>=8,1,0)","v":0}]
[null,null,null,null,null,null,null,null,null,null,null,null,"Delivery Method",null,null,null,null,null,null,null,null,null,{"$f":"IF('CENTRAL ANALYSIS'!$J$19>=8,1,0)","v":0}]
[null,null,null,null,null,null,null,null,null,null,null,null,"Target Audience",null,null,null,null,null,null,null,null,null,{"$f":"IF('CENTRAL ANALYSIS'!$J$19>=8,1,0)","v":0}]
[null,null,null,null,null,null,null,null,null,null,null,null,null,null,"Total Number of Participants",null,null,null,null,null,null,null,{"$f":"IF('CENTRAL ANALYSIS'!$J$19>=8,1,0)","v":0}]
[null,null,null,null,null,"Purpose or Key Learning from Development Item",null,null,null,null,null,null,null,null,null,null,null,null,null,null,null,null,{"$f":"IF('CENTRAL ANALYSIS'!$J$19>=8,1,0)","v":0}]
[null,null,null,null,null,null,null,null,null,null,null,null,null,null,null,null,null,null,null,null,null,null,{"$f":"IF('CENTRAL ANALYSIS'!$J$19>=8,1,0)","v":0}]
[null,null,null,null,null,null,null,null,null,null,null,null,null,null,null,null,null,null,null,null,null,null,{"$f":"IF('CENTRAL ANALYSIS'!$J$19>=8,1,0)","v":0}]
[null,null,null,null,null,null,null,null,null,null,null,null,null,null,null,null,null,null,null,null,null,null,{"$f":"IF('CENTRAL ANALYSIS'!$J$19>=8,1,0)","v":0}]
[null,null,null,null,null,"Potential or Observed Impacts from Development Item",null,null,null,null,null,null,null,null,null,null,null,null,null,null,null,null,{"$f":"IF('CENTRAL ANALYSIS'!$J$19>=8,1,0)","v":0}]
[null,null,null,null,null,null,null,null,null,null,null,null,null,null,null,null,null,null,null,null,null,null,{"$f":"IF('CENTRAL ANALYSIS'!$J$19>=8,1,0)","v":0}]
[null,null,null,null,null,null,null,null,null,null,null,null,null,null,null,null,null,null,null,null,null,null,{"$f":"IF('CENTRAL ANALYSIS'!$J$19>=8,1,0)","v":0}]
[null,null,null,null,null,null,null,null,null,null,null,null,null,null,null,null,null,null,null,null,null,null,{"$f":"IF('CENTRAL ANALYSIS'!$J$19>=8,1,0)","v":0}]
[null,null,null,null,null,null,null,null,null,null,null,null,null,null,null,null,null,null,null,null,null,null,{"$f":"IF('CENTRAL ANALYSIS'!$J$19>=8,1,0)","v":0}]
[null,null,null,null,null,null,null,null,null,null,null,null,null,null,null,"Development Item 9",null,null,null,null,null,null,{"$f":"IF('CENTRAL ANALYSIS'!$J$19>=9,1,0)","v":0}]
[null,null,null,null,null,null,null,null,null,null,null,null,null,null,null,null,null,null,null,null,null,null,{"$f":"IF('CENTRAL ANALYSIS'!$J$19>=9,1,0)","v":0}]
[null,null,null,null,null,null,null,null,null,null,"Development Item Name",null,null,null,null,null,null,null,null,null,null,null,{"$f":"IF('CENTRAL ANALYSIS'!$J$19>=9,1,0)","v":0}]
[null,null,null,null,null,null,null,null,null,null,null,null,"Internal or External to the Agency",null,null,null,null,null,null,null,null,null,{"$f":"IF('CENTRAL ANALYSIS'!$J$19>=9,1,0)","v":0}]
[null,null,null,null,null,null,null,null,null,null,null,null,"Delivery Method",null,null,null,null,null,null,null,null,null,{"$f":"IF('CENTRAL ANALYSIS'!$J$19>=9,1,0)","v":0}]
[null,null,null,null,null,null,null,null,null,null,null,null,"Target Audience",null,null,null,null,null,null,null,null,null,{"$f":"IF('CENTRAL ANALYSIS'!$J$19>=9,1,0)","v":0}]
[null,null,null,null,null,null,null,null,null,null,null,null,null,null,"Total Number of Participants",null,null,null,null,null,null,null,{"$f":"IF('CENTRAL ANALYSIS'!$J$19>=9,1,0)","v":0}]
[null,null,null,null,null,"Purpose or Key Learning from Development Item",null,null,null,null,null,null,null,null,null,null,null,null,null,null,null,null,{"$f":"IF('CENTRAL ANALYSIS'!$J$19>=9,1,0)","v":0}]
[null,null,null,null,null,null,null,null,null,null,null,null,null,null,null,null,null,null,null,null,null,null,{"$f":"IF('CENTRAL ANALYSIS'!$J$19>=9,1,0)","v":0}]
[null,null,null,null,null,null,null,null,null,null,null,null,null,null,null,null,null,null,null,null,null,null,{"$f":"IF('CENTRAL ANALYSIS'!$J$19>=9,1,0)","v":0}]
[null,null,null,null,null,null,null,null,null,null,null,null,null,null,null,null,null,null,null,null,null,null,{"$f":"IF('CENTRAL ANALYSIS'!$J$19>=9,1,0)","v":0}]
[null,null,null,null,null,"Potential or Observed Impacts from Development Item",null,null,null,null,null,null,null,null,null,null,null,null,null,null,null,null,{"$f":"IF('CENTRAL ANALYSIS'!$J$19>=9,1,0)","v":0}]
[null,null,null,null,null,null,null,null,null,null,null,null,null,null,null,null,null,null,null,null,null,null,{"$f":"IF('CENTRAL ANALYSIS'!$J$19>=9,1,0)","v":0}]
[null,null,null,null,null,null,null,null,null,null,null,null,null,null,null,null,null,null,null,null,null,null,{"$f":"IF('CENTRAL ANALYSIS'!$J$19>=9,1,0)","v":0}]
[null,null,null,null,null,null,null,null,null,null,null,null,null,null,null,null,null,null,null,null,null,null,{"$f":"IF('CENTRAL ANALYSIS'!$J$19>=9,1,0)","v":0}]
[null,null,null,null,null,null,null,null,null,null,null,null,null,null,null,null,null,null,null,null,null,null,{"$f":"IF('CENTRAL ANALYSIS'!$J$19>=9,1,0)","v":0}]
[null,null,null,null,null,null,null,null,null,null,null,null,null,null,null,"Development Item 10",null,null,null,null,null,null,{"$f":"IF('CENTRAL ANALYSIS'!$J$19>=10,1,0)","v":0}]
[null,null,null,null,null,null,null,null,null,null,null,null,null,null,null,null,null,null,null,null,null,null,{"$f":"IF('CENTRAL ANALYSIS'!$J$19>=10,1,0)","v":0}]
[null,null,null,null,null,null,null,null,null,null,"Development Item Name",null,null,null,null,null,null,null,null,null,null,null,{"$f":"IF('CENTRAL ANALYSIS'!$J$19>=10,1,0)","v":0}]
[null,null,null,null,null,null,null,null,null,null,null,null,"Internal or External to the Agency",null,null,null,null,null,null,null,null,null,{"$f":"IF('CENTRAL ANALYSIS'!$J$19>=10,1,0)","v":0}]
[null,null,null,null,null,null,null,null,null,null,null,null,"Delivery Method",null,null,null,null,null,null,null,null,null,{"$f":"IF('CENTRAL ANALYSIS'!$J$19>=10,1,0)","v":0}]
[null,null,null,null,null,null,null,null,null,null,null,null,"Target Audience",null,null,null,null,null,null,null,null,null,{"$f":"IF('CENTRAL ANALYSIS'!$J$19>=10,1,0)","v":0}]
[null,null,null,null,null,null,null,null,null,null,null,null,null,null,"Total Number of Participants",null,null,null,null,null,null,null,{"$f":"IF('CENTRAL ANALYSIS'!$J$19>=10,1,0)","v":0}]
[null,null,null,null,null,"Purpose or Key Learning from Development Item",null,null,null,null,null,null,null,null,null,null,null,null,null,null,null,null,{"$f":"IF('CENTRAL ANALYSIS'!$J$19>=10,1,0)","v":0}]
[null,null,null,null,null,null,null,null,null,null,null,null,null,null,null,null,null,null,null,null,null,null,{"$f":"IF('CENTRAL ANALYSIS'!$J$19>=10,1,0)","v":0}]
[null,null,null,null,null,null,null,null,null,null,null,null,null,null,null,null,null,null,null,null,null,null,{"$f":"IF('CENTRAL ANALYSIS'!$J$19>=10,1,0)","v":0}]
[null,null,null,null,null,null,null,null,null,null,null,null,null,null,null,null,null,null,null,null,null,null,{"$f":"IF('CENTRAL ANALYSIS'!$J$19>=10,1,0)","v":0}]
[null,null,null,null,null,"Potential or Observed Impacts from Development Item",null,null,null,null,null,null,null,null,null,null,null,null,null,null,null,null,{"$f":"IF('CENTRAL ANALYSIS'!$J$19>=10,1,0)","v":0}]
[null,null,null,null,null,null,null,null,null,null,null,null,null,null,null,null,null,null,null,null,null,null,{"$f":"IF('CENTRAL ANALYSIS'!$J$19>=10,1,0)","v":0}]
[null,null,null,null,null,null,null,null,null,null,null,null,null,null,null,null,null,null,null,null,null,null,{"$f":"IF('CENTRAL ANALYSIS'!$J$19>=10,1,0)","v":0}]
[null,null,null,null,null,null,null,null,null,null,null,null,null,null,null,null,null,null,null,null,null,null,{"$f":"IF('CENTRAL ANALYSIS'!$J$19>=10,1,0)","v":0}]
[null,null,null,null,null,null,null,null,null,null,null,null,null,null,null,null,null,null,null,null,null,null,{"$f":"IF('CENTRAL ANALYSIS'!$J$19>=10,1,0)","v":0}]
[null,null,null,null,null,null,null,null,null,null,null,null,null,null,null,null,null,null,null,null,null,null,{"$f":"IF(OR($O$38=\"enabled\"),1,0)","v":0}]
[null,"Enter Employee Development Support Details",null,null,null,null,null,null,null,null,null,null,null,null,null,null,null,null,null,null,null,null,0]
[null,null,null,null,null,null,null,null,null,null,null,null,null,null,null,null,null,null,null,null,null,null,0]
[null,"INSTRUCTIONS: Please enter the details of any ways the agency supports development opportunities by clicking the blue \"Add Development Item\" button. Development initiatives are defined as those for career/professional development and should NOT include any mandatory or required training.",null,null,null,null,null,null,null,null,null,null,null,null,null,null,null,null,null,null,null,null,0]
[null,null,null,null,null,null,null,null,null,null,null,null,null,null,null,null,null,null,null,null,null,null,0]
[null,null,null,null,null,null,null,null,null,null,null,null,null,null,null,null,null,null,null,null,null,null,0]
[null,null,null,null,null,null,null,null,null,null,null,null,null,null,null,"Development Support Item 1",null,null,null,null,null,null,{"$f":"IF('CENTRAL ANALYSIS'!$J$20>=1,1,0)","v":0}]
[null,null,null,null,null,null,null,null,null,null,null,null,null,null,null,null,null,null,null,null,null,null,{"$f":"IF('CENTRAL ANALYSIS'!$J$20>=1,1,0)","v":0}]
[null,null,null,null,null,null,null,null,null,null,"Development Support Item Name",null,null,null,null,null,null,null,null,null,null,null,{"$f":"IF('CENTRAL ANALYSIS'!$J$20>=1,1,0)","v":0}]
[null,null,null,null,null,null,null,null,null,null,null,null,"Target Audience",null,null,null,null,null,null,null,null,null,{"$f":"IF('CENTRAL ANALYSIS'!$J$20>=1,1,0)","v":0}]
[null,null,null,null,null,null,null,null,null,null,null,null,null,null,"Total Number of Participants/Employees who Utilized Item",null,null,null,null,null,null,null,{"$f":"IF('CENTRAL ANALYSIS'!$J$20>=1,1,0)","v":0}]
[null,null,null,null,null,"Description",null,null,null,null,null,null,null,null,null,null,null,null,null,null,null,null,{"$f":"IF('CENTRAL ANALYSIS'!$J$20>=1,1,0)","v":0}]
[null,null,null,null,null,null,null,null,null,null,null,null,null,null,null,null,null,null,null,null,null,null,{"$f":"IF('CENTRAL ANALYSIS'!$J$20>=1,1,0)","v":0}]
[null,null,null,null,null,null,null,null,null,null,null,null,null,null,null,null,null,null,null,null,null,null,{"$f":"IF('CENTRAL ANALYSIS'!$J$20>=1,1,0)","v":0}]
[null,null,null,null,null,null,null,null,null,null,null,null,null,null,null,null,null,null,null,null,null,null,{"$f":"IF('CENTRAL ANALYSIS'!$J$20>=1,1,0)","v":0}]
[null,null,null,null,null,"Potential or Observed Impacts from Development Item",null,null,null,null,null,null,null,null,null,null,null,null,null,null,null,null,{"$f":"IF('CENTRAL ANALYSIS'!$J$20>=1,1,0)","v":0}]
[null,null,null,null,null,null,null,null,null,null,null,null,null,null,null,null,null,null,null,null,null,null,{"$f":"IF('CENTRAL ANALYSIS'!$J$20>=1,1,0)","v":0}]
[null,null,null,null,null,null,null,null,null,null,null,null,null,null,null,null,null,null,null,null,null,null,{"$f":"IF('CENTRAL ANALYSIS'!$J$20>=1,1,0)","v":0}]
[null,null,null,null,null,null,null,null,null,null,null,null,null,null,null,null,null,null,null,null,null,null,{"$f":"IF('CENTRAL ANALYSIS'!$J$20>=1,1,0)","v":0}]
[null,null,null,null,null,null,null,null,null,null,null,null,null,null,null,null,null,null,null,null,null,null,{"$f":"IF('CENTRAL ANALYSIS'!$J$20>=1,1,0)","v":0}]
[null,null,null,null,null,null,null,null,null,null,null,null,null,null,null,"Development Support Item 2",null,null,null,null,null,null,{"$f":"IF('CENTRAL ANALYSIS'!$J$20>=2,1,0)","v":0}]
[null,null,null,null,null,null,null,null,null,null,null,null,null,null,null,null,null,null,null,null,null,null,{"$f":"IF('CENTRAL ANALYSIS'!$J$20>=2,1,0)","v":0}]
[null,null,null,null,null,null,null,null,null,null,"Development Support Item Name",null,null,null,null,null,null,null,null,null,null,null,{"$f":"IF('CENTRAL ANALYSIS'!$J$20>=2,1,0)","v":0}]
[null,null,null,null,null,null,null,null,null,null,null,null,"Target Audience",null,null,null,null,null,null,null,null,null,{"$f":"IF('CENTRAL ANALYSIS'!$J$20>=2,1,0)","v":0}]
[null,null,null,null,null,null,null,null,null,null,null,null,null,null,"Total Number of Participants/Employees who Utilized Item",null,null,null,null,null,null,null,{"$f":"IF('CENTRAL ANALYSIS'!$J$20>=2,1,0)","v":0}]
[null,null,null,null,null,"Description",null,null,null,null,null,null,null,null,null,null,null,null,null,null,null,null,{"$f":"IF('CENTRAL ANALYSIS'!$J$20>=2,1,0)","v":0}]
[null,null,null,null,null,null,null,null,null,null,null,null,null,null,null,null,null,null,null,null,null,null,{"$f":"IF('CENTRAL ANALYSIS'!$J$20>=2,1,0)","v":0}]
[null,null,null,null,null,null,null,null,null,null,null,null,null,null,null,null,null,null,null,null,null,null,{"$f":"IF('CENTRAL ANALYSIS'!$J$20>=2,1,0)","v":0}]
[null,null,null,null,null,null,null,null,null,null,null,null,null,null,null,null,null,null,null,null,null,null,{"$f":"IF('CENTRAL ANALYSIS'!$J$20>=2,1,0)","v":0}]
[null,null,null,null,null,"Potential or Observed Impacts from Development Item",null,null,null,null,null,null,null,null,null,null,null,null,null,null,null,null,{"$f":"IF('CENTRAL ANALYSIS'!$J$20>=2,1,0)","v":0}]
[null,null,null,null,null,null,null,null,null,null,null,null,null,null,null,null,null,null,null,null,null,null,{"$f":"IF('CENTRAL ANALYSIS'!$J$20>=2,1,0)","v":0}]
[null,null,null,null,null,null,null,null,null,null,null,null,null,null,null,null,null,null,null,null,null,null,{"$f":"IF('CENTRAL ANALYSIS'!$J$20>=2,1,0)","v":0}]
[null,null,null,null,null,null,null,null,null,null,null,null,null,null,null,null,null,null,null,null,null,null,{"$f":"IF('CENTRAL ANALYSIS'!$J$20>=2,1,0)","v":0}]
[null,null,null,null,null,null,null,null,null,null,null,null,null,null,null,null,null,null,null,null,null,null,{"$f":"IF('CENTRAL ANALYSIS'!$J$20>=2,1,0)","v":0}]
[null,null,null,null,null,null,null,null,null,null,null,null,null,null,null,"Development Support Item 3",null,null,null,null,null,null,{"$f":"IF('CENTRAL ANALYSIS'!$J$20>=3,1,0)","v":0}]
[null,null,null,null,null,null,null,null,null,null,null,null,null,null,null,null,null,null,null,null,null,null,{"$f":"IF('CENTRAL ANALYSIS'!$J$20>=3,1,0)","v":0}]
[null,null,null,null,null,null,null,null,null,null,"Development Support Item Name",null,null,null,null,null,null,null,null,null,null,null,{"$f":"IF('CENTRAL ANALYSIS'!$J$20>=3,1,0)","v":0}]
[null,null,null,null,null,null,null,null,null,null,null,null,"Target Audience",null,null,null,null,null,null,null,null,null,{"$f":"IF('CENTRAL ANALYSIS'!$J$20>=3,1,0)","v":0}]
[null,null,null,null,null,null,null,null,null,null,null,null,null,null,"Total Number of Participants/Employees who Utilized Item",null,null,null,null,null,null,null,{"$f":"IF('CENTRAL ANALYSIS'!$J$20>=3,1,0)","v":0}]
[null,null,null,null,null,"Description",null,null,null,null,null,null,null,null,null,null,null,null,null,null,null,null,{"$f":"IF('CENTRAL ANALYSIS'!$J$20>=3,1,0)","v":0}]
[null,null,null,null,null,null,null,null,null,null,null,null,null,null,null,null,null,null,null,null,null,null,{"$f":"IF('CENTRAL ANALYSIS'!$J$20>=3,1,0)","v":0}]
[null,null,null,null,null,null,null,null,null,null,null,null,null,null,null,null,null,null,null,null,null,null,{"$f":"IF('CENTRAL ANALYSIS'!$J$20>=3,1,0)","v":0}]
[null,null,null,null,null,null,null,null,null,null,null,null,null,null,null,null,null,null,null,null,null,null,{"$f":"IF('CENTRAL ANALYSIS'!$J$20>=3,1,0)","v":0}]
[null,null,null,null,null,"Potential or Observed Impacts from Development Item",null,null,null,null,null,null,null,null,null,null,null,null,null,null,null,null,{"$f":"IF('CENTRAL ANALYSIS'!$J$20>=3,1,0)","v":0}]
[null,null,null,null,null,null,null,null,null,null,null,null,null,null,null,null,null,null,null,null,null,null,{"$f":"IF('CENTRAL ANALYSIS'!$J$20>=3,1,0)","v":0}]
[null,null,null,null,null,null,null,null,null,null,null,null,null,null,null,null,null,null,null,null,null,null,{"$f":"IF('CENTRAL ANALYSIS'!$J$20>=3,1,0)","v":0}]
[null,null,null,null,null,null,null,null,null,null,null,null,null,null,null,null,null,null,null,null,null,null,{"$f":"IF('CENTRAL ANALYSIS'!$J$20>=3,1,0)","v":0}]
[null,null,null,null,null,null,null,null,null,null,null,null,null,null,null,null,null,null,null,null,null,null,{"$f":"IF('CENTRAL ANALYSIS'!$J$20>=3,1,0)","v":0}]
[null,null,null,null,null,null,null,null,null,null,null,null,null,null,null,"Development Support Item 4",null,null,null,null,null,null,{"$f":"IF('CENTRAL ANALYSIS'!$J$20>=4,1,0)","v":0}]
[null,null,null,null,null,null,null,null,null,null,null,null,null,null,null,null,null,null,null,null,null,null,{"$f":"IF('CENTRAL ANALYSIS'!$J$20>=4,1,0)","v":0}]
[null,null,null,null,null,null,null,null,null,null,"Development Support Item Name",null,null,null,null,null,null,null,null,null,null,null,{"$f":"IF('CENTRAL ANALYSIS'!$J$20>=4,1,0)","v":0}]
[null,null,null,null,null,null,null,null,null,null,null,null,"Target Audience",null,null,null,null,null,null,null,null,null,{"$f":"IF('CENTRAL ANALYSIS'!$J$20>=4,1,0)","v":0}]
[null,null,null,null,null,null,null,null,null,null,null,null,null,null,"Total Number of Participants/Employees who Utilized Item",null,null,null,null,null,null,null,{"$f":"IF('CENTRAL ANALYSIS'!$J$20>=4,1,0)","v":0}]
[null,null,null,null,null,"Description",null,null,null,null,null,null,null,null,null,null,null,null,null,null,null,null,{"$f":"IF('CENTRAL ANALYSIS'!$J$20>=4,1,0)","v":0}]
[null,null,null,null,null,null,null,null,null,null,null,null,null,null,null,null,null,null,null,null,null,null,{"$f":"IF('CENTRAL ANALYSIS'!$J$20>=4,1,0)","v":0}]
[null,null,null,null,null,null,null,null,null,null,null,null,null,null,null,null,null,null,null,null,null,null,{"$f":"IF('CENTRAL ANALYSIS'!$J$20>=4,1,0)","v":0}]
[null,null,null,null,null,null,null,null,null,null,null,null,null,null,null,null,null,null,null,null,null,null,{"$f":"IF('CENTRAL ANALYSIS'!$J$20>=4,1,0)","v":0}]
[null,null,null,null,null,"Potential or Observed Impacts from Development Item",null,null,null,null,null,null,null,null,null,null,null,null,null,null,null,null,{"$f":"IF('CENTRAL ANALYSIS'!$J$20>=4,1,0)","v":0}]
[null,null,null,null,null,null,null,null,null,null,null,null,null,null,null,null,null,null,null,null,null,null,{"$f":"IF('CENTRAL ANALYSIS'!$J$20>=4,1,0)","v":0}]
[null,null,null,null,null,null,null,null,null,null,null,null,null,null,null,null,null,null,null,null,null,null,{"$f":"IF('CENTRAL ANALYSIS'!$J$20>=4,1,0)","v":0}]
[null,null,null,null,null,null,null,null,null,null,null,null,null,null,null,null,null,null,null,null,null,null,{"$f":"IF('CENTRAL ANALYSIS'!$J$20>=4,1,0)","v":0}]
[null,null,null,null,null,null,null,null,null,null,null,null,null,null,null,null,null,null,null,null,null,null,{"$f":"IF('CENTRAL ANALYSIS'!$J$20>=4,1,0)","v":0}]
[null,null,null,null,null,null,null,null,null,null,null,null,null,null,null,"Development Support Item 5",null,null,null,null,null,null,{"$f":"IF('CENTRAL ANALYSIS'!$J$20>=5,1,0)","v":0}]
[null,null,null,null,null,null,null,null,null,null,null,null,null,null,null,null,null,null,null,null,null,null,{"$f":"IF('CENTRAL ANALYSIS'!$J$20>=5,1,0)","v":0}]
[null,null,null,null,null,null,null,null,null,null,"Development Support Item Name",null,null,null,null,null,null,null,null,null,null,null,{"$f":"IF('CENTRAL ANALYSIS'!$J$20>=5,1,0)","v":0}]
[null,null,null,null,null,null,null,null,null,null,null,null,"Target Audience",null,null,null,null,null,null,null,null,null,{"$f":"IF('CENTRAL ANALYSIS'!$J$20>=5,1,0)","v":0}]
[null,null,null,null,null,null,null,null,null,null,null,null,null,null,"Total Number of Participants/Employees who Utilized Item",null,null,null,null,null,null,null,{"$f":"IF('CENTRAL ANALYSIS'!$J$20>=5,1,0)","v":0}]
[null,null,null,null,null,"Description",null,null,null,null,null,null,null,null,null,null,null,null,null,null,null,null,{"$f":"IF('CENTRAL ANALYSIS'!$J$20>=5,1,0)","v":0}]
[null,null,null,null,null,null,null,null,null,null,null,null,null,null,null,null,null,null,null,null,null,null,{"$f":"IF('CENTRAL ANALYSIS'!$J$20>=5,1,0)","v":0}]
[null,null,null,null,null,null,null,null,null,null,null,null,null,null,null,null,null,null,null,null,null,null,{"$f":"IF('CENTRAL ANALYSIS'!$J$20>=5,1,0)","v":0}]
[null,null,null,null,null,null,null,null,null,null,null,null,null,null,null,null,null,null,null,null,null,null,{"$f":"IF('CENTRAL ANALYSIS'!$J$20>=5,1,0)","v":0}]
[null,null,null,null,null,"Potential or Observed Impacts from Development Item",null,null,null,null,null,null,null,null,null,null,null,null,null,null,null,null,{"$f":"IF('CENTRAL ANALYSIS'!$J$20>=5,1,0)","v":0}]
[null,null,null,null,null,null,null,null,null,null,null,null,null,null,null,null,null,null,null,null,null,null,{"$f":"IF('CENTRAL ANALYSIS'!$J$20>=5,1,0)","v":0}]
[null,null,null,null,null,null,null,null,null,null,null,null,null,null,null,null,null,null,null,null,null,null,{"$f":"IF('CENTRAL ANALYSIS'!$J$20>=5,1,0)","v":0}]
[null,null,null,null,null,null,null,null,null,null,null,null,null,null,null,null,null,null,null,null,null,null,{"$f":"IF('CENTRAL ANALYSIS'!$J$20>=5,1,0)","v":0}]
[null,null,null,null,null,null,null,null,null,null,null,null,null,null,null,null,null,null,null,null,null,null,{"$f":"IF('CENTRAL ANALYSIS'!$J$20>=5,1,0)","v":0}]
[null,null,null,null,null,null,null,null,null,null,null,null,null,null,null,null,null,null,null,null,null,null,{"$f":"IF(OR($O$37=\"enabled\",$O$38=\"enabled\"),1,0)","v":0}]
[null,null,"(Optional) Enter Development Items or Support if Not using Macros",null,null,null,null,null,null,null,null,null,null,null,null,null,null,null,null,null,null,null,0]
[null,null,null,null,null,null,null,null,null,null,null,null,null,null,null,null,null,null,null,null,null,null,0]
[null,null,"If chosen not to use Macros, please enter the total number of items to include for each area of the SWOT Analysis. The worksheet will then need to be filtered manually by going to cell \"W1\" and clicking the Filter Icon. This will display a menu where the checkbox next to \"0\" should be empty. If it is, click the \"OK\" button to display the objective and action item entry cells above. Enter the executive positions information in the cells above.",null,null,null,null,null,null,null,null,null,null,null,null,null,null,null,null,null,null,null,0]
[null,null,null,null,null,null,null,null,null,null,null,null,null,null,null,null,null,null,null,null,null,null,0]
[null,null,null,null,null,null,null,null,null,null,null,null,null,null,null,null,null,null,null,null,null,null,0]
[null,null,null,null,null,null,null,null,null,null,null,null,null,null,null,null,null,null,null,null,null,null,0]
[null,null,null,null,null,null,null,null,null,null,null,null,null,null,"Number of Development Items",null,null,null,null,null,null,null,0]
[null,null,null,null,null,null,null,null,null,null,null,null,null,null,"Number of Development Support Items",null,null,null,null,null,null,null,0]
[null,null,null,null,null,null,null,null,null,null,null,null,null,null,null,null,null,null,null,null,null,null,0]
[null,null,null,null,null,null,null,null,null,null,null,null,null,null,null,null,null,null,null,null,null,null,1]
[null,null,null,null,null,null,null,null,null,null,null,null,null,null,null,null,null,null,null,null,null,null,0]

{"sheet":"COMPREHENSIVE","index":5,"n_rows":3370,"n_cols":23,"rows_kept":3370,"cut":false,"hidden":true,"merged":[[62,12,62,16],[1750,13,1751,13],[1750,14,1751,14],[1750,15,1751,15],[1675,13,1676,13],[1675,14,1676,14],[1675,15,1676,15],[1726,13,1727,13],[1726,14,1727,14],[1726,15,1727,15],[1738,13,1739,13],[1738,14,1739,14],[1738,15,1739,15],[1615,13,1616,13],[1615,14,1616,14],[1615,15,1616,15],[1627,13,1628,13],[1627,14,1628,14],[1627,15,1628,15],[1639,13,1640,13],[1639,14,1640,14],[1639,15,1640,15],[1516,13,1517,13],[1516,14,1517,14],[1516,15,1517,15],[1552,13,1553,13],[1552,14,1553,14],[1552,15,1553,15],[1603,13,1604,13],[1603,14,1604,14],[1603,15,1604,15],[1480,13,1481,13],[1480,14,1481,14],[1480,15,1481,15],[1492,13,1493,13],[1492,14,1493,14],[1492,15,1493,15],[1504,13,1505,13],[1504,14,1505,14],[1504,15,1505,15],[1393,13,1394,13],[1393,14,1394,14],[1393,15,1394,15],[1429,13,1430,13],[1429,14,1430,14],[1429,15,1430,15],[787,15,788,15],[910,14,911,14],[910,15,911,15],[946,13,947,13],[946,14,947,14],[946,15,947,15],[886,13,887,13],[886,14,887,14],[886,15,887,15],[898,13,899,13],[898,14,899,14],[898,15,899,15],[910,13,911,13],[874,15,875,15],[997,13,998,13],[997,14,998,14],[997,15,998,15],[1084,14,1085,14],[660,1,661,15],[823,13,824,13],[823,14,824,14],[823,15,824,15],[874,13,875,13],[874,14,875,14],[775,13,776,13],[775,14,776,14],[775,15,776,15],[787,13,788,13],[787,14,788,14],[763,13,764,13],[763,14,764,14],[763,15,764,15],[664,13,665,13],[664,14,665,14],[664,15,665,15],[700,13,701,13],[700,14,701,14],[700,15,701,15],[508,13,509,13],[508,14,509,14],[508,15,509,15],[484,13,485,13],[484,14,485,14],[484,15,485,15],[496,13,497,13],[496,14,497,14],[496,15,497,15],[346,13,347,13],[346,14,347,14],[346,15,347,15],[397,13,398,13],[397,14,398,14],[397,15,398,15],[433,13,434,13],[433,14,434,14],[433,15,434,15],[253,13,254,13],[253,14,254,14],[253,15,254,15],[305,1,306,12],[305,13,306,15],[307,1,308,15],[310,13,311,13],[310,14,311,14],[310,15,311,15],[6,2,8,14],[9,2,11,14],[15,1,16,12],[15,13,16,15],[17,1,20,15],[30,7,30,9],[38,7,38,9],[94,15,95,15],[43,2,43,4],[48,2,48,4],[56,2,56,4],[61,7,61,9],[56,7,56,9],[51,7,51,9],[46,7,46,9],[30,2,30,4],[38,2,38,4],[88,1,89,12],[88,13,89,15],[70,12,70,14],[78,12,78,14],[30,12,30,16],[38,12,38,16],[46,12,46,16],[54,12,54,16],[90,1,91,15],[94,13,95,13],[94,14,95,14],[751,13,752,13],[751,14,752,14],[751,15,752,15],[205,15,206,15],[658,1,659,12],[658,13,659,15],[217,13,218,13],[217,14,218,14],[217,15,218,15],[130,13,131,13],[130,14,131,14],[130,15,131,15],[181,13,182,13],[181,14,182,14],[181,15,182,15],[193,13,194,13],[193,14,194,14],[193,15,194,15],[205,13,206,13],[205,14,206,14],[1084,15,1085,15],[1120,13,1121,13],[1120,14,1121,14],[1120,15,1121,15],[1033,13,1034,13],[1033,14,1034,14],[1033,15,1034,15],[1084,13,1085,13],[1172,4,1172,6],[1172,7,1172,9],[1172,10,1172,12],[1172,13,1172,15],[1173,15,1174,15],[1173,4,1174,4],[1173,5,1174,5],[1173,6,1174,6],[1173,7,1174,7],[1173,8,1174,8],[1173,9,1174,9],[1173,10,1174,10],[1173,11,1174,11],[1173,12,1174,12],[1173,13,1174,13],[1173,14,1174,14],[1210,4,1210,6],[1210,7,1210,9],[1210,10,1210,12],[1210,13,1210,15],[1211,4,1212,4],[1211,5,1212,5],[1211,6,1212,6],[1211,7,1212,7],[1211,8,1212,8],[1211,9,1212,9],[1211,10,1212,10],[1211,11,1212,11],[1211,12,1212,12],[1211,13,1212,13],[1211,14,1212,14],[1211,15,1212,15],[1306,14,1307,14],[1306,15,1307,15],[1357,13,1358,13],[1357,14,1358,14],[1357,15,1358,15],[1369,13,1370,13],[1369,14,1370,14],[1369,15,1370,15],[1263,1,1264,12],[1263,13,1264,15],[1265,1,1267,15],[1270,13,1271,13],[1270,14,1271,14],[1270,15,1271,15],[1861,13,1862,13],[1861,14,1862,14],[1861,15,1862,15],[1873,13,1874,13],[1873,14,1874,14],[1873,15,1874,15],[71,3,72,4],[74,3,75,4],[1885,13,1886,13],[1885,14,1886,14],[1885,15,1886,15],[1762,13,1763,13],[1762,14,1763,14],[1762,15,1763,15],[1798,13,1799,13],[1798,14,1799,14],[1798,15,1799,15],[1849,13,1850,13],[1849,14,1850,14],[1849,15,1850,15],[1381,13,1382,13],[1381,14,1382,14],[1381,15,1382,15],[1306,13,1307,13],[1921,13,1922,13],[1921,14,1922,14],[1921,15,1922,15],[1972,13,1973,13],[1972,14,1973,14],[1972,15,1973,15],[1984,13,1985,13],[1984,14,1985,14],[1984,15,1985,15],[1996,13,1997,13],[1996,14,1997,14],[1996,15,1997,15],[2008,13,2009,13],[2008,14,2009,14],[2008,15,2009,15],[2044,13,2045,13],[2044,14,2045,14],[2044,15,2045,15],[2095,13,2096,13],[2095,14,2096,14],[2095,15,2096,15],[2107,13,2108,13],[2107,14,2108,14],[2107,15,2108,15],[2119,13,2120,13],[2119,14,2120,14],[2119,15,2120,15],[2131,13,2132,13],[2131,14,2132,14],[2131,15,2132,15],[2167,13,2168,13],[2167,14,2168,14],[2167,15,2168,15],[2218,13,2219,13],[2218,14,2219,14],[2218,15,2219,15],[2230,13,2231,13],[2230,14,2231,14],[2230,15,2231,15],[2242,13,2243,13],[2242,14,2243,14],[2242,15,2243,15],[2254,13,2255,13],[2254,14,2255,14],[2254,15,2255,15],[2290,13,2291,13],[2290,14,2291,14],[2290,15,2291,15],[2341,13,2342,13],[2341,14,2342,14],[2341,15,2342,15],[2353,13,2354,13],[2353,14,2354,14],[2353,15,2354,15],[2365,13,2366,13],[2365,14,2366,14],[2365,15,2366,15],[2377,13,2378,13],[2377,14,2378,14],[2377,15,2378,15],[2413,13,2414,13],[2413,14,2414,14],[2413,15,2414,15],[2464,13,2465,13],[2464,14,2465,14],[2464,15,2465,15],[2476,13,2477,13],[2476,14,2477,14],[2476,15,2477,15],[2488,13,2489,13],[2488,14,2489,14],[2488,15,2489,15],[2500,13,2501,13],[2500,14,2501,14],[2500,15,2501,15],[2536,13,2537,13],[2536,14,2537,14],[2536,15,2537,15],[2587,13,2588,13],[2587,14,2588,14],[2587,15,2588,15],[2599,13,2600,13],[2599,14,2600,14],[2599,15,2600,15],[2611,13,2612,13],[2611,14,2612,14],[2611,15,2612,15],[2623,13,2624,13],[2623,14,2624,14],[2623,15,2624,15],[2659,13,2660,13],[2659,14,2660,14],[2659,15,2660,15],[2710,13,2711,13],[2710,14,2711,14],[2710,15,2711,15],[2722,13,2723,13],[2722,14,2723,14],[2722,15,2723,15],[2734,13,2735,13],[2734,14,2735,14],[2734,15,2735,15],[2746,13,2747,13],[2746,14,2747,14],[2746,15,2747,15],[2782,13,2783,13],[2782,14,2783,14],[2782,15,2783,15],[2833,13,2834,13],[2833,14,2834,14],[2833,15,2834,15],[2845,13,2846,13],[2845,14,2846,14],[2845,15,2846,15],[2857,13,2858,13],[2857,14,2858,14],[2857,15,2858,15],[2869,13,2870,13],[2869,14,2870,14],[2869,15,2870,15],[2905,13,2906,13],[2905,14,2906,14],[2905,15,2906,15],[2956,13,2957,13],[2956,14,2957,14],[2956,15,2957,15],[2968,13,2969,13],[2968,14,2969,14],[2968,15,2969,15],[2980,13,2981,13],[2980,14,2981,14],[2980,15,2981,15],[2992,13,2993,13],[2992,14,2993,14],[2992,15,2993,15],[3028,13,3029,13],[3028,14,3029,14],[3028,15,3029,15],[3079,13,3080,13],[3079,14,3080,14],[3079,15,3080,15],[3091,13,3092,13],[3091,14,3092,14],[3091,15,3092,15],[3103,13,3104,13],[3103,14,3104,14],[3103,15,3104,15],[3116,1,3117,12],[3116,13,3117,15],[3118,1,3119,15],[3123,13,3124,13],[3123,14,3124,14],[3123,15,3124,15],[3159,13,3160,13],[3159,14,3160,14],[3159,15,3160,15],[3210,13,3211,13],[3210,14,3211,14],[3210,15,3211,15],[3222,13,3223,13],[3222,14,3223,14],[3222,15,3223,15],[3234,13,3235,13],[3234,14,3235,14],[3234,15,3235,15],[3246,13,3247,13],[3246,14,3247,14],[3246,15,3247,15],[3282,13,3283,13],[3282,14,3283,14],[3282,15,3283,15],[3333,13,3334,13],[3333,14,3334,14],[3333,15,3334,15],[3345,13,3346,13],[3345,14,3346,14],[3345,15,3346,15],[3357,13,3358,13],[3357,14,3358,14],[3357,15,3358,15]]}
[null,null,null,null,null,null,null,null,null,null,null,null,null,null,null,null,null,null,null,null,null,null,1]
[null,null,null,null,null,null,null,null,null,null,null,null,null,null,null,null,null,null,null,null,null,null,1]
[null,null,null,null,null,null,null,null,null,null,null,null,null,null,null,null,null,null,null,null,null,null,1]
[null,null,null,null,null,null,null,null,null,null,null,null,null,null,null,null,null,null,null,null,null,null,1]
[null,null,null,null,null,null,null,null,null,null,null,null,null,null,null,null,null,null,null,null,null,null,1]
[null,null,null,null,null,null,null,null,null,null,null,null,null,null,null,null,null,null,null,null,null,null,1]
[null,null,"COMPREHENSIVE ANALYSIS (OPTIONAL)",null,null,null,null,null,null,null,null,null,null,null,null,null,null,null,null,null,null,null,1]
[null,null,null,null,null,null,null,null,null,null,null,null,null,null,null,null,null,null,null,null,null,null,1]
[null,null,null,null,null,null,null,null,null,null,null,null,null,null,null,null,null,null,null,null,null,null,1]
[null,null,"This tab includes all required, or foundational, data elements for the workforce plan. These focus on providing totals for key data points, a breakdown by agency critical roles, and specific information on the executive team to meet mandated requirements.",null,null,null,null,null,null,null,null,null,null,null,null,null,null,null,null,null,null,null,1]
[null,null,null,null,null,null,null,null,null,null,null,null,null,null,null,null,null,null,null,null,null,null,1]
[null,null,null,null,null,null,null,null,null,null,null,null,null,null,null,null,null,null,null,null,null,null,1]
[null,null,null,null,null,null,null,null,null,null,null,null,null,null,null,null,null,null,null,null,null,null,1]
[null,null,null,null,null,null,null,null,null,null,null,null,null,null,null,null,null,null,null,null,null,null,1]
[null,null,null,null,null,null,null,null,null,null,null,null,null,null,null,null,null,null,null,null,null,null,1]
[null,"Step 1: Select the Fields to be Displayed",null,null,null,null,null,null,null,null,null,null,null,null,null,null,null,null,null,null,null,null,1]
[null,null,null,null,null,null,null,null,null,null,null,null,null,null,null,null,null,null,null,null,null,null,1]
[null,"INSTRUCTIONS: Please select which fields to enter data using the blue buttons below. You can further customize which fields are visible using the custom fields button and selecting \"enabled\" next to which fields to enter data. If not using macros, go to cell \"W1\",click the filter icon, click the box next to 0 and then click okay. Select which fields to be visible by selecting \"enabled\" next to the respective fields. After, go to cell \"W1\", click the filter icon, and then unclick the box next to 0 and then click okay.",null,null,null,null,null,null,null,null,null,null,null,null,null,null,null,null,null,null,null,null,1]
[null,null,null,null,null,null,null,null,null,null,null,null,null,null,null,null,null,null,null,null,null,null,1]
[null,null,null,null,null,null,null,null,null,null,null,null,null,null,null,null,null,null,null,null,null,null,1]
[null,null,null,null,null,null,null,null,null,null,null,null,null,null,null,null,null,null,null,null,null,null,1]
[null,null,null,null,null,null,null,null,null,null,null,null,null,null,null,null,null,null,null,null,null,null,1]
[null,null,null,null,null,null,null,null,null,null,null,null,null,null,null,null,null,null,null,null,null,null,1]
[null,null,null,null,null,null,null,null,null,null,null,null,null,null,null,null,null,null,null,null,null,null,1]
[null,null,null,null,null,null,null,null,null,null,null,null,null,null,null,null,null,null,null,null,null,null,1]
[null,null,null,null,null,null,null,null,null,null,null,null,null,null,null,null,null,null,null,null,null,null,1]
[null,null,null,null,null,null,null,null,null,null,null,null,null,null,null,null,null,null,null,null,null,null,1]
[null,null,null,null,null,null,null,null,null,null,null,null,null,null,null,null,null,null,null,null,null,null,1]
[null,null,null,null,null,null,null,null,null,null,null,null,null,null,null,null,null,null,null,null,null,null,0]
[null,null,null,null,null,null,null,null,null,null,null,null,null,null,null,null,null,null,null,null,null,null,0]
[null,null,"Total Employees",null,null,null,null,"Applicants",null,null,null,null,"Avg. Years of Service",null,null,null,null,null,null,null,null,null,0]
[null,null,"All","Leader","Executive",null,null,"All","Leader","Executive",null,null,"All","0-5 Yrs","First Year","Leader","Executive",null,null,null,null,null,0]
[null,"EEO Codes","Hidden","Hidden","Hidden",null,"EEO Codes","Hidden","Hidden","Hidden",null,"EEO Codes","Hidden","Hidden","Hidden","Hidden","Hidden",null,null,null,null,null,0]
[null,"Classification","Hidden","Hidden","Hidden",null,"Classification","Hidden","Hidden","Hidden",null,"Classification","Hidden","Hidden","Hidden","Hidden","Hidden",null,null,null,null,null,0]
[null,"Sex","Hidden","Hidden","Hidden",null,"Sex","Hidden","Hidden","Hidden",null,"Sex","Hidden","Hidden","Hidden","Hidden","Hidden",null,null,null,null,null,0]
[null,"Race","Hidden","Hidden","Hidden",null,"Race","Hidden","Hidden","Hidden",null,"Race","Hidden","Hidden","Hidden","Hidden","Hidden",null,null,null,null,null,0]
[null,"Veteran/Disability","Hidden","Hidden","Hidden",null,"Veteran/Disability","Hidden","Hidden","Hidden",null,"Veteran/Disability","Hidden","Hidden","Hidden","Hidden","Hidden",null,null,null,null,null,0]
[null,null,null,null,null,null,null,null,null,null,null,null,null,null,null,null,null,null,null,null,null,null,0]
[null,null,"Total Positions",null,null,null,null,"Hires",null,null,null,null,"Internal Promotions",null,null,null,null,null,null,null,null,null,0]
[null,null,"All","Leader","Executive",null,null,"All","Leader","Executive",null,null,"All","0-5 Yrs","First Year","Leader","Executive",null,null,null,null,null,0]
[null,"EEO Codes","Hidden","Hidden","Hidden",null,"EEO Codes","Hidden","Hidden","Hidden",null,"EEO Codes","Hidden","Hidden","Hidden","Hidden","Hidden",null,null,null,null,null,0]
[null,"Classification","Hidden","Hidden","Hidden",null,"Classification","Hidden","Hidden","Hidden",null,"Classification","Hidden","Hidden","Hidden","Hidden","Hidden",null,null,null,null,null,0]
[null,null,null,null,null,null,"Sex","Hidden","Hidden","Hidden",null,"Sex","Hidden","Hidden","Hidden","Hidden","Hidden",null,null,null,null,null,0]
[null,null,"Critical Roles",null,null,null,"Race","Hidden","Hidden","Hidden",null,"Race","Hidden","Hidden","Hidden","Hidden","Hidden",null,null,null,null,null,0]
[null,null,"All","Leader","Executive",null,"Veteran/Disability","Hidden","Hidden","Hidden",null,"Veteran/Disability","Hidden","Hidden","Hidden","Hidden","Hidden",null,null,null,null,null,0]
[null,"EEO Codes","Hidden","Hidden","Hidden",null,null,null,null,null,null,null,null,null,null,null,null,null,null,null,null,null,0]
[null,"Classification","Hidden","Hidden","Hidden",null,null,"Filled Positions",null,null,null,null,"Internal Transfers",null,null,null,null,null,null,null,null,null,0]
[null,null,null,null,null,null,null,"All","Leader","Executive",null,null,"All","0-5 Yrs","First Year","Leader","Executive",null,null,null,null,null,0]
[null,null,"Current Retirements",null,null,null,"EEO Codes","Hidden","Hidden","Hidden",null,"EEO Codes","Hidden","Hidden","Hidden","Hidden","Hidden",null,null,null,null,null,0]
[null,null,"All","Leader","Executive",null,"Classification","Hidden","Hidden","Hidden",null,"Classification","Hidden","Hidden","Hidden","Hidden","Hidden",null,null,null,null,null,0]
[null,"EEO Codes","Hidden","Hidden","Hidden",null,null,null,null,null,null,"Sex","Hidden","Hidden","Hidden","Hidden","Hidden",null,null,null,null,null,0]
[null,"Classification","Hidden","Hidden","Hidden",null,null,"Vacant Positions",null,null,null,"Race","Hidden","Hidden","Hidden","Hidden","Hidden",null,null,null,null,null,0]
[null,"Sex","Hidden","Hidden","Hidden",null,null,"All","Leader","Executive",null,"Veteran/Disability","Hidden","Hidden","Hidden","Hidden","Hidden",null,null,null,null,null,0]
[null,"Race","Hidden","Hidden","Hidden",null,"EEO Codes","Hidden","Hidden","Hidden",null,null,null,null,null,null,null,null,null,null,null,null,0]
[null,"Veteran/Disability","Hidden","Hidden","Hidden",null,"Classification","Hidden","Hidden","Hidden",null,null,"External Transfers",null,null,null,null,null,null,null,null,null,0]
[null,null,null,null,null,null,null,null,null,null,null,null,"All","0-5 Yrs","First Year","Leader","Executive",null,null,null,null,null,0]
[null,null,"Future Retirements",null,null,null,null,"Time to Fill",null,null,null,"EEO Codes","Hidden","Hidden","Hidden","Hidden","Hidden",null,null,null,null,null,0]
[null,null,"All","Leader","Executive",null,null,"All","Leader","Executive",null,"Classification","Hidden","Hidden","Hidden","Hidden","Hidden",null,null,null,null,null,0]
[null,"EEO Codes","Hidden","Hidden","Hidden",null,"EEO Codes","Hidden","Hidden","Hidden",null,"Sex","Hidden","Hidden","Hidden","Hidden","Hidden",null,null,null,null,null,0]
[null,"Classification","Hidden","Hidden","Hidden",null,"Classification","Hidden","Hidden","Hidden",null,"Race","Hidden","Hidden","Hidden","Hidden","Hidden",null,null,null,null,null,0]
[null,"Sex","Hidden","Hidden","Hidden",null,null,null,null,null,null,"Veteran/Disability","Hidden","Hidden","Hidden","Hidden","Hidden",null,null,null,null,null,0]
[null,"Race","Hidden","Hidden","Hidden",null,null,"Quarter TTF",null,null,null,null,null,null,null,null,null,null,null,null,null,null,0]
[null,"Veteran/Disability","Hidden","Hidden","Hidden",null,null,"All","Leader","Executive",null,null,"Voluntary Separations",null,null,null,null,null,null,null,null,null,0]
[null,null,null,null,null,null,"EEO Codes","Hidden","Hidden","Hidden",null,null,"All","0-5 Yrs","First Year","Leader","Executive",null,null,null,null,null,0]
[null,null,null,null,null,null,"Classification","Hidden","Hidden","Hidden",null,"EEO Codes","Hidden","Hidden","Hidden","Hidden","Hidden",null,null,null,null,null,0]
[null,null,null,null,null,null,null,null,null,null,null,"Classification","Hidden","Hidden","Hidden","Hidden","Hidden",null,null,null,null,null,0]
[null,null,null,null,null,null,null,null,null,null,null,"Sex","Hidden","Hidden","Hidden","Hidden","Hidden",null,null,null,null,null,0]
[null,null,null,null,null,null,null,null,null,null,null,"Race","Hidden","Hidden","Hidden","Hidden","Hidden",null,null,null,null,null,0]
[null,null,null,null,null,null,null,null,null,null,null,"Veteran/Disability","Hidden","Hidden","Hidden","Hidden","Hidden",null,null,null,null,null,0]
[null,null,null,null,null,null,null,null,null,null,null,null,null,null,null,null,null,null,null,null,null,null,0]
[null,null,null,null,null,null,null,null,null,null,null,null,"Internal Development",null,null,null,null,null,null,null,null,null,0]
[null,null,null,"Refresh Worksheet to                          See Fields",null,null,null,null,null,null,null,null,"All","Leader","Executive",null,null,null,null,null,null,null,0]
[null,null,null,null,null,null,null,null,null,null,null,"EEO Codes","Hidden","Hidden","Hidden",null,null,null,null,null,null,null,0]
[null,null,null,null,null,null,null,null,null,null,null,"Classification","Hidden","Hidden","Hidden",null,null,null,null,null,null,null,0]
[null,null,null,"Click button to hide custom fields.",null,null,null,null,null,null,null,"Sex","Hidden","Hidden","Hidden",null,null,null,null,null,null,null,0]
[null,null,null,null,null,null,null,null,null,null,null,"Race","Hidden","Hidden","Hidden",null,null,null,null,null,null,null,0]
[null,null,null,null,null,null,null,null,null,null,null,"Veteran/Disability","Hidden","Hidden","Hidden",null,null,null,null,null,null,null,0]
[null,null,null,null,null,null,null,null,null,null,null,null,null,null,null,null,null,null,null,null,null,null,0]
[null,null,null,null,null,null,null,null,null,null,null,null,"External Development",null,null,null,null,null,null,null,null,null,0]
[null,null,null,null,null,null,null,null,null,null,null,null,"All","Leader","Executive",null,null,null,null,null,null,null,0]
[null,null,null,null,null,null,null,null,null,null,null,"EEO Codes","Hidden","Hidden","Hidden",null,null,null,null,null,null,null,0]
[null,null,null,null,null,null,null,null,null,null,null,"Classification","Hidden","Hidden","Hidden",null,null,null,null,null,null,null,0]
[null,null,null,null,null,null,null,null,null,null,null,"Sex","Hidden","Hidden","Hidden",null,null,null,null,null,null,null,0]
[null,null,null,null,null,null,null,null,null,null,null,"Race","Hidden","Hidden","Hidden",null,null,null,null,null,null,null,0]
[null,null,null,null,null,null,null,null,null,null,null,"Veteran/Disability","Hidden","Hidden","Hidden",null,null,null,null,null,null,null,0]
[null,null,null,null,null,null,null,null,null,null,null,null,null,null,null,null,null,null,null,null,null,null,0]
[null,null,null,null,null,null,null,null,null,null,null,null,null,null,null,null,null,null,null,null,null,null,0]
[null,null,null,null,null,null,null,null,null,null,null,null,null,null,null,null,null,null,null,null,null,null,{"$f":"IF(COUNTIF($C$33:$E$37,\"enabled\")>0,1,0)","v":0}]
[null,"Step 1: Enter Overall Agency Information",null,null,null,null,null,null,null,null,null,null,null,null,null,null,null,null,null,null,null,null,{"$f":"IF(COUNTIF($C$33:$E$37,\"enabled\")>0,1,0)","v":0}]
[null,null,null,null,null,null,null,null,null,null,null,null,null,null,null,null,null,null,null,null,null,null,0]
[null,"INSTRUCTIONS: Please enter the total number of employees or positions for the respective data fields, focusing on overall aspects of the agency, in the boxes below. Executive positions are those noted on the Agency Profile tab.",null,null,null,null,null,null,null,null,null,null,null,null,null,null,null,null,null,null,null,null,0]
[null,null,null,null,null,null,null,null,null,null,null,null,null,null,null,null,null,null,null,null,null,null,0]
[null,null,null,null,null,null,null,null,null,null,null,null,null,null,null,null,null,null,null,null,null,null,0]
[null,null,null,null,null,null,null,null,null,null,null,null,null,null,null,"Total Employees by EEO Codes",null,null,null,null,null,null,{"$f":"IF(OR($C$33=\"enabled\",$D$33=\"enabled\",$E$33=\"enabled\"),1,0)","v":0}]
[null,null,null,null,null,null,null,null,null,null,null,null,null,{"$f":"'CENTRAL DATA'!$H$12","v":"FY-2"},{"$f":"'CENTRAL DATA'!$H$13","v":"FY-1"},{"$f":"IF(PROFILE!$L$43=\"Fiscal Year WFP\",'CENTRAL DATA'!$H$14,IF(PROFILE!$L$43=\"Snapshot\",CONCATENATE(\"As of \",TEXT(PROFILE!$N$44,\"mm/dd/yy\"),\"\")))","v":false},null,null,null,null,null,null,{"$f":"IF(OR($C$33=\"enabled\",$D$33=\"enabled\",$E$33=\"enabled\"),1,0)","v":0}]
[null,null,null,null,null,null,null,null,null,null,null,null,null,null,null,null,null,null,null,null,null,null,0]
[null,null,null,null,null,null,null,null,null,null,null,null,"Total EEO Code \"Officials and Administrators\" Employees","",null,null,null,null,null,null,null,null,{"$f":"IF(OR($C$33=\"enabled\"),1,0)","v":0}]
[null,null,null,null,null,null,null,null,null,null,null,null,"Total EEO Code \"Professionals\" Employees","",null,null,null,null,null,null,null,null,{"$f":"IF(OR($C$33=\"enabled\"),1,0)","v":0}]
[null,null,null,null,null,null,null,null,null,null,null,null,"Total EEO Code \"Technicians\" Employees","",null,null,null,null,null,null,null,null,0]
[null,null,null,null,null,null,null,null,null,null,null,null,"Total EEO Code \"Protective Service Workers\" Employees","",null,null,null,null,null,null,null,null,0]
[null,null,null,null,null,null,null,null,null,null,null,null,"Total EEO Code \"Paraprofessionals\" Employees","",null,null,null,null,null,null,null,null,0]
[null,null,null,null,null,null,null,null,null,null,null,null,"Total EEO Code \"Administrative Support\" Employees","",null,null,null,null,null,null,null,null,0]
[null,null,null,null,null,null,null,null,null,null,null,null,"Total EEO Code \"Skilled Craft Workers\" Employees","",null,null,null,null,null,null,null,null,0]
[null,null,null,null,null,null,null,null,null,null,null,null,"Total EEO Code \"Service/Maintenance\" Employees","",null,null,null,null,null,null,null,null,0]
[null,null,null,null,null,null,null,null,null,null,null,null,"Total EEO Code \"Faculty\" Employees","",null,null,null,null,null,null,null,null,0]
[null,null,null,null,null,null,null,null,null,null,null,null,"Total EEO Code \"Other\" Employees","",null,null,null,null,null,null,null,null,0]
[null,null,null,null,null,null,null,null,null,null,null,null,null,null,null,null,null,null,null,null,null,null,0]
[null,null,null,null,null,null,null,null,null,null,null,null,"Total EEO Code \"Officials and Administrators\" Leaders","",null,null,null,null,null,null,null,null,{"$f":"IF(OR($D$33=\"enabled\"),1,0)","v":0}]
[null,null,null,null,null,null,null,null,null,null,null,null,"Total EEO Code \"Professionals\" Leaders","",null,null,null,null,null,null,null,null,{"$f":"IF(OR($D$33=\"enabled\"),1,0)","v":0}]
[null,null,null,null,null,null,null,null,null,null,null,null,"Total EEO Code \"Technicians\" Leaders","",null,null,null,null,null,null,null,null,0]
[null,null,null,null,null,null,null,null,null,null,null,null,"Total EEO Code \"Protective Service Workers\" Leaders","",null,null,null,null,null,null,null,null,0]
[null,null,null,null,null,null,null,null,null,null,null,null,"Total EEO Code \"Paraprofessionals\" Leaders","",null,null,null,null,null,null,null,null,0]
[null,null,null,null,null,null,null,null,null,null,null,null,"Total EEO Code \"Administrative Support\" Leaders","",null,null,null,null,null,null,null,null,0]
[null,null,null,null,null,null,null,null,null,null,null,null,"Total EEO Code \"Skilled Craft Workers\" Leaders","",null,null,null,null,null,null,null,null,0]
[null,null,null,null,null,null,null,null,null,null,null,null,"Total EEO Code \"Service/Maintenance\" Leaders","",null,null,null,null,null,null,null,null,0]
[null,null,null,null,null,null,null,null,null,null,null,null,"Total EEO Code \"Faculty\" Leaders","",null,null,null,null,null,null,null,null,0]
[null,null,null,null,null,null,null,null,null,null,null,null,"Total EEO Code \"Other\" Leaders","",null,null,null,null,null,null,null,null,0]
[null,null,null,null,null,null,null,null,null,null,null,null,null,null,null,null,null,null,null,null,null,null,0]
[null,null,null,null,null,null,null,null,null,null,null,null,"Total EEO Code \"Officials and Administrators\" Executives","",null,null,null,null,null,null,null,null,{"$f":"IF(OR($E$33=\"enabled\"),1,0)","v":0}]
[null,null,null,null,null,null,null,null,null,null,null,null,"Total EEO Code \"Professionals\" Executives","",null,null,null,null,null,null,null,null,{"$f":"IF(OR($E$33=\"enabled\"),1,0)","v":0}]
[null,null,null,null,null,null,null,null,null,null,null,null,"Total EEO Code \"Technicians\" Executives","",null,null,null,null,null,null,null,null,0]
[null,null,null,null,null,null,null,null,null,null,null,null,"Total EEO Code \"Protective Service Workers\" Executives","",null,null,null,null,null,null,null,null,0]
[null,null,null,null,null,null,null,null,null,null,null,null,"Total EEO Code \"Paraprofessionals\" Executives","",null,null,null,null,null,null,null,null,0]
[null,null,null,null,null,null,null,null,null,null,null,null,"Total EEO Code \"Administrative Support\" Executives","",null,null,null,null,null,null,null,null,0]
[null,null,null,null,null,null,null,null,null,null,null,null,"Total EEO Code \"Skilled Craft Workers\" Executives","",null,null,null,null,null,null,null,null,0]
[null,null,null,null,null,null,null,null,null,null,null,null,"Total EEO Code \"Service/Maintenance\" Executives","",null,null,null,null,null,null,null,null,0]
[null,null,null,null,null,null,null,null,null,null,null,null,"Total EEO Code \"Faculty\" Executives","",null,null,null,null,null,null,null,null,0]
[null,null,null,null,null,null,null,null,null,null,null,null,"Total EEO Code \"Other\" Executives","",null,null,null,null,null,null,null,null,0]
[null,null,null,null,null,null,null,null,null,null,null,null,null,null,null,null,null,null,null,null,null,null,0]
[null,null,null,null,null,null,null,null,null,null,null,null,null,null,null,"Total Employees by Classifications",null,null,null,null,null,null,{"$f":"IF(OR($C$34=\"enabled\",$D$34=\"enabled\",$E$34=\"enabled\"),1,0)","v":0}]
[null,null,null,null,null,null,null,null,null,null,null,null,null,{"$f":"'CENTRAL DATA'!$H$12","v":"FY-2"},{"$f":"'CENTRAL DATA'!$H$13","v":"FY-1"},{"$f":"IF(PROFILE!$L$43=\"Fiscal Year WFP\",'CENTRAL DATA'!$H$14,IF(PROFILE!$L$43=\"Snapshot\",CONCATENATE(\"As of \",TEXT(PROFILE!$N$44,\"mm/dd/yy\"),\"\")))","v":false},null,null,null,null,null,null,{"$f":"IF(OR($C$34=\"enabled\",$D$34=\"enabled\",$E$34=\"enabled\"),1,0)","v":0}]
[null,null,null,null,null,null,null,null,null,null,null,null,null,null,null,null,null,null,null,null,null,null,0]
[null,null,{"$f":"COUNTIF(M133,\"*\"&PROFILE!$C$58&\"*\")","v":1},null,null,null,null,null,null,null,null,null,{"$f":"CONCATENATE(\"Total \",PROFILE!C58,\" Employees\")","v":"Total  Employees"},"",null,null,null,null,null,null,null,null,{"$f":"IF(AND(OR($C$34=\"enabled\"),C133=1),1,0)","v":0}]
[null,null,{"$f":"COUNTIF(M134,\"*\"&PROFILE!$C$59&\"*\")","v":1},null,null,null,null,null,null,null,null,null,{"$f":"CONCATENATE(\"Total \",PROFILE!C59,\" Employees\")","v":"Total  Employees"},"",null,null,null,null,null,null,null,null,{"$f":"IF(AND(OR($C$34=\"enabled\"),C134=1),1,0)","v":0}]
[null,null,{"$f":"COUNTIF(M135,\"*\"&PROFILE!$C$60&\"*\")","v":1},null,null,null,null,null,null,null,null,null,{"$f":"CONCATENATE(\"Total \",PROFILE!C60,\" Employees\")","v":"Total  Employees"},"",null,null,null,null,null,null,null,null,0]
[null,null,{"$f":"COUNTIF(M136,\"*\"&PROFILE!$C$61&\"*\")","v":1},null,null,null,null,null,null,null,null,null,{"$f":"CONCATENATE(\"Total \",PROFILE!C61,\" Employees\")","v":"Total  Employees"},"",null,null,null,null,null,null,null,null,0]
[null,null,{"$f":"COUNTIF(M137,\"*\"&PROFILE!$C$62&\"*\")","v":1},null,null,null,null,null,null,null,null,null,{"$f":"CONCATENATE(\"Total \",PROFILE!C62,\" Employees\")","v":"Total  Employees"},"",null,null,null,null,null,null,null,null,0]
[null,null,{"$f":"COUNTIF(M138,\"*\"&PROFILE!$C$63&\"*\")","v":1},null,null,null,null,null,null,null,null,null,{"$f":"CONCATENATE(\"Total \",PROFILE!C63,\" Employees\")","v":"Total  Employees"},"",null,null,null,null,null,null,null,null,0]
[null,null,{"$f":"COUNTIF(M139,\"*\"&PROFILE!$C$64&\"*\")","v":1},null,null,null,null,null,null,null,null,null,{"$f":"CONCATENATE(\"Total \",PROFILE!C64,\" Employees\")","v":"Total  Employees"},"",null,null,null,null,null,null,null,null,0]
[null,null,{"$f":"COUNTIF(M140,\"*\"&PROFILE!$C$65&\"*\")","v":1},null,null,null,null,null,null,null,null,null,{"$f":"CONCATENATE(\"Total \",PROFILE!C65,\" Employees\")","v":"Total  Employees"},"",null,null,null,null,null,null,null,null,0]
[null,null,{"$f":"COUNTIF(M141,\"*\"&PROFILE!$C$66&\"*\")","v":1},null,null,null,null,null,null,null,null,null,{"$f":"CONCATENATE(\"Total \",PROFILE!C66,\" Employees\")","v":"Total  Employees"},"",null,null,null,null,null,null,null,null,0]
[null,null,{"$f":"COUNTIF(M142,\"*\"&PROFILE!$C$67&\"*\")","v":1},null,null,null,null,null,null,null,null,null,{"$f":"CONCATENATE(\"Total \",PROFILE!C67,\" Employees\")","v":"Total  Employees"},"",null,null,null,null,null,null,null,null,0]
[null,null,{"$f":"COUNTIF(M143,\"*\"&PROFILE!$C$68&\"*\")","v":1},null,null,null,null,null,null,null,null,null,{"$f":"CONCATENATE(\"Total \",PROFILE!C68,\" Employees\")","v":"Total  Employees"},"",null,null,null,null,null,null,null,null,0]
[null,null,{"$f":"COUNTIF(M144,\"*\"&PROFILE!$C$69&\"*\")","v":1},null,null,null,null,null,null,null,null,null,{"$f":"CONCATENATE(\"Total \",PROFILE!C69,\" Employees\")","v":"Total  Employees"},"",null,null,null,null,null,null,null,null,0]
[null,null,{"$f":"COUNTIF(M145,\"*\"&PROFILE!$C$70&\"*\")","v":1},null,null,null,null,null,null,null,null,null,{"$f":"CONCATENATE(\"Total \",PROFILE!C70,\" Employees\")","v":"Total  Employees"},"",null,null,null,null,null,null,null,null,0]
[null,null,{"$f":"COUNTIF(M146,\"*\"&PROFILE!$C$71&\"*\")","v":1},null,null,null,null,null,null,null,null,null,{"$f":"CONCATENATE(\"Total \",PROFILE!C71,\" Employees\")","v":"Total  Employees"},"",null,null,null,null,null,null,null,null,0]
[null,null,{"$f":"COUNTIF(M147,\"*\"&PROFILE!$C$72&\"*\")","v":1},null,null,null,null,null,null,null,null,null,{"$f":"CONCATENATE(\"Total \",PROFILE!C72,\" Employees\")","v":"Total  Employees"},"",null,null,null,null,null,null,null,null,0]
[null,null,null,null,null,null,null,null,null,null,null,null,null,null,null,null,null,null,null,null,null,null,{"$f":"IF(OR($C$34=\"enabled\"),1,0)","v":0}]
[null,null,{"$f":"COUNTIF(M149,\"*\"&PROFILE!$C$58&\"*\")","v":1},null,null,null,null,null,null,null,null,null,{"$f":"CONCATENATE(\"Total \",PROFILE!C58,\" Leaders\")","v":"Total  Leaders"},"",null,null,null,null,null,null,null,null,{"$f":"IF(AND(OR($D$34=\"enabled\"),C149=1),1,0)","v":0}]
[null,null,{"$f":"COUNTIF(M150,\"*\"&PROFILE!$C$59&\"*\")","v":1},null,null,null,null,null,null,null,null,null,{"$f":"CONCATENATE(\"Total \",PROFILE!C59,\" Leaders\")","v":"Total  Leaders"},"",null,null,null,null,null,null,null,null,{"$f":"IF(AND(OR($D$34=\"enabled\"),C150=1),1,0)","v":0}]
[null,null,{"$f":"COUNTIF(M151,\"*\"&PROFILE!$C$60&\"*\")","v":1},null,null,null,null,null,null,null,null,null,{"$f":"CONCATENATE(\"Total \",PROFILE!C60,\" Leaders\")","v":"Total  Leaders"},"",null,null,null,null,null,null,null,null,0]
[null,null,{"$f":"COUNTIF(M152,\"*\"&PROFILE!$C$61&\"*\")","v":1},null,null,null,null,null,null,null,null,null,{"$f":"CONCATENATE(\"Total \",PROFILE!C61,\" Leaders\")","v":"Total  Leaders"},"",null,null,null,null,null,null,null,null,0]
[null,null,{"$f":"COUNTIF(M153,\"*\"&PROFILE!$C$62&\"*\")","v":1},null,null,null,null,null,null,null,null,null,{"$f":"CONCATENATE(\"Total \",PROFILE!C62,\" Leaders\")","v":"Total  Leaders"},"",null,null,null,null,null,null,null,null,0]
[null,null,{"$f":"COUNTIF(M154,\"*\"&PROFILE!$C$63&\"*\")","v":1},null,null,null,null,null,null,null,null,null,{"$f":"CONCATENATE(\"Total \",PROFILE!C63,\" Leaders\")","v":"Total  Leaders"},"",null,null,null,null,null,null,null,null,0]
[null,null,{"$f":"COUNTIF(M155,\"*\"&PROFILE!$C$64&\"*\")","v":1},null,null,null,null,null,null,null,null,null,{"$f":"CONCATENATE(\"Total \",PROFILE!C64,\" Leaders\")","v":"Total  Leaders"},"",null,null,null,null,null,null,null,null,0]
[null,null,{"$f":"COUNTIF(M156,\"*\"&PROFILE!$C$65&\"*\")","v":1},null,null,null,null,null,null,null,null,null,{"$f":"CONCATENATE(\"Total \",PROFILE!C65,\" Leaders\")","v":"Total  Leaders"},"",null,null,null,null,null,null,null,null,0]
[null,null,{"$f":"COUNTIF(M157,\"*\"&PROFILE!$C$66&\"*\")","v":1},null,null,null,null,null,null,null,null,null,{"$f":"CONCATENATE(\"Total \",PROFILE!C66,\" Leaders\")","v":"Total  Leaders"},"",null,null,null,null,null,null,null,null,0]
[null,null,{"$f":"COUNTIF(M158,\"*\"&PROFILE!$C$67&\"*\")","v":1},null,null,null,null,null,null,null,null,null,{"$f":"CONCATENATE(\"Total \",PROFILE!C67,\" Leaders\")","v":"Total  Leaders"},"",null,null,null,null,null,null,null,null,0]
[null,null,{"$f":"COUNTIF(M159,\"*\"&PROFILE!$C$68&\"*\")","v":1},null,null,null,null,null,null,null,null,null,{"$f":"CONCATENATE(\"Total \",PROFILE!C68,\" Leaders\")","v":"Total  Leaders"},"",null,null,null,null,null,null,null,null,0]
[null,null,{"$f":"COUNTIF(M160,\"*\"&PROFILE!$C$69&\"*\")","v":1},null,null,null,null,null,null,null,null,null,{"$f":"CONCATENATE(\"Total \",PROFILE!C69,\" Leaders\")","v":"Total  Leaders"},"",null,null,null,null,null,null,null,null,0]
[null,null,{"$f":"COUNTIF(M161,\"*\"&PROFILE!$C$70&\"*\")","v":1},null,null,null,null,null,null,null,null,null,{"$f":"CONCATENATE(\"Total \",PROFILE!C70,\" Leaders\")","v":"Total  Leaders"},"",null,null,null,null,null,null,null,null,0]
[null,null,{"$f":"COUNTIF(M162,\"*\"&PROFILE!$C$71&\"*\")","v":1},null,null,null,null,null,null,null,null,null,{"$f":"CONCATENATE(\"Total \",PROFILE!C71,\" Leaders\")","v":"Total  Leaders"},"",null,null,null,null,null,null,null,null,0]
[null,null,{"$f":"COUNTIF(M163,\"*\"&PROFILE!$C$72&\"*\")","v":1},null,null,null,null,null,null,null,null,null,{"$f":"CONCATENATE(\"Total \",PROFILE!C72,\" Leaders\")","v":"Total  Leaders"},"",null,null,null,null,null,null,null,null,0]
[null,null,null,null,null,null,null,null,null,null,null,null,null,null,null,null,null,null,null,null,null,null,{"$f":"IF(OR($D$34=\"enabled\"),1,0)","v":0}]
[null,null,{"$f":"COUNTIF(M165,\"*\"&PROFILE!$C$58&\"*\")","v":1},null,null,null,null,null,null,null,null,null,{"$f":"CONCATENATE(\"Total \",PROFILE!C58,\" Executives\")","v":"Total  Executives"},"",null,null,null,null,null,null,null,null,{"$f":"IF(AND(OR($E$34=\"enabled\"),C165=1),1,0)","v":0}]
[null,null,{"$f":"COUNTIF(M166,\"*\"&PROFILE!$C$59&\"*\")","v":1},null,null,null,null,null,null,null,null,null,{"$f":"CONCATENATE(\"Total \",PROFILE!C59,\" Executives\")","v":"Total  Executives"},"",null,null,null,null,null,null,null,null,{"$f":"IF(AND(OR($E$34=\"enabled\"),C166=1),1,0)","v":0}]
[null,null,{"$f":"COUNTIF(M167,\"*\"&PROFILE!$C$60&\"*\")","v":1},null,null,null,null,null,null,null,null,null,{"$f":"CONCATENATE(\"Total \",PROFILE!C60,\" Executives\")","v":"Total  Executives"},"",null,null,null,null,null,null,null,null,0]
[null,null,{"$f":"COUNTIF(M168,\"*\"&PROFILE!$C$61&\"*\")","v":1},null,null,null,null,null,null,null,null,null,{"$f":"CONCATENATE(\"Total \",PROFILE!C61,\" Executives\")","v":"Total  Executives"},"",null,null,null,null,null,null,null,null,0]
[null,null,{"$f":"COUNTIF(M169,\"*\"&PROFILE!$C$62&\"*\")","v":1},null,null,null,null,null,null,null,null,null,{"$f":"CONCATENATE(\"Total \",PROFILE!C62,\" Executives\")","v":"Total  Executives"},"",null,null,null,null,null,null,null,null,0]
[null,null,{"$f":"COUNTIF(M170,\"*\"&PROFILE!$C$63&\"*\")","v":1},null,null,null,null,null,null,null,null,null,{"$f":"CONCATENATE(\"Total \",PROFILE!C63,\" Executives\")","v":"Total  Executives"},"",null,null,null,null,null,null,null,null,0]
[null,null,{"$f":"COUNTIF(M171,\"*\"&PROFILE!$C$64&\"*\")","v":1},null,null,null,null,null,null,null,null,null,{"$f":"CONCATENATE(\"Total \",PROFILE!C64,\" Executives\")","v":"Total  Executives"},"",null,null,null,null,null,null,null,null,0]
[null,null,{"$f":"COUNTIF(M172,\"*\"&PROFILE!$C$65&\"*\")","v":1},null,null,null,null,null,null,null,null,null,{"$f":"CONCATENATE(\"Total \",PROFILE!C65,\" Executives\")","v":"Total  Executives"},"",null,null,null,null,null,null,null,null,0]
[null,null,{"$f":"COUNTIF(M173,\"*\"&PROFILE!$C$66&\"*\")","v":1},null,null,null,null,null,null,null,null,null,{"$f":"CONCATENATE(\"Total \",PROFILE!C66,\" Executives\")","v":"Total  Executives"},"",null,null,null,null,null,null,null,null,0]
[null,null,{"$f":"COUNTIF(M174,\"*\"&PROFILE!$C$67&\"*\")","v":1},null,null,null,null,null,null,null,null,null,{"$f":"CONCATENATE(\"Total \",PROFILE!C67,\" Executives\")","v":"Total  Executives"},"",null,null,null,null,null,null,null,null,0]
[null,null,{"$f":"COUNTIF(M175,\"*\"&PROFILE!$C$68&\"*\")","v":1},null,null,null,null,null,null,null,null,null,{"$f":"CONCATENATE(\"Total \",PROFILE!C68,\" Executives\")","v":"Total  Executives"},"",null,null,null,null,null,null,null,null,0]
[null,null,{"$f":"COUNTIF(M176,\"*\"&PROFILE!$C$69&\"*\")","v":1},null,null,null,null,null,null,null,null,null,{"$f":"CONCATENATE(\"Total \",PROFILE!C69,\" Executives\")","v":"Total  Executives"},"",null,null,null,null,null,null,null,null,0]
[null,null,{"$f":"COUNTIF(M177,\"*\"&PROFILE!$C$70&\"*\")","v":1},null,null,null,null,null,null,null,null,null,{"$f":"CONCATENATE(\"Total \",PROFILE!C70,\" Executives\")","v":"Total  Executives"},"",null,null,null,null,null,null,null,null,0]
[null,null,{"$f":"COUNTIF(M178,\"*\"&PROFILE!$C$71&\"*\")","v":1},null,null,null,null,null,null,null,null,null,{"$f":"CONCATENATE(\"Total \",PROFILE!C71,\" Executives\")","v":"Total  Executives"},"",null,null,null,null,null,null,null,null,0]
[null,null,{"$f":"COUNTIF(M179,\"*\"&PROFILE!$C$72&\"*\")","v":1},null,null,null,null,null,null,null,null,null,{"$f":"CONCATENATE(\"Total \",PROFILE!C72,\" Executives\")","v":"Total  Executives"},"",null,null,null,null,null,null,null,null,0]
[null,null,null,null,null,null,null,null,null,null,null,null,null,null,null,null,null,null,null,null,null,null,{"$f":"IF(OR($E$34=\"enabled\"),1,0)","v":0}]
[null,null,null,null,null,null,null,null,null,null,null,null,null,null,null,"Total Employees by Sex",null,null,null,null,null,null,{"$f":"IF(OR($C$35=\"enabled\",$D$35=\"enabled\",$E$35=\"enabled\"),1,0)","v":0}]
[null,null,null,null,null,null,null,null,null,null,null,null,null,{"$f":"'CENTRAL DATA'!$H$12","v":"FY-2"},{"$f":"'CENTRAL DATA'!$H$13","v":"FY-1"},{"$f":"IF(PROFILE!$L$43=\"Fiscal Year WFP\",'CENTRAL DATA'!$H$14,IF(PROFILE!$L$43=\"Snapshot\",CONCATENATE(\"As of \",TEXT(PROFILE!$N$44,\"mm/dd/yy\"),\"\")))","v":false},null,null,null,null,null,null,{"$f":"IF(OR($C$35=\"enabled\",$D$35=\"enabled\",$E$35=\"enabled\"),1,0)","v":0}]
[null,null,null,null,null,null,null,null,null,null,null,null,null,null,null,null,null,null,null,null,null,null,0]
[null,null,null,null,null,null,null,null,null,null,null,null,"Male","",null,null,null,null,null,null,null,null,{"$f":"IF(OR($C$35=\"enabled\"),1,0)","v":0}]
[null,null,null,null,null,null,null,null,null,null,null,null,"Female","",null,null,null,null,null,null,null,null,{"$f":"IF(OR($C$35=\"enabled\"),1,0)","v":0}]
[null,null,null,null,null,null,null,null,null,null,null,null,null,null,null,null,null,null,null,null,null,null,0]
[null,null,null,null,null,null,null,null,null,null,null,null,"Male Leaders","",null,null,null,null,null,null,null,null,{"$f":"IF(OR($D$35=\"enabled\"),1,0)","v":0}]
[null,null,null,null,null,null,null,null,null,null,null,null,"Female Leaders","",null,null,null,null,null,null,null,null,{"$f":"IF(OR($D$35=\"enabled\"),1,0)","v":0}]
[null,null,null,null,null,null,null,null,null,null,null,null,null,null,null,null,null,null,null,null,null,null,0]
[null,null,null,null,null,null,null,null,null,null,null,null,"Male Executives","",null,null,null,null,null,null,null,null,{"$f":"IF(OR($E$35=\"enabled\"),1,0)","v":0}]
[null,null,null,null,null,null,null,null,null,null,null,null,"Female Executives","",null,null,null,null,null,null,null,null,{"$f":"IF(OR($E$35=\"enabled\"),1,0)","v":0}]
[null,null,null,null,null,null,null,null,null,null,null,null,null,null,null,null,null,null,null,null,null,null,0]
[null,null,null,null,null,null,null,null,null,null,null,null,null,null,null,"Total Employees by Race",null,null,null,null,null,null,{"$f":"IF(OR($C$36=\"enabled\",$D$36=\"enabled\",$E$36=\"enabled\"),1,0)","v":0}]
[null,null,null,null,null,null,null,null,null,null,null,null,null,{"$f":"'CENTRAL DATA'!$H$12","v":"FY-2"},{"$f":"'CENTRAL DATA'!$H$13","v":"FY-1"},{"$f":"IF(PROFILE!$L$43=\"Fiscal Year WFP\",'CENTRAL DATA'!$H$14,IF(PROFILE!$L$43=\"Snapshot\",CONCATENATE(\"As of \",TEXT(PROFILE!$N$44,\"mm/dd/yy\"),\"\")))","v":false},null,null,null,null,null,null,{"$f":"IF(OR($C$36=\"enabled\",$D$36=\"enabled\",$E$36=\"enabled\"),1,0)","v":0}]
[null,null,null,null,null,null,null,null,null,null,null,null,null,null,null,null,null,null,null,null,null,null,0]
[null,null,null,null,null,null,null,null,null,null,null,null,"Employees who are minorities","",null,null,null,null,null,null,null,null,{"$f":"IF(OR($C$36=\"enabled\"),1,0)","v":0}]
[null,null,null,null,null,null,null,null,null,null,null,null,"Employees who are NOT minorities","",null,null,null,null,null,null,null,null,{"$f":"IF(OR($C$36=\"enabled\"),1,0)","v":0}]
[null,null,null,null,null,null,null,null,null,null,null,null,null,null,null,null,null,null,null,null,null,null,0]
[null,null,null,null,null,null,null,null,null,null,null,null,"Leaders who are minorities","",null,null,null,null,null,null,null,null,{"$f":"IF(OR($D$36=\"enabled\"),1,0)","v":0}]
[null,null,null,null,null,null,null,null,null,null,null,null,"Leaders who are NOT minorities","",null,null,null,null,null,null,null,null,{"$f":"IF(OR($D$36=\"enabled\"),1,0)","v":0}]
[null,null,null,null,null,null,null,null,null,null,null,null,null,null,null,null,null,null,null,null,null,null,0]
[null,null,null,null,null,null,null,null,null,null,null,null,"Executives who are minorities","",null,null,null,null,null,null,null,null,{"$f":"IF(OR($E$36=\"enabled\"),1,0)","v":0}]
[null,null,null,null,null,null,null,null,null,null,null,null,"Executives who are NOT minorities","",null,null,null,null,null,null,null,null,{"$f":"IF(OR($E$36=\"enabled\"),1,0)","v":0}]
[null,null,null,null,null,null,null,null,null,null,null,null,null,null,null,null,null,null,null,null,null,null,0]
[null,null,null,null,null,null,null,null,null,null,null,null,null,null,null,"Total Employees of Additional Demographics",null,null,null,null,null,null,{"$f":"IF(OR($C$37=\"enabled\",$D$37=\"enabled\",$E$37=\"enabled\"),1,0)","v":0}]
[null,null,null,null,null,null,null,null,null,null,null,null,null,{"$f":"'CENTRAL DATA'!$H$12","v":"FY-2"},{"$f":"'CENTRAL DATA'!$H$13","v":"FY-1"},{"$f":"IF(PROFILE!$L$43=\"Fiscal Year WFP\",'CENTRAL DATA'!$H$14,IF(PROFILE!$L$43=\"Snapshot\",CONCATENATE(\"As of \",TEXT(PROFILE!$N$44,\"mm/dd/yy\"),\"\")))","v":false},null,null,null,null,null,null,{"$f":"IF(OR($C$37=\"enabled\",$D$37=\"enabled\",$E$37=\"enabled\"),1,0)","v":0}]
[null,null,null,null,null,null,null,null,null,null,null,null,null,null,null,null,null,null,null,null,null,null,0]
[null,null,null,null,null,null,null,null,null,null,null,null,"Employees with Disabilities","",null,null,null,null,null,null,null,null,{"$f":"IF(OR($C$37=\"enabled\"),1,0)","v":0}]
[null,null,null,null,null,null,null,null,null,null,null,null,"Employees who are Veterans","",null,null,null,null,null,null,null,null,{"$f":"IF(OR($C$37=\"enabled\"),1,0)","v":0}]
[null,null,null,null,null,null,null,null,null,null,null,null,null,null,null,null,null,null,null,null,null,null,0]
[null,null,null,null,null,null,null,null,null,null,null,null,"Leaders with Disabilities","",null,null,null,null,null,null,null,null,{"$f":"IF(OR($D$37=\"enabled\"),1,0)","v":0}]
[null,null,null,null,null,null,null,null,null,null,null,null,"Leaders who are Veterans","",null,null,null,null,null,null,null,null,{"$f":"IF(OR($D$37=\"enabled\"),1,0)","v":0}]
[null,null,null,null,null,null,null,null,null,null,null,null,null,null,null,null,null,null,null,null,null,null,0]
[null,null,null,null,null,null,null,null,null,null,null,null,"Executives with Disabilities","",null,null,null,null,null,null,null,null,{"$f":"IF(OR($E$37=\"enabled\"),1,0)","v":0}]
[null,null,null,null,null,null,null,null,null,null,null,null,"Executives who are Veterans","",null,null,null,null,null,null,null,null,{"$f":"IF(OR($E$37=\"enabled\"),1,0)","v":0}]
[null,null,null,null,null,null,null,null,null,null,null,null,null,null,null,null,null,null,null,null,null,null,0]
[null,null,null,null,null,null,null,null,null,null,null,null,null,null,null,"Total Positions by EEO Codes",null,null,null,null,null,null,{"$f":"IF(COUNTIF($C$41:$E$41,\"enabled\")>0,1,0)","v":0}]
[null,null,null,null,null,null,null,null,null,null,null,null,null,{"$f":"'CENTRAL DATA'!$H$12","v":"FY-2"},{"$f":"'CENTRAL DATA'!$H$13","v":"FY-1"},{"$f":"IF(PROFILE!$L$43=\"Fiscal Year WFP\",'CENTRAL DATA'!$H$14,IF(PROFILE!$L$43=\"Snapshot\",CONCATENATE(\"As of \",TEXT(PROFILE!$N$44,\"mm/dd/yy\"),\"\")))","v":false},null,null,null,null,null,null,{"$f":"IF(COUNTIF($C$41:$E$41,\"enabled\")>0,1,0)","v":0}]
[null,null,null,null,null,null,null,null,null,null,null,null,null,null,null,null,null,null,null,null,null,null,0]
[null,null,null,null,null,null,null,null,null,null,null,null,"Total EEO Code \"Officials and Administrators\" Positions","",null,null,null,null,null,null,null,null,{"$f":"IF(OR($C$41=\"enabled\"),1,0)","v":0}]
[null,null,null,null,null,null,null,null,null,null,null,null,"Total EEO Code \"Professionals\" Positions","",null,null,null,null,null,null,null,null,{"$f":"IF(OR($C$41=\"enabled\"),1,0)","v":0}]
[null,null,null,null,null,null,null,null,null,null,null,null,"Total EEO Code \"Technicians\" Positions","",null,null,null,null,null,null,null,null,0]
[null,null,null,null,null,null,null,null,null,null,null,null,"Total EEO Code \"Protective Service Workers\" Positions","",null,null,null,null,null,null,null,null,0]
[null,null,null,null,null,null,null,null,null,null,null,null,"Total EEO Code \"Paraprofessionals\" Positions","",null,null,null,null,null,null,null,null,0]
[null,null,null,null,null,null,null,null,null,null,null,null,"Total EEO Code \"Administrative Support\" Positions","",null,null,null,null,null,null,null,null,0]
[null,null,null,null,null,null,null,null,null,null,null,null,"Total EEO Code \"Skilled Craft Workers\" Positions","",null,null,null,null,null,null,null,null,0]
[null,null,null,null,null,null,null,null,null,null,null,null,"Total EEO Code \"Service/Maintenance\" Positions","",null,null,null,null,null,null,null,null,0]
[null,null,null,null,null,null,null,null,null,null,null,null,"Total EEO Code \"Faculty\" Positions","",null,null,null,null,null,null,null,null,0]
[null,null,null,null,null,null,null,null,null,null,null,null,"Total EEO Code \"Other\" Positions","",null,null,null,null,null,null,null,null,0]
[null,null,null,null,null,null,null,null,null,null,null,null,null,null,null,null,null,null,null,null,null,null,0]
[null,null,null,null,null,null,null,null,null,null,null,null,"Total EEO Code \"Officials and Administrators\" Leader Positions","",null,null,null,null,null,null,null,null,{"$f":"IF(OR($D$41=\"enabled\"),1,0)","v":0}]
[null,null,null,null,null,null,null,null,null,null,null,null,"Total EEO Code \"Professionals\" Leader Positions","",null,null,null,null,null,null,null,null,{"$f":"IF(OR($D$41=\"enabled\"),1,0)","v":0}]
[null,null,null,null,null,null,null,null,null,null,null,null,"Total EEO Code \"Technicians\" Leader Positions","",null,null,null,null,null,null,null,null,0]
[null,null,null,null,null,null,null,null,null,null,null,null,"Total EEO Code \"Protective Service Workers\" Leader Positions","",null,null,null,null,null,null,null,null,0]
[null,null,null,null,null,null,null,null,null,null,null,null,"Total EEO Code \"Paraprofessionals\" Leader Positions","",null,null,null,null,null,null,null,null,0]
[null,null,null,null,null,null,null,null,null,null,null,null,"Total EEO Code \"Administrative Support\" Leader Positions","",null,null,null,null,null,null,null,null,0]
[null,null,null,null,null,null,null,null,null,null,null,null,"Total EEO Code \"Skilled Craft Workers\" Leader Positions","",null,null,null,null,null,null,null,null,0]
[null,null,null,null,null,null,null,null,null,null,null,null,"Total EEO Code \"Service/Maintenance\" Leader Positions","",null,null,null,null,null,null,null,null,0]
[null,null,null,null,null,null,null,null,null,null,null,null,"Total EEO Code \"Faculty\" Leader Positions","",null,null,null,null,null,null,null,null,0]
[null,null,null,null,null,null,null,null,null,null,null,null,"Total EEO Code \"Other\" Leader Positions","",null,null,null,null,null,null,null,null,0]
[null,null,null,null,null,null,null,null,null,null,null,null,null,null,null,null,null,null,null,null,null,null,0]
[null,null,null,null,null,null,null,null,null,null,null,null,"Total EEO Code \"Officials and Administrators\" Executive Positions","",null,null,null,null,null,null,null,null,{"$f":"IF(OR($E$41=\"enabled\"),1,0)","v":0}]
[null,null,null,null,null,null,null,null,null,null,null,null,"Total EEO Code \"Professionals\" Executive Positions","",null,null,null,null,null,null,null,null,{"$f":"IF(OR($E$41=\"enabled\"),1,0)","v":0}]
[null,null,null,null,null,null,null,null,null,null,null,null,"Total EEO Code \"Technicians\" Executive Positions","",null,null,null,null,null,null,null,null,0]
[null,null,null,null,null,null,null,null,null,null,null,null,"Total EEO Code \"Protective Service Workers\" Executive Positions","",null,null,null,null,null,null,null,null,0]
[null,null,null,null,null,null,null,null,null,null,null,null,"Total EEO Code \"Paraprofessionals\" Executive Positions","",null,null,null,null,null,null,null,null,0]
[null,null,null,null,null,null,null,null,null,null,null,null,"Total EEO Code \"Administrative Support\" Executive Positions","",null,null,null,null,null,null,null,null,0]
[null,null,null,null,null,null,null,null,null,null,null,null,"Total EEO Code \"Skilled Craft Workers\" Executive Positions","",null,null,null,null,null,null,null,null,0]
[null,null,null,null,null,null,null,null,null,null,null,null,"Total EEO Code \"Service/Maintenance\" Executive Positions","",null,null,null,null,null,null,null,null,0]
[null,null,null,null,null,null,null,null,null,null,null,null,"Total EEO Code \"Faculty\" Executive Positions","",null,null,null,null,null,null,null,null,0]
[null,null,null,null,null,null,null,null,null,null,null,null,"Total EEO Code \"Other\" Executive Positions","",null,null,null,null,null,null,null,null,0]
[null,null,null,null,null,null,null,null,null,null,null,null,null,null,null,null,null,null,null,null,null,null,0]
[null,null,null,null,null,null,null,null,null,null,null,null,null,null,null,"Total Positions by Classifications",null,null,null,null,null,null,{"$f":"IF(OR($C$42=\"enabled\",$D$42=\"enabled\",$E$42=\"enabled\"),1,0)","v":0}]
[null,null,null,null,null,null,null,null,null,null,null,null,null,{"$f":"'CENTRAL DATA'!$H$12","v":"FY-2"},{"$f":"'CENTRAL DATA'!$H$13","v":"FY-1"},{"$f":"IF(PROFILE!$L$43=\"Fiscal Year WFP\",'CENTRAL DATA'!$H$14,IF(PROFILE!$L$43=\"Snapshot\",CONCATENATE(\"As of \",TEXT(PROFILE!$N$44,\"mm/dd/yy\"),\"\")))","v":false},null,null,null,null,null,null,{"$f":"IF(OR($C$42=\"enabled\",$D$42=\"enabled\",$E$42=\"enabled\"),1,0)","v":0}]
[null,null,null,null,null,null,null,null,null,null,null,null,null,null,null,null,null,null,null,null,null,null,0]
[null,null,{"$f":"COUNTIF(M256,\"*\"&PROFILE!$C$58&\"*\")","v":1},null,null,null,null,null,null,null,null,null,{"$f":"CONCATENATE(\"Total \",PROFILE!C58,\" Positions\")","v":"Total  Positions"},"",null,null,null,null,null,null,null,null,{"$f":"IF(AND(OR($C$42=\"enabled\"),C256),1,0)","v":0}]
[null,null,{"$f":"COUNTIF(M257,\"*\"&PROFILE!$C$59&\"*\")","v":1},null,null,null,null,null,null,null,null,null,{"$f":"CONCATENATE(\"Total \",PROFILE!C59,\" Positions\")","v":"Total  Positions"},"",null,null,null,null,null,null,null,null,{"$f":"IF(AND(OR($C$42=\"enabled\"),C257),1,0)","v":0}]
[null,null,{"$f":"COUNTIF(M258,\"*\"&PROFILE!$C$60&\"*\")","v":1},null,null,null,null,null,null,null,null,null,{"$f":"CONCATENATE(\"Total \",PROFILE!C60,\" Positions\")","v":"Total  Positions"},"",null,null,null,null,null,null,null,null,0]
[null,null,{"$f":"COUNTIF(M259,\"*\"&PROFILE!$C$61&\"*\")","v":1},null,null,null,null,null,null,null,null,null,{"$f":"CONCATENATE(\"Total \",PROFILE!C61,\" Positions\")","v":"Total  Positions"},"",null,null,null,null,null,null,null,null,0]
[null,null,{"$f":"COUNTIF(M260,\"*\"&PROFILE!$C$62&\"*\")","v":1},null,null,null,null,null,null,null,null,null,{"$f":"CONCATENATE(\"Total \",PROFILE!C62,\" Positions\")","v":"Total  Positions"},"",null,null,null,null,null,null,null,null,0]
[null,null,{"$f":"COUNTIF(M261,\"*\"&PROFILE!$C$63&\"*\")","v":1},null,null,null,null,null,null,null,null,null,{"$f":"CONCATENATE(\"Total \",PROFILE!C63,\" Positions\")","v":"Total  Positions"},"",null,null,null,null,null,null,null,null,0]
[null,null,{"$f":"COUNTIF(M262,\"*\"&PROFILE!$C$64&\"*\")","v":1},null,null,null,null,null,null,null,null,null,{"$f":"CONCATENATE(\"Total \",PROFILE!C64,\" Positions\")","v":"Total  Positions"},"",null,null,null,null,null,null,null,null,0]
[null,null,{"$f":"COUNTIF(M263,\"*\"&PROFILE!$C$65&\"*\")","v":1},null,null,null,null,null,null,null,null,null,{"$f":"CONCATENATE(\"Total \",PROFILE!C65,\" Positions\")","v":"Total  Positions"},"",null,null,null,null,null,null,null,null,0]
[null,null,{"$f":"COUNTIF(M264,\"*\"&PROFILE!$C$66&\"*\")","v":1},null,null,null,null,null,null,null,null,null,{"$f":"CONCATENATE(\"Total \",PROFILE!C66,\" Positions\")","v":"Total  Positions"},"",null,null,null,null,null,null,null,null,0]
[null,null,{"$f":"COUNTIF(M265,\"*\"&PROFILE!$C$67&\"*\")","v":1},null,null,null,null,null,null,null,null,null,{"$f":"CONCATENATE(\"Total \",PROFILE!C67,\" Positions\")","v":"Total  Positions"},"",null,null,null,null,null,null,null,null,0]
[null,null,{"$f":"COUNTIF(M266,\"*\"&PROFILE!$C$68&\"*\")","v":1},null,null,null,null,null,null,null,null,null,{"$f":"CONCATENATE(\"Total \",PROFILE!C68,\" Positions\")","v":"Total  Positions"},"",null,null,null,null,null,null,null,null,0]
[null,null,{"$f":"COUNTIF(M267,\"*\"&PROFILE!$C$69&\"*\")","v":1},null,null,null,null,null,null,null,null,null,{"$f":"CONCATENATE(\"Total \",PROFILE!C69,\" Positions\")","v":"Total  Positions"},"",null,null,null,null,null,null,null,null,0]
[null,null,{"$f":"COUNTIF(M268,\"*\"&PROFILE!$C$70&\"*\")","v":1},null,null,null,null,null,null,null,null,null,{"$f":"CONCATENATE(\"Total \",PROFILE!C70,\" Positions\")","v":"Total  Positions"},"",null,null,null,null,null,null,null,null,0]
[null,null,{"$f":"COUNTIF(M269,\"*\"&PROFILE!$C$71&\"*\")","v":1},null,null,null,null,null,null,null,null,null,{"$f":"CONCATENATE(\"Total \",PROFILE!C71,\" Positions\")","v":"Total  Positions"},"",null,null,null,null,null,null,null,null,0]
[null,null,{"$f":"COUNTIF(M270,\"*\"&PROFILE!$C$72&\"*\")","v":1},null,null,null,null,null,null,null,null,null,{"$f":"CONCATENATE(\"Total \",PROFILE!C72,\" Positions\")","v":"Total  Positions"},"",null,null,null,null,null,null,null,null,0]
[null,null,null,null,null,null,null,null,null,null,null,null,null,null,null,null,null,null,null,null,null,null,{"$f":"IF(OR($C$42=\"enabled\"),1,0)","v":0}]
[null,null,{"$f":"COUNTIF(M272,\"*\"&PROFILE!$C$58&\"*\")","v":1},null,null,null,null,null,null,null,null,null,{"$f":"CONCATENATE(\"Total \",PROFILE!C58,\" Leader Positions\")","v":"Total  Leader Positions"},"",null,null,null,null,null,null,null,null,{"$f":"IF(AND(OR($D$42=\"enabled\"),C272),1,0)","v":0}]
[null,null,{"$f":"COUNTIF(M273,\"*\"&PROFILE!$C$59&\"*\")","v":1},null,null,null,null,null,null,null,null,null,{"$f":"CONCATENATE(\"Total \",PROFILE!C59,\" Leader Positions\")","v":"Total  Leader Positions"},"",null,null,null,null,null,null,null,null,{"$f":"IF(AND(OR($D$42=\"enabled\"),C273),1,0)","v":0}]
[null,null,{"$f":"COUNTIF(M274,\"*\"&PROFILE!$C$60&\"*\")","v":1},null,null,null,null,null,null,null,null,null,{"$f":"CONCATENATE(\"Total \",PROFILE!C60,\" Leader Positions\")","v":"Total  Leader Positions"},"",null,null,null,null,null,null,null,null,0]
[null,null,{"$f":"COUNTIF(M275,\"*\"&PROFILE!$C$61&\"*\")","v":1},null,null,null,null,null,null,null,null,null,{"$f":"CONCATENATE(\"Total \",PROFILE!C61,\" Leader Positions\")","v":"Total  Leader Positions"},"",null,null,null,null,null,null,null,null,0]
[null,null,{"$f":"COUNTIF(M276,\"*\"&PROFILE!$C$62&\"*\")","v":1},null,null,null,null,null,null,null,null,null,{"$f":"CONCATENATE(\"Total \",PROFILE!C62,\" Leader Positions\")","v":"Total  Leader Positions"},"",null,null,null,null,null,null,null,null,0]
[null,null,{"$f":"COUNTIF(M277,\"*\"&PROFILE!$C$63&\"*\")","v":1},null,null,null,null,null,null,null,null,null,{"$f":"CONCATENATE(\"Total \",PROFILE!C63,\" Leader Positions\")","v":"Total  Leader Positions"},"",null,null,null,null,null,null,null,null,0]
[null,null,{"$f":"COUNTIF(M278,\"*\"&PROFILE!$C$64&\"*\")","v":1},null,null,null,null,null,null,null,null,null,{"$f":"CONCATENATE(\"Total \",PROFILE!C64,\" Leader Positions\")","v":"Total  Leader Positions"},"",null,null,null,null,null,null,null,null,0]
[null,null,{"$f":"COUNTIF(M279,\"*\"&PROFILE!$C$65&\"*\")","v":1},null,null,null,null,null,null,null,null,null,{"$f":"CONCATENATE(\"Total \",PROFILE!C65,\" Leader Positions\")","v":"Total  Leader Positions"},"",null,null,null,null,null,null,null,null,0]
[null,null,{"$f":"COUNTIF(M280,\"*\"&PROFILE!$C$66&\"*\")","v":1},null,null,null,null,null,null,null,null,null,{"$f":"CONCATENATE(\"Total \",PROFILE!C66,\" Leader Positions\")","v":"Total  Leader Positions"},"",null,null,null,null,null,null,null,null,0]
[null,null,{"$f":"COUNTIF(M281,\"*\"&PROFILE!$C$67&\"*\")","v":1},null,null,null,null,null,null,null,null,null,{"$f":"CONCATENATE(\"Total \",PROFILE!C67,\" Leader Positions\")","v":"Total  Leader Positions"},"",null,null,null,null,null,null,null,null,0]
[null,null,{"$f":"COUNTIF(M282,\"*\"&PROFILE!$C$68&\"*\")","v":1},null,null,null,null,null,null,null,null,null,{"$f":"CONCATENATE(\"Total \",PROFILE!C68,\" Leader Positions\")","v":"Total  Leader Positions"},"",null,null,null,null,null,null,null,null,0]
[null,null,{"$f":"COUNTIF(M283,\"*\"&PROFILE!$C$69&\"*\")","v":1},null,null,null,null,null,null,null,null,null,{"$f":"CONCATENATE(\"Total \",PROFILE!C69,\" Leader Positions\")","v":"Total  Leader Positions"},"",null,null,null,null,null,null,null,null,0]
[null,null,{"$f":"COUNTIF(M284,\"*\"&PROFILE!$C$70&\"*\")","v":1},null,null,null,null,null,null,null,null,null,{"$f":"CONCATENATE(\"Total \",PROFILE!C70,\" Leader Positions\")","v":"Total  Leader Positions"},"",null,null,null,null,null,null,null,null,0]
[null,null,{"$f":"COUNTIF(M285,\"*\"&PROFILE!$C$71&\"*\")","v":1},null,null,null,null,null,null,null,null,null,{"$f":"CONCATENATE(\"Total \",PROFILE!C71,\" Leader Positions\")","v":"Total  Leader Positions"},"",null,null,null,null,null,null,null,null,0]
[null,null,{"$f":"COUNTIF(M286,\"*\"&PROFILE!$C$72&\"*\")","v":1},null,null,null,null,null,null,null,null,null,{"$f":"CONCATENATE(\"Total \",PROFILE!C72,\" Leader Positions\")","v":"Total  Leader Positions"},"",null,null,null,null,null,null,null,null,0]
[null,null,null,null,null,null,null,null,null,null,null,null,null,null,null,null,null,null,null,null,null,null,{"$f":"IF(OR($D$42=\"enabled\"),1,0)","v":0}]
[null,null,{"$f":"COUNTIF(M288,\"*\"&PROFILE!$C$58&\"*\")","v":1},null,null,null,null,null,null,null,null,null,{"$f":"CONCATENATE(\"Total \",PROFILE!C58,\" Executive Positions\")","v":"Total  Executive Positions"},"",null,null,null,null,null,null,null,null,{"$f":"IF(AND(OR($E$42=\"enabled\"),C288),1,0)","v":0}]
[null,null,{"$f":"COUNTIF(M289,\"*\"&PROFILE!$C$59&\"*\")","v":1},null,null,null,null,null,null,null,null,null,{"$f":"CONCATENATE(\"Total \",PROFILE!C59,\" Executive Positions\")","v":"Total  Executive Positions"},"",null,null,null,null,null,null,null,null,{"$f":"IF(AND(OR($E$42=\"enabled\"),C289),1,0)","v":0}]
[null,null,{"$f":"COUNTIF(M290,\"*\"&PROFILE!$C$60&\"*\")","v":1},null,null,null,null,null,null,null,null,null,{"$f":"CONCATENATE(\"Total \",PROFILE!C60,\" Executive Positions\")","v":"Total  Executive Positions"},"",null,null,null,null,null,null,null,null,0]
[null,null,{"$f":"COUNTIF(M291,\"*\"&PROFILE!$C$61&\"*\")","v":1},null,null,null,null,null,null,null,null,null,{"$f":"CONCATENATE(\"Total \",PROFILE!C61,\" Executive Positions\")","v":"Total  Executive Positions"},"",null,null,null,null,null,null,null,null,0]
[null,null,{"$f":"COUNTIF(M292,\"*\"&PROFILE!$C$62&\"*\")","v":1},null,null,null,null,null,null,null,null,null,{"$f":"CONCATENATE(\"Total \",PROFILE!C62,\" Executive Positions\")","v":"Total  Executive Positions"},"",null,null,null,null,null,null,null,null,0]
[null,null,{"$f":"COUNTIF(M293,\"*\"&PROFILE!$C$63&\"*\")","v":1},null,null,null,null,null,null,null,null,null,{"$f":"CONCATENATE(\"Total \",PROFILE!C63,\" Executive Positions\")","v":"Total  Executive Positions"},"",null,null,null,null,null,null,null,null,0]
[null,null,{"$f":"COUNTIF(M294,\"*\"&PROFILE!$C$64&\"*\")","v":1},null,null,null,null,null,null,null,null,null,{"$f":"CONCATENATE(\"Total \",PROFILE!C64,\" Executive Positions\")","v":"Total  Executive Positions"},"",null,null,null,null,null,null,null,null,0]
[null,null,{"$f":"COUNTIF(M295,\"*\"&PROFILE!$C$65&\"*\")","v":1},null,null,null,null,null,null,null,null,null,{"$f":"CONCATENATE(\"Total \",PROFILE!C65,\" Executive Positions\")","v":"Total  Executive Positions"},"",null,null,null,null,null,null,null,null,0]
[null,null,{"$f":"COUNTIF(M296,\"*\"&PROFILE!$C$66&\"*\")","v":1},null,null,null,null,null,null,null,null,null,{"$f":"CONCATENATE(\"Total \",PROFILE!C66,\" Executive Positions\")","v":"Total  Executive Positions"},"",null,null,null,null,null,null,null,null,0]
[null,null,{"$f":"COUNTIF(M297,\"*\"&PROFILE!$C$67&\"*\")","v":1},null,null,null,null,null,null,null,null,null,{"$f":"CONCATENATE(\"Total \",PROFILE!C67,\" Executive Positions\")","v":"Total  Executive Positions"},"",null,null,null,null,null,null,null,null,0]
[null,null,{"$f":"COUNTIF(M298,\"*\"&PROFILE!$C$68&\"*\")","v":1},null,null,null,null,null,null,null,null,null,{"$f":"CONCATENATE(\"Total \",PROFILE!C68,\" Executive Positions\")","v":"Total  Executive Positions"},"",null,null,null,null,null,null,null,null,0]
[null,null,{"$f":"COUNTIF(M299,\"*\"&PROFILE!$C$69&\"*\")","v":1},null,null,null,null,null,null,null,null,null,{"$f":"CONCATENATE(\"Total \",PROFILE!C69,\" Executive Positions\")","v":"Total  Executive Positions"},"",null,null,null,null,null,null,null,null,0]
[null,null,{"$f":"COUNTIF(M300,\"*\"&PROFILE!$C$70&\"*\")","v":1},null,null,null,null,null,null,null,null,null,{"$f":"CONCATENATE(\"Total \",PROFILE!C70,\" Executive Positions\")","v":"Total  Executive Positions"},"",null,null,null,null,null,null,null,null,0]
[null,null,{"$f":"COUNTIF(M301,\"*\"&PROFILE!$C$71&\"*\")","v":1},null,null,null,null,null,null,null,null,null,{"$f":"CONCATENATE(\"Total \",PROFILE!C71,\" Executive Positions\")","v":"Total  Executive Positions"},"",null,null,null,null,null,null,null,null,0]
[null,null,{"$f":"COUNTIF(M302,\"*\"&PROFILE!$C$72&\"*\")","v":1},null,null,null,null,null,null,null,null,null,{"$f":"CONCATENATE(\"Total \",PROFILE!C72,\" Executive Positions\")","v":"Total  Executive Positions"},"",null,null,null,null,null,null,null,null,0]
[null,null,null,null,null,null,null,null,null,null,null,null,null,null,null,null,null,null,null,null,null,null,{"$f":"IF(OR($E$42=\"enabled\"),1,0)","v":0}]
[null,null,null,null,null,null,null,null,null,null,null,null,null,null,null,null,null,null,null,null,null,null,0]
[null,null,null,null,null,null,null,null,null,null,null,null,null,null,null,null,null,null,null,null,null,null,{"$f":"IF(OR(COUNTIF($C$51:$E$55,\"enabled\")>0,COUNTIF($C$46:$E$47,\"enabled\")>0,COUNTIF($C$59:$E$63,\"enabled\")>0),1,0)","v":0}]
[null,"Step 2: Enter Organizational Resilience Information",null,null,null,null,null,null,null,null,null,null,null,null,null,null,null,null,null,null,null,null,{"$f":"IF(OR(COUNTIF($C$51:$E$55,\"enabled\")>0,COUNTIF($C$46:$E$47,\"enabled\")>0,COUNTIF($C$59:$E$63,\"enabled\")>0),1,0)","v":0}]
[null,null,null,null,null,null,null,null,null,null,null,null,null,null,null,null,null,null,null,null,null,null,0]
[null,"INSTRUCTIONS: Please enter the total number of positions or employees in the boxes below for the respective data fields related to organizational resilience, which include critical roles, retirements, and executives. ",null,null,null,null,null,null,null,null,null,null,null,null,null,null,null,null,null,null,null,null,0]
[null,null,null,null,null,null,null,null,null,null,null,null,null,null,null,null,null,null,null,null,null,null,0]
[null,null,null,null,null,null,null,null,null,null,null,null,null,null,null,"Total Critical Positions by EEO Codes",null,null,null,null,null,null,{"$f":"IF(OR($C$46=\"enabled\",$D$46=\"enabled\",$E$46=\"enabled\"),1,0)","v":0}]
[null,null,null,null,null,null,null,null,null,null,null,null,null,{"$f":"'CENTRAL DATA'!$H$12","v":"FY-2"},{"$f":"'CENTRAL DATA'!$H$13","v":"FY-1"},{"$f":"IF(PROFILE!$L$43=\"Fiscal Year WFP\",'CENTRAL DATA'!$H$14,IF(PROFILE!$L$43=\"Snapshot\",CONCATENATE(\"As of \",TEXT(PROFILE!$N$44,\"mm/dd/yy\"),\"\")))","v":false},null,null,null,null,null,null,{"$f":"IF(OR($C$46=\"enabled\",$D$46=\"enabled\",$E$46=\"enabled\"),1,0)","v":0}]
[null,null,null,null,null,null,null,null,null,null,null,null,null,null,null,null,null,null,null,null,null,null,0]
[null,null,null,null,null,null,null,null,null,null,null,null,"Total EEO Code \"Officials and Administrators\" Positions Identified as Critical","",null,null,null,null,null,null,null,null,{"$f":"IF(OR($C$46=\"enabled\"),1,0)","v":0}]
[null,null,null,null,null,null,null,null,null,null,null,null,"Total EEO Code \"Professionals\" Positions Identified as Critical","",null,null,null,null,null,null,null,null,{"$f":"IF(OR($C$46=\"enabled\"),1,0)","v":0}]
[null,null,null,null,null,null,null,null,null,null,null,null,"Total EEO Code \"Technicians\" Positions Identified as Critical","",null,null,null,null,null,null,null,null,0]
[null,null,null,null,null,null,null,null,null,null,null,null,"Total EEO Code \"Protective Service Workers\" Positions Identified as Critical","",null,null,null,null,null,null,null,null,0]
[null,null,null,null,null,null,null,null,null,null,null,null,"Total EEO Code \"Paraprofessionals\" Positions Identified as Critical","",null,null,null,null,null,null,null,null,0]
[null,null,null,null,null,null,null,null,null,null,null,null,"Total EEO Code \"Administrative Support\" Positions Identified as Critical","",null,null,null,null,null,null,null,null,0]
[null,null,null,null,null,null,null,null,null,null,null,null,"Total EEO Code \"Skilled Craft Workers\" Positions Identified as Critical","",null,null,null,null,null,null,null,null,0]
[null,null,null,null,null,null,null,null,null,null,null,null,"Total EEO Code \"Service/Maintenance\" Positions Identified as Critical","",null,null,null,null,null,null,null,null,0]
[null,null,null,null,null,null,null,null,null,null,null,null,"Total EEO Code \"Faculty\" Positions Identified as Critical","",null,null,null,null,null,null,null,null,0]
[null,null,null,null,null,null,null,null,null,null,null,null,"Total EEO Code \"Other\" Positions Identified as Critical","",null,null,null,null,null,null,null,null,0]
[null,null,null,null,null,null,null,null,null,null,null,null,null,null,null,null,null,null,null,null,null,null,0]
[null,null,null,null,null,null,null,null,null,null,null,null,"Total EEO Code \"Officials and Administrators\" Leader Positions Identified as Critical","",null,null,null,null,null,null,null,null,{"$f":"IF(OR($D$46=\"enabled\"),1,0)","v":0}]
[null,null,null,null,null,null,null,null,null,null,null,null,"Total EEO Code \"Professionals\" Leader Positions Identified as Critical","",null,null,null,null,null,null,null,null,{"$f":"IF(OR($D$46=\"enabled\"),1,0)","v":0}]
[null,null,null,null,null,null,null,null,null,null,null,null,"Total EEO Code \"Technicians\" Leader Positions Identified as Critical","",null,null,null,null,null,null,null,null,0]
[null,null,null,null,null,null,null,null,null,null,null,null,"Total EEO Code \"Protective Service Workers\" Leader Positions Identified as Critical","",null,null,null,null,null,null,null,null,0]
[null,null,null,null,null,null,null,null,null,null,null,null,"Total EEO Code \"Paraprofessionals\" Leader Positions Identified as Critical","",null,null,null,null,null,null,null,null,0]
[null,null,null,null,null,null,null,null,null,null,null,null,"Total EEO Code \"Administrative Support\" Leader Positions Identified as Critical","",null,null,null,null,null,null,null,null,0]
[null,null,null,null,null,null,null,null,null,null,null,null,"Total EEO Code \"Skilled Craft Workers\" Leader Positions Identified as Critical","",null,null,null,null,null,null,null,null,0]
[null,null,null,null,null,null,null,null,null,null,null,null,"Total EEO Code \"Service/Maintenance\" Leader Positions Identified as Critical","",null,null,null,null,null,null,null,null,0]
[null,null,null,null,null,null,null,null,null,null,null,null,"Total EEO Code \"Faculty\" Leader Positions Identified as Critical","",null,null,null,null,null,null,null,null,0]
[null,null,null,null,null,null,null,null,null,null,null,null,"Total EEO Code \"Other\" Leader Positions Identified as Critical","",null,null,null,null,null,null,null,null,0]
[null,null,null,null,null,null,null,null,null,null,null,null,null,null,null,null,null,null,null,null,null,null,0]
[null,null,null,null,null,null,null,null,null,null,null,null,"Total EEO Code \"Officials and Administrators\" Executive Positions Identified as Critical","",null,null,null,null,null,null,null,null,{"$f":"IF(OR($E$46=\"enabled\"),1,0)","v":0}]
[null,null,null,null,null,null,null,null,null,null,null,null,"Total EEO Code \"Professionals\" Executive Positions Identified as Critical","",null,null,null,null,null,null,null,null,{"$f":"IF(OR($E$46=\"enabled\"),1,0)","v":0}]
[null,null,null,null,null,null,null,null,null,null,null,null,"Total EEO Code \"Technicians\" Executive Positions Identified as Critical","",null,null,null,null,null,null,null,null,0]
[null,null,null,null,null,null,null,null,null,null,null,null,"Total EEO Code \"Protective Service Workers\" Executive Positions Identified as Critical","",null,null,null,null,null,null,null,null,0]
[null,null,null,null,null,null,null,null,null,null,null,null,"Total EEO Code \"Paraprofessionals\" Executive Positions Identified as Critical","",null,null,null,null,null,null,null,null,0]
[null,null,null,null,null,null,null,null,null,null,null,null,"Total EEO Code \"Administrative Support\" Executive Positions Identified as Critical","",null,null,null,null,null,null,null,null,0]
[null,null,null,null,null,null,null,null,null,null,null,null,"Total EEO Code \"Skilled Craft Workers\" Executive Positions Identified as Critical","",null,null,null,null,null,null,null,null,0]
[null,null,null,null,null,null,null,null,null,null,null,null,"Total EEO Code \"Service/Maintenance\" Executive Positions Identified as Critical","",null,null,null,null,null,null,null,null,0]
[null,null,null,null,null,null,null,null,null,null,null,null,"Total EEO Code \"Faculty\" Executive Positions Identified as Critical","",null,null,null,null,null,null,null,null,0]
[null,null,null,null,null,null,null,null,null,null,null,null,"Total EEO Code \"Other\" Executive Positions Identified as Critical","",null,null,null,null,null,null,null,null,0]
[null,null,null,null,null,null,null,null,null,null,null,null,null,null,null,null,null,null,null,null,null,null,0]
[null,null,null,null,null,null,null,null,null,null,null,null,null,null,null,"Total Positions by Classifications",null,null,null,null,null,null,{"$f":"IF(OR($C$47=\"enabled\",$D$47=\"enabled\",$E$47=\"enabled\"),1,0)","v":0}]
[null,null,null,null,null,null,null,null,null,null,null,null,null,{"$f":"'CENTRAL DATA'!$H$12","v":"FY-2"},{"$f":"'CENTRAL DATA'!$H$13","v":"FY-1"},{"$f":"IF(PROFILE!$L$43=\"Fiscal Year WFP\",'CENTRAL DATA'!$H$14,IF(PROFILE!$L$43=\"Snapshot\",CONCATENATE(\"As of \",TEXT(PROFILE!$N$44,\"mm/dd/yy\"),\"\")))","v":false},null,null,null,null,null,null,{"$f":"IF(OR($C$47=\"enabled\",$D$47=\"enabled\",$E$47=\"enabled\"),1,0)","v":0}]
[null,null,null,null,null,null,null,null,null,null,null,null,null,null,null,null,null,null,null,null,null,null,0]
[null,null,{"$f":"COUNTIF(M349,\"*\"&PROFILE!$C$58&\"*\")","v":1},null,null,null,null,null,null,null,null,null,{"$f":"CONCATENATE(\"Total \",PROFILE!C58,\" Positions Identified as Critical\")","v":"Total  Positions Identified as Critical"},"",null,null,null,null,null,null,null,null,{"$f":"IF(AND(OR($C$47=\"enabled\"),C349=1),1,0)","v":0}]
[null,null,{"$f":"COUNTIF(M350,\"*\"&PROFILE!$C$59&\"*\")","v":1},null,null,null,null,null,null,null,null,null,{"$f":"CONCATENATE(\"Total \",PROFILE!C59,\" Positions Identified as Critical\")","v":"Total  Positions Identified as Critical"},"",null,null,null,null,null,null,null,null,{"$f":"IF(AND(OR($C$47=\"enabled\"),C350=1),1,0)","v":0}]
[null,null,{"$f":"COUNTIF(M351,\"*\"&PROFILE!$C$60&\"*\")","v":1},null,null,null,null,null,null,null,null,null,{"$f":"CONCATENATE(\"Total \",PROFILE!C60,\" Positions Identified as Critical\")","v":"Total  Positions Identified as Critical"},"",null,null,null,null,null,null,null,null,0]
[null,null,{"$f":"COUNTIF(M352,\"*\"&PROFILE!$C$61&\"*\")","v":1},null,null,null,null,null,null,null,null,null,{"$f":"CONCATENATE(\"Total \",PROFILE!C61,\" Positions Identified as Critical\")","v":"Total  Positions Identified as Critical"},"",null,null,null,null,null,null,null,null,0]
[null,null,{"$f":"COUNTIF(M353,\"*\"&PROFILE!$C$62&\"*\")","v":1},null,null,null,null,null,null,null,null,null,{"$f":"CONCATENATE(\"Total \",PROFILE!C62,\" Positions Identified as Critical\")","v":"Total  Positions Identified as Critical"},"",null,null,null,null,null,null,null,null,0]
[null,null,{"$f":"COUNTIF(M354,\"*\"&PROFILE!$C$63&\"*\")","v":1},null,null,null,null,null,null,null,null,null,{"$f":"CONCATENATE(\"Total \",PROFILE!C63,\" Positions Identified as Critical\")","v":"Total  Positions Identified as Critical"},"",null,null,null,null,null,null,null,null,0]
[null,null,{"$f":"COUNTIF(M355,\"*\"&PROFILE!$C$64&\"*\")","v":1},null,null,null,null,null,null,null,null,null,{"$f":"CONCATENATE(\"Total \",PROFILE!C64,\" Positions Identified as Critical\")","v":"Total  Positions Identified as Critical"},"",null,null,null,null,null,null,null,null,0]
[null,null,{"$f":"COUNTIF(M356,\"*\"&PROFILE!$C$65&\"*\")","v":1},null,null,null,null,null,null,null,null,null,{"$f":"CONCATENATE(\"Total \",PROFILE!C65,\" Positions Identified as Critical\")","v":"Total  Positions Identified as Critical"},"",null,null,null,null,null,null,null,null,0]
[null,null,{"$f":"COUNTIF(M357,\"*\"&PROFILE!$C$66&\"*\")","v":1},null,null,null,null,null,null,null,null,null,{"$f":"CONCATENATE(\"Total \",PROFILE!C66,\" Positions Identified as Critical\")","v":"Total  Positions Identified as Critical"},"",null,null,null,null,null,null,null,null,0]
[null,null,{"$f":"COUNTIF(M358,\"*\"&PROFILE!$C$67&\"*\")","v":1},null,null,null,null,null,null,null,null,null,{"$f":"CONCATENATE(\"Total \",PROFILE!C67,\" Positions Identified as Critical\")","v":"Total  Positions Identified as Critical"},"",null,null,null,null,null,null,null,null,0]
[null,null,{"$f":"COUNTIF(M359,\"*\"&PROFILE!$C$68&\"*\")","v":1},null,null,null,null,null,null,null,null,null,{"$f":"CONCATENATE(\"Total \",PROFILE!C68,\" Positions Identified as Critical\")","v":"Total  Positions Identified as Critical"},"",null,null,null,null,null,null,null,null,0]
[null,null,{"$f":"COUNTIF(M360,\"*\"&PROFILE!$C$69&\"*\")","v":1},null,null,null,null,null,null,null,null,null,{"$f":"CONCATENATE(\"Total \",PROFILE!C69,\" Positions Identified as Critical\")","v":"Total  Positions Identified as Critical"},"",null,null,null,null,null,null,null,null,0]
[null,null,{"$f":"COUNTIF(M361,\"*\"&PROFILE!$C$70&\"*\")","v":1},null,null,null,null,null,null,null,null,null,{"$f":"CONCATENATE(\"Total \",PROFILE!C70,\" Positions Identified as Critical\")","v":"Total  Positions Identified as Critical"},"",null,null,null,null,null,null,null,null,0]
[null,null,{"$f":"COUNTIF(M362,\"*\"&PROFILE!$C$71&\"*\")","v":1},null,null,null,null,null,null,null,null,null,{"$f":"CONCATENATE(\"Total \",PROFILE!C71,\" Positions Identified as Critical\")","v":"Total  Positions Identified as Critical"},"",null,null,null,null,null,null,null,null,0]
[null,null,{"$f":"COUNTIF(M363,\"*\"&PROFILE!$C$72&\"*\")","v":1},null,null,null,null,null,null,null,null,null,{"$f":"CONCATENATE(\"Total \",PROFILE!C72,\" Positions Identified as Critical\")","v":"Total  Positions Identified as Critical"},"",null,null,null,null,null,null,null,null,0]
[null,null,null,null,null,null,null,null,null,null,null,null,null,null,null,null,null,null,null,null,null,null,{"$f":"IF(OR($C$47=\"enabled\"),1,0)","v":0}]
[null,null,{"$f":"COUNTIF(M365,\"*\"&PROFILE!$C$58&\"*\")","v":1},null,null,null,null,null,null,null,null,null,{"$f":"CONCATENATE(\"Total \",PROFILE!C58,\" Leader Positions Identified as Critical\")","v":"Total  Leader Positions Identified as Critical"},"",null,null,null,null,null,null,null,null,{"$f":"IF(AND(OR($D$47=\"enabled\"),C365=1),1,0)","v":0}]
[null,null,{"$f":"COUNTIF(M366,\"*\"&PROFILE!$C$59&\"*\")","v":1},null,null,null,null,null,null,null,null,null,{"$f":"CONCATENATE(\"Total \",PROFILE!C59,\" Leader Positions Identified as Critical\")","v":"Total  Leader Positions Identified as Critical"},"",null,null,null,null,null,null,null,null,{"$f":"IF(AND(OR($D$47=\"enabled\"),C366=1),1,0)","v":0}]
[null,null,{"$f":"COUNTIF(M367,\"*\"&PROFILE!$C$60&\"*\")","v":1},null,null,null,null,null,null,null,null,null,{"$f":"CONCATENATE(\"Total \",PROFILE!C60,\" Leader Positions Identified as Critical\")","v":"Total  Leader Positions Identified as Critical"},"",null,null,null,null,null,null,null,null,0]
[null,null,{"$f":"COUNTIF(M368,\"*\"&PROFILE!$C$61&\"*\")","v":1},null,null,null,null,null,null,null,null,null,{"$f":"CONCATENATE(\"Total \",PROFILE!C61,\" Leader Positions Identified as Critical\")","v":"Total  Leader Positions Identified as Critical"},"",null,null,null,null,null,null,null,null,0]
[null,null,{"$f":"COUNTIF(M369,\"*\"&PROFILE!$C$62&\"*\")","v":1},null,null,null,null,null,null,null,null,null,{"$f":"CONCATENATE(\"Total \",PROFILE!C62,\" Leader Positions Identified as Critical\")","v":"Total  Leader Positions Identified as Critical"},"",null,null,null,null,null,null,null,null,0]
[null,null,{"$f":"COUNTIF(M370,\"*\"&PROFILE!$C$63&\"*\")","v":1},null,null,null,null,null,null,null,null,null,{"$f":"CONCATENATE(\"Total \",PROFILE!C63,\" Leader Positions Identified as Critical\")","v":"Total  Leader Positions Identified as Critical"},"",null,null,null,null,null,null,null,null,0]
[null,null,{"$f":"COUNTIF(M371,\"*\"&PROFILE!$C$64&\"*\")","v":1},null,null,null,null,null,null,null,null,null,{"$f":"CONCATENATE(\"Total \",PROFILE!C64,\" Leader Positions Identified as Critical\")","v":"Total  Leader Positions Identified as Critical"},"",null,null,null,null,null,null,null,null,0]
[null,null,{"$f":"COUNTIF(M372,\"*\"&PROFILE!$C$65&\"*\")","v":1},null,null,null,null,null,null,null,null,null,{"$f":"CONCATENATE(\"Total \",PROFILE!C65,\" Leader Positions Identified as Critical\")","v":"Total  Leader Positions Identified as Critical"},"",null,null,null,null,null,null,null,null,0]
[null,null,{"$f":"COUNTIF(M373,\"*\"&PROFILE!$C$66&\"*\")","v":1},null,null,null,null,null,null,null,null,null,{"$f":"CONCATENATE(\"Total \",PROFILE!C66,\" Leader Positions Identified as Critical\")","v":"Total  Leader Positions Identified as Critical"},"",null,null,null,null,null,null,null,null,0]
[null,null,{"$f":"COUNTIF(M374,\"*\"&PROFILE!$C$67&\"*\")","v":1},null,null,null,null,null,null,null,null,null,{"$f":"CONCATENATE(\"Total \",PROFILE!C67,\" Leader Positions Identified as Critical\")","v":"Total  Leader Positions Identified as Critical"},"",null,null,null,null,null,null,null,null,0]
[null,null,{"$f":"COUNTIF(M375,\"*\"&PROFILE!$C$68&\"*\")","v":1},null,null,null,null,null,null,null,null,null,{"$f":"CONCATENATE(\"Total \",PROFILE!C68,\" Leader Positions Identified as Critical\")","v":"Total  Leader Positions Identified as Critical"},"",null,null,null,null,null,null,null,null,0]
[null,null,{"$f":"COUNTIF(M376,\"*\"&PROFILE!$C$69&\"*\")","v":1},null,null,null,null,null,null,null,null,null,{"$f":"CONCATENATE(\"Total \",PROFILE!C69,\" Leader Positions Identified as Critical\")","v":"Total  Leader Positions Identified as Critical"},"",null,null,null,null,null,null,null,null,0]
[null,null,{"$f":"COUNTIF(M377,\"*\"&PROFILE!$C$70&\"*\")","v":1},null,null,null,null,null,null,null,null,null,{"$f":"CONCATENATE(\"Total \",PROFILE!C70,\" Leader Positions Identified as Critical\")","v":"Total  Leader Positions Identified as Critical"},"",null,null,null,null,null,null,null,null,0]
[null,null,{"$f":"COUNTIF(M378,\"*\"&PROFILE!$C$71&\"*\")","v":1},null,null,null,null,null,null,null,null,null,{"$f":"CONCATENATE(\"Total \",PROFILE!C71,\" Leader Positions Identified as Critical\")","v":"Total  Leader Positions Identified as Critical"},"",null,null,null,null,null,null,null,null,0]
[null,null,{"$f":"COUNTIF(M379,\"*\"&PROFILE!$C$72&\"*\")","v":1},null,null,null,null,null,null,null,null,null,{"$f":"CONCATENATE(\"Total \",PROFILE!C72,\" Leader Positions Identified as Critical\")","v":"Total  Leader Positions Identified as Critical"},"",null,null,null,null,null,null,null,null,0]
[null,null,null,null,null,null,null,null,null,null,null,null,null,null,null,null,null,null,null,null,null,null,{"$f":"IF(OR($D$47=\"enabled\"),1,0)","v":0}]
[null,null,{"$f":"COUNTIF(M381,\"*\"&PROFILE!$C$58&\"*\")","v":1},null,null,null,null,null,null,null,null,null,{"$f":"CONCATENATE(\"Total \",PROFILE!C58,\" Executive Positions Identified as Critical\")","v":"Total  Executive Positions Identified as Critical"},"",null,null,null,null,null,null,null,null,{"$f":"IF(AND(OR($E$47=\"enabled\"),C381=1),1,0)","v":0}]
[null,null,{"$f":"COUNTIF(M382,\"*\"&PROFILE!$C$59&\"*\")","v":1},null,null,null,null,null,null,null,null,null,{"$f":"CONCATENATE(\"Total \",PROFILE!C59,\" Executive Positions Identified as Critical\")","v":"Total  Executive Positions Identified as Critical"},"",null,null,null,null,null,null,null,null,{"$f":"IF(AND(OR($E$47=\"enabled\"),C382=1),1,0)","v":0}]
[null,null,{"$f":"COUNTIF(M383,\"*\"&PROFILE!$C$60&\"*\")","v":1},null,null,null,null,null,null,null,null,null,{"$f":"CONCATENATE(\"Total \",PROFILE!C60,\" Executive Positions Identified as Critical\")","v":"Total  Executive Positions Identified as Critical"},"",null,null,null,null,null,null,null,null,0]
[null,null,{"$f":"COUNTIF(M384,\"*\"&PROFILE!$C$61&\"*\")","v":1},null,null,null,null,null,null,null,null,null,{"$f":"CONCATENATE(\"Total \",PROFILE!C61,\" Executive Positions Identified as Critical\")","v":"Total  Executive Positions Identified as Critical"},"",null,null,null,null,null,null,null,null,0]
[null,null,{"$f":"COUNTIF(M385,\"*\"&PROFILE!$C$62&\"*\")","v":1},null,null,null,null,null,null,null,null,null,{"$f":"CONCATENATE(\"Total \",PROFILE!C62,\" Executive Positions Identified as Critical\")","v":"Total  Executive Positions Identified as Critical"},"",null,null,null,null,null,null,null,null,0]
[null,null,{"$f":"COUNTIF(M386,\"*\"&PROFILE!$C$63&\"*\")","v":1},null,null,null,null,null,null,null,null,null,{"$f":"CONCATENATE(\"Total \",PROFILE!C63,\" Executive Positions Identified as Critical\")","v":"Total  Executive Positions Identified as Critical"},"",null,null,null,null,null,null,null,null,0]
[null,null,{"$f":"COUNTIF(M387,\"*\"&PROFILE!$C$64&\"*\")","v":1},null,null,null,null,null,null,null,null,null,{"$f":"CONCATENATE(\"Total \",PROFILE!C64,\" Executive Positions Identified as Critical\")","v":"Total  Executive Positions Identified as Critical"},"",null,null,null,null,null,null,null,null,0]
[null,null,{"$f":"COUNTIF(M388,\"*\"&PROFILE!$C$65&\"*\")","v":1},null,null,null,null,null,null,null,null,null,{"$f":"CONCATENATE(\"Total \",PROFILE!C65,\" Executive Positions Identified as Critical\")","v":"Total  Executive Positions Identified as Critical"},"",null,null,null,null,null,null,null,null,0]
[null,null,{"$f":"COUNTIF(M389,\"*\"&PROFILE!$C$66&\"*\")","v":1},null,null,null,null,null,null,null,null,null,{"$f":"CONCATENATE(\"Total \",PROFILE!C66,\" Executive Positions Identified as Critical\")","v":"Total  Executive Positions Identified as Critical"},"",null,null,null,null,null,null,null,null,0]
[null,null,{"$f":"COUNTIF(M390,\"*\"&PROFILE!$C$67&\"*\")","v":1},null,null,null,null,null,null,null,null,null,{"$f":"CONCATENATE(\"Total \",PROFILE!C67,\" Executive Positions Identified as Critical\")","v":"Total  Executive Positions Identified as Critical"},"",null,null,null,null,null,null,null,null,0]
[null,null,{"$f":"COUNTIF(M391,\"*\"&PROFILE!$C$68&\"*\")","v":1},null,null,null,null,null,null,null,null,null,{"$f":"CONCATENATE(\"Total \",PROFILE!C68,\" Executive Positions Identified as Critical\")","v":"Total  Executive Positions Identified as Critical"},"",null,null,null,null,null,null,null,null,0]
[null,null,{"$f":"COUNTIF(M392,\"*\"&PROFILE!$C$69&\"*\")","v":1},null,null,null,null,null,null,null,null,null,{"$f":"CONCATENATE(\"Total \",PROFILE!C69,\" Executive Positions Identified as Critical\")","v":"Total  Executive Positions Identified as Critical"},"",null,null,null,null,null,null,null,null,0]
[null,null,{"$f":"COUNTIF(M393,\"*\"&PROFILE!$C$70&\"*\")","v":1},null,null,null,null,null,null,null,null,null,{"$f":"CONCATENATE(\"Total \",PROFILE!C70,\" Executive Positions Identified as Critical\")","v":"Total  Executive Positions Identified as Critical"},"",null,null,null,null,null,null,null,null,0]
[null,null,{"$f":"COUNTIF(M394,\"*\"&PROFILE!$C$71&\"*\")","v":1},null,null,null,null,null,null,null,null,null,{"$f":"CONCATENATE(\"Total \",PROFILE!C71,\" Executive Positions Identified as Critical\")","v":"Total  Executive Positions Identified as Critical"},"",null,null,null,null,null,null,null,null,0]
[null,null,{"$f":"COUNTIF(M395,\"*\"&PROFILE!$C$72&\"*\")","v":1},null,null,null,null,null,null,null,null,null,{"$f":"CONCATENATE(\"Total \",PROFILE!C72,\" Executive Positions Identified as Critical\")","v":"Total  Executive Positions Identified as Critical"},"",null,null,null,null,null,null,null,null,0]
[null,null,null,null,null,null,null,null,null,null,null,null,null,null,null,null,null,null,null,null,null,null,{"$f":"IF(OR($E$47=\"enabled\"),1,0)","v":0}]
[null,null,null,null,null,null,null,null,null,null,null,null,null,null,null,"Total Employees Currently Eligible to Retire by EEO Codes",null,null,null,null,null,null,{"$f":"IF(OR($C$51=\"enabled\",$D$51=\"enabled\",$E$51=\"enabled\"),1,0)","v":0}]
[null,null,null,null,null,null,null,null,null,null,null,null,null,{"$f":"'CENTRAL DATA'!$H$12","v":"FY-2"},{"$f":"'CENTRAL DATA'!$H$13","v":"FY-1"},{"$f":"IF(PROFILE!$L$43=\"Fiscal Year WFP\",'CENTRAL DATA'!$H$14,IF(PROFILE!$L$43=\"Snapshot\",CONCATENATE(\"As of \",TEXT(PROFILE!$N$44,\"mm/dd/yy\"),\"\")))","v":false},null,null,null,null,null,null,{"$f":"IF(OR($C$51=\"enabled\",$D$51=\"enabled\",$E$51=\"enabled\"),1,0)","v":0}]
[null,null,null,null,null,null,null,null,null,null,null,null,null,null,null,null,null,null,null,null,null,null,0]
[null,null,null,null,null,null,null,null,null,null,null,null,"Total EEO Code \"Officials and Administrators\" Employees Currently Eligible to Retire","",null,null,null,null,null,null,null,null,{"$f":"IF(OR($C$51=\"enabled\"),1,0)","v":0}]
[null,null,null,null,null,null,null,null,null,null,null,null,"Total EEO Code \"Professionals\" Employees Currently Eligible to Retire","",null,null,null,null,null,null,null,null,{"$f":"IF(OR($C$51=\"enabled\"),1,0)","v":0}]
[null,null,null,null,null,null,null,null,null,null,null,null,"Total EEO Code \"Technicians\" Employees Currently Eligible to Retire","",null,null,null,null,null,null,null,null,0]
[null,null,null,null,null,null,null,null,null,null,null,null,"Total EEO Code \"Protective Service Workers\" Employees Currently Eligible to Retire","",null,null,null,null,null,null,null,null,0]
[null,null,null,null,null,null,null,null,null,null,null,null,"Total EEO Code \"Paraprofessionals\" Employees Currently Eligible to Retire","",null,null,null,null,null,null,null,null,0]
[null,null,null,null,null,null,null,null,null,null,null,null,"Total EEO Code \"Administrative Support\" Employees Currently Eligible to Retire","",null,null,null,null,null,null,null,null,0]
[null,null,null,null,null,null,null,null,null,null,null,null,"Total EEO Code \"Skilled Craft Workers\" Employees Currently Eligible to Retire","",null,null,null,null,null,null,null,null,0]
[null,null,null,null,null,null,null,null,null,null,null,null,"Total EEO Code \"Service/Maintenance\" Employees Currently Eligible to Retire","",null,null,null,null,null,null,null,null,0]
[null,null,null,null,null,null,null,null,null,null,null,null,"Total EEO Code \"Faculty\" Employees Currently Eligible to Retire","",null,null,null,null,null,null,null,null,0]
[null,null,null,null,null,null,null,null,null,null,null,null,"Total EEO Code \"Other\" Employees Currently Eligible to Retire","",null,null,null,null,null,null,null,null,0]
[null,null,null,null,null,null,null,null,null,null,null,null,null,null,null,null,null,null,null,null,null,null,0]
[null,null,null,null,null,null,null,null,null,null,null,null,"Total EEO Code \"Officials and Administrators\" Leaders Currently Eligible to Retire","",null,null,null,null,null,null,null,null,{"$f":"IF(OR($D$51=\"enabled\"),1,0)","v":0}]
[null,null,null,null,null,null,null,null,null,null,null,null,"Total EEO Code \"Professionals\" Leaders Currently Eligible to Retire","",null,null,null,null,null,null,null,null,{"$f":"IF(OR($D$51=\"enabled\"),1,0)","v":0}]
[null,null,null,null,null,null,null,null,null,null,null,null,"Total EEO Code \"Technicians\" Leaders Currently Eligible to Retire","",null,null,null,null,null,null,null,null,0]
[null,null,null,null,null,null,null,null,null,null,null,null,"Total EEO Code \"Protective Service Workers\" Leaders Currently Eligible to Retire","",null,null,null,null,null,null,null,null,0]
[null,null,null,null,null,null,null,null,null,null,null,null,"Total EEO Code \"Paraprofessionals\" Leaders Currently Eligible to Retire","",null,null,null,null,null,null,null,null,0]
[null,null,null,null,null,null,null,null,null,null,null,null,"Total EEO Code \"Administrative Support\" Leaders Currently Eligible to Retire","",null,null,null,null,null,null,null,null,0]
[null,null,null,null,null,null,null,null,null,null,null,null,"Total EEO Code \"Skilled Craft Workers\" Leaders Currently Eligible to Retire","",null,null,null,null,null,null,null,null,0]
[null,null,null,null,null,null,null,null,null,null,null,null,"Total EEO Code \"Service/Maintenance\" Leaders Currently Eligible to Retire","",null,null,null,null,null,null,null,null,0]
[null,null,null,null,null,null,null,null,null,null,null,null,"Total EEO Code \"Faculty\" Leaders Currently Eligible to Retire","",null,null,null,null,null,null,null,null,0]
[null,null,null,null,null,null,null,null,null,null,null,null,"Total EEO Code \"Other\" Leaders Currently Eligible to Retire","",null,null,null,null,null,null,null,null,0]
[null,null,null,null,null,null,null,null,null,null,null,null,null,null,null,null,null,null,null,null,null,null,0]
[null,null,null,null,null,null,null,null,null,null,null,null,"Total EEO Code \"Officials and Administrators\" Executives Currently Eligible to Retire","",null,null,null,null,null,null,null,null,{"$f":"IF(OR($E$51=\"enabled\"),1,0)","v":0}]
[null,null,null,null,null,null,null,null,null,null,null,null,"Total EEO Code \"Professionals\" Executives Currently Eligible to Retire","",null,null,null,null,null,null,null,null,{"$f":"IF(OR($E$51=\"enabled\"),1,0)","v":0}]
[null,null,null,null,null,null,null,null,null,null,null,null,"Total EEO Code \"Technicians\" Executives Currently Eligible to Retire","",null,null,null,null,null,null,null,null,0]
[null,null,null,null,null,null,null,null,null,null,null,null,"Total EEO Code \"Protective Service Workers\" Executives Currently Eligible to Retire","",null,null,null,null,null,null,null,null,0]
[null,null,null,null,null,null,null,null,null,null,null,null,"Total EEO Code \"Paraprofessionals\" Executives Currently Eligible to Retire","",null,null,null,null,null,null,null,null,0]
[null,null,null,null,null,null,null,null,null,null,null,null,"Total EEO Code \"Administrative Support\" Executives Currently Eligible to Retire","",null,null,null,null,null,null,null,null,0]
[null,null,null,null,null,null,null,null,null,null,null,null,"Total EEO Code \"Skilled Craft Workers\" Executives Currently Eligible to Retire","",null,null,null,null,null,null,null,null,0]
[null,null,null,null,null,null,null,null,null,null,null,null,"Total EEO Code \"Service/Maintenance\" Executives Currently Eligible to Retire","",null,null,null,null,null,null,null,null,0]
[null,null,null,null,null,null,null,null,null,null,null,null,"Total EEO Code \"Faculty\" Executives Currently Eligible to Retire","",null,null,null,null,null,null,null,null,0]
[null,null,null,null,null,null,null,null,null,null,null,null,"Total EEO Code \"Other\" Executives Currently Eligible to Retire","",null,null,null,null,null,null,null,null,0]
[null,null,null,null,null,null,null,null,null,null,null,null,null,null,null,null,null,null,null,null,null,null,0]
[null,null,null,null,null,null,null,null,null,null,null,null,null,null,null,"Total Employees Currently Eligible to Retire by Classifications",null,null,null,null,null,null,{"$f":"IF(OR($C$52=\"enabled\",$D$52=\"enabled\",$E$52=\"enabled\"),1,0)","v":0}]
[null,null,null,null,null,null,null,null,null,null,null,null,null,{"$f":"'CENTRAL DATA'!$H$12","v":"FY-2"},{"$f":"'CENTRAL DATA'!$H$13","v":"FY-1"},{"$f":"IF(PROFILE!$L$43=\"Fiscal Year WFP\",'CENTRAL DATA'!$H$14,IF(PROFILE!$L$43=\"Snapshot\",CONCATENATE(\"As of \",TEXT(PROFILE!$N$44,\"mm/dd/yy\"),\"\")))","v":false},null,null,null,null,null,null,{"$f":"IF(OR($C$52=\"enabled\",$D$52=\"enabled\",$E$52=\"enabled\"),1,0)","v":0}]
[null,null,null,null,null,null,null,null,null,null,null,null,null,null,null,null,null,null,null,null,null,null,0]
[null,null,{"$f":"COUNTIF(M436,\"*\"&PROFILE!$C$58&\"*\")","v":1},null,null,null,null,null,null,null,null,null,{"$f":"CONCATENATE(\"Total \",PROFILE!C58,\" Employees Currently Eligible to Retire\")","v":"Total  Employees Currently Eligible to Retire"},"",null,null,null,null,null,null,null,null,{"$f":"IF(AND(OR($C$52=\"enabled\"),C436=1),1,0)","v":0}]
[null,null,{"$f":"COUNTIF(M437,\"*\"&PROFILE!$C$59&\"*\")","v":1},null,null,null,null,null,null,null,null,null,{"$f":"CONCATENATE(\"Total \",PROFILE!C59,\" Employees Currently Eligible to Retire\")","v":"Total  Employees Currently Eligible to Retire"},"",null,null,null,null,null,null,null,null,{"$f":"IF(AND(OR($C$52=\"enabled\"),C437=1),1,0)","v":0}]
[null,null,{"$f":"COUNTIF(M438,\"*\"&PROFILE!$C$60&\"*\")","v":1},null,null,null,null,null,null,null,null,null,{"$f":"CONCATENATE(\"Total \",PROFILE!C60,\" Employees Currently Eligible to Retire\")","v":"Total  Employees Currently Eligible to Retire"},"",null,null,null,null,null,null,null,null,0]
[null,null,{"$f":"COUNTIF(M439,\"*\"&PROFILE!$C$61&\"*\")","v":1},null,null,null,null,null,null,null,null,null,{"$f":"CONCATENATE(\"Total \",PROFILE!C61,\" Employees Currently Eligible to Retire\")","v":"Total  Employees Currently Eligible to Retire"},"",null,null,null,null,null,null,null,null,0]
[null,null,{"$f":"COUNTIF(M440,\"*\"&PROFILE!$C$62&\"*\")","v":1},null,null,null,null,null,null,null,null,null,{"$f":"CONCATENATE(\"Total \",PROFILE!C62,\" Employees Currently Eligible to Retire\")","v":"Total  Employees Currently Eligible to Retire"},"",null,null,null,null,null,null,null,null,0]
[null,null,{"$f":"COUNTIF(M441,\"*\"&PROFILE!$C$63&\"*\")","v":1},null,null,null,null,null,null,null,null,null,{"$f":"CONCATENATE(\"Total \",PROFILE!C63,\" Employees Currently Eligible to Retire\")","v":"Total  Employees Currently Eligible to Retire"},"",null,null,null,null,null,null,null,null,0]
[null,null,{"$f":"COUNTIF(M442,\"*\"&PROFILE!$C$64&\"*\")","v":1},null,null,null,null,null,null,null,null,null,{"$f":"CONCATENATE(\"Total \",PROFILE!C64,\" Employees Currently Eligible to Retire\")","v":"Total  Employees Currently Eligible to Retire"},"",null,null,null,null,null,null,null,null,0]
[null,null,{"$f":"COUNTIF(M443,\"*\"&PROFILE!$C$65&\"*\")","v":1},null,null,null,null,null,null,null,null,null,{"$f":"CONCATENATE(\"Total \",PROFILE!C65,\" Employees Currently Eligible to Retire\")","v":"Total  Employees Currently Eligible to Retire"},"",null,null,null,null,null,null,null,null,0]
[null,null,{"$f":"COUNTIF(M444,\"*\"&PROFILE!$C$66&\"*\")","v":1},null,null,null,null,null,null,null,null,null,{"$f":"CONCATENATE(\"Total \",PROFILE!C66,\" Employees Currently Eligible to Retire\")","v":"Total  Employees Currently Eligible to Retire"},"",null,null,null,null,null,null,null,null,0]
[null,null,{"$f":"COUNTIF(M445,\"*\"&PROFILE!$C$67&\"*\")","v":1},null,null,null,null,null,null,null,null,null,{"$f":"CONCATENATE(\"Total \",PROFILE!C67,\" Employees Currently Eligible to Retire\")","v":"Total  Employees Currently Eligible to Retire"},"",null,null,null,null,null,null,null,null,0]
[null,null,{"$f":"COUNTIF(M446,\"*\"&PROFILE!$C$68&\"*\")","v":1},null,null,null,null,null,null,null,null,null,{"$f":"CONCATENATE(\"Total \",PROFILE!C68,\" Employees Currently Eligible to Retire\")","v":"Total  Employees Currently Eligible to Retire"},"",null,null,null,null,null,null,null,null,0]
[null,null,{"$f":"COUNTIF(M447,\"*\"&PROFILE!$C$69&\"*\")","v":1},null,null,null,null,null,null,null,null,null,{"$f":"CONCATENATE(\"Total \",PROFILE!C69,\" Employees Currently Eligible to Retire\")","v":"Total  Employees Currently Eligible to Retire"},"",null,null,null,null,null,null,null,null,0]
[null,null,{"$f":"COUNTIF(M448,\"*\"&PROFILE!$C$70&\"*\")","v":1},null,null,null,null,null,null,null,null,null,{"$f":"CONCATENATE(\"Total \",PROFILE!C70,\" Employees Currently Eligible to Retire\")","v":"Total  Employees Currently Eligible to Retire"},"",null,null,null,null,null,null,null,null,0]
[null,null,{"$f":"COUNTIF(M449,\"*\"&PROFILE!$C$71&\"*\")","v":1},null,null,null,null,null,null,null,null,null,{"$f":"CONCATENATE(\"Total \",PROFILE!C71,\" Employees Currently Eligible to Retire\")","v":"Total  Employees Currently Eligible to Retire"},"",null,null,null,null,null,null,null,null,0]
[null,null,{"$f":"COUNTIF(M450,\"*\"&PROFILE!$C$72&\"*\")","v":1},null,null,null,null,null,null,null,null,null,{"$f":"CONCATENATE(\"Total \",PROFILE!C72,\" Employees Currently Eligible to Retire\")","v":"Total  Employees Currently Eligible to Retire"},"",null,null,null,null,null,null,null,null,0]
[null,null,null,null,null,null,null,null,null,null,null,null,null,null,null,null,null,null,null,null,null,null,{"$f":"IF(OR($C$52=\"enabled\"),1,0)","v":0}]
[null,null,{"$f":"COUNTIF(M452,\"*\"&PROFILE!$C$58&\"*\")","v":1},null,null,null,null,null,null,null,null,null,{"$f":"CONCATENATE(\"Total \",PROFILE!C58,\" Leaders Currently Eligible to Retire\")","v":"Total  Leaders Currently Eligible to Retire"},"",null,null,null,null,null,null,null,null,{"$f":"IF(AND(OR($D$52=\"enabled\"),C452=1),1,0)","v":0}]
[null,null,{"$f":"COUNTIF(M453,\"*\"&PROFILE!$C$59&\"*\")","v":1},null,null,null,null,null,null,null,null,null,{"$f":"CONCATENATE(\"Total \",PROFILE!C59,\" Leaders Currently Eligible to Retire\")","v":"Total  Leaders Currently Eligible to Retire"},"",null,null,null,null,null,null,null,null,{"$f":"IF(AND(OR($D$52=\"enabled\"),C453=1),1,0)","v":0}]
[null,null,{"$f":"COUNTIF(M454,\"*\"&PROFILE!$C$60&\"*\")","v":1},null,null,null,null,null,null,null,null,null,{"$f":"CONCATENATE(\"Total \",PROFILE!C60,\" Leaders Currently Eligible to Retire\")","v":"Total  Leaders Currently Eligible to Retire"},"",null,null,null,null,null,null,null,null,0]
[null,null,{"$f":"COUNTIF(M455,\"*\"&PROFILE!$C$61&\"*\")","v":1},null,null,null,null,null,null,null,null,null,{"$f":"CONCATENATE(\"Total \",PROFILE!C61,\" Leaders Currently Eligible to Retire\")","v":"Total  Leaders Currently Eligible to Retire"},"",null,null,null,null,null,null,null,null,0]
[null,null,{"$f":"COUNTIF(M456,\"*\"&PROFILE!$C$62&\"*\")","v":1},null,null,null,null,null,null,null,null,null,{"$f":"CONCATENATE(\"Total \",PROFILE!C62,\" Leaders Currently Eligible to Retire\")","v":"Total  Leaders Currently Eligible to Retire"},"",null,null,null,null,null,null,null,null,0]
[null,null,{"$f":"COUNTIF(M457,\"*\"&PROFILE!$C$63&\"*\")","v":1},null,null,null,null,null,null,null,null,null,{"$f":"CONCATENATE(\"Total \",PROFILE!C63,\" Leaders Currently Eligible to Retire\")","v":"Total  Leaders Currently Eligible to Retire"},"",null,null,null,null,null,null,null,null,0]
[null,null,{"$f":"COUNTIF(M458,\"*\"&PROFILE!$C$64&\"*\")","v":1},null,null,null,null,null,null,null,null,null,{"$f":"CONCATENATE(\"Total \",PROFILE!C64,\" Leaders Currently Eligible to Retire\")","v":"Total  Leaders Currently Eligible to Retire"},"",null,null,null,null,null,null,null,null,0]
[null,null,{"$f":"COUNTIF(M459,\"*\"&PROFILE!$C$65&\"*\")","v":1},null,null,null,null,null,null,null,null,null,{"$f":"CONCATENATE(\"Total \",PROFILE!C65,\" Leaders Currently Eligible to Retire\")","v":"Total  Leaders Currently Eligible to Retire"},"",null,null,null,null,null,null,null,null,0]
[null,null,{"$f":"COUNTIF(M460,\"*\"&PROFILE!$C$66&\"*\")","v":1},null,null,null,null,null,null,null,null,null,{"$f":"CONCATENATE(\"Total \",PROFILE!C66,\" Leaders Currently Eligible to Retire\")","v":"Total  Leaders Currently Eligible to Retire"},"",null,null,null,null,null,null,null,null,0]
[null,null,{"$f":"COUNTIF(M461,\"*\"&PROFILE!$C$67&\"*\")","v":1},null,null,null,null,null,null,null,null,null,{"$f":"CONCATENATE(\"Total \",PROFILE!C67,\" Leaders Currently Eligible to Retire\")","v":"Total  Leaders Currently Eligible to Retire"},"",null,null,null,null,null,null,null,null,0]
[null,null,{"$f":"COUNTIF(M462,\"*\"&PROFILE!$C$68&\"*\")","v":1},null,null,null,null,null,null,null,null,null,{"$f":"CONCATENATE(\"Total \",PROFILE!C68,\" Leaders Currently Eligible to Retire\")","v":"Total  Leaders Currently Eligible to Retire"},"",null,null,null,null,null,null,null,null,0]
[null,null,{"$f":"COUNTIF(M463,\"*\"&PROFILE!$C$69&\"*\")","v":1},null,null,null,null,null,null,null,null,null,{"$f":"CONCATENATE(\"Total \",PROFILE!C69,\" Leaders Currently Eligible to Retire\")","v":"Total  Leaders Currently Eligible to Retire"},"",null,null,null,null,null,null,null,null,0]
[null,null,{"$f":"COUNTIF(M464,\"*\"&PROFILE!$C$70&\"*\")","v":1},null,null,null,null,null,null,null,null,null,{"$f":"CONCATENATE(\"Total \",PROFILE!C70,\" Leaders Currently Eligible to Retire\")","v":"Total  Leaders Currently Eligible to Retire"},"",null,null,null,null,null,null,null,null,0]
[null,null,{"$f":"COUNTIF(M465,\"*\"&PROFILE!$C$71&\"*\")","v":1},null,null,null,null,null,null,null,null,null,{"$f":"CONCATENATE(\"Total \",PROFILE!C71,\" Leaders Currently Eligible to Retire\")","v":"Total  Leaders Currently Eligible to Retire"},"",null,null,null,null,null,null,null,null,0]
[null,null,{"$f":"COUNTIF(M466,\"*\"&PROFILE!$C$72&\"*\")","v":1},null,null,null,null,null,null,null,null,null,{"$f":"CONCATENATE(\"Total \",PROFILE!C72,\" Leaders Currently Eligible to Retire\")","v":"Total  Leaders Currently Eligible to Retire"},"",null,null,null,null,null,null,null,null,0]
[null,null,null,null,null,null,null,null,null,null,null,null,null,null,null,null,null,null,null,null,null,null,{"$f":"IF(OR($D$52=\"enabled\"),1,0)","v":0}]
[null,null,{"$f":"COUNTIF(M468,\"*\"&PROFILE!$C$58&\"*\")","v":1},null,null,null,null,null,null,null,null,null,{"$f":"CONCATENATE(\"Total \",PROFILE!C58,\" Executives Currently Eligible to Retire\")","v":"Total  Executives Currently Eligible to Retire"},"",null,null,null,null,null,null,null,null,{"$f":"IF(AND(OR($E$52=\"enabled\"),C468=1),1,0)","v":0}]
[null,null,{"$f":"COUNTIF(M469,\"*\"&PROFILE!$C$59&\"*\")","v":1},null,null,null,null,null,null,null,null,null,{"$f":"CONCATENATE(\"Total \",PROFILE!C59,\" Executives Currently Eligible to Retire\")","v":"Total  Executives Currently Eligible to Retire"},"",null,null,null,null,null,null,null,null,{"$f":"IF(AND(OR($E$52=\"enabled\"),C469=1),1,0)","v":0}]
[null,null,{"$f":"COUNTIF(M470,\"*\"&PROFILE!$C$60&\"*\")","v":1},null,null,null,null,null,null,null,null,null,{"$f":"CONCATENATE(\"Total \",PROFILE!C60,\" Executives Currently Eligible to Retire\")","v":"Total  Executives Currently Eligible to Retire"},"",null,null,null,null,null,null,null,null,0]
[null,null,{"$f":"COUNTIF(M471,\"*\"&PROFILE!$C$61&\"*\")","v":1},null,null,null,null,null,null,null,null,null,{"$f":"CONCATENATE(\"Total \",PROFILE!C61,\" Executives Currently Eligible to Retire\")","v":"Total  Executives Currently Eligible to Retire"},"",null,null,null,null,null,null,null,null,0]
[null,null,{"$f":"COUNTIF(M472,\"*\"&PROFILE!$C$62&\"*\")","v":1},null,null,null,null,null,null,null,null,null,{"$f":"CONCATENATE(\"Total \",PROFILE!C62,\" Executives Currently Eligible to Retire\")","v":"Total  Executives Currently Eligible to Retire"},"",null,null,null,null,null,null,null,null,0]
[null,null,{"$f":"COUNTIF(M473,\"*\"&PROFILE!$C$63&\"*\")","v":1},null,null,null,null,null,null,null,null,null,{"$f":"CONCATENATE(\"Total \",PROFILE!C63,\" Executives Currently Eligible to Retire\")","v":"Total  Executives Currently Eligible to Retire"},"",null,null,null,null,null,null,null,null,0]
[null,null,{"$f":"COUNTIF(M474,\"*\"&PROFILE!$C$64&\"*\")","v":1},null,null,null,null,null,null,null,null,null,{"$f":"CONCATENATE(\"Total \",PROFILE!C64,\" Executives Currently Eligible to Retire\")","v":"Total  Executives Currently Eligible to Retire"},"",null,null,null,null,null,null,null,null,0]
[null,null,{"$f":"COUNTIF(M475,\"*\"&PROFILE!$C$65&\"*\")","v":1},null,null,null,null,null,null,null,null,null,{"$f":"CONCATENATE(\"Total \",PROFILE!C65,\" Executives Currently Eligible to Retire\")","v":"Total  Executives Currently Eligible to Retire"},"",null,null,null,null,null,null,null,null,0]
[null,null,{"$f":"COUNTIF(M476,\"*\"&PROFILE!$C$66&\"*\")","v":1},null,null,null,null,null,null,null,null,null,{"$f":"CONCATENATE(\"Total \",PROFILE!C66,\" Executives Currently Eligible to Retire\")","v":"Total  Executives Currently Eligible to Retire"},"",null,null,null,null,null,null,null,null,0]
[null,null,{"$f":"COUNTIF(M477,\"*\"&PROFILE!$C$67&\"*\")","v":1},null,null,null,null,null,null,null,null,null,{"$f":"CONCATENATE(\"Total \",PROFILE!C67,\" Executives Currently Eligible to Retire\")","v":"Total  Executives Currently Eligible to Retire"},"",null,null,null,null,null,null,null,null,0]
[null,null,{"$f":"COUNTIF(M478,\"*\"&PROFILE!$C$68&\"*\")","v":1},null,null,null,null,null,null,null,null,null,{"$f":"CONCATENATE(\"Total \",PROFILE!C68,\" Executives Currently Eligible to Retire\")","v":"Total  Executives Currently Eligible to Retire"},"",null,null,null,null,null,null,null,null,0]
[null,null,{"$f":"COUNTIF(M479,\"*\"&PROFILE!$C$69&\"*\")","v":1},null,null,null,null,null,null,null,null,null,{"$f":"CONCATENATE(\"Total \",PROFILE!C69,\" Executives Currently Eligible to Retire\")","v":"Total  Executives Currently Eligible to Retire"},"",null,null,null,null,null,null,null,null,0]
[null,null,{"$f":"COUNTIF(M480,\"*\"&PROFILE!$C$70&\"*\")","v":1},null,null,null,null,null,null,null,null,null,{"$f":"CONCATENATE(\"Total \",PROFILE!C70,\" Executives Currently Eligible to Retire\")","v":"Total  Executives Currently Eligible to Retire"},"",null,null,null,null,null,null,null,null,0]
[null,null,{"$f":"COUNTIF(M481,\"*\"&PROFILE!$C$71&\"*\")","v":1},null,null,null,null,null,null,null,null,null,{"$f":"CONCATENATE(\"Total \",PROFILE!C71,\" Executives Currently Eligible to Retire\")","v":"Total  Executives Currently Eligible to Retire"},"",null,null,null,null,null,null,null,null,0]
[null,null,{"$f":"COUNTIF(M482,\"*\"&PROFILE!$C$72&\"*\")","v":1},null,null,null,null,null,null,null,null,null,{"$f":"CONCATENATE(\"Total \",PROFILE!C72,\" Executives Currently Eligible to Retire\")","v":"Total  Executives Currently Eligible to Retire"},"",null,null,null,null,null,null,null,null,0]
[null,null,null,null,null,null,null,null,null,null,null,null,null,null,null,null,null,null,null,null,null,null,{"$f":"IF(OR($E$52=\"enabled\"),1,0)","v":0}]
[null,null,null,null,null,null,null,null,null,null,null,null,null,null,null,"Total Employees Currently Eligible to Retire by Sex",null,null,null,null,null,null,{"$f":"IF(OR($C$53=\"enabled\",$D$53=\"enabled\",$E$53=\"enabled\"),1,0)","v":0}]
[null,null,null,null,null,null,null,null,null,null,null,null,null,{"$f":"'CENTRAL DATA'!$H$12","v":"FY-2"},{"$f":"'CENTRAL DATA'!$H$13","v":"FY-1"},{"$f":"IF(PROFILE!$L$43=\"Fiscal Year WFP\",'CENTRAL DATA'!$H$14,IF(PROFILE!$L$43=\"Snapshot\",CONCATENATE(\"As of \",TEXT(PROFILE!$N$44,\"mm/dd/yy\"),\"\")))","v":false},null,null,null,null,null,null,{"$f":"IF(OR($C$53=\"enabled\",$D$53=\"enabled\",$E$53=\"enabled\"),1,0)","v":0}]
[null,null,null,null,null,null,null,null,null,null,null,null,null,null,null,null,null,null,null,null,null,null,0]
[null,null,null,null,null,null,null,null,null,null,null,null,"Males Currently Eligible to Retire","",null,null,null,null,null,null,null,null,{"$f":"IF(OR($C$53=\"enabled\"),1,0)","v":0}]
[null,null,null,null,null,null,null,null,null,null,null,null,"Females Currently Eligible to Retire","",null,null,null,null,null,null,null,null,{"$f":"IF(OR($C$53=\"enabled\"),1,0)","v":0}]
[null,null,null,null,null,null,null,null,null,null,null,null,null,null,null,null,null,null,null,null,null,null,0]
[null,null,null,null,null,null,null,null,null,null,null,null,"Male Leaders Currently Eligible to Retire","",null,null,null,null,null,null,null,null,{"$f":"IF(OR($D$53=\"enabled\"),1,0)","v":0}]
[null,null,null,null,null,null,null,null,null,null,null,null,"Female Leaders Currently Eligible to Retire","",null,null,null,null,null,null,null,null,{"$f":"IF(OR($D$53=\"enabled\"),1,0)","v":0}]
[null,null,null,null,null,null,null,null,null,null,null,null,null,null,null,null,null,null,null,null,null,null,0]
[null,null,null,null,null,null,null,null,null,null,null,null,"Male Executives Currently Eligible to Retire","",null,null,null,null,null,null,null,null,{"$f":"IF(OR($E$53=\"enabled\"),1,0)","v":0}]
[null,null,null,null,null,null,null,null,null,null,null,null,"Female Executives Currently Eligible to Retire","",null,null,null,null,null,null,null,null,{"$f":"IF(OR($E$53=\"enabled\"),1,0)","v":0}]
[null,null,null,null,null,null,null,null,null,null,null,null,null,null,null,null,null,null,null,null,null,null,0]
[null,null,null,null,null,null,null,null,null,null,null,null,null,null,null,"Total Employees Currently Eligible to Retire by Race",null,null,null,null,null,null,{"$f":"IF(OR($C$54=\"enabled\",$D$54=\"enabled\",$E$54=\"enabled\"),1,0)","v":0}]
[null,null,null,null,null,null,null,null,null,null,null,null,null,{"$f":"'CENTRAL DATA'!$H$12","v":"FY-2"},{"$f":"'CENTRAL DATA'!$H$13","v":"FY-1"},{"$f":"IF(PROFILE!$L$43=\"Fiscal Year WFP\",'CENTRAL DATA'!$H$14,IF(PROFILE!$L$43=\"Snapshot\",CONCATENATE(\"As of \",TEXT(PROFILE!$N$44,\"mm/dd/yy\"),\"\")))","v":false},null,null,null,null,null,null,{"$f":"IF(OR($C$54=\"enabled\",$D$54=\"enabled\",$E$54=\"enabled\"),1,0)","v":0}]
[null,null,null,null,null,null,null,null,null,null,null,null,null,null,null,null,null,null,null,null,null,null,0]
[null,null,null,null,null,null,null,null,null,null,null,null,"Minorities Currently Eligible to Retire","",null,null,null,null,null,null,null,null,{"$f":"IF(OR($C$54=\"enabled\"),1,0)","v":0}]
[null,null,null,null,null,null,null,null,null,null,null,null,"Non-Minorities Currently Eligible to Retire","",null,null,null,null,null,null,null,null,{"$f":"IF(OR($C$54=\"enabled\"),1,0)","v":0}]
[null,null,null,null,null,null,null,null,null,null,null,null,null,null,null,null,null,null,null,null,null,null,0]
[null,null,null,null,null,null,null,null,null,null,null,null,"Minority Leaders Currently Eligible to Retire","",null,null,null,null,null,null,null,null,{"$f":"IF(OR($D$54=\"enabled\"),1,0)","v":0}]
[null,null,null,null,null,null,null,null,null,null,null,null,"Non-Minority Leaders Currently Eligible to Retire","",null,null,null,null,null,null,null,null,{"$f":"IF(OR($D$54=\"enabled\"),1,0)","v":0}]
[null,null,null,null,null,null,null,null,null,null,null,null,null,null,null,null,null,null,null,null,null,null,0]
[null,null,null,null,null,null,null,null,null,null,null,null,"Minority Executives Currently Eligible to Retire","",null,null,null,null,null,null,null,null,{"$f":"IF(OR($E$54=\"enabled\"),1,0)","v":0}]
[null,null,null,null,null,null,null,null,null,null,null,null,"Non-Minority Executives Currently Eligible to Retire","",null,null,null,null,null,null,null,null,{"$f":"IF(OR($E$54=\"enabled\"),1,0)","v":0}]
[null,null,null,null,null,null,null,null,null,null,null,null,null,null,null,null,null,null,null,null,null,null,0]
[null,null,null,null,null,null,null,null,null,null,null,null,null,null,null,"Total Employees Currently Eligible to Retire of Additional Demographics",null,null,null,null,null,null,{"$f":"IF(OR($C$55=\"enabled\",$D$55=\"enabled\",$E$55=\"enabled\"),1,0)","v":0}]
[null,null,null,null,null,null,null,null,null,null,null,null,null,{"$f":"'CENTRAL DATA'!$H$12","v":"FY-2"},{"$f":"'CENTRAL DATA'!$H$13","v":"FY-1"},{"$f":"IF(PROFILE!$L$43=\"Fiscal Year WFP\",'CENTRAL DATA'!$H$14,IF(PROFILE!$L$43=\"Snapshot\",CONCATENATE(\"As of \",TEXT(PROFILE!$N$44,\"mm/dd/yy\"),\"\")))","v":false},null,null,null,null,null,null,{"$f":"IF(OR($C$55=\"enabled\",$D$55=\"enabled\",$E$55=\"enabled\"),1,0)","v":0}]
[null,null,null,null,null,null,null,null,null,null,null,null,null,null,null,null,null,null,null,null,null,null,0]
[null,null,null,null,null,null,null,null,null,null,null,null,"Employees with Disabilities Currently Eligible to Retire","",null,null,null,null,null,null,null,null,{"$f":"IF(OR($C$55=\"enabled\"),1,0)","v":0}]
[null,null,null,null,null,null,null,null,null,null,null,null,"Employees who are Veterans Currently Eligible to Retire","",null,null,null,null,null,null,null,null,{"$f":"IF(OR($C$55=\"enabled\"),1,0)","v":0}]
[null,null,null,null,null,null,null,null,null,null,null,null,null,null,null,null,null,null,null,null,null,null,0]
[null,null,null,null,null,null,null,null,null,null,null,null,"Leaders with Disabilities Currently Eligible to Retire","",null,null,null,null,null,null,null,null,{"$f":"IF(OR($D$55=\"enabled\"),1,0)","v":0}]
[null,null,null,null,null,null,null,null,null,null,null,null,"Leaders who are Veterans Currently Eligible to Retire","",null,null,null,null,null,null,null,null,{"$f":"IF(OR($D$55=\"enabled\"),1,0)","v":0}]
[null,null,null,null,null,null,null,null,null,null,null,null,null,null,null,null,null,null,null,null,null,null,0]
[null,null,null,null,null,null,null,null,null,null,null,null,"Executives with Disabilities Currently Eligible to Retire","",null,null,null,null,null,null,null,null,{"$f":"IF(OR($E$55=\"enabled\"),1,0)","v":0}]
[null,null,null,null,null,null,null,null,null,null,null,null,"Executives who are Veterans Currently Eligible to Retire","",null,null,null,null,null,null,null,null,{"$f":"IF(OR($E$55=\"enabled\"),1,0)","v":0}]
[null,null,null,null,null,null,null,null,null,null,null,null,null,null,null,null,null,null,null,null,null,null,0]
[null,null,null,null,null,null,null,null,null,null,null,null,null,null,null,null,null,null,null,null,null,null,0]
[null,null,null,null,null,null,null,null,null,null,null,null,null,null,null,"Upcoming Retirement Eligibility (65 Years Old + 5 Years of Service) by EEO Code",null,null,null,null,null,null,{"$f":"IF(OR($C$59=\"enabled\",$D$59=\"enabled\",$E$59=\"enabled\"),1,0)","v":0}]
[null,null,null,null,null,null,null,null,null,null,null,{"$f":"'CENTRAL DATA'!H15","v":"FY00"},{"$f":"'CENTRAL DATA'!H16","v":"FY01"},{"$f":"'CENTRAL DATA'!H17","v":"FY02"},{"$f":"'CENTRAL DATA'!H18","v":"FY03"},{"$f":"'CENTRAL DATA'!H19","v":"FY04"},null,null,null,null,null,null,{"$f":"IF(OR($C$59=\"enabled\",$D$59=\"enabled\",$E$59=\"enabled\"),1,0)","v":0}]
[null,null,null,null,null,null,null,null,null,null,"Total EEO Code \"Officials and Administrators\" Employees",null,null,null,null,null,null,null,null,null,null,null,{"$f":"IF(OR($C$59=\"enabled\"),1,0)","v":0}]
[null,null,null,null,null,null,null,null,null,null,"Total EEO Code \"Professionals\" Employees",null,null,null,null,null,null,null,null,null,null,null,{"$f":"IF(OR($C$59=\"enabled\"),1,0)","v":0}]
[null,null,null,null,null,null,null,null,null,null,"Total EEO Code \"Technicians\" Employees",null,null,null,null,null,null,null,null,null,null,null,0]
[null,null,null,null,null,null,null,null,null,null,"Total EEO Code \"Protective Service Workers\" Employees",null,null,null,null,null,null,null,null,null,null,null,0]
[null,null,null,null,null,null,null,null,null,null,"Total EEO Code \"Paraprofessionals\" Employees",null,null,null,null,null,null,null,null,null,null,null,0]
[null,null,null,null,null,null,null,null,null,null,"Total EEO Code \"Administrative Support\" Employees",null,null,null,null,null,null,null,null,null,null,null,0]
[null,null,null,null,null,null,null,null,null,null,"Total EEO Code \"Skilled Craft Workers\" Employees",null,null,null,null,null,null,null,null,null,null,null,0]
[null,null,null,null,null,null,null,null,null,null,"Total EEO Code \"Service/Maintenance\" Employees",null,null,null,null,null,null,null,null,null,null,null,0]
[null,null,null,null,null,null,null,null,null,null,"Total EEO Code \"Faculty\" Employees",null,null,null,null,null,null,null,null,null,null,null,0]
[null,null,null,null,null,null,null,null,null,null,"Total EEO Code \"Other\" Employees",null,null,null,null,null,null,null,null,null,null,null,0]
[null,null,null,null,null,null,null,null,null,null,null,null,null,null,null,null,null,null,null,null,null,null,0]
[null,null,null,null,null,null,null,null,null,null,"Total EEO Code \"Officials and Administrators\" Leaders",null,null,null,null,null,null,null,null,null,null,null,{"$f":"IF(OR($D$59=\"enabled\"),1,0)","v":0}]
[null,null,null,null,null,null,null,null,null,null,"Total EEO Code \"Professionals\" Leaders",null,null,null,null,null,null,null,null,null,null,null,{"$f":"IF(OR($D$59=\"enabled\"),1,0)","v":0}]
[null,null,null,null,null,null,null,null,null,null,"Total EEO Code \"Technicians\" Leaders",null,null,null,null,null,null,null,null,null,null,null,0]
[null,null,null,null,null,null,null,null,null,null,"Total EEO Code \"Protective Service Workers\" Leaders",null,null,null,null,null,null,null,null,null,null,null,0]
[null,null,null,null,null,null,null,null,null,null,"Total EEO Code \"Paraprofessionals\" Leaders",null,null,null,null,null,null,null,null,null,null,null,0]
[null,null,null,null,null,null,null,null,null,null,"Total EEO Code \"Administrative Support\" Leaders",null,null,null,null,null,null,null,null,null,null,null,0]
[null,null,null,null,null,null,null,null,null,null,"Total EEO Code \"Skilled Craft Workers\" Leaders",null,null,null,null,null,null,null,null,null,null,null,0]
[null,null,null,null,null,null,null,null,null,null,"Total EEO Code \"Service/Maintenance\" Leaders",null,null,null,null,null,null,null,null,null,null,null,0]
[null,null,null,null,null,null,null,null,null,null,"Total EEO Code \"Faculty\" Leaders",null,null,null,null,null,null,null,null,null,null,null,0]
[null,null,null,null,null,null,null,null,null,null,"Total EEO Code \"Other\" Leaders",null,null,null,null,null,null,null,null,null,null,null,0]
[null,null,null,null,null,null,null,null,null,null,null,null,null,null,null,null,null,null,null,null,null,null,0]
[null,null,null,null,null,null,null,null,null,null,"Total EEO Code \"Officials and Administrators\" Executives",null,null,null,null,null,null,null,null,null,null,null,{"$f":"IF(OR($E$59=\"enabled\"),1,0)","v":0}]
[null,null,null,null,null,null,null,null,null,null,"Total EEO Code \"Professionals\" Executives",null,null,null,null,null,null,null,null,null,null,null,{"$f":"IF(OR($E$59=\"enabled\"),1,0)","v":0}]
[null,null,null,null,null,null,null,null,null,null,"Total EEO Code \"Technicians\" Executives",null,null,null,null,null,null,null,null,null,null,null,0]
[null,null,null,null,null,null,null,null,null,null,"Total EEO Code \"Protective Service Workers\" Executives",null,null,null,null,null,null,null,null,null,null,null,0]
[null,null,null,null,null,null,null,null,null,null,"Total EEO Code \"Paraprofessionals\" Executives",null,null,null,null,null,null,null,null,null,null,null,0]
[null,null,null,null,null,null,null,null,null,null,"Total EEO Code \"Administrative Support\" Executives",null,null,null,null,null,null,null,null,null,null,null,0]
[null,null,null,null,null,null,null,null,null,null,"Total EEO Code \"Skilled Craft Workers\" Executives",null,null,null,null,null,null,null,null,null,null,null,0]
[null,null,null,null,null,null,null,null,null,null,"Total EEO Code \"Service/Maintenance\" Executives",null,null,null,null,null,null,null,null,null,null,null,0]
[null,null,null,null,null,null,null,null,null,null,"Total EEO Code \"Faculty\" Executives",null,null,null,null,null,null,null,null,null,null,null,0]
[null,null,null,null,null,null,null,null,null,null,"Total EEO Code \"Other\" Executives",null,null,null,null,null,null,null,null,null,null,null,0]
[null,null,null,null,null,null,null,null,null,null,null,null,null,null,null,null,null,null,null,null,null,null,0]
[null,null,null,null,null,null,null,null,null,null,null,null,null,null,null,"Upcoming Retirement Eligibility (65 Years Old + 5 Years of Service) by Classification",null,null,null,null,null,null,{"$f":"IF(OR($C$60=\"enabled\",$D$60=\"enabled\",$E$60=\"enabled\"),1,0)","v":0}]
[null,null,null,null,null,null,null,null,null,null,null,{"$f":"'CENTRAL DATA'!H15","v":"FY00"},{"$f":"'CENTRAL DATA'!H16","v":"FY01"},{"$f":"'CENTRAL DATA'!H17","v":"FY02"},{"$f":"'CENTRAL DATA'!H18","v":"FY03"},{"$f":"'CENTRAL DATA'!H19","v":"FY04"},null,null,null,null,null,null,{"$f":"IF(OR($C$60=\"enabled\",$D$60=\"enabled\",$E$60=\"enabled\"),1,0)","v":0}]
[null,null,{"$f":"COUNTIF(K558,\"*\"&PROFILE!$C$58&\"*\")","v":1},null,null,null,null,null,null,null,{"$f":"CONCATENATE(\"Total \",PROFILE!C58,\" Employees\")","v":"Total  Employees"},null,null,null,null,null,null,null,null,null,null,null,{"$f":"IF(AND(OR($C$60=\"enabled\"),C558=1),1,0)","v":0}]
[null,null,{"$f":"COUNTIF(K559,\"*\"&PROFILE!$C$59&\"*\")","v":1},null,null,null,null,null,null,null,{"$f":"CONCATENATE(\"Total \",PROFILE!C59,\" Employees\")","v":"Total  Employees"},null,null,null,null,null,null,null,null,null,null,null,{"$f":"IF(AND(OR($C$60=\"enabled\"),C559=1),1,0)","v":0}]
[null,null,{"$f":"COUNTIF(K560,\"*\"&PROFILE!$C$60&\"*\")","v":1},null,null,null,null,null,null,null,{"$f":"CONCATENATE(\"Total \",PROFILE!C60,\" Employees\")","v":"Total  Employees"},null,null,null,null,null,null,null,null,null,null,null,0]
[null,null,{"$f":"COUNTIF(K561,\"*\"&PROFILE!$C$61&\"*\")","v":1},null,null,null,null,null,null,null,{"$f":"CONCATENATE(\"Total \",PROFILE!C61,\" Employees\")","v":"Total  Employees"},null,null,null,null,null,null,null,null,null,null,null,0]
[null,null,{"$f":"COUNTIF(K562,\"*\"&PROFILE!$C$62&\"*\")","v":1},null,null,null,null,null,null,null,{"$f":"CONCATENATE(\"Total \",PROFILE!C62,\" Employees\")","v":"Total  Employees"},null,null,null,null,null,null,null,null,null,null,null,0]
[null,null,{"$f":"COUNTIF(K563,\"*\"&PROFILE!$C$63&\"*\")","v":1},null,null,null,null,null,null,null,{"$f":"CONCATENATE(\"Total \",PROFILE!C63,\" Employees\")","v":"Total  Employees"},null,null,null,null,null,null,null,null,null,null,null,0]
[null,null,{"$f":"COUNTIF(K564,\"*\"&PROFILE!$C$64&\"*\")","v":1},null,null,null,null,null,null,null,{"$f":"CONCATENATE(\"Total \",PROFILE!C64,\" Employees\")","v":"Total  Employees"},null,null,null,null,null,null,null,null,null,null,null,0]
[null,null,{"$f":"COUNTIF(K565,\"*\"&PROFILE!$C$65&\"*\")","v":1},null,null,null,null,null,null,null,{"$f":"CONCATENATE(\"Total \",PROFILE!C65,\" Employees\")","v":"Total  Employees"},null,null,null,null,null,null,null,null,null,null,null,0]
[null,null,{"$f":"COUNTIF(K566,\"*\"&PROFILE!$C$66&\"*\")","v":1},null,null,null,null,null,null,null,{"$f":"CONCATENATE(\"Total \",PROFILE!C66,\" Employees\")","v":"Total  Employees"},null,null,null,null,null,null,null,null,null,null,null,0]
[null,null,{"$f":"COUNTIF(K567,\"*\"&PROFILE!$C$67&\"*\")","v":1},null,null,null,null,null,null,null,{"$f":"CONCATENATE(\"Total \",PROFILE!C67,\" Employees\")","v":"Total  Employees"},null,null,null,null,null,null,null,null,null,null,null,0]
[null,null,{"$f":"COUNTIF(K568,\"*\"&PROFILE!$C$68&\"*\")","v":1},null,null,null,null,null,null,null,{"$f":"CONCATENATE(\"Total \",PROFILE!C68,\" Employees\")","v":"Total  Employees"},null,null,null,null,null,null,null,null,null,null,null,0]
[null,null,{"$f":"COUNTIF(K569,\"*\"&PROFILE!$C$69&\"*\")","v":1},null,null,null,null,null,null,null,{"$f":"CONCATENATE(\"Total \",PROFILE!C69,\" Employees\")","v":"Total  Employees"},null,null,null,null,null,null,null,null,null,null,null,0]
[null,null,{"$f":"COUNTIF(K570,\"*\"&PROFILE!$C$70&\"*\")","v":1},null,null,null,null,null,null,null,{"$f":"CONCATENATE(\"Total \",PROFILE!C70,\" Employees\")","v":"Total  Employees"},null,null,null,null,null,null,null,null,null,null,null,0]
[null,null,{"$f":"COUNTIF(K571,\"*\"&PROFILE!$C$71&\"*\")","v":1},null,null,null,null,null,null,null,{"$f":"CONCATENATE(\"Total \",PROFILE!C71,\" Employees\")","v":"Total  Employees"},null,null,null,null,null,null,null,null,null,null,null,0]
[null,null,{"$f":"COUNTIF(K572,\"*\"&PROFILE!$C$72&\"*\")","v":1},null,null,null,null,null,null,null,{"$f":"CONCATENATE(\"Total \",PROFILE!C72,\" Employees\")","v":"Total  Employees"},null,null,null,null,null,null,null,null,null,null,null,0]
[null,null,null,null,null,null,null,null,null,null,null,null,null,null,null,null,null,null,null,null,null,null,{"$f":"IF(OR($C$60=\"enabled\"),1,0)","v":0}]
[null,null,{"$f":"COUNTIF(K574,\"*\"&PROFILE!$C$58&\"*\")","v":1},null,null,null,null,null,null,null,{"$f":"CONCATENATE(\"Total \",PROFILE!C58,\" Leaders\")","v":"Total  Leaders"},null,null,null,null,null,null,null,null,null,null,null,{"$f":"IF(AND(OR($D$60=\"enabled\"),C574=1),1,0)","v":0}]
[null,null,{"$f":"COUNTIF(K575,\"*\"&PROFILE!$C$59&\"*\")","v":1},null,null,null,null,null,null,null,{"$f":"CONCATENATE(\"Total \",PROFILE!C59,\" Leaders\")","v":"Total  Leaders"},null,null,null,null,null,null,null,null,null,null,null,{"$f":"IF(AND(OR($D$60=\"enabled\"),C575=1),1,0)","v":0}]
[null,null,{"$f":"COUNTIF(K576,\"*\"&PROFILE!$C$60&\"*\")","v":1},null,null,null,null,null,null,null,{"$f":"CONCATENATE(\"Total \",PROFILE!C60,\" Leaders\")","v":"Total  Leaders"},null,null,null,null,null,null,null,null,null,null,null,0]
[null,null,{"$f":"COUNTIF(K577,\"*\"&PROFILE!$C$61&\"*\")","v":1},null,null,null,null,null,null,null,{"$f":"CONCATENATE(\"Total \",PROFILE!C61,\" Leaders\")","v":"Total  Leaders"},null,null,null,null,null,null,null,null,null,null,null,0]
[null,null,{"$f":"COUNTIF(K578,\"*\"&PROFILE!$C$62&\"*\")","v":1},null,null,null,null,null,null,null,{"$f":"CONCATENATE(\"Total \",PROFILE!C62,\" Leaders\")","v":"Total  Leaders"},null,null,null,null,null,null,null,null,null,null,null,0]
[null,null,{"$f":"COUNTIF(K579,\"*\"&PROFILE!$C$63&\"*\")","v":1},null,null,null,null,null,null,null,{"$f":"CONCATENATE(\"Total \",PROFILE!C63,\" Leaders\")","v":"Total  Leaders"},null,null,null,null,null,null,null,null,null,null,null,0]
[null,null,{"$f":"COUNTIF(K580,\"*\"&PROFILE!$C$64&\"*\")","v":1},null,null,null,null,null,null,null,{"$f":"CONCATENATE(\"Total \",PROFILE!C64,\" Leaders\")","v":"Total  Leaders"},null,null,null,null,null,null,null,null,null,null,null,0]
[null,null,{"$f":"COUNTIF(K581,\"*\"&PROFILE!$C$65&\"*\")","v":1},null,null,null,null,null,null,null,{"$f":"CONCATENATE(\"Total \",PROFILE!C65,\" Leaders\")","v":"Total  Leaders"},null,null,null,null,null,null,null,null,null,null,null,0]
[null,null,{"$f":"COUNTIF(K582,\"*\"&PROFILE!$C$66&\"*\")","v":1},null,null,null,null,null,null,null,{"$f":"CONCATENATE(\"Total \",PROFILE!C66,\" Leaders\")","v":"Total  Leaders"},null,null,null,null,null,null,null,null,null,null,null,0]
[null,null,{"$f":"COUNTIF(K583,\"*\"&PROFILE!$C$67&\"*\")","v":1},null,null,null,null,null,null,null,{"$f":"CONCATENATE(\"Total \",PROFILE!C67,\" Leaders\")","v":"Total  Leaders"},null,null,null,null,null,null,null,null,null,null,null,0]
[null,null,{"$f":"COUNTIF(K584,\"*\"&PROFILE!$C$68&\"*\")","v":1},null,null,null,null,null,null,null,{"$f":"CONCATENATE(\"Total \",PROFILE!C68,\" Leaders\")","v":"Total  Leaders"},null,null,null,null,null,null,null,null,null,null,null,0]
[null,null,{"$f":"COUNTIF(K585,\"*\"&PROFILE!$C$69&\"*\")","v":1},null,null,null,null,null,null,null,{"$f":"CONCATENATE(\"Total \",PROFILE!C69,\" Leaders\")","v":"Total  Leaders"},null,null,null,null,null,null,null,null,null,null,null,0]
[null,null,{"$f":"COUNTIF(K586,\"*\"&PROFILE!$C$70&\"*\")","v":1},null,null,null,null,null,null,null,{"$f":"CONCATENATE(\"Total \",PROFILE!C70,\" Leaders\")","v":"Total  Leaders"},null,null,null,null,null,null,null,null,null,null,null,0]
[null,null,{"$f":"COUNTIF(K587,\"*\"&PROFILE!$C$71&\"*\")","v":1},null,null,null,null,null,null,null,{"$f":"CONCATENATE(\"Total \",PROFILE!C71,\" Leaders\")","v":"Total  Leaders"},null,null,null,null,null,null,null,null,null,null,null,0]
[null,null,{"$f":"COUNTIF(K588,\"*\"&PROFILE!$C$72&\"*\")","v":1},null,null,null,null,null,null,null,{"$f":"CONCATENATE(\"Total \",PROFILE!C72,\" Leaders\")","v":"Total  Leaders"},null,null,null,null,null,null,null,null,null,null,null,0]
[null,null,null,null,null,null,null,null,null,null,null,null,null,null,null,null,null,null,null,null,null,null,{"$f":"IF(OR($D$60=\"enabled\"),1,0)","v":0}]
[null,null,{"$f":"COUNTIF(K590,\"*\"&PROFILE!$C$58&\"*\")","v":1},null,null,null,null,null,null,null,{"$f":"CONCATENATE(\"Total \",PROFILE!C58,\" Executives\")","v":"Total  Executives"},null,null,null,null,null,null,null,null,null,null,null,{"$f":"IF(AND(OR($E$60=\"enabled\"),C590=1),1,0)","v":0}]
[null,null,{"$f":"COUNTIF(K591,\"*\"&PROFILE!$C$59&\"*\")","v":1},null,null,null,null,null,null,null,{"$f":"CONCATENATE(\"Total \",PROFILE!C59,\" Executives\")","v":"Total  Executives"},null,null,null,null,null,null,null,null,null,null,null,{"$f":"IF(AND(OR($E$60=\"enabled\"),C591=1),1,0)","v":0}]
[null,null,{"$f":"COUNTIF(K592,\"*\"&PROFILE!$C$60&\"*\")","v":1},null,null,null,null,null,null,null,{"$f":"CONCATENATE(\"Total \",PROFILE!C60,\" Executives\")","v":"Total  Executives"},null,null,null,null,null,null,null,null,null,null,null,0]
[null,null,{"$f":"COUNTIF(K593,\"*\"&PROFILE!$C$61&\"*\")","v":1},null,null,null,null,null,null,null,{"$f":"CONCATENATE(\"Total \",PROFILE!C61,\" Executives\")","v":"Total  Executives"},null,null,null,null,null,null,null,null,null,null,null,0]
[null,null,{"$f":"COUNTIF(K594,\"*\"&PROFILE!$C$62&\"*\")","v":1},null,null,null,null,null,null,null,{"$f":"CONCATENATE(\"Total \",PROFILE!C62,\" Executives\")","v":"Total  Executives"},null,null,null,null,null,null,null,null,null,null,null,0]
[null,null,{"$f":"COUNTIF(K595,\"*\"&PROFILE!$C$63&\"*\")","v":1},null,null,null,null,null,null,null,{"$f":"CONCATENATE(\"Total \",PROFILE!C63,\" Executives\")","v":"Total  Executives"},null,null,null,null,null,null,null,null,null,null,null,0]
[null,null,{"$f":"COUNTIF(K596,\"*\"&PROFILE!$C$64&\"*\")","v":1},null,null,null,null,null,null,null,{"$f":"CONCATENATE(\"Total \",PROFILE!C64,\" Executives\")","v":"Total  Executives"},null,null,null,null,null,null,null,null,null,null,null,0]
[null,null,{"$f":"COUNTIF(K597,\"*\"&PROFILE!$C$65&\"*\")","v":1},null,null,null,null,null,null,null,{"$f":"CONCATENATE(\"Total \",PROFILE!C65,\" Executives\")","v":"Total  Executives"},null,null,null,null,null,null,null,null,null,null,null,0]
[null,null,{"$f":"COUNTIF(K598,\"*\"&PROFILE!$C$66&\"*\")","v":1},null,null,null,null,null,null,null,{"$f":"CONCATENATE(\"Total \",PROFILE!C66,\" Executives\")","v":"Total  Executives"},null,null,null,null,null,null,null,null,null,null,null,0]
[null,null,{"$f":"COUNTIF(K599,\"*\"&PROFILE!$C$67&\"*\")","v":1},null,null,null,null,null,null,null,{"$f":"CONCATENATE(\"Total \",PROFILE!C67,\" Executives\")","v":"Total  Executives"},null,null,null,null,null,null,null,null,null,null,null,0]
[null,null,{"$f":"COUNTIF(K600,\"*\"&PROFILE!$C$68&\"*\")","v":1},null,null,null,null,null,null,null,{"$f":"CONCATENATE(\"Total \",PROFILE!C68,\" Executives\")","v":"Total  Executives"},null,null,null,null,null,null,null,null,null,null,null,0]
[null,null,{"$f":"COUNTIF(K601,\"*\"&PROFILE!$C$69&\"*\")","v":1},null,null,null,null,null,null,null,{"$f":"CONCATENATE(\"Total \",PROFILE!C69,\" Executives\")","v":"Total  Executives"},null,null,null,null,null,null,null,null,null,null,null,0]
[null,null,{"$f":"COUNTIF(K602,\"*\"&PROFILE!$C$70&\"*\")","v":1},null,null,null,null,null,null,null,{"$f":"CONCATENATE(\"Total \",PROFILE!C70,\" Executives\")","v":"Total  Executives"},null,null,null,null,null,null,null,null,null,null,null,0]
[null,null,{"$f":"COUNTIF(K603,\"*\"&PROFILE!$C$71&\"*\")","v":1},null,null,null,null,null,null,null,{"$f":"CONCATENATE(\"Total \",PROFILE!C71,\" Executives\")","v":"Total  Executives"},null,null,null,null,null,null,null,null,null,null,null,0]
[null,null,{"$f":"COUNTIF(K604,\"*\"&PROFILE!$C$72&\"*\")","v":1},null,null,null,null,null,null,null,{"$f":"CONCATENATE(\"Total \",PROFILE!C72,\" Executives\")","v":"Total  Executives"},null,null,null,null,null,null,null,null,null,null,null,0]
[null,null,null,null,null,null,null,null,null,null,null,null,null,null,null,null,null,null,null,null,null,null,{"$f":"IF(OR($E$60=\"enabled\"),1,0)","v":0}]
[null,null,null,null,null,null,null,null,null,null,null,null,null,null,null,"Upcoming Retirement Eligibility (65 Years Old + 5 Years of Service) by Sex",null,null,null,null,null,null,{"$f":"IF(OR($C$61=\"enabled\",$D$61=\"enabled\",$E$61=\"enabled\"),1,0)","v":0}]
[null,null,null,null,null,null,null,null,null,null,null,{"$f":"'CENTRAL DATA'!H15","v":"FY00"},{"$f":"'CENTRAL DATA'!H16","v":"FY01"},{"$f":"'CENTRAL DATA'!H17","v":"FY02"},{"$f":"'CENTRAL DATA'!H18","v":"FY03"},{"$f":"'CENTRAL DATA'!H19","v":"FY04"},null,null,null,null,null,null,{"$f":"IF(OR($C$61=\"enabled\",$D$61=\"enabled\",$E$61=\"enabled\"),1,0)","v":0}]
[null,null,null,null,null,null,null,null,null,null,"Employees with Disabilities",null,null,null,null,null,null,null,null,null,null,null,{"$f":"IF(OR($C$61=\"enabled\"),1,0)","v":0}]
[null,null,null,null,null,null,null,null,null,null,"Employees who are Veterans",null,null,null,null,null,null,null,null,null,null,null,{"$f":"IF(OR($C$61=\"enabled\"),1,0)","v":0}]
[null,null,null,null,null,null,null,null,null,null,null,null,null,null,null,null,null,null,null,null,null,null,0]
[null,null,null,null,null,null,null,null,null,null,"Leaders with Disabilities",null,null,null,null,null,null,null,null,null,null,null,{"$f":"IF(OR($D$61=\"enabled\"),1,0)","v":0}]
[null,null,null,null,null,null,null,null,null,null,"Leaders who are Veterans",null,null,null,null,null,null,null,null,null,null,null,{"$f":"IF(OR($D$61=\"enabled\"),1,0)","v":0}]
[null,null,null,null,null,null,null,null,null,null,null,null,null,null,null,null,null,null,null,null,null,null,0]
[null,null,null,null,null,null,null,null,null,null,"Executives with Disabilities",null,null,null,null,null,null,null,null,null,null,null,{"$f":"IF(OR($E$61=\"enabled\"),1,0)","v":0}]
[null,null,null,null,null,null,null,null,null,null,"Executives who are Veterans",null,null,null,null,null,null,null,null,null,null,null,{"$f":"IF(OR($E$61=\"enabled\"),1,0)","v":0}]
[null,null,null,null,null,null,null,null,null,null,null,null,null,null,null,null,null,null,null,null,null,null,0]
[null,null,null,null,null,null,null,null,null,null,null,null,null,null,null,"Upcoming Retirement Eligibility (65 Years Old + 5 Years of Service) by Race",null,null,null,null,null,null,{"$f":"IF(OR($C$62=\"enabled\",$D$62=\"enabled\",$E$62=\"enabled\"),1,0)","v":0}]
[null,null,null,null,null,null,null,null,null,null,null,{"$f":"'CENTRAL DATA'!H15","v":"FY00"},{"$f":"'CENTRAL DATA'!H16","v":"FY01"},{"$f":"'CENTRAL DATA'!H17","v":"FY02"},{"$f":"'CENTRAL DATA'!H18","v":"FY03"},{"$f":"'CENTRAL DATA'!H19","v":"FY04"},null,null,null,null,null,null,{"$f":"IF(OR($C$62=\"enabled\",$D$62=\"enabled\",$E$62=\"enabled\"),1,0)","v":0}]
[null,null,null,null,null,null,null,null,null,null,"American Indian or Alaskan Native Employees",null,null,null,null,null,null,null,null,null,null,null,{"$f":"IF(OR($C$62=\"enabled\"),1,0)","v":0}]
[null,null,null,null,null,null,null,null,null,null,"Asian Employees",null,null,null,null,null,null,null,null,null,null,null,{"$f":"IF(OR($C$62=\"enabled\"),1,0)","v":0}]
[null,null,null,null,null,null,null,null,null,null,"Black or African American Employees",null,null,null,null,null,null,null,null,null,null,null,0]
[null,null,null,null,null,null,null,null,null,null,"Hispanic or Latino Employees",null,null,null,null,null,null,null,null,null,null,null,0]
[null,null,null,null,null,null,null,null,null,null,"Native Hawaiian or Other Pac. Islander Employees ",null,null,null,null,null,null,null,null,null,null,null,0]
[null,null,null,null,null,null,null,null,null,null,"White Employees",null,null,null,null,null,null,null,null,null,null,null,0]
[null,null,null,null,null,null,null,null,null,null,"Two or More Races Employees",null,null,null,null,null,null,null,null,null,null,null,0]
[null,null,null,null,null,null,null,null,null,null,"Race Unknown or not Entered Employees",null,null,null,null,null,null,null,null,null,null,null,0]
[null,null,null,null,null,null,null,null,null,null,null,null,null,null,null,null,null,null,null,null,null,null,0]
[null,null,null,null,null,null,null,null,null,null,"American Indian or Alaskan Native Leaders",null,null,null,null,null,null,null,null,null,null,null,{"$f":"IF(OR($D$62=\"enabled\"),1,0)","v":0}]
[null,null,null,null,null,null,null,null,null,null,"Asian Leaders",null,null,null,null,null,null,null,null,null,null,null,{"$f":"IF(OR($D$62=\"enabled\"),1,0)","v":0}]
[null,null,null,null,null,null,null,null,null,null,"Black or African American Leaders",null,null,null,null,null,null,null,null,null,null,null,0]
[null,null,null,null,null,null,null,null,null,null,"Hispanic or Latino Leaders",null,null,null,null,null,null,null,null,null,null,null,0]
[null,null,null,null,null,null,null,null,null,null,"Native Hawaiian or Other Pac. Islander Leaders ",null,null,null,null,null,null,null,null,null,null,null,0]
[null,null,null,null,null,null,null,null,null,null,"White Leaders",null,null,null,null,null,null,null,null,null,null,null,0]
[null,null,null,null,null,null,null,null,null,null,"Two or More Races Leaders",null,null,null,null,null,null,null,null,null,null,null,0]
[null,null,null,null,null,null,null,null,null,null,"Race Unknown or not Entered Leaders",null,null,null,null,null,null,null,null,null,null,null,0]
[null,null,null,null,null,null,null,null,null,null,null,null,null,null,null,null,null,null,null,null,null,null,0]
[null,null,null,null,null,null,null,null,null,null,"American Indian or Alaskan Native Executives",null,null,null,null,null,null,null,null,null,null,null,{"$f":"IF(OR($E$62=\"enabled\"),1,0)","v":0}]
[null,null,null,null,null,null,null,null,null,null,"Asian Executives",null,null,null,null,null,null,null,null,null,null,null,{"$f":"IF(OR($E$62=\"enabled\"),1,0)","v":0}]
[null,null,null,null,null,null,null,null,null,null,"Black or African American Executives",null,null,null,null,null,null,null,null,null,null,null,0]
[null,null,null,null,null,null,null,null,null,null,"Hispanic or Latino Executives",null,null,null,null,null,null,null,null,null,null,null,0]
[null,null,null,null,null,null,null,null,null,null,"Native Hawaiian or Other Pac. Islander Executives ",null,null,null,null,null,null,null,null,null,null,null,0]
[null,null,null,null,null,null,null,null,null,null,"White Executives",null,null,null,null,null,null,null,null,null,null,null,0]
[null,null,null,null,null,null,null,null,null,null,"Two or More Races Executives",null,null,null,null,null,null,null,null,null,null,null,0]
[null,null,null,null,null,null,null,null,null,null,"Race Unknown or not Entered Executives",null,null,null,null,null,null,null,null,null,null,null,0]
[null,null,null,null,null,null,null,null,null,null,null,null,null,null,null,null,null,null,null,null,null,null,0]
[null,null,null,null,null,null,null,null,null,null,null,null,null,null,null,"Upcoming Retirement Eligibility (65 Years Old + 5 Years of Service) by Additional Demographics",null,null,null,null,null,null,{"$f":"IF(OR($C$63=\"enabled\",$D$63=\"enabled\",$E$63=\"enabled\"),1,0)","v":0}]
[null,null,null,null,null,null,null,null,null,null,null,{"$f":"'CENTRAL DATA'!H15","v":"FY00"},{"$f":"'CENTRAL DATA'!H16","v":"FY01"},{"$f":"'CENTRAL DATA'!H17","v":"FY02"},{"$f":"'CENTRAL DATA'!H18","v":"FY03"},{"$f":"'CENTRAL DATA'!H19","v":"FY04"},null,null,null,null,null,null,{"$f":"IF(OR($C$63=\"enabled\",$D$63=\"enabled\",$E$63=\"enabled\"),1,0)","v":0}]
[null,null,null,null,null,null,null,null,null,null,"Employees with Disabilities",null,null,null,null,null,null,null,null,null,null,null,{"$f":"IF(OR($C$63=\"enabled\"),1,0)","v":0}]
[null,null,null,null,null,null,null,null,null,null,"Employees who are Veterans",null,null,null,null,null,null,null,null,null,null,null,{"$f":"IF(OR($C$63=\"enabled\"),1,0)","v":0}]
[null,null,null,null,null,null,null,null,null,null,null,null,null,null,null,null,null,null,null,null,null,null,0]
[null,null,null,null,null,null,null,null,null,null,"Leaders with Disabilities",null,null,null,null,null,null,null,null,null,null,null,{"$f":"IF(OR($D$63=\"enabled\"),1,0)","v":0}]
[null,null,null,null,null,null,null,null,null,null,"Leaders who are Veterans",null,null,null,null,null,null,null,null,null,null,null,{"$f":"IF(OR($D$63=\"enabled\"),1,0)","v":0}]
[null,null,null,null,null,null,null,null,null,null,null,null,null,null,null,null,null,null,null,null,null,null,0]
[null,null,null,null,null,null,null,null,null,null,"Executives with Disabilities",null,null,null,null,null,null,null,null,null,null,null,{"$f":"IF(OR($E$63=\"enabled\"),1,0)","v":0}]
[null,null,null,null,null,null,null,null,null,null,"Executives who are Veterans",null,null,null,null,null,null,null,null,null,null,null,{"$f":"IF(OR($E$63=\"enabled\"),1,0)","v":0}]
[null,null,null,null,null,null,null,null,null,null,null,null,null,null,null,null,null,null,null,null,null,null,0]
[null,null,null,null,null,null,null,null,null,null,null,null,null,null,null,null,null,null,null,null,null,null,0]
[null,null,null,null,null,null,null,null,null,null,null,null,null,null,null,null,null,null,null,null,null,null,{"$f":"IF(OR(COUNTIF($H$33:$J$37,\"enabled\")>0,COUNTIF($H$41:$J$45,\"enabled\")>0,COUNTIF($H$49:$J$50,\"enabled\")>0,COUNTIF($H$54:$J$55,\"enabled\")>0,COUNTIF($H$59:$J$60,\"enabled\")>0,COUNTIF($H$64:$J$65,\"enabled\")>0),1,0)","v":0}]
[null,"Step 3: Enter Recruitment Information",null,null,null,null,null,null,null,null,null,null,null,null,null,null,null,null,null,null,null,null,{"$f":"IF(OR(COUNTIF($H$33:$J$37,\"enabled\")>0,COUNTIF($H$41:$J$45,\"enabled\")>0,COUNTIF($H$49:$J$50,\"enabled\")>0,COUNTIF($H$54:$J$55,\"enabled\")>0,COUNTIF($H$59:$J$60,\"enabled\")>0,COUNTIF($H$64:$J$65,\"enabled\")>0),1,0)","v":0}]
[null,null,null,null,null,null,null,null,null,null,null,null,null,null,null,null,null,null,null,null,null,null,0]
[null,"INSTRUCTIONS: Please enter the total number of employees or positions in the boxes below for the respective data fields related to recruitment, which includes applicant, hiring, filled positions, vacant positions, and average time to fill.",null,null,null,null,null,null,null,null,null,null,null,null,null,null,null,null,null,null,null,null,0]
[null,null,null,null,null,null,null,null,null,null,null,null,null,null,null,null,null,null,null,null,null,null,0]
[null,null,null,null,null,null,null,null,null,null,null,null,null,null,null,null,null,null,null,null,null,null,0]
[null,null,null,null,null,null,null,null,null,null,null,null,null,null,null,"Total Applicants by EEO Codes",null,null,null,null,null,null,{"$f":"IF(OR($H$33=\"enabled\",$I$33=\"enabled\",$J$33=\"enabled\"),1,0)","v":0}]
[null,null,null,null,null,null,null,null,null,null,null,null,null,{"$f":"'CENTRAL DATA'!$H$12","v":"FY-2"},{"$f":"'CENTRAL DATA'!$H$13","v":"FY-1"},{"$f":"IF(PROFILE!$L$43=\"Fiscal Year WFP\",'CENTRAL DATA'!$H$14,IF(PROFILE!$L$43=\"Snapshot\",CONCATENATE(\"As of \",TEXT(PROFILE!$N$44,\"mm/dd/yy\"),\"\")))","v":false},null,null,null,null,null,null,{"$f":"IF(OR($H$33=\"enabled\",$I$33=\"enabled\",$J$33=\"enabled\"),1,0)","v":0}]
[null,null,null,null,null,null,null,null,null,null,null,null,null,null,null,null,null,null,null,null,null,null,0]
[null,null,null,null,null,null,null,null,null,null,null,null,"Total EEO Code \"Officials and Administrators\" Applicants","",null,null,null,null,null,null,null,null,{"$f":"IF(OR($H$33=\"enabled\"),1,0)","v":0}]
[null,null,null,null,null,null,null,null,null,null,null,null,"Total EEO Code \"Professionals\" Applicants","",null,null,null,null,null,null,null,null,{"$f":"IF(OR($H$33=\"enabled\"),1,0)","v":0}]
[null,null,null,null,null,null,null,null,null,null,null,null,"Total EEO Code \"Technicians\" Applicants","",null,null,null,null,null,null,null,null,0]
[null,null,null,null,null,null,null,null,null,null,null,null,"Total EEO Code \"Protective Service Workers\" Applicants","",null,null,null,null,null,null,null,null,0]
[null,null,null,null,null,null,null,null,null,null,null,null,"Total EEO Code \"Paraprofessionals\" Applicants","",null,null,null,null,null,null,null,null,0]
[null,null,null,null,null,null,null,null,null,null,null,null,"Total EEO Code \"Administrative Support\" Applicants","",null,null,null,null,null,null,null,null,0]
[null,null,null,null,null,null,null,null,null,null,null,null,"Total EEO Code \"Skilled Craft Workers\" Applicants","",null,null,null,null,null,null,null,null,0]
[null,null,null,null,null,null,null,null,null,null,null,null,"Total EEO Code \"Service/Maintenance\" Applicants","",null,null,null,null,null,null,null,null,0]
[null,null,null,null,null,null,null,null,null,null,null,null,"Total EEO Code \"Faculty\" Applicants","",null,null,null,null,null,null,null,null,0]
[null,null,null,null,null,null,null,null,null,null,null,null,"Total EEO Code \"Other\" Applicants","",null,null,null,null,null,null,null,null,0]
[null,null,null,null,null,null,null,null,null,null,null,null,null,null,null,null,null,null,null,null,null,null,0]
[null,null,null,null,null,null,null,null,null,null,null,null,"Total EEO Code \"Officials and Administrators\" Leader Applicants","",null,null,null,null,null,null,null,null,{"$f":"IF(OR($I$33=\"enabled\"),1,0)","v":0}]
[null,null,null,null,null,null,null,null,null,null,null,null,"Total EEO Code \"Professionals\" Leader Applicants","",null,null,null,null,null,null,null,null,{"$f":"IF(OR($I$33=\"enabled\"),1,0)","v":0}]
[null,null,null,null,null,null,null,null,null,null,null,null,"Total EEO Code \"Technicians\" Leader Applicants","",null,null,null,null,null,null,null,null,0]
[null,null,null,null,null,null,null,null,null,null,null,null,"Total EEO Code \"Protective Service Workers\" Leader Applicants","",null,null,null,null,null,null,null,null,0]
[null,null,null,null,null,null,null,null,null,null,null,null,"Total EEO Code \"Paraprofessionals\" Leader Applicants","",null,null,null,null,null,null,null,null,0]
[null,null,null,null,null,null,null,null,null,null,null,null,"Total EEO Code \"Administrative Support\" Leader Applicants","",null,null,null,null,null,null,null,null,0]
[null,null,null,null,null,null,null,null,null,null,null,null,"Total EEO Code \"Skilled Craft Workers\" Leader Applicants","",null,null,null,null,null,null,null,null,0]
[null,null,null,null,null,null,null,null,null,null,null,null,"Total EEO Code \"Service/Maintenance\" Leader Applicants","",null,null,null,null,null,null,null,null,0]
[null,null,null,null,null,null,null,null,null,null,null,null,"Total EEO Code \"Faculty\" Leader Applicants","",null,null,null,null,null,null,null,null,0]
[null,null,null,null,null,null,null,null,null,null,null,null,"Total EEO Code \"Other\" Leader Applicants","",null,null,null,null,null,null,null,null,0]
[null,null,null,null,null,null,null,null,null,null,null,null,null,null,null,null,null,null,null,null,null,null,0]
[null,null,null,null,null,null,null,null,null,null,null,null,"Total EEO Code \"Officials and Administrators\" Executive Applicants","",null,null,null,null,null,null,null,null,{"$f":"IF(OR($J$33=\"enabled\"),1,0)","v":0}]
[null,null,null,null,null,null,null,null,null,null,null,null,"Total EEO Code \"Professionals\" Executive Applicants","",null,null,null,null,null,null,null,null,{"$f":"IF(OR($J$33=\"enabled\"),1,0)","v":0}]
[null,null,null,null,null,null,null,null,null,null,null,null,"Total EEO Code \"Technicians\" Executive Applicants","",null,null,null,null,null,null,null,null,0]
[null,null,null,null,null,null,null,null,null,null,null,null,"Total EEO Code \"Protective Service Workers\" Executive Applicants","",null,null,null,null,null,null,null,null,0]
[null,null,null,null,null,null,null,null,null,null,null,null,"Total EEO Code \"Paraprofessionals\" Executive Applicants","",null,null,null,null,null,null,null,null,0]
[null,null,null,null,null,null,null,null,null,null,null,null,"Total EEO Code \"Administrative Support\" Executive Applicants","",null,null,null,null,null,null,null,null,0]
[null,null,null,null,null,null,null,null,null,null,null,null,"Total EEO Code \"Skilled Craft Workers\" Executive Applicants","",null,null,null,null,null,null,null,null,0]
[null,null,null,null,null,null,null,null,null,null,null,null,"Total EEO Code \"Service/Maintenance\" Executive Applicants","",null,null,null,null,null,null,null,null,0]
[null,null,null,null,null,null,null,null,null,null,null,null,"Total EEO Code \"Faculty\" Executive Applicants","",null,null,null,null,null,null,null,null,0]
[null,null,null,null,null,null,null,null,null,null,null,null,"Total EEO Code \"Other\" Executive Applicants","",null,null,null,null,null,null,null,null,0]
[null,null,null,null,null,null,null,null,null,null,null,null,null,null,null,null,null,null,null,null,null,null,0]
[null,null,null,null,null,null,null,null,null,null,null,null,null,null,null,"Total Applicants by Classifications",null,null,null,null,null,null,{"$f":"IF(OR($H$34=\"enabled\",$I$34=\"enabled\",$J$34=\"enabled\"),1,0)","v":0}]
[null,null,null,null,null,null,null,null,null,null,null,null,null,{"$f":"'CENTRAL DATA'!$H$12","v":"FY-2"},{"$f":"'CENTRAL DATA'!$H$13","v":"FY-1"},{"$f":"IF(PROFILE!$L$43=\"Fiscal Year WFP\",'CENTRAL DATA'!$H$14,IF(PROFILE!$L$43=\"Snapshot\",CONCATENATE(\"As of \",TEXT(PROFILE!$N$44,\"mm/dd/yy\"),\"\")))","v":false},null,null,null,null,null,null,{"$f":"IF(OR($H$34=\"enabled\",$I$34=\"enabled\",$J$34=\"enabled\"),1,0)","v":0}]
[null,null,null,null,null,null,null,null,null,null,null,null,null,null,null,null,null,null,null,null,null,null,0]
[null,null,{"$f":"COUNTIF(M703,\"*\"&PROFILE!$C$58&\"*\")","v":1},null,null,null,null,null,null,null,null,null,{"$f":"CONCATENATE(\"Total \",PROFILE!C58,\" Applicants\")","v":"Total  Applicants"},"",null,null,null,null,null,null,null,null,{"$f":"IF(AND(OR($H$34=\"enabled\"),C703=1),1,0)","v":0}]
[null,null,{"$f":"COUNTIF(M704,\"*\"&PROFILE!$C$59&\"*\")","v":1},null,null,null,null,null,null,null,null,null,{"$f":"CONCATENATE(\"Total \",PROFILE!C59,\" Applicants\")","v":"Total  Applicants"},"",null,null,null,null,null,null,null,null,{"$f":"IF(AND(OR($H$34=\"enabled\"),C704=1),1,0)","v":0}]
[null,null,{"$f":"COUNTIF(M705,\"*\"&PROFILE!$C$60&\"*\")","v":1},null,null,null,null,null,null,null,null,null,{"$f":"CONCATENATE(\"Total \",PROFILE!C60,\" Applicants\")","v":"Total  Applicants"},"",null,null,null,null,null,null,null,null,0]
[null,null,{"$f":"COUNTIF(M706,\"*\"&PROFILE!$C$61&\"*\")","v":1},null,null,null,null,null,null,null,null,null,{"$f":"CONCATENATE(\"Total \",PROFILE!C61,\" Applicants\")","v":"Total  Applicants"},"",null,null,null,null,null,null,null,null,0]
[null,null,{"$f":"COUNTIF(M707,\"*\"&PROFILE!$C$62&\"*\")","v":1},null,null,null,null,null,null,null,null,null,{"$f":"CONCATENATE(\"Total \",PROFILE!C62,\" Applicants\")","v":"Total  Applicants"},"",null,null,null,null,null,null,null,null,0]
[null,null,{"$f":"COUNTIF(M708,\"*\"&PROFILE!$C$63&\"*\")","v":1},null,null,null,null,null,null,null,null,null,{"$f":"CONCATENATE(\"Total \",PROFILE!C63,\" Applicants\")","v":"Total  Applicants"},"",null,null,null,null,null,null,null,null,0]
[null,null,{"$f":"COUNTIF(M709,\"*\"&PROFILE!$C$64&\"*\")","v":1},null,null,null,null,null,null,null,null,null,{"$f":"CONCATENATE(\"Total \",PROFILE!C64,\" Applicants\")","v":"Total  Applicants"},"",null,null,null,null,null,null,null,null,0]
[null,null,{"$f":"COUNTIF(M710,\"*\"&PROFILE!$C$65&\"*\")","v":1},null,null,null,null,null,null,null,null,null,{"$f":"CONCATENATE(\"Total \",PROFILE!C65,\" Applicants\")","v":"Total  Applicants"},"",null,null,null,null,null,null,null,null,0]
[null,null,{"$f":"COUNTIF(M711,\"*\"&PROFILE!$C$66&\"*\")","v":1},null,null,null,null,null,null,null,null,null,{"$f":"CONCATENATE(\"Total \",PROFILE!C66,\" Applicants\")","v":"Total  Applicants"},"",null,null,null,null,null,null,null,null,0]
[null,null,{"$f":"COUNTIF(M712,\"*\"&PROFILE!$C$67&\"*\")","v":1},null,null,null,null,null,null,null,null,null,{"$f":"CONCATENATE(\"Total \",PROFILE!C67,\" Applicants\")","v":"Total  Applicants"},"",null,null,null,null,null,null,null,null,0]
[null,null,{"$f":"COUNTIF(M713,\"*\"&PROFILE!$C$68&\"*\")","v":1},null,null,null,null,null,null,null,null,null,{"$f":"CONCATENATE(\"Total \",PROFILE!C68,\" Applicants\")","v":"Total  Applicants"},"",null,null,null,null,null,null,null,null,0]
[null,null,{"$f":"COUNTIF(M714,\"*\"&PROFILE!$C$69&\"*\")","v":1},null,null,null,null,null,null,null,null,null,{"$f":"CONCATENATE(\"Total \",PROFILE!C69,\" Applicants\")","v":"Total  Applicants"},"",null,null,null,null,null,null,null,null,0]
[null,null,{"$f":"COUNTIF(M715,\"*\"&PROFILE!$C$70&\"*\")","v":1},null,null,null,null,null,null,null,null,null,{"$f":"CONCATENATE(\"Total \",PROFILE!C70,\" Applicants\")","v":"Total  Applicants"},"",null,null,null,null,null,null,null,null,0]
[null,null,{"$f":"COUNTIF(M716,\"*\"&PROFILE!$C$71&\"*\")","v":1},null,null,null,null,null,null,null,null,null,{"$f":"CONCATENATE(\"Total \",PROFILE!C71,\" Applicants\")","v":"Total  Applicants"},"",null,null,null,null,null,null,null,null,0]
[null,null,{"$f":"COUNTIF(M717,\"*\"&PROFILE!$C$72&\"*\")","v":1},null,null,null,null,null,null,null,null,null,{"$f":"CONCATENATE(\"Total \",PROFILE!C72,\" Applicants\")","v":"Total  Applicants"},"",null,null,null,null,null,null,null,null,0]
[null,null,null,null,null,null,null,null,null,null,null,null,null,null,null,null,null,null,null,null,null,null,{"$f":"IF(OR($H$34=\"enabled\"),1,0)","v":0}]
[null,null,{"$f":"COUNTIF(M719,\"*\"&PROFILE!$C$58&\"*\")","v":1},null,null,null,null,null,null,null,null,null,{"$f":"CONCATENATE(\"Total \",PROFILE!C58,\" Leader Applicants\")","v":"Total  Leader Applicants"},"",null,null,null,null,null,null,null,null,{"$f":"IF(AND(OR($I$34=\"enabled\"),C719=1),1,0)","v":0}]
[null,null,{"$f":"COUNTIF(M720,\"*\"&PROFILE!$C$59&\"*\")","v":1},null,null,null,null,null,null,null,null,null,{"$f":"CONCATENATE(\"Total \",PROFILE!C59,\" Leader Applicants\")","v":"Total  Leader Applicants"},"",null,null,null,null,null,null,null,null,{"$f":"IF(AND(OR($I$34=\"enabled\"),C720=1),1,0)","v":0}]
[null,null,{"$f":"COUNTIF(M721,\"*\"&PROFILE!$C$60&\"*\")","v":1},null,null,null,null,null,null,null,null,null,{"$f":"CONCATENATE(\"Total \",PROFILE!C60,\" Leader Applicants\")","v":"Total  Leader Applicants"},"",null,null,null,null,null,null,null,null,0]
[null,null,{"$f":"COUNTIF(M722,\"*\"&PROFILE!$C$61&\"*\")","v":1},null,null,null,null,null,null,null,null,null,{"$f":"CONCATENATE(\"Total \",PROFILE!C61,\" Leader Applicants\")","v":"Total  Leader Applicants"},"",null,null,null,null,null,null,null,null,0]
[null,null,{"$f":"COUNTIF(M723,\"*\"&PROFILE!$C$62&\"*\")","v":1},null,null,null,null,null,null,null,null,null,{"$f":"CONCATENATE(\"Total \",PROFILE!C62,\" Leader Applicants\")","v":"Total  Leader Applicants"},"",null,null,null,null,null,null,null,null,0]
[null,null,{"$f":"COUNTIF(M724,\"*\"&PROFILE!$C$63&\"*\")","v":1},null,null,null,null,null,null,null,null,null,{"$f":"CONCATENATE(\"Total \",PROFILE!C63,\" Leader Applicants\")","v":"Total  Leader Applicants"},"",null,null,null,null,null,null,null,null,0]
[null,null,{"$f":"COUNTIF(M725,\"*\"&PROFILE!$C$64&\"*\")","v":1},null,null,null,null,null,null,null,null,null,{"$f":"CONCATENATE(\"Total \",PROFILE!C64,\" Leader Applicants\")","v":"Total  Leader Applicants"},"",null,null,null,null,null,null,null,null,0]
[null,null,{"$f":"COUNTIF(M726,\"*\"&PROFILE!$C$65&\"*\")","v":1},null,null,null,null,null,null,null,null,null,{"$f":"CONCATENATE(\"Total \",PROFILE!C65,\" Leader Applicants\")","v":"Total  Leader Applicants"},"",null,null,null,null,null,null,null,null,0]
[null,null,{"$f":"COUNTIF(M727,\"*\"&PROFILE!$C$66&\"*\")","v":1},null,null,null,null,null,null,null,null,null,{"$f":"CONCATENATE(\"Total \",PROFILE!C66,\" Leader Applicants\")","v":"Total  Leader Applicants"},"",null,null,null,null,null,null,null,null,0]
[null,null,{"$f":"COUNTIF(M728,\"*\"&PROFILE!$C$67&\"*\")","v":1},null,null,null,null,null,null,null,null,null,{"$f":"CONCATENATE(\"Total \",PROFILE!C67,\" Leader Applicants\")","v":"Total  Leader Applicants"},"",null,null,null,null,null,null,null,null,0]
[null,null,{"$f":"COUNTIF(M729,\"*\"&PROFILE!$C$68&\"*\")","v":1},null,null,null,null,null,null,null,null,null,{"$f":"CONCATENATE(\"Total \",PROFILE!C68,\" Leader Applicants\")","v":"Total  Leader Applicants"},"",null,null,null,null,null,null,null,null,0]
[null,null,{"$f":"COUNTIF(M730,\"*\"&PROFILE!$C$69&\"*\")","v":1},null,null,null,null,null,null,null,null,null,{"$f":"CONCATENATE(\"Total \",PROFILE!C69,\" Leader Applicants\")","v":"Total  Leader Applicants"},"",null,null,null,null,null,null,null,null,0]
[null,null,{"$f":"COUNTIF(M731,\"*\"&PROFILE!$C$70&\"*\")","v":1},null,null,null,null,null,null,null,null,null,{"$f":"CONCATENATE(\"Total \",PROFILE!C70,\" Leader Applicants\")","v":"Total  Leader Applicants"},"",null,null,null,null,null,null,null,null,0]
[null,null,{"$f":"COUNTIF(M732,\"*\"&PROFILE!$C$71&\"*\")","v":1},null,null,null,null,null,null,null,null,null,{"$f":"CONCATENATE(\"Total \",PROFILE!C71,\" Leader Applicants\")","v":"Total  Leader Applicants"},"",null,null,null,null,null,null,null,null,0]
[null,null,{"$f":"COUNTIF(M733,\"*\"&PROFILE!$C$72&\"*\")","v":1},null,null,null,null,null,null,null,null,null,{"$f":"CONCATENATE(\"Total \",PROFILE!C72,\" Leader Applicants\")","v":"Total  Leader Applicants"},"",null,null,null,null,null,null,null,null,0]
[null,null,null,null,null,null,null,null,null,null,null,null,null,null,null,null,null,null,null,null,null,null,{"$f":"IF(OR($I$34=\"enabled\"),1,0)","v":0}]
[null,null,{"$f":"COUNTIF(M735,\"*\"&PROFILE!$C$58&\"*\")","v":1},null,null,null,null,null,null,null,null,null,{"$f":"CONCATENATE(\"Total \",PROFILE!C58,\" Executive Applicants\")","v":"Total  Executive Applicants"},"",null,null,null,null,null,null,null,null,{"$f":"IF(AND(OR($J$34=\"enabled\"),C735=1),1,0)","v":0}]
[null,null,{"$f":"COUNTIF(M736,\"*\"&PROFILE!$C$59&\"*\")","v":1},null,null,null,null,null,null,null,null,null,{"$f":"CONCATENATE(\"Total \",PROFILE!C59,\" Executive Applicants\")","v":"Total  Executive Applicants"},"",null,null,null,null,null,null,null,null,{"$f":"IF(AND(OR($J$34=\"enabled\"),C736=1),1,0)","v":0}]
[null,null,{"$f":"COUNTIF(M737,\"*\"&PROFILE!$C$60&\"*\")","v":1},null,null,null,null,null,null,null,null,null,{"$f":"CONCATENATE(\"Total \",PROFILE!C60,\" Executive Applicants\")","v":"Total  Executive Applicants"},"",null,null,null,null,null,null,null,null,0]
[null,null,{"$f":"COUNTIF(M738,\"*\"&PROFILE!$C$61&\"*\")","v":1},null,null,null,null,null,null,null,null,null,{"$f":"CONCATENATE(\"Total \",PROFILE!C61,\" Executive Applicants\")","v":"Total  Executive Applicants"},"",null,null,null,null,null,null,null,null,0]
[null,null,{"$f":"COUNTIF(M739,\"*\"&PROFILE!$C$62&\"*\")","v":1},null,null,null,null,null,null,null,null,null,{"$f":"CONCATENATE(\"Total \",PROFILE!C62,\" Executive Applicants\")","v":"Total  Executive Applicants"},"",null,null,null,null,null,null,null,null,0]
[null,null,{"$f":"COUNTIF(M740,\"*\"&PROFILE!$C$63&\"*\")","v":1},null,null,null,null,null,null,null,null,null,{"$f":"CONCATENATE(\"Total \",PROFILE!C63,\" Executive Applicants\")","v":"Total  Executive Applicants"},"",null,null,null,null,null,null,null,null,0]
[null,null,{"$f":"COUNTIF(M741,\"*\"&PROFILE!$C$64&\"*\")","v":1},null,null,null,null,null,null,null,null,null,{"$f":"CONCATENATE(\"Total \",PROFILE!C64,\" Executive Applicants\")","v":"Total  Executive Applicants"},"",null,null,null,null,null,null,null,null,0]
[null,null,{"$f":"COUNTIF(M742,\"*\"&PROFILE!$C$65&\"*\")","v":1},null,null,null,null,null,null,null,null,null,{"$f":"CONCATENATE(\"Total \",PROFILE!C65,\" Executive Applicants\")","v":"Total  Executive Applicants"},"",null,null,null,null,null,null,null,null,0]
[null,null,{"$f":"COUNTIF(M743,\"*\"&PROFILE!$C$66&\"*\")","v":1},null,null,null,null,null,null,null,null,null,{"$f":"CONCATENATE(\"Total \",PROFILE!C66,\" Executive Applicants\")","v":"Total  Executive Applicants"},"",null,null,null,null,null,null,null,null,0]
[null,null,{"$f":"COUNTIF(M744,\"*\"&PROFILE!$C$67&\"*\")","v":1},null,null,null,null,null,null,null,null,null,{"$f":"CONCATENATE(\"Total \",PROFILE!C67,\" Executive Applicants\")","v":"Total  Executive Applicants"},"",null,null,null,null,null,null,null,null,0]
[null,null,{"$f":"COUNTIF(M745,\"*\"&PROFILE!$C$68&\"*\")","v":1},null,null,null,null,null,null,null,null,null,{"$f":"CONCATENATE(\"Total \",PROFILE!C68,\" Executive Applicants\")","v":"Total  Executive Applicants"},"",null,null,null,null,null,null,null,null,0]
[null,null,{"$f":"COUNTIF(M746,\"*\"&PROFILE!$C$69&\"*\")","v":1},null,null,null,null,null,null,null,null,null,{"$f":"CONCATENATE(\"Total \",PROFILE!C69,\" Executive Applicants\")","v":"Total  Executive Applicants"},"",null,null,null,null,null,null,null,null,0]
[null,null,{"$f":"COUNTIF(M747,\"*\"&PROFILE!$C$70&\"*\")","v":1},null,null,null,null,null,null,null,null,null,{"$f":"CONCATENATE(\"Total \",PROFILE!C70,\" Executive Applicants\")","v":"Total  Executive Applicants"},"",null,null,null,null,null,null,null,null,0]
[null,null,{"$f":"COUNTIF(M748,\"*\"&PROFILE!$C$71&\"*\")","v":1},null,null,null,null,null,null,null,null,null,{"$f":"CONCATENATE(\"Total \",PROFILE!C71,\" Executive Applicants\")","v":"Total  Executive Applicants"},"",null,null,null,null,null,null,null,null,0]
[null,null,{"$f":"COUNTIF(M749,\"*\"&PROFILE!$C$72&\"*\")","v":1},null,null,null,null,null,null,null,null,null,{"$f":"CONCATENATE(\"Total \",PROFILE!C72,\" Executive Applicants\")","v":"Total  Executive Applicants"},"",null,null,null,null,null,null,null,null,0]
[null,null,null,null,null,null,null,null,null,null,null,null,null,null,null,null,null,null,null,null,null,null,{"$f":"IF(OR($J$34=\"enabled\"),1,0)","v":0}]
[null,null,null,null,null,null,null,null,null,null,null,null,null,null,null,"Total Applicants by Sex",null,null,null,null,null,null,{"$f":"IF(OR($H$35=\"enabled\",$I$35=\"enabled\",$J$35=\"enabled\"),1,0)","v":0}]
[null,null,null,null,null,null,null,null,null,null,null,null,null,{"$f":"'CENTRAL DATA'!$H$12","v":"FY-2"},{"$f":"'CENTRAL DATA'!$H$13","v":"FY-1"},{"$f":"IF(PROFILE!$L$43=\"Fiscal Year WFP\",'CENTRAL DATA'!$H$14,IF(PROFILE!$L$43=\"Snapshot\",CONCATENATE(\"As of \",TEXT(PROFILE!$N$44,\"mm/dd/yy\"),\"\")))","v":false},null,null,null,null,null,null,{"$f":"IF(OR($H$35=\"enabled\",$I$35=\"enabled\",$J$35=\"enabled\"),1,0)","v":0}]
[null,null,null,null,null,null,null,null,null,null,null,null,null,null,null,null,null,null,null,null,null,null,0]
[null,null,null,null,null,null,null,null,null,null,null,null,"Male Applicants","",null,null,null,null,null,null,null,null,{"$f":"IF(OR($H$35=\"enabled\"),1,0)","v":0}]
[null,null,null,null,null,null,null,null,null,null,null,null,"Female Applicants","",null,null,null,null,null,null,null,null,{"$f":"IF(OR($H$35=\"enabled\"),1,0)","v":0}]
[null,null,null,null,null,null,null,null,null,null,null,null,null,null,null,null,null,null,null,null,null,null,0]
[null,null,null,null,null,null,null,null,null,null,null,null,"Male Leader Applicants","",null,null,null,null,null,null,null,null,{"$f":"IF(OR($I$35=\"enabled\"),1,0)","v":0}]
[null,null,null,null,null,null,null,null,null,null,null,null,"Female Leader Applicants","",null,null,null,null,null,null,null,null,{"$f":"IF(OR($I$35=\"enabled\"),1,0)","v":0}]
[null,null,null,null,null,null,null,null,null,null,null,null,null,null,null,null,null,null,null,null,null,null,0]
[null,null,null,null,null,null,null,null,null,null,null,null,"Male Executive Applicants","",null,null,null,null,null,null,null,null,{"$f":"IF(OR($J$35=\"enabled\"),1,0)","v":0}]
[null,null,null,null,null,null,null,null,null,null,null,null,"Female Executive Applicants","",null,null,null,null,null,null,null,null,{"$f":"IF(OR($J$35=\"enabled\"),1,0)","v":0}]
[null,null,null,null,null,null,null,null,null,null,null,null,null,null,null,null,null,null,null,null,null,null,0]
[null,null,null,null,null,null,null,null,null,null,null,null,null,null,null,"Total Applicants by Race",null,null,null,null,null,null,{"$f":"IF(OR($H$36=\"enabled\",$I$36=\"enabled\",$J$36=\"enabled\"),1,0)","v":0}]
[null,null,null,null,null,null,null,null,null,null,null,null,null,{"$f":"'CENTRAL DATA'!$H$12","v":"FY-2"},{"$f":"'CENTRAL DATA'!$H$13","v":"FY-1"},{"$f":"IF(PROFILE!$L$43=\"Fiscal Year WFP\",'CENTRAL DATA'!$H$14,IF(PROFILE!$L$43=\"Snapshot\",CONCATENATE(\"As of \",TEXT(PROFILE!$N$44,\"mm/dd/yy\"),\"\")))","v":false},null,null,null,null,null,null,{"$f":"IF(OR($H$36=\"enabled\",$I$36=\"enabled\",$J$36=\"enabled\"),1,0)","v":0}]
[null,null,null,null,null,null,null,null,null,null,null,null,null,null,null,null,null,null,null,null,null,null,0]
[null,null,null,null,null,null,null,null,null,null,null,null,"Minority Applicants","",null,null,null,null,null,null,null,null,{"$f":"IF(OR($H$36=\"enabled\"),1,0)","v":0}]
[null,null,null,null,null,null,null,null,null,null,null,null,"Non-Minority Applicants","",null,null,null,null,null,null,null,null,{"$f":"IF(OR($H$36=\"enabled\"),1,0)","v":0}]
[null,null,null,null,null,null,null,null,null,null,null,null,null,null,null,null,null,null,null,null,null,null,0]
[null,null,null,null,null,null,null,null,null,null,null,null,"Minority Leader Applicants","",null,null,null,null,null,null,null,null,{"$f":"IF(OR($I$36=\"enabled\"),1,0)","v":0}]
[null,null,null,null,null,null,null,null,null,null,null,null,"Non-Minority Leader Applicants","",null,null,null,null,null,null,null,null,{"$f":"IF(OR($I$36=\"enabled\"),1,0)","v":0}]
[null,null,null,null,null,null,null,null,null,null,null,null,null,null,null,null,null,null,null,null,null,null,0]
[null,null,null,null,null,null,null,null,null,null,null,null,"Minority Executive Applicants","",null,null,null,null,null,null,null,null,{"$f":"IF(OR($J$36=\"enabled\"),1,0)","v":0}]
[null,null,null,null,null,null,null,null,null,null,null,null,"Non-Minority Executive Applicants","",null,null,null,null,null,null,null,null,{"$f":"IF(OR($J$36=\"enabled\"),1,0)","v":0}]
[null,null,null,null,null,null,null,null,null,null,null,null,null,null,null,null,null,null,null,null,null,null,0]
[null,null,null,null,null,null,null,null,null,null,null,null,null,null,null,"Total Applicants of Additional Demographics",null,null,null,null,null,null,{"$f":"IF(OR($H$37=\"enabled\",$I$37=\"enabled\",$J$37=\"enabled\"),1,0)","v":0}]
[null,null,null,null,null,null,null,null,null,null,null,null,null,{"$f":"'CENTRAL DATA'!$H$12","v":"FY-2"},{"$f":"'CENTRAL DATA'!$H$13","v":"FY-1"},{"$f":"IF(PROFILE!$L$43=\"Fiscal Year WFP\",'CENTRAL DATA'!$H$14,IF(PROFILE!$L$43=\"Snapshot\",CONCATENATE(\"As of \",TEXT(PROFILE!$N$44,\"mm/dd/yy\"),\"\")))","v":false},null,null,null,null,null,null,{"$f":"IF(OR($H$37=\"enabled\",$I$37=\"enabled\",$J$37=\"enabled\"),1,0)","v":0}]
[null,null,null,null,null,null,null,null,null,null,null,null,null,null,null,null,null,null,null,null,null,null,0]
[null,null,null,null,null,null,null,null,null,null,null,null,"Applicants with Disabilities","",null,null,null,null,null,null,null,null,{"$f":"IF(OR($H$37=\"enabled\"),1,0)","v":0}]
[null,null,null,null,null,null,null,null,null,null,null,null,"Applicants who are Veterans","",null,null,null,null,null,null,null,null,{"$f":"IF(OR($H$37=\"enabled\"),1,0)","v":0}]
[null,null,null,null,null,null,null,null,null,null,null,null,null,null,null,null,null,null,null,null,null,null,0]
[null,null,null,null,null,null,null,null,null,null,null,null,"Leader Applicants with Disabilities","",null,null,null,null,null,null,null,null,{"$f":"IF(OR($I$37=\"enabled\"),1,0)","v":0}]
[null,null,null,null,null,null,null,null,null,null,null,null,"Leader Applicants who are Veterans","",null,null,null,null,null,null,null,null,{"$f":"IF(OR($I$37=\"enabled\"),1,0)","v":0}]
[null,null,null,null,null,null,null,null,null,null,null,null,null,null,null,null,null,null,null,null,null,null,0]
[null,null,null,null,null,null,null,null,null,null,null,null,"Executive Applicants with Disabilities","",null,null,null,null,null,null,null,null,{"$f":"IF(OR($J$37=\"enabled\"),1,0)","v":0}]
[null,null,null,null,null,null,null,null,null,null,null,null,"Executive Applicants who are Veterans","",null,null,null,null,null,null,null,null,{"$f":"IF(OR($J$37=\"enabled\"),1,0)","v":0}]
[null,null,null,null,null,null,null,null,null,null,null,null,null,null,null,null,null,null,null,null,null,null,0]
[null,null,null,null,null,null,null,null,null,null,null,null,null,null,null,"Total Hires by EEO Codes",null,null,null,null,null,null,{"$f":"IF(OR($H$41=\"enabled\",$I$41=\"enabled\",$J$41=\"enabled\"),1,0)","v":0}]
[null,null,null,null,null,null,null,null,null,null,null,null,null,{"$f":"'CENTRAL DATA'!$H$12","v":"FY-2"},{"$f":"'CENTRAL DATA'!$H$13","v":"FY-1"},{"$f":"IF(PROFILE!$L$43=\"Fiscal Year WFP\",'CENTRAL DATA'!$H$14,IF(PROFILE!$L$43=\"Snapshot\",CONCATENATE(\"As of \",TEXT(PROFILE!$N$44,\"mm/dd/yy\"),\"\")))","v":false},null,null,null,null,null,null,{"$f":"IF(OR($H$41=\"enabled\",$I$41=\"enabled\",$J$41=\"enabled\"),1,0)","v":0}]
[null,null,null,null,null,null,null,null,null,null,null,null,null,null,null,null,null,null,null,null,null,null,0]
[null,null,null,null,null,null,null,null,null,null,null,null,"Total EEO Code \"Officials and Administrators\" Hires","",null,null,null,null,null,null,null,null,{"$f":"IF(OR($H$41=\"enabled\"),1,0)","v":0}]
[null,null,null,null,null,null,null,null,null,null,null,null,"Total EEO Code \"Professionals\" Hires","",null,null,null,null,null,null,null,null,{"$f":"IF(OR($H$41=\"enabled\"),1,0)","v":0}]
[null,null,null,null,null,null,null,null,null,null,null,null,"Total EEO Code \"Technicians\" Hires","",null,null,null,null,null,null,null,null,0]
[null,null,null,null,null,null,null,null,null,null,null,null,"Total EEO Code \"Protective Service Workers\" Hires","",null,null,null,null,null,null,null,null,0]
[null,null,null,null,null,null,null,null,null,null,null,null,"Total EEO Code \"Paraprofessionals\" Hires","",null,null,null,null,null,null,null,null,0]
[null,null,null,null,null,null,null,null,null,null,null,null,"Total EEO Code \"Administrative Support\" Hires","",null,null,null,null,null,null,null,null,0]
[null,null,null,null,null,null,null,null,null,null,null,null,"Total EEO Code \"Skilled Craft Workers\" Hires","",null,null,null,null,null,null,null,null,0]
[null,null,null,null,null,null,null,null,null,null,null,null,"Total EEO Code \"Service/Maintenance\" Hires","",null,null,null,null,null,null,null,null,0]
[null,null,null,null,null,null,null,null,null,null,null,null,"Total EEO Code \"Faculty\" Hires","",null,null,null,null,null,null,null,null,0]
[null,null,null,null,null,null,null,null,null,null,null,null,"Total EEO Code \"Other\" Hires","",null,null,null,null,null,null,null,null,0]
[null,null,null,null,null,null,null,null,null,null,null,null,null,null,null,null,null,null,null,null,null,null,0]
[null,null,null,null,null,null,null,null,null,null,null,null,"Total EEO Code \"Officials and Administrators\" Leader Hires","",null,null,null,null,null,null,null,null,{"$f":"IF(OR($I$41=\"enabled\"),1,0)","v":0}]
[null,null,null,null,null,null,null,null,null,null,null,null,"Total EEO Code \"Professionals\" Leader Hires","",null,null,null,null,null,null,null,null,{"$f":"IF(OR($I$41=\"enabled\"),1,0)","v":0}]
[null,null,null,null,null,null,null,null,null,null,null,null,"Total EEO Code \"Technicians\" Leader Hires","",null,null,null,null,null,null,null,null,0]
[null,null,null,null,null,null,null,null,null,null,null,null,"Total EEO Code \"Protective Service Workers\" Leader Hires","",null,null,null,null,null,null,null,null,0]
[null,null,null,null,null,null,null,null,null,null,null,null,"Total EEO Code \"Paraprofessionals\" Leader Hires","",null,null,null,null,null,null,null,null,0]
[null,null,null,null,null,null,null,null,null,null,null,null,"Total EEO Code \"Administrative Support\" Leader Hires","",null,null,null,null,null,null,null,null,0]
[null,null,null,null,null,null,null,null,null,null,null,null,"Total EEO Code \"Skilled Craft Workers\" Leader Hires","",null,null,null,null,null,null,null,null,0]
[null,null,null,null,null,null,null,null,null,null,null,null,"Total EEO Code \"Service/Maintenance\" Leader Hires","",null,null,null,null,null,null,null,null,0]
[null,null,null,null,null,null,null,null,null,null,null,null,"Total EEO Code \"Faculty\" Leader Hires","",null,null,null,null,null,null,null,null,0]
[null,null,null,null,null,null,null,null,null,null,null,null,"Total EEO Code \"Other\" Leader Hires","",null,null,null,null,null,null,null,null,0]
[null,null,null,null,null,null,null,null,null,null,null,null,null,null,null,null,null,null,null,null,null,null,0]
[null,null,null,null,null,null,null,null,null,null,null,null,"Total EEO Code \"Officials and Administrators\" Executive Hires","",null,null,null,null,null,null,null,null,{"$f":"IF(OR($J$41=\"enabled\"),1,0)","v":0}]
[null,null,null,null,null,null,null,null,null,null,null,null,"Total EEO Code \"Professionals\" Executive Hires","",null,null,null,null,null,null,null,null,{"$f":"IF(OR($J$41=\"enabled\"),1,0)","v":0}]
[null,null,null,null,null,null,null,null,null,null,null,null,"Total EEO Code \"Technicians\" Executive Hires","",null,null,null,null,null,null,null,null,0]
[null,null,null,null,null,null,null,null,null,null,null,null,"Total EEO Code \"Protective Service Workers\" Executive Hires","",null,null,null,null,null,null,null,null,0]
[null,null,null,null,null,null,null,null,null,null,null,null,"Total EEO Code \"Paraprofessionals\" Executive Hires","",null,null,null,null,null,null,null,null,0]
[null,null,null,null,null,null,null,null,null,null,null,null,"Total EEO Code \"Administrative Support\" Executive Hires","",null,null,null,null,null,null,null,null,0]
[null,null,null,null,null,null,null,null,null,null,null,null,"Total EEO Code \"Skilled Craft Workers\" Executive Hires","",null,null,null,null,null,null,null,null,0]
[null,null,null,null,null,null,null,null,null,null,null,null,"Total EEO Code \"Service/Maintenance\" Executive Hires","",null,null,null,null,null,null,null,null,0]
[null,null,null,null,null,null,null,null,null,null,null,null,"Total EEO Code \"Faculty\" Executive Hires","",null,null,null,null,null,null,null,null,0]
[null,null,null,null,null,null,null,null,null,null,null,null,"Total EEO Code \"Other\" Executive Hires","",null,null,null,null,null,null,null,null,0]
[null,null,null,null,null,null,null,null,null,null,null,null,null,null,null,null,null,null,null,null,null,null,0]
[null,null,null,null,null,null,null,null,null,null,null,null,null,null,null,"Total Hires by Classifications",null,null,null,null,null,null,{"$f":"IF(OR($H$42=\"enabled\",$I$42=\"enabled\",$J$42=\"enabled\"),1,0)","v":0}]
[null,null,null,null,null,null,null,null,null,null,null,null,null,{"$f":"'CENTRAL DATA'!$H$12","v":"FY-2"},{"$f":"'CENTRAL DATA'!$H$13","v":"FY-1"},{"$f":"IF(PROFILE!$L$43=\"Fiscal Year WFP\",'CENTRAL DATA'!$H$14,IF(PROFILE!$L$43=\"Snapshot\",CONCATENATE(\"As of \",TEXT(PROFILE!$N$44,\"mm/dd/yy\"),\"\")))","v":false},null,null,null,null,null,null,{"$f":"IF(OR($H$42=\"enabled\",$I$42=\"enabled\",$J$42=\"enabled\"),1,0)","v":0}]
[null,null,null,null,null,null,null,null,null,null,null,null,null,null,null,null,null,null,null,null,null,null,0]
[null,null,{"$f":"COUNTIF(M826,\"*\"&PROFILE!$C$58&\"*\")","v":1},null,null,null,null,null,null,null,null,null,{"$f":"CONCATENATE(\"Total \",PROFILE!C58,\" Hires\")","v":"Total  Hires"},"",null,null,null,null,null,null,null,null,{"$f":"IF(AND(OR($H$42=\"enabled\"),C826=1),1,0)","v":0}]
[null,null,{"$f":"COUNTIF(M827,\"*\"&PROFILE!$C$59&\"*\")","v":1},null,null,null,null,null,null,null,null,null,{"$f":"CONCATENATE(\"Total \",PROFILE!C59,\" Hires\")","v":"Total  Hires"},"",null,null,null,null,null,null,null,null,{"$f":"IF(AND(OR($H$42=\"enabled\"),C827=1),1,0)","v":0}]
[null,null,{"$f":"COUNTIF(M828,\"*\"&PROFILE!$C$60&\"*\")","v":1},null,null,null,null,null,null,null,null,null,{"$f":"CONCATENATE(\"Total \",PROFILE!C60,\" Hires\")","v":"Total  Hires"},"",null,null,null,null,null,null,null,null,0]
[null,null,{"$f":"COUNTIF(M829,\"*\"&PROFILE!$C$61&\"*\")","v":1},null,null,null,null,null,null,null,null,null,{"$f":"CONCATENATE(\"Total \",PROFILE!C61,\" Hires\")","v":"Total  Hires"},"",null,null,null,null,null,null,null,null,0]
[null,null,{"$f":"COUNTIF(M830,\"*\"&PROFILE!$C$62&\"*\")","v":1},null,null,null,null,null,null,null,null,null,{"$f":"CONCATENATE(\"Total \",PROFILE!C62,\" Hires\")","v":"Total  Hires"},"",null,null,null,null,null,null,null,null,0]
[null,null,{"$f":"COUNTIF(M831,\"*\"&PROFILE!$C$63&\"*\")","v":1},null,null,null,null,null,null,null,null,null,{"$f":"CONCATENATE(\"Total \",PROFILE!C63,\" Hires\")","v":"Total  Hires"},"",null,null,null,null,null,null,null,null,0]
[null,null,{"$f":"COUNTIF(M832,\"*\"&PROFILE!$C$64&\"*\")","v":1},null,null,null,null,null,null,null,null,null,{"$f":"CONCATENATE(\"Total \",PROFILE!C64,\" Hires\")","v":"Total  Hires"},"",null,null,null,null,null,null,null,null,0]
[null,null,{"$f":"COUNTIF(M833,\"*\"&PROFILE!$C$65&\"*\")","v":1},null,null,null,null,null,null,null,null,null,{"$f":"CONCATENATE(\"Total \",PROFILE!C65,\" Hires\")","v":"Total  Hires"},"",null,null,null,null,null,null,null,null,0]
[null,null,{"$f":"COUNTIF(M834,\"*\"&PROFILE!$C$66&\"*\")","v":1},null,null,null,null,null,null,null,null,null,{"$f":"CONCATENATE(\"Total \",PROFILE!C66,\" Hires\")","v":"Total  Hires"},"",null,null,null,null,null,null,null,null,0]
[null,null,{"$f":"COUNTIF(M835,\"*\"&PROFILE!$C$67&\"*\")","v":1},null,null,null,null,null,null,null,null,null,{"$f":"CONCATENATE(\"Total \",PROFILE!C67,\" Hires\")","v":"Total  Hires"},"",null,null,null,null,null,null,null,null,0]
[null,null,{"$f":"COUNTIF(M836,\"*\"&PROFILE!$C$68&\"*\")","v":1},null,null,null,null,null,null,null,null,null,{"$f":"CONCATENATE(\"Total \",PROFILE!C68,\" Hires\")","v":"Total  Hires"},"",null,null,null,null,null,null,null,null,0]
[null,null,{"$f":"COUNTIF(M837,\"*\"&PROFILE!$C$69&\"*\")","v":1},null,null,null,null,null,null,null,null,null,{"$f":"CONCATENATE(\"Total \",PROFILE!C69,\" Hires\")","v":"Total  Hires"},"",null,null,null,null,null,null,null,null,0]
[null,null,{"$f":"COUNTIF(M838,\"*\"&PROFILE!$C$70&\"*\")","v":1},null,null,null,null,null,null,null,null,null,{"$f":"CONCATENATE(\"Total \",PROFILE!C70,\" Hires\")","v":"Total  Hires"},"",null,null,null,null,null,null,null,null,0]
[null,null,{"$f":"COUNTIF(M839,\"*\"&PROFILE!$C$71&\"*\")","v":1},null,null,null,null,null,null,null,null,null,{"$f":"CONCATENATE(\"Total \",PROFILE!C71,\" Hires\")","v":"Total  Hires"},"",null,null,null,null,null,null,null,null,0]
[null,null,{"$f":"COUNTIF(M840,\"*\"&PROFILE!$C$72&\"*\")","v":1},null,null,null,null,null,null,null,null,null,{"$f":"CONCATENATE(\"Total \",PROFILE!C72,\" Hires\")","v":"Total  Hires"},"",null,null,null,null,null,null,null,null,0]
[null,null,null,null,null,null,null,null,null,null,null,null,null,null,null,null,null,null,null,null,null,null,{"$f":"IF(OR($H$42=\"enabled\"),1,0)","v":0}]
[null,null,{"$f":"COUNTIF(M842,\"*\"&PROFILE!$C$58&\"*\")","v":1},null,null,null,null,null,null,null,null,null,{"$f":"CONCATENATE(\"Total \",PROFILE!C58,\" Leader Hires\")","v":"Total  Leader Hires"},"",null,null,null,null,null,null,null,null,{"$f":"IF(AND(OR($I$42=\"enabled\"),C842=1),1,0)","v":0}]
[null,null,{"$f":"COUNTIF(M843,\"*\"&PROFILE!$C$59&\"*\")","v":1},null,null,null,null,null,null,null,null,null,{"$f":"CONCATENATE(\"Total \",PROFILE!C59,\" Leader Hires\")","v":"Total  Leader Hires"},"",null,null,null,null,null,null,null,null,{"$f":"IF(AND(OR($I$42=\"enabled\"),C843=1),1,0)","v":0}]
[null,null,{"$f":"COUNTIF(M844,\"*\"&PROFILE!$C$60&\"*\")","v":1},null,null,null,null,null,null,null,null,null,{"$f":"CONCATENATE(\"Total \",PROFILE!C60,\" Leader Hires\")","v":"Total  Leader Hires"},"",null,null,null,null,null,null,null,null,0]
[null,null,{"$f":"COUNTIF(M845,\"*\"&PROFILE!$C$61&\"*\")","v":1},null,null,null,null,null,null,null,null,null,{"$f":"CONCATENATE(\"Total \",PROFILE!C61,\" Leader Hires\")","v":"Total  Leader Hires"},"",null,null,null,null,null,null,null,null,0]
[null,null,{"$f":"COUNTIF(M846,\"*\"&PROFILE!$C$62&\"*\")","v":1},null,null,null,null,null,null,null,null,null,{"$f":"CONCATENATE(\"Total \",PROFILE!C62,\" Leader Hires\")","v":"Total  Leader Hires"},"",null,null,null,null,null,null,null,null,0]
[null,null,{"$f":"COUNTIF(M847,\"*\"&PROFILE!$C$63&\"*\")","v":1},null,null,null,null,null,null,null,null,null,{"$f":"CONCATENATE(\"Total \",PROFILE!C63,\" Leader Hires\")","v":"Total  Leader Hires"},"",null,null,null,null,null,null,null,null,0]
[null,null,{"$f":"COUNTIF(M848,\"*\"&PROFILE!$C$64&\"*\")","v":1},null,null,null,null,null,null,null,null,null,{"$f":"CONCATENATE(\"Total \",PROFILE!C64,\" Leader Hires\")","v":"Total  Leader Hires"},"",null,null,null,null,null,null,null,null,0]
[null,null,{"$f":"COUNTIF(M849,\"*\"&PROFILE!$C$65&\"*\")","v":1},null,null,null,null,null,null,null,null,null,{"$f":"CONCATENATE(\"Total \",PROFILE!C65,\" Leader Hires\")","v":"Total  Leader Hires"},"",null,null,null,null,null,null,null,null,0]
[null,null,{"$f":"COUNTIF(M850,\"*\"&PROFILE!$C$66&\"*\")","v":1},null,null,null,null,null,null,null,null,null,{"$f":"CONCATENATE(\"Total \",PROFILE!C66,\" Leader Hires\")","v":"Total  Leader Hires"},"",null,null,null,null,null,null,null,null,0]
[null,null,{"$f":"COUNTIF(M851,\"*\"&PROFILE!$C$67&\"*\")","v":1},null,null,null,null,null,null,null,null,null,{"$f":"CONCATENATE(\"Total \",PROFILE!C67,\" Leader Hires\")","v":"Total  Leader Hires"},"",null,null,null,null,null,null,null,null,0]
[null,null,{"$f":"COUNTIF(M852,\"*\"&PROFILE!$C$68&\"*\")","v":1},null,null,null,null,null,null,null,null,null,{"$f":"CONCATENATE(\"Total \",PROFILE!C68,\" Leader Hires\")","v":"Total  Leader Hires"},"",null,null,null,null,null,null,null,null,0]
[null,null,{"$f":"COUNTIF(M853,\"*\"&PROFILE!$C$69&\"*\")","v":1},null,null,null,null,null,null,null,null,null,{"$f":"CONCATENATE(\"Total \",PROFILE!C69,\" Leader Hires\")","v":"Total  Leader Hires"},"",null,null,null,null,null,null,null,null,0]
[null,null,{"$f":"COUNTIF(M854,\"*\"&PROFILE!$C$70&\"*\")","v":1},null,null,null,null,null,null,null,null,null,{"$f":"CONCATENATE(\"Total \",PROFILE!C70,\" Leader Hires\")","v":"Total  Leader Hires"},"",null,null,null,null,null,null,null,null,0]
[null,null,{"$f":"COUNTIF(M855,\"*\"&PROFILE!$C$71&\"*\")","v":1},null,null,null,null,null,null,null,null,null,{"$f":"CONCATENATE(\"Total \",PROFILE!C71,\" Leader Hires\")","v":"Total  Leader Hires"},"",null,null,null,null,null,null,null,null,0]
[null,null,{"$f":"COUNTIF(M856,\"*\"&PROFILE!$C$72&\"*\")","v":1},null,null,null,null,null,null,null,null,null,{"$f":"CONCATENATE(\"Total \",PROFILE!C72,\" Leader Hires\")","v":"Total  Leader Hires"},"",null,null,null,null,null,null,null,null,0]
[null,null,null,null,null,null,null,null,null,null,null,null,null,null,null,null,null,null,null,null,null,null,{"$f":"IF(OR($I$42=\"enabled\"),1,0)","v":0}]
[null,null,{"$f":"COUNTIF(M858,\"*\"&PROFILE!$C$58&\"*\")","v":1},null,null,null,null,null,null,null,null,null,{"$f":"CONCATENATE(\"Total \",PROFILE!C58,\" Executive Hires\")","v":"Total  Executive Hires"},"",null,null,null,null,null,null,null,null,{"$f":"IF(AND(OR($J$42=\"enabled\"),C858=1),1,0)","v":0}]
[null,null,{"$f":"COUNTIF(M859,\"*\"&PROFILE!$C$59&\"*\")","v":1},null,null,null,null,null,null,null,null,null,{"$f":"CONCATENATE(\"Total \",PROFILE!C59,\" Executive Hires\")","v":"Total  Executive Hires"},"",null,null,null,null,null,null,null,null,{"$f":"IF(AND(OR($J$42=\"enabled\"),C859=1),1,0)","v":0}]
[null,null,{"$f":"COUNTIF(M860,\"*\"&PROFILE!$C$60&\"*\")","v":1},null,null,null,null,null,null,null,null,null,{"$f":"CONCATENATE(\"Total \",PROFILE!C60,\" Executive Hires\")","v":"Total  Executive Hires"},"",null,null,null,null,null,null,null,null,0]
[null,null,{"$f":"COUNTIF(M861,\"*\"&PROFILE!$C$61&\"*\")","v":1},null,null,null,null,null,null,null,null,null,{"$f":"CONCATENATE(\"Total \",PROFILE!C61,\" Executive Hires\")","v":"Total  Executive Hires"},"",null,null,null,null,null,null,null,null,0]
[null,null,{"$f":"COUNTIF(M862,\"*\"&PROFILE!$C$62&\"*\")","v":1},null,null,null,null,null,null,null,null,null,{"$f":"CONCATENATE(\"Total \",PROFILE!C62,\" Executive Hires\")","v":"Total  Executive Hires"},"",null,null,null,null,null,null,null,null,0]
[null,null,{"$f":"COUNTIF(M863,\"*\"&PROFILE!$C$63&\"*\")","v":1},null,null,null,null,null,null,null,null,null,{"$f":"CONCATENATE(\"Total \",PROFILE!C63,\" Executive Hires\")","v":"Total  Executive Hires"},"",null,null,null,null,null,null,null,null,0]
[null,null,{"$f":"COUNTIF(M864,\"*\"&PROFILE!$C$64&\"*\")","v":1},null,null,null,null,null,null,null,null,null,{"$f":"CONCATENATE(\"Total \",PROFILE!C64,\" Executive Hires\")","v":"Total  Executive Hires"},"",null,null,null,null,null,null,null,null,0]
[null,null,{"$f":"COUNTIF(M865,\"*\"&PROFILE!$C$65&\"*\")","v":1},null,null,null,null,null,null,null,null,null,{"$f":"CONCATENATE(\"Total \",PROFILE!C65,\" Executive Hires\")","v":"Total  Executive Hires"},"",null,null,null,null,null,null,null,null,0]
[null,null,{"$f":"COUNTIF(M866,\"*\"&PROFILE!$C$66&\"*\")","v":1},null,null,null,null,null,null,null,null,null,{"$f":"CONCATENATE(\"Total \",PROFILE!C66,\" Executive Hires\")","v":"Total  Executive Hires"},"",null,null,null,null,null,null,null,null,0]
[null,null,{"$f":"COUNTIF(M867,\"*\"&PROFILE!$C$67&\"*\")","v":1},null,null,null,null,null,null,null,null,null,{"$f":"CONCATENATE(\"Total \",PROFILE!C67,\" Executive Hires\")","v":"Total  Executive Hires"},"",null,null,null,null,null,null,null,null,0]
[null,null,{"$f":"COUNTIF(M868,\"*\"&PROFILE!$C$68&\"*\")","v":1},null,null,null,null,null,null,null,null,null,{"$f":"CONCATENATE(\"Total \",PROFILE!C68,\" Executive Hires\")","v":"Total  Executive Hires"},"",null,null,null,null,null,null,null,null,0]
[null,null,{"$f":"COUNTIF(M869,\"*\"&PROFILE!$C$69&\"*\")","v":1},null,null,null,null,null,null,null,null,null,{"$f":"CONCATENATE(\"Total \",PROFILE!C69,\" Executive Hires\")","v":"Total  Executive Hires"},"",null,null,null,null,null,null,null,null,0]
[null,null,{"$f":"COUNTIF(M870,\"*\"&PROFILE!$C$70&\"*\")","v":1},null,null,null,null,null,null,null,null,null,{"$f":"CONCATENATE(\"Total \",PROFILE!C70,\" Executive Hires\")","v":"Total  Executive Hires"},"",null,null,null,null,null,null,null,null,0]
[null,null,{"$f":"COUNTIF(M871,\"*\"&PROFILE!$C$71&\"*\")","v":1},null,null,null,null,null,null,null,null,null,{"$f":"CONCATENATE(\"Total \",PROFILE!C71,\" Executive Hires\")","v":"Total  Executive Hires"},"",null,null,null,null,null,null,null,null,0]
[null,null,{"$f":"COUNTIF(M872,\"*\"&PROFILE!$C$72&\"*\")","v":1},null,null,null,null,null,null,null,null,null,{"$f":"CONCATENATE(\"Total \",PROFILE!C72,\" Executive Hires\")","v":"Total  Executive Hires"},"",null,null,null,null,null,null,null,null,0]
[null,null,null,null,null,null,null,null,null,null,null,null,null,null,null,null,null,null,null,null,null,null,{"$f":"IF(OR($J$42=\"enabled\"),1,0)","v":0}]
[null,null,null,null,null,null,null,null,null,null,null,null,null,null,null,"Total Hires by Sex",null,null,null,null,null,null,{"$f":"IF(OR($H$43=\"enabled\",$I$43=\"enabled\",$J$43=\"enabled\"),1,0)","v":0}]
[null,null,null,null,null,null,null,null,null,null,null,null,null,{"$f":"'CENTRAL DATA'!$H$12","v":"FY-2"},{"$f":"'CENTRAL DATA'!$H$13","v":"FY-1"},{"$f":"IF(PROFILE!$L$43=\"Fiscal Year WFP\",'CENTRAL DATA'!$H$14,IF(PROFILE!$L$43=\"Snapshot\",CONCATENATE(\"As of \",TEXT(PROFILE!$N$44,\"mm/dd/yy\"),\"\")))","v":false},null,null,null,null,null,null,{"$f":"IF(OR($H$43=\"enabled\",$I$43=\"enabled\",$J$43=\"enabled\"),1,0)","v":0}]
[null,null,null,null,null,null,null,null,null,null,null,null,null,null,null,null,null,null,null,null,null,null,0]
[null,null,null,null,null,null,null,null,null,null,null,null,"Male Hires","",null,null,null,null,null,null,null,null,{"$f":"IF(OR($H$43=\"enabled\"),1,0)","v":0}]
[null,null,null,null,null,null,null,null,null,null,null,null,"Female Hires","",null,null,null,null,null,null,null,null,{"$f":"IF(OR($H$43=\"enabled\"),1,0)","v":0}]
[null,null,null,null,null,null,null,null,null,null,null,null,null,null,null,null,null,null,null,null,null,null,0]
[null,null,null,null,null,null,null,null,null,null,null,null,"Male Leader Hires","",null,null,null,null,null,null,null,null,{"$f":"IF(OR($I$43=\"enabled\"),1,0)","v":0}]
[null,null,null,null,null,null,null,null,null,null,null,null,"Female Leader Hires","",null,null,null,null,null,null,null,null,{"$f":"IF(OR($I$43=\"enabled\"),1,0)","v":0}]
[null,null,null,null,null,null,null,null,null,null,null,null,null,null,null,null,null,null,null,null,null,null,0]
[null,null,null,null,null,null,null,null,null,null,null,null,"Male Executive Hires","",null,null,null,null,null,null,null,null,{"$f":"IF(OR($J$43=\"enabled\"),1,0)","v":0}]
[null,null,null,null,null,null,null,null,null,null,null,null,"Female Executive Hires","",null,null,null,null,null,null,null,null,{"$f":"IF(OR($J$43=\"enabled\"),1,0)","v":0}]
[null,null,null,null,null,null,null,null,null,null,null,null,null,null,null,null,null,null,null,null,null,null,0]
[null,null,null,null,null,null,null,null,null,null,null,null,null,null,null,"Total Hires by Race",null,null,null,null,null,null,{"$f":"IF(OR($H$44=\"enabled\",$I$44=\"enabled\",$J$44=\"enabled\"),1,0)","v":0}]
[null,null,null,null,null,null,null,null,null,null,null,null,null,{"$f":"'CENTRAL DATA'!$H$12","v":"FY-2"},{"$f":"'CENTRAL DATA'!$H$13","v":"FY-1"},{"$f":"IF(PROFILE!$L$43=\"Fiscal Year WFP\",'CENTRAL DATA'!$H$14,IF(PROFILE!$L$43=\"Snapshot\",CONCATENATE(\"As of \",TEXT(PROFILE!$N$44,\"mm/dd/yy\"),\"\")))","v":false},null,null,null,null,null,null,{"$f":"IF(OR($H$44=\"enabled\",$I$44=\"enabled\",$J$44=\"enabled\"),1,0)","v":0}]
[null,null,null,null,null,null,null,null,null,null,null,null,null,null,null,null,null,null,null,null,null,null,0]
[null,null,null,null,null,null,null,null,null,null,null,null,"Minority Hires","",null,null,null,null,null,null,null,null,{"$f":"IF(OR($H$44=\"enabled\"),1,0)","v":0}]
[null,null,null,null,null,null,null,null,null,null,null,null,"Non-Minority Hires","",null,null,null,null,null,null,null,null,{"$f":"IF(OR($H$44=\"enabled\"),1,0)","v":0}]
[null,null,null,null,null,null,null,null,null,null,null,null,null,null,null,null,null,null,null,null,null,null,0]
[null,null,null,null,null,null,null,null,null,null,null,null,"Minority Leader Hires","",null,null,null,null,null,null,null,null,{"$f":"IF(OR($I$44=\"enabled\"),1,0)","v":0}]
[null,null,null,null,null,null,null,null,null,null,null,null,"Non-Minority Leader Hires","",null,null,null,null,null,null,null,null,{"$f":"IF(OR($I$44=\"enabled\"),1,0)","v":0}]
[null,null,null,null,null,null,null,null,null,null,null,null,null,null,null,null,null,null,null,null,null,null,0]
[null,null,null,null,null,null,null,null,null,null,null,null,"Minority Executive Hires","",null,null,null,null,null,null,null,null,{"$f":"IF(OR($J$44=\"enabled\"),1,0)","v":0}]
[null,null,null,null,null,null,null,null,null,null,null,null,"Non-Minority Executive Hires","",null,null,null,null,null,null,null,null,{"$f":"IF(OR($J$44=\"enabled\"),1,0)","v":0}]
[null,null,null,null,null,null,null,null,null,null,null,null,null,null,null,null,null,null,null,null,null,null,0]
[null,null,null,null,null,null,null,null,null,null,null,null,null,null,null,"Total Hires of Additional Demographics",null,null,null,null,null,null,{"$f":"IF(OR($H$45=\"enabled\",$I$45=\"enabled\",$J$45=\"enabled\"),1,0)","v":0}]
[null,null,null,null,null,null,null,null,null,null,null,null,null,{"$f":"'CENTRAL DATA'!$H$12","v":"FY-2"},{"$f":"'CENTRAL DATA'!$H$13","v":"FY-1"},{"$f":"IF(PROFILE!$L$43=\"Fiscal Year WFP\",'CENTRAL DATA'!$H$14,IF(PROFILE!$L$43=\"Snapshot\",CONCATENATE(\"As of \",TEXT(PROFILE!$N$44,\"mm/dd/yy\"),\"\")))","v":false},null,null,null,null,null,null,{"$f":"IF(OR($H$45=\"enabled\",$I$45=\"enabled\",$J$45=\"enabled\"),1,0)","v":0}]
[null,null,null,null,null,null,null,null,null,null,null,null,null,null,null,null,null,null,null,null,null,null,0]
[null,null,null,null,null,null,null,null,null,null,null,null,"Employees with Disabilities Hires","",null,null,null,null,null,null,null,null,{"$f":"IF(OR($H$45=\"enabled\"),1,0)","v":0}]
[null,null,null,null,null,null,null,null,null,null,null,null,"Hires who are Veterans","",null,null,null,null,null,null,null,null,{"$f":"IF(OR($H$45=\"enabled\"),1,0)","v":0}]
[null,null,null,null,null,null,null,null,null,null,null,null,null,null,null,null,null,null,null,null,null,null,0]
[null,null,null,null,null,null,null,null,null,null,null,null,"Leaders with Disabilities Hires","",null,null,null,null,null,null,null,null,{"$f":"IF(OR($I$45=\"enabled\"),1,0)","v":0}]
[null,null,null,null,null,null,null,null,null,null,null,null,"Leaders who are Veterans Hires","",null,null,null,null,null,null,null,null,{"$f":"IF(OR($I$45=\"enabled\"),1,0)","v":0}]
[null,null,null,null,null,null,null,null,null,null,null,null,null,null,null,null,null,null,null,null,null,null,0]
[null,null,null,null,null,null,null,null,null,null,null,null,"Executives with Disabilities Hires","",null,null,null,null,null,null,null,null,{"$f":"IF(OR($J$45=\"enabled\"),1,0)","v":0}]
[null,null,null,null,null,null,null,null,null,null,null,null,"Executives who are Veterans Hires","",null,null,null,null,null,null,null,null,{"$f":"IF(OR($J$45=\"enabled\"),1,0)","v":0}]
[null,null,null,null,null,null,null,null,null,null,null,null,null,null,null,null,null,null,null,null,null,null,0]
[null,null,null,null,null,null,null,null,null,null,null,null,null,null,null,"Total Filled Positions by EEO Codes",null,null,null,null,null,null,{"$f":"IF(OR($H$49=\"enabled\",$I$49=\"enabled\",$J$49=\"enabled\"),1,0)","v":0}]
[null,null,null,null,null,null,null,null,null,null,null,null,null,{"$f":"'CENTRAL DATA'!$H$12","v":"FY-2"},{"$f":"'CENTRAL DATA'!$H$13","v":"FY-1"},{"$f":"IF(PROFILE!$L$43=\"Fiscal Year WFP\",'CENTRAL DATA'!$H$14,IF(PROFILE!$L$43=\"Snapshot\",CONCATENATE(\"As of \",TEXT(PROFILE!$N$44,\"mm/dd/yy\"),\"\")))","v":false},null,null,null,null,null,null,{"$f":"IF(OR($H$49=\"enabled\",$I$49=\"enabled\",$J$49=\"enabled\"),1,0)","v":0}]
[null,null,null,null,null,null,null,null,null,null,null,null,null,null,null,null,null,null,null,null,null,null,0]
[null,null,null,null,null,null,null,null,null,null,null,null,"Total EEO Code \"Officials and Administrators\" Positions Filled","",null,null,null,null,null,null,null,null,{"$f":"IF(OR($H$49=\"enabled\"),1,0)","v":0}]
[null,null,null,null,null,null,null,null,null,null,null,null,"Total EEO Code \"Professionals\" Positions Filled","",null,null,null,null,null,null,null,null,{"$f":"IF(OR($H$49=\"enabled\"),1,0)","v":0}]
[null,null,null,null,null,null,null,null,null,null,null,null,"Total EEO Code \"Technicians\" Positions Filled","",null,null,null,null,null,null,null,null,0]
[null,null,null,null,null,null,null,null,null,null,null,null,"Total EEO Code \"Protective Service Workers\" Positions Filled","",null,null,null,null,null,null,null,null,0]
[null,null,null,null,null,null,null,null,null,null,null,null,"Total EEO Code \"Paraprofessionals\" Positions Filled","",null,null,null,null,null,null,null,null,0]
[null,null,null,null,null,null,null,null,null,null,null,null,"Total EEO Code \"Administrative Support\" Positions Filled","",null,null,null,null,null,null,null,null,0]
[null,null,null,null,null,null,null,null,null,null,null,null,"Total EEO Code \"Skilled Craft Workers\" Positions Filled","",null,null,null,null,null,null,null,null,0]
[null,null,null,null,null,null,null,null,null,null,null,null,"Total EEO Code \"Service/Maintenance\" Positions Filled","",null,null,null,null,null,null,null,null,0]
[null,null,null,null,null,null,null,null,null,null,null,null,"Total EEO Code \"Faculty\" Positions Filled","",null,null,null,null,null,null,null,null,0]
[null,null,null,null,null,null,null,null,null,null,null,null,"Total EEO Code \"Other\" Positions Filled","",null,null,null,null,null,null,null,null,0]
[null,null,null,null,null,null,null,null,null,null,null,null,null,null,null,null,null,null,null,null,null,null,0]
[null,null,null,null,null,null,null,null,null,null,null,null,"Total EEO Code \"Officials and Administrators\" Leader Positions Filled","",null,null,null,null,null,null,null,null,{"$f":"IF(OR($I$49=\"enabled\"),1,0)","v":0}]
[null,null,null,null,null,null,null,null,null,null,null,null,"Total EEO Code \"Professionals\" Leader Positions Filled","",null,null,null,null,null,null,null,null,{"$f":"IF(OR($I$49=\"enabled\"),1,0)","v":0}]
[null,null,null,null,null,null,null,null,null,null,null,null,"Total EEO Code \"Technicians\" Leader Positions Filled","",null,null,null,null,null,null,null,null,0]
[null,null,null,null,null,null,null,null,null,null,null,null,"Total EEO Code \"Protective Service Workers\" Leader Positions Filled","",null,null,null,null,null,null,null,null,0]
[null,null,null,null,null,null,null,null,null,null,null,null,"Total EEO Code \"Paraprofessionals\" Leader Positions Filled","",null,null,null,null,null,null,null,null,0]
[null,null,null,null,null,null,null,null,null,null,null,null,"Total EEO Code \"Administrative Support\" Leader Positions Filled","",null,null,null,null,null,null,null,null,0]
[null,null,null,null,null,null,null,null,null,null,null,null,"Total EEO Code \"Skilled Craft Workers\" Leader Positions Filled","",null,null,null,null,null,null,null,null,0]
[null,null,null,null,null,null,null,null,null,null,null,null,"Total EEO Code \"Service/Maintenance\" Leader Positions Filled","",null,null,null,null,null,null,null,null,0]
[null,null,null,null,null,null,null,null,null,null,null,null,"Total EEO Code \"Faculty\" Leader Positions Filled","",null,null,null,null,null,null,null,null,0]
[null,null,null,null,null,null,null,null,null,null,null,null,"Total EEO Code \"Other\" Leader Positions Filled","",null,null,null,null,null,null,null,null,0]
[null,null,null,null,null,null,null,null,null,null,null,null,null,null,null,null,null,null,null,null,null,null,0]
[null,null,null,null,null,null,null,null,null,null,null,null,"Total EEO Code \"Officials and Administrators\" Executive Positions Filled","",null,null,null,null,null,null,null,null,{"$f":"IF(OR($J$49=\"enabled\"),1,0)","v":0}]
[null,null,null,null,null,null,null,null,null,null,null,null,"Total EEO Code \"Professionals\" Executive Positions Filled","",null,null,null,null,null,null,null,null,{"$f":"IF(OR($J$49=\"enabled\"),1,0)","v":0}]
[null,null,null,null,null,null,null,null,null,null,null,null,"Total EEO Code \"Technicians\" Executive Positions Filled","",null,null,null,null,null,null,null,null,0]
[null,null,null,null,null,null,null,null,null,null,null,null,"Total EEO Code \"Protective Service Workers\" Executive Positions Filled","",null,null,null,null,null,null,null,null,0]
[null,null,null,null,null,null,null,null,null,null,null,null,"Total EEO Code \"Paraprofessionals\" Executive Positions Filled","",null,null,null,null,null,null,null,null,0]
[null,null,null,null,null,null,null,null,null,null,null,null,"Total EEO Code \"Administrative Support\" Executive Positions Filled","",null,null,null,null,null,null,null,null,0]
[null,null,null,null,null,null,null,null,null,null,null,null,"Total EEO Code \"Skilled Craft Workers\" Executive Positions Filled","",null,null,null,null,null,null,null,null,0]
[null,null,null,null,null,null,null,null,null,null,null,null,"Total EEO Code \"Service/Maintenance\" Executive Positions Filled","",null,null,null,null,null,null,null,null,0]
[null,null,null,null,null,null,null,null,null,null,null,null,"Total EEO Code \"Faculty\" Executive Positions Filled","",null,null,null,null,null,null,null,null,0]
[null,null,null,null,null,null,null,null,null,null,null,null,"Total EEO Code \"Other\" Executive Positions Filled","",null,null,null,null,null,null,null,null,0]
[null,null,null,null,null,null,null,null,null,null,null,null,null,null,null,null,null,null,null,null,null,null,0]
[null,null,null,null,null,null,null,null,null,null,null,null,null,null,null,"Total Filled Positions by Classifications",null,null,null,null,null,null,{"$f":"IF(OR($H$50=\"enabled\",$I$50=\"enabled\",$J$50=\"enabled\"),1,0)","v":0}]
[null,null,null,null,null,null,null,null,null,null,null,null,null,{"$f":"'CENTRAL DATA'!$H$12","v":"FY-2"},{"$f":"'CENTRAL DATA'!$H$13","v":"FY-1"},{"$f":"IF(PROFILE!$L$43=\"Fiscal Year WFP\",'CENTRAL DATA'!$H$14,IF(PROFILE!$L$43=\"Snapshot\",CONCATENATE(\"As of \",TEXT(PROFILE!$N$44,\"mm/dd/yy\"),\"\")))","v":false},null,null,null,null,null,null,{"$f":"IF(OR($H$50=\"enabled\",$I$50=\"enabled\",$J$50=\"enabled\"),1,0)","v":0}]
[null,null,null,null,null,null,null,null,null,null,null,null,null,null,null,null,null,null,null,null,null,null,0]
[null,null,{"$f":"COUNTIF(M949,\"*\"&PROFILE!$C$58&\"*\")","v":1},null,null,null,null,null,null,null,null,null,{"$f":"CONCATENATE(\"Total \",PROFILE!C58,\" Positions Filled\")","v":"Total  Positions Filled"},"",null,null,null,null,null,null,null,null,{"$f":"IF(AND(OR($H$50=\"enabled\"),C949=1),1,0)","v":0}]
[null,null,{"$f":"COUNTIF(M950,\"*\"&PROFILE!$C$59&\"*\")","v":1},null,null,null,null,null,null,null,null,null,{"$f":"CONCATENATE(\"Total \",PROFILE!C59,\" Positions Filled\")","v":"Total  Positions Filled"},"",null,null,null,null,null,null,null,null,{"$f":"IF(AND(OR($H$50=\"enabled\"),C950=1),1,0)","v":0}]
[null,null,{"$f":"COUNTIF(M951,\"*\"&PROFILE!$C$60&\"*\")","v":1},null,null,null,null,null,null,null,null,null,{"$f":"CONCATENATE(\"Total \",PROFILE!C60,\" Positions Filled\")","v":"Total  Positions Filled"},"",null,null,null,null,null,null,null,null,0]
[null,null,{"$f":"COUNTIF(M952,\"*\"&PROFILE!$C$61&\"*\")","v":1},null,null,null,null,null,null,null,null,null,{"$f":"CONCATENATE(\"Total \",PROFILE!C61,\" Positions Filled\")","v":"Total  Positions Filled"},"",null,null,null,null,null,null,null,null,0]
[null,null,{"$f":"COUNTIF(M953,\"*\"&PROFILE!$C$62&\"*\")","v":1},null,null,null,null,null,null,null,null,null,{"$f":"CONCATENATE(\"Total \",PROFILE!C62,\" Positions Filled\")","v":"Total  Positions Filled"},"",null,null,null,null,null,null,null,null,0]
[null,null,{"$f":"COUNTIF(M954,\"*\"&PROFILE!$C$63&\"*\")","v":1},null,null,null,null,null,null,null,null,null,{"$f":"CONCATENATE(\"Total \",PROFILE!C63,\" Positions Filled\")","v":"Total  Positions Filled"},"",null,null,null,null,null,null,null,null,0]
[null,null,{"$f":"COUNTIF(M955,\"*\"&PROFILE!$C$64&\"*\")","v":1},null,null,null,null,null,null,null,null,null,{"$f":"CONCATENATE(\"Total \",PROFILE!C64,\" Positions Filled\")","v":"Total  Positions Filled"},"",null,null,null,null,null,null,null,null,0]
[null,null,{"$f":"COUNTIF(M956,\"*\"&PROFILE!$C$65&\"*\")","v":1},null,null,null,null,null,null,null,null,null,{"$f":"CONCATENATE(\"Total \",PROFILE!C65,\" Positions Filled\")","v":"Total  Positions Filled"},"",null,null,null,null,null,null,null,null,0]
[null,null,{"$f":"COUNTIF(M957,\"*\"&PROFILE!$C$66&\"*\")","v":1},null,null,null,null,null,null,null,null,null,{"$f":"CONCATENATE(\"Total \",PROFILE!C66,\" Positions Filled\")","v":"Total  Positions Filled"},"",null,null,null,null,null,null,null,null,0]
[null,null,{"$f":"COUNTIF(M958,\"*\"&PROFILE!$C$67&\"*\")","v":1},null,null,null,null,null,null,null,null,null,{"$f":"CONCATENATE(\"Total \",PROFILE!C67,\" Positions Filled\")","v":"Total  Positions Filled"},"",null,null,null,null,null,null,null,null,0]
[null,null,{"$f":"COUNTIF(M959,\"*\"&PROFILE!$C$68&\"*\")","v":1},null,null,null,null,null,null,null,null,null,{"$f":"CONCATENATE(\"Total \",PROFILE!C68,\" Positions Filled\")","v":"Total  Positions Filled"},"",null,null,null,null,null,null,null,null,0]
[null,null,{"$f":"COUNTIF(M960,\"*\"&PROFILE!$C$69&\"*\")","v":1},null,null,null,null,null,null,null,null,null,{"$f":"CONCATENATE(\"Total \",PROFILE!C69,\" Positions Filled\")","v":"Total  Positions Filled"},"",null,null,null,null,null,null,null,null,0]
[null,null,{"$f":"COUNTIF(M961,\"*\"&PROFILE!$C$70&\"*\")","v":1},null,null,null,null,null,null,null,null,null,{"$f":"CONCATENATE(\"Total \",PROFILE!C70,\" Positions Filled\")","v":"Total  Positions Filled"},"",null,null,null,null,null,null,null,null,0]
[null,null,{"$f":"COUNTIF(M962,\"*\"&PROFILE!$C$71&\"*\")","v":1},null,null,null,null,null,null,null,null,null,{"$f":"CONCATENATE(\"Total \",PROFILE!C71,\" Positions Filled\")","v":"Total  Positions Filled"},"",null,null,null,null,null,null,null,null,0]
[null,null,{"$f":"COUNTIF(M963,\"*\"&PROFILE!$C$72&\"*\")","v":1},null,null,null,null,null,null,null,null,null,{"$f":"CONCATENATE(\"Total \",PROFILE!C72,\" Positions Filled\")","v":"Total  Positions Filled"},"",null,null,null,null,null,null,null,null,0]
[null,null,null,null,null,null,null,null,null,null,null,null,null,null,null,null,null,null,null,null,null,null,{"$f":"IF(OR($H$50=\"enabled\"),1,0)","v":0}]
[null,null,{"$f":"COUNTIF(M965,\"*\"&PROFILE!$C$58&\"*\")","v":1},null,null,null,null,null,null,null,null,null,{"$f":"CONCATENATE(\"Total \",PROFILE!C58,\" Leader Positions Filled\")","v":"Total  Leader Positions Filled"},"",null,null,null,null,null,null,null,null,{"$f":"IF(AND(OR($I$50=\"enabled\"),C965=1),1,0)","v":0}]
[null,null,{"$f":"COUNTIF(M966,\"*\"&PROFILE!$C$59&\"*\")","v":1},null,null,null,null,null,null,null,null,null,{"$f":"CONCATENATE(\"Total \",PROFILE!C59,\" Leader Positions Filled\")","v":"Total  Leader Positions Filled"},"",null,null,null,null,null,null,null,null,{"$f":"IF(AND(OR($I$50=\"enabled\"),C966=1),1,0)","v":0}]
[null,null,{"$f":"COUNTIF(M967,\"*\"&PROFILE!$C$60&\"*\")","v":1},null,null,null,null,null,null,null,null,null,{"$f":"CONCATENATE(\"Total \",PROFILE!C60,\" Leader Positions Filled\")","v":"Total  Leader Positions Filled"},"",null,null,null,null,null,null,null,null,0]
[null,null,{"$f":"COUNTIF(M968,\"*\"&PROFILE!$C$61&\"*\")","v":1},null,null,null,null,null,null,null,null,null,{"$f":"CONCATENATE(\"Total \",PROFILE!C61,\" Leader Positions Filled\")","v":"Total  Leader Positions Filled"},"",null,null,null,null,null,null,null,null,0]
[null,null,{"$f":"COUNTIF(M969,\"*\"&PROFILE!$C$62&\"*\")","v":1},null,null,null,null,null,null,null,null,null,{"$f":"CONCATENATE(\"Total \",PROFILE!C62,\" Leader Positions Filled\")","v":"Total  Leader Positions Filled"},"",null,null,null,null,null,null,null,null,0]
[null,null,{"$f":"COUNTIF(M970,\"*\"&PROFILE!$C$63&\"*\")","v":1},null,null,null,null,null,null,null,null,null,{"$f":"CONCATENATE(\"Total \",PROFILE!C63,\" Leader Positions Filled\")","v":"Total  Leader Positions Filled"},"",null,null,null,null,null,null,null,null,0]
[null,null,{"$f":"COUNTIF(M971,\"*\"&PROFILE!$C$64&\"*\")","v":1},null,null,null,null,null,null,null,null,null,{"$f":"CONCATENATE(\"Total \",PROFILE!C64,\" Leader Positions Filled\")","v":"Total  Leader Positions Filled"},"",null,null,null,null,null,null,null,null,0]
[null,null,{"$f":"COUNTIF(M972,\"*\"&PROFILE!$C$65&\"*\")","v":1},null,null,null,null,null,null,null,null,null,{"$f":"CONCATENATE(\"Total \",PROFILE!C65,\" Leader Positions Filled\")","v":"Total  Leader Positions Filled"},"",null,null,null,null,null,null,null,null,0]
[null,null,{"$f":"COUNTIF(M973,\"*\"&PROFILE!$C$66&\"*\")","v":1},null,null,null,null,null,null,null,null,null,{"$f":"CONCATENATE(\"Total \",PROFILE!C66,\" Leader Positions Filled\")","v":"Total  Leader Positions Filled"},"",null,null,null,null,null,null,null,null,0]
[null,null,{"$f":"COUNTIF(M974,\"*\"&PROFILE!$C$67&\"*\")","v":1},null,null,null,null,null,null,null,null,null,{"$f":"CONCATENATE(\"Total \",PROFILE!C67,\" Leader Positions Filled\")","v":"Total  Leader Positions Filled"},"",null,null,null,null,null,null,null,null,0]
[null,null,{"$f":"COUNTIF(M975,\"*\"&PROFILE!$C$68&\"*\")","v":1},null,null,null,null,null,null,null,null,null,{"$f":"CONCATENATE(\"Total \",PROFILE!C68,\" Leader Positions Filled\")","v":"Total  Leader Positions Filled"},"",null,null,null,null,null,null,null,null,0]
[null,null,{"$f":"COUNTIF(M976,\"*\"&PROFILE!$C$69&\"*\")","v":1},null,null,null,null,null,null,null,null,null,{"$f":"CONCATENATE(\"Total \",PROFILE!C69,\" Leader Positions Filled\")","v":"Total  Leader Positions Filled"},"",null,null,null,null,null,null,null,null,0]
[null,null,{"$f":"COUNTIF(M977,\"*\"&PROFILE!$C$70&\"*\")","v":1},null,null,null,null,null,null,null,null,null,{"$f":"CONCATENATE(\"Total \",PROFILE!C70,\" Leader Positions Filled\")","v":"Total  Leader Positions Filled"},"",null,null,null,null,null,null,null,null,0]
[null,null,{"$f":"COUNTIF(M978,\"*\"&PROFILE!$C$71&\"*\")","v":1},null,null,null,null,null,null,null,null,null,{"$f":"CONCATENATE(\"Total \",PROFILE!C71,\" Leader Positions Filled\")","v":"Total  Leader Positions Filled"},"",null,null,null,null,null,null,null,null,0]
[null,null,{"$f":"COUNTIF(M979,\"*\"&PROFILE!$C$72&\"*\")","v":1},null,null,null,null,null,null,null,null,null,{"$f":"CONCATENATE(\"Total \",PROFILE!C72,\" Leader Positions Filled\")","v":"Total  Leader Positions Filled"},"",null,null,null,null,null,null,null,null,0]
[null,null,null,null,null,null,null,null,null,null,null,null,null,null,null,null,null,null,null,null,null,null,{"$f":"IF(OR($I$50=\"enabled\"),1,0)","v":0}]
[null,null,{"$f":"COUNTIF(M981,\"*\"&PROFILE!$C$58&\"*\")","v":1},null,null,null,null,null,null,null,null,null,{"$f":"CONCATENATE(\"Total \",PROFILE!C58,\" Executive Positions Filled\")","v":"Total  Executive Positions Filled"},"",null,null,null,null,null,null,null,null,{"$f":"IF(AND(OR($J$50=\"enabled\"),C981=1),1,0)","v":0}]
[null,null,{"$f":"COUNTIF(M982,\"*\"&PROFILE!$C$59&\"*\")","v":1},null,null,null,null,null,null,null,null,null,{"$f":"CONCATENATE(\"Total \",PROFILE!C59,\" Executive Positions Filled\")","v":"Total  Executive Positions Filled"},"",null,null,null,null,null,null,null,null,{"$f":"IF(AND(OR($J$50=\"enabled\"),C982=1),1,0)","v":0}]
[null,null,{"$f":"COUNTIF(M983,\"*\"&PROFILE!$C$60&\"*\")","v":1},null,null,null,null,null,null,null,null,null,{"$f":"CONCATENATE(\"Total \",PROFILE!C60,\" Executive Positions Filled\")","v":"Total  Executive Positions Filled"},"",null,null,null,null,null,null,null,null,0]
[null,null,{"$f":"COUNTIF(M984,\"*\"&PROFILE!$C$61&\"*\")","v":1},null,null,null,null,null,null,null,null,null,{"$f":"CONCATENATE(\"Total \",PROFILE!C61,\" Executive Positions Filled\")","v":"Total  Executive Positions Filled"},"",null,null,null,null,null,null,null,null,0]
[null,null,{"$f":"COUNTIF(M985,\"*\"&PROFILE!$C$62&\"*\")","v":1},null,null,null,null,null,null,null,null,null,{"$f":"CONCATENATE(\"Total \",PROFILE!C62,\" Executive Positions Filled\")","v":"Total  Executive Positions Filled"},"",null,null,null,null,null,null,null,null,0]
[null,null,{"$f":"COUNTIF(M986,\"*\"&PROFILE!$C$63&\"*\")","v":1},null,null,null,null,null,null,null,null,null,{"$f":"CONCATENATE(\"Total \",PROFILE!C63,\" Executive Positions Filled\")","v":"Total  Executive Positions Filled"},"",null,null,null,null,null,null,null,null,0]
[null,null,{"$f":"COUNTIF(M987,\"*\"&PROFILE!$C$64&\"*\")","v":1},null,null,null,null,null,null,null,null,null,{"$f":"CONCATENATE(\"Total \",PROFILE!C64,\" Executive Positions Filled\")","v":"Total  Executive Positions Filled"},"",null,null,null,null,null,null,null,null,0]
[null,null,{"$f":"COUNTIF(M988,\"*\"&PROFILE!$C$65&\"*\")","v":1},null,null,null,null,null,null,null,null,null,{"$f":"CONCATENATE(\"Total \",PROFILE!C65,\" Executive Positions Filled\")","v":"Total  Executive Positions Filled"},"",null,null,null,null,null,null,null,null,0]
[null,null,{"$f":"COUNTIF(M989,\"*\"&PROFILE!$C$66&\"*\")","v":1},null,null,null,null,null,null,null,null,null,{"$f":"CONCATENATE(\"Total \",PROFILE!C66,\" Executive Positions Filled\")","v":"Total  Executive Positions Filled"},"",null,null,null,null,null,null,null,null,0]
[null,null,{"$f":"COUNTIF(M990,\"*\"&PROFILE!$C$67&\"*\")","v":1},null,null,null,null,null,null,null,null,null,{"$f":"CONCATENATE(\"Total \",PROFILE!C67,\" Executive Positions Filled\")","v":"Total  Executive Positions Filled"},"",null,null,null,null,null,null,null,null,0]
[null,null,{"$f":"COUNTIF(M991,\"*\"&PROFILE!$C$68&\"*\")","v":1},null,null,null,null,null,null,null,null,null,{"$f":"CONCATENATE(\"Total \",PROFILE!C68,\" Executive Positions Filled\")","v":"Total  Executive Positions Filled"},"",null,null,null,null,null,null,null,null,0]
[null,null,{"$f":"COUNTIF(M992,\"*\"&PROFILE!$C$69&\"*\")","v":1},null,null,null,null,null,null,null,null,null,{"$f":"CONCATENATE(\"Total \",PROFILE!C69,\" Executive Positions Filled\")","v":"Total  Executive Positions Filled"},"",null,null,null,null,null,null,null,null,0]
[null,null,{"$f":"COUNTIF(M993,\"*\"&PROFILE!$C$70&\"*\")","v":1},null,null,null,null,null,null,null,null,null,{"$f":"CONCATENATE(\"Total \",PROFILE!C70,\" Executive Positions Filled\")","v":"Total  Executive Positions Filled"},"",null,null,null,null,null,null,null,null,0]
[null,null,{"$f":"COUNTIF(M994,\"*\"&PROFILE!$C$71&\"*\")","v":1},null,null,null,null,null,null,null,null,null,{"$f":"CONCATENATE(\"Total \",PROFILE!C71,\" Executive Positions Filled\")","v":"Total  Executive Positions Filled"},"",null,null,null,null,null,null,null,null,0]
[null,null,{"$f":"COUNTIF(M995,\"*\"&PROFILE!$C$72&\"*\")","v":1},null,null,null,null,null,null,null,null,null,{"$f":"CONCATENATE(\"Total \",PROFILE!C72,\" Executive Positions Filled\")","v":"Total  Executive Positions Filled"},"",null,null,null,null,null,null,null,null,0]
[null,null,null,null,null,null,null,null,null,null,null,null,null,null,null,null,null,null,null,null,null,null,{"$f":"IF(OR($J$50=\"enabled\"),1,0)","v":0}]
[null,null,null,null,null,null,null,null,null,null,null,null,null,null,null,"Total Vacant Positions by EEO Codes",null,null,null,null,null,null,{"$f":"IF(OR($H$54=\"enabled\",$I$54=\"enabled\",$J$54=\"enabled\"),1,0)","v":0}]
[null,null,null,null,null,null,null,null,null,null,null,null,null,{"$f":"'CENTRAL DATA'!$H$12","v":"FY-2"},{"$f":"'CENTRAL DATA'!$H$13","v":"FY-1"},{"$f":"IF(PROFILE!$L$43=\"Fiscal Year WFP\",'CENTRAL DATA'!$H$14,IF(PROFILE!$L$43=\"Snapshot\",CONCATENATE(\"As of \",TEXT(PROFILE!$N$44,\"mm/dd/yy\"),\"\")))","v":false},null,null,null,null,null,null,{"$f":"IF(OR($H$54=\"enabled\",$I$54=\"enabled\",$J$54=\"enabled\"),1,0)","v":0}]
[null,null,null,null,null,null,null,null,null,null,null,null,null,null,null,null,null,null,null,null,null,null,0]
[null,null,null,null,null,null,null,null,null,null,null,null,"Total EEO Code \"Officials and Administrators\" Vacant Positions","",null,null,null,null,null,null,null,null,{"$f":"IF(OR($H$54=\"enabled\"),1,0)","v":0}]
[null,null,null,null,null,null,null,null,null,null,null,null,"Total EEO Code \"Professionals\" Vacant Positions","",null,null,null,null,null,null,null,null,{"$f":"IF(OR($H$54=\"enabled\"),1,0)","v":0}]
[null,null,null,null,null,null,null,null,null,null,null,null,"Total EEO Code \"Technicians\" Vacant Positions","",null,null,null,null,null,null,null,null,0]
[null,null,null,null,null,null,null,null,null,null,null,null,"Total EEO Code \"Protective Service Workers\" Vacant Positions","",null,null,null,null,null,null,null,null,0]
[null,null,null,null,null,null,null,null,null,null,null,null,"Total EEO Code \"Paraprofessionals\" Vacant Positions","",null,null,null,null,null,null,null,null,0]
[null,null,null,null,null,null,null,null,null,null,null,null,"Total EEO Code \"Administrative Support\" Vacant Positions","",null,null,null,null,null,null,null,null,0]
[null,null,null,null,null,null,null,null,null,null,null,null,"Total EEO Code \"Skilled Craft Workers\" Vacant Positions","",null,null,null,null,null,null,null,null,0]
[null,null,null,null,null,null,null,null,null,null,null,null,"Total EEO Code \"Service/Maintenance\" Vacant Positions","",null,null,null,null,null,null,null,null,0]
[null,null,null,null,null,null,null,null,null,null,null,null,"Total EEO Code \"Faculty\" Vacant Positions","",null,null,null,null,null,null,null,null,0]
[null,null,null,null,null,null,null,null,null,null,null,null,"Total EEO Code \"Other\" Vacant Positions","",null,null,null,null,null,null,null,null,0]
[null,null,null,null,null,null,null,null,null,null,null,null,null,null,null,null,null,null,null,null,null,null,0]
[null,null,null,null,null,null,null,null,null,null,null,null,"Total EEO Code \"Officials and Administrators\" Leader Vacant Positions","",null,null,null,null,null,null,null,null,{"$f":"IF(OR($I$54=\"enabled\"),1,0)","v":0}]
[null,null,null,null,null,null,null,null,null,null,null,null,"Total EEO Code \"Professionals\" Leader Vacant Positions","",null,null,null,null,null,null,null,null,{"$f":"IF(OR($I$54=\"enabled\"),1,0)","v":0}]
[null,null,null,null,null,null,null,null,null,null,null,null,"Total EEO Code \"Technicians\" Leader Vacant Positions","",null,null,null,null,null,null,null,null,0]
[null,null,null,null,null,null,null,null,null,null,null,null,"Total EEO Code \"Protective Service Workers\" Leader Vacant Positions","",null,null,null,null,null,null,null,null,0]
[null,null,null,null,null,null,null,null,null,null,null,null,"Total EEO Code \"Paraprofessionals\" Leader Vacant Positions","",null,null,null,null,null,null,null,null,0]
[null,null,null,null,null,null,null,null,null,null,null,null,"Total EEO Code \"Administrative Support\" Leader Vacant Positions","",null,null,null,null,null,null,null,null,0]
[null,null,null,null,null,null,null,null,null,null,null,null,"Total EEO Code \"Skilled Craft Workers\" Leader Vacant Positions","",null,null,null,null,null,null,null,null,0]
[null,null,null,null,null,null,null,null,null,null,null,null,"Total EEO Code \"Service/Maintenance\" Leader Vacant Positions","",null,null,null,null,null,null,null,null,0]
[null,null,null,null,null,null,null,null,null,null,null,null,"Total EEO Code \"Faculty\" Leader Vacant Positions","",null,null,null,null,null,null,null,null,0]
[null,null,null,null,null,null,null,null,null,null,null,null,"Total EEO Code \"Other\" Leader Vacant Positions","",null,null,null,null,null,null,null,null,0]
[null,null,null,null,null,null,null,null,null,null,null,null,null,null,null,null,null,null,null,null,null,null,0]
[null,null,null,null,null,null,null,null,null,null,null,null,"Total EEO Code \"Officials and Administrators\" Executive Vacant Positions","",null,null,null,null,null,null,null,null,{"$f":"IF(OR($J$54=\"enabled\"),1,0)","v":0}]
[null,null,null,null,null,null,null,null,null,null,null,null,"Total EEO Code \"Professionals\" Executive Vacant Positions","",null,null,null,null,null,null,null,null,{"$f":"IF(OR($J$54=\"enabled\"),1,0)","v":0}]
[null,null,null,null,null,null,null,null,null,null,null,null,"Total EEO Code \"Technicians\" Executive Vacant Positions","",null,null,null,null,null,null,null,null,0]
[null,null,null,null,null,null,null,null,null,null,null,null,"Total EEO Code \"Protective Service Workers\" Executive Vacant Positions","",null,null,null,null,null,null,null,null,0]
[null,null,null,null,null,null,null,null,null,null,null,null,"Total EEO Code \"Paraprofessionals\" Executive Vacant Positions","",null,null,null,null,null,null,null,null,0]
[null,null,null,null,null,null,null,null,null,null,null,null,"Total EEO Code \"Administrative Support\" Executive Vacant Positions","",null,null,null,null,null,null,null,null,0]
[null,null,null,null,null,null,null,null,null,null,null,null,"Total EEO Code \"Skilled Craft Workers\" Executive Vacant Positions","",null,null,null,null,null,null,null,null,0]
[null,null,null,null,null,null,null,null,null,null,null,null,"Total EEO Code \"Service/Maintenance\" Executive Vacant Positions","",null,null,null,null,null,null,null,null,0]
[null,null,null,null,null,null,null,null,null,null,null,null,"Total EEO Code \"Faculty\" Executive Vacant Positions","",null,null,null,null,null,null,null,null,0]
[null,null,null,null,null,null,null,null,null,null,null,null,"Total EEO Code \"Other\" Executive Vacant Positions","",null,null,null,null,null,null,null,null,0]
[null,null,null,null,null,null,null,null,null,null,null,null,null,null,null,null,null,null,null,null,null,null,0]
[null,null,null,null,null,null,null,null,null,null,null,null,null,null,null,"Total Vacant Positions by Classifications",null,null,null,null,null,null,{"$f":"IF(OR($H$55=\"enabled\",$I$55=\"enabled\",$J$55=\"enabled\"),1,0)","v":0}]
[null,null,null,null,null,null,null,null,null,null,null,null,null,{"$f":"'CENTRAL DATA'!$H$12","v":"FY-2"},{"$f":"'CENTRAL DATA'!$H$13","v":"FY-1"},{"$f":"IF(PROFILE!$L$43=\"Fiscal Year WFP\",'CENTRAL DATA'!$H$14,IF(PROFILE!$L$43=\"Snapshot\",CONCATENATE(\"As of \",TEXT(PROFILE!$N$44,\"mm/dd/yy\"),\"\")))","v":false},null,null,null,null,null,null,{"$f":"IF(OR($H$55=\"enabled\",$I$55=\"enabled\",$J$55=\"enabled\"),1,0)","v":0}]
[null,null,null,null,null,null,null,null,null,null,null,null,null,null,null,null,null,null,null,null,null,null,0]
[null,null,{"$f":"COUNTIF(M1036,\"*\"&PROFILE!$C$58&\"*\")","v":1},null,null,null,null,null,null,null,null,null,{"$f":"CONCATENATE(\"Total \",PROFILE!C58,\" Vacant Positions\")","v":"Total  Vacant Positions"},"",null,null,null,null,null,null,null,null,{"$f":"IF(AND(OR($H$55=\"enabled\"),C1036=1),1,0)","v":0}]
[null,null,{"$f":"COUNTIF(M1037,\"*\"&PROFILE!$C$59&\"*\")","v":1},null,null,null,null,null,null,null,null,null,{"$f":"CONCATENATE(\"Total \",PROFILE!C59,\" Vacant Positions\")","v":"Total  Vacant Positions"},"",null,null,null,null,null,null,null,null,{"$f":"IF(AND(OR($H$55=\"enabled\"),C1037=1),1,0)","v":0}]
[null,null,{"$f":"COUNTIF(M1038,\"*\"&PROFILE!$C$60&\"*\")","v":1},null,null,null,null,null,null,null,null,null,{"$f":"CONCATENATE(\"Total \",PROFILE!C60,\" Vacant Positions\")","v":"Total  Vacant Positions"},"",null,null,null,null,null,null,null,null,0]
[null,null,{"$f":"COUNTIF(M1039,\"*\"&PROFILE!$C$61&\"*\")","v":1},null,null,null,null,null,null,null,null,null,{"$f":"CONCATENATE(\"Total \",PROFILE!C61,\" Vacant Positions\")","v":"Total  Vacant Positions"},"",null,null,null,null,null,null,null,null,0]
[null,null,{"$f":"COUNTIF(M1040,\"*\"&PROFILE!$C$62&\"*\")","v":1},null,null,null,null,null,null,null,null,null,{"$f":"CONCATENATE(\"Total \",PROFILE!C62,\" Vacant Positions\")","v":"Total  Vacant Positions"},"",null,null,null,null,null,null,null,null,0]
[null,null,{"$f":"COUNTIF(M1041,\"*\"&PROFILE!$C$63&\"*\")","v":1},null,null,null,null,null,null,null,null,null,{"$f":"CONCATENATE(\"Total \",PROFILE!C63,\" Vacant Positions\")","v":"Total  Vacant Positions"},"",null,null,null,null,null,null,null,null,0]
[null,null,{"$f":"COUNTIF(M1042,\"*\"&PROFILE!$C$64&\"*\")","v":1},null,null,null,null,null,null,null,null,null,{"$f":"CONCATENATE(\"Total \",PROFILE!C64,\" Vacant Positions\")","v":"Total  Vacant Positions"},"",null,null,null,null,null,null,null,null,0]
[null,null,{"$f":"COUNTIF(M1043,\"*\"&PROFILE!$C$65&\"*\")","v":1},null,null,null,null,null,null,null,null,null,{"$f":"CONCATENATE(\"Total \",PROFILE!C65,\" Vacant Positions\")","v":"Total  Vacant Positions"},"",null,null,null,null,null,null,null,null,0]
[null,null,{"$f":"COUNTIF(M1044,\"*\"&PROFILE!$C$66&\"*\")","v":1},null,null,null,null,null,null,null,null,null,{"$f":"CONCATENATE(\"Total \",PROFILE!C66,\" Vacant Positions\")","v":"Total  Vacant Positions"},"",null,null,null,null,null,null,null,null,0]
[null,null,{"$f":"COUNTIF(M1045,\"*\"&PROFILE!$C$67&\"*\")","v":1},null,null,null,null,null,null,null,null,null,{"$f":"CONCATENATE(\"Total \",PROFILE!C67,\" Vacant Positions\")","v":"Total  Vacant Positions"},"",null,null,null,null,null,null,null,null,0]
[null,null,{"$f":"COUNTIF(M1046,\"*\"&PROFILE!$C$68&\"*\")","v":1},null,null,null,null,null,null,null,null,null,{"$f":"CONCATENATE(\"Total \",PROFILE!C68,\" Vacant Positions\")","v":"Total  Vacant Positions"},"",null,null,null,null,null,null,null,null,0]
[null,null,{"$f":"COUNTIF(M1047,\"*\"&PROFILE!$C$69&\"*\")","v":1},null,null,null,null,null,null,null,null,null,{"$f":"CONCATENATE(\"Total \",PROFILE!C69,\" Vacant Positions\")","v":"Total  Vacant Positions"},"",null,null,null,null,null,null,null,null,0]
[null,null,{"$f":"COUNTIF(M1048,\"*\"&PROFILE!$C$70&\"*\")","v":1},null,null,null,null,null,null,null,null,null,{"$f":"CONCATENATE(\"Total \",PROFILE!C70,\" Vacant Positions\")","v":"Total  Vacant Positions"},"",null,null,null,null,null,null,null,null,0]
[null,null,{"$f":"COUNTIF(M1049,\"*\"&PROFILE!$C$71&\"*\")","v":1},null,null,null,null,null,null,null,null,null,{"$f":"CONCATENATE(\"Total \",PROFILE!C71,\" Vacant Positions\")","v":"Total  Vacant Positions"},"",null,null,null,null,null,null,null,null,0]
[null,null,{"$f":"COUNTIF(M1050,\"*\"&PROFILE!$C$72&\"*\")","v":1},null,null,null,null,null,null,null,null,null,{"$f":"CONCATENATE(\"Total \",PROFILE!C72,\" Vacant Positions\")","v":"Total  Vacant Positions"},"",null,null,null,null,null,null,null,null,0]
[null,null,null,null,null,null,null,null,null,null,null,null,null,null,null,null,null,null,null,null,null,null,{"$f":"IF(OR($H$55=\"enabled\"),1,0)","v":0}]
[null,null,{"$f":"COUNTIF(M1052,\"*\"&PROFILE!$C$58&\"*\")","v":1},null,null,null,null,null,null,null,null,null,{"$f":"CONCATENATE(\"Total \",PROFILE!C58,\" Leader Vacant Positions\")","v":"Total  Leader Vacant Positions"},"",null,null,null,null,null,null,null,null,{"$f":"IF(AND(OR($I$55=\"enabled\"),C1052=1),1,0)","v":0}]
[null,null,{"$f":"COUNTIF(M1053,\"*\"&PROFILE!$C$59&\"*\")","v":1},null,null,null,null,null,null,null,null,null,{"$f":"CONCATENATE(\"Total \",PROFILE!C59,\" Leader Vacant Positions\")","v":"Total  Leader Vacant Positions"},"",null,null,null,null,null,null,null,null,{"$f":"IF(AND(OR($I$55=\"enabled\"),C1053=1),1,0)","v":0}]
[null,null,{"$f":"COUNTIF(M1054,\"*\"&PROFILE!$C$60&\"*\")","v":1},null,null,null,null,null,null,null,null,null,{"$f":"CONCATENATE(\"Total \",PROFILE!C60,\" Leader Vacant Positions\")","v":"Total  Leader Vacant Positions"},"",null,null,null,null,null,null,null,null,0]
[null,null,{"$f":"COUNTIF(M1055,\"*\"&PROFILE!$C$61&\"*\")","v":1},null,null,null,null,null,null,null,null,null,{"$f":"CONCATENATE(\"Total \",PROFILE!C61,\" Leader Vacant Positions\")","v":"Total  Leader Vacant Positions"},"",null,null,null,null,null,null,null,null,0]
[null,null,{"$f":"COUNTIF(M1056,\"*\"&PROFILE!$C$62&\"*\")","v":1},null,null,null,null,null,null,null,null,null,{"$f":"CONCATENATE(\"Total \",PROFILE!C62,\" Leader Vacant Positions\")","v":"Total  Leader Vacant Positions"},"",null,null,null,null,null,null,null,null,0]
[null,null,{"$f":"COUNTIF(M1057,\"*\"&PROFILE!$C$63&\"*\")","v":1},null,null,null,null,null,null,null,null,null,{"$f":"CONCATENATE(\"Total \",PROFILE!C63,\" Leader Vacant Positions\")","v":"Total  Leader Vacant Positions"},"",null,null,null,null,null,null,null,null,0]
[null,null,{"$f":"COUNTIF(M1058,\"*\"&PROFILE!$C$64&\"*\")","v":1},null,null,null,null,null,null,null,null,null,{"$f":"CONCATENATE(\"Total \",PROFILE!C64,\" Leader Vacant Positions\")","v":"Total  Leader Vacant Positions"},"",null,null,null,null,null,null,null,null,0]
[null,null,{"$f":"COUNTIF(M1059,\"*\"&PROFILE!$C$65&\"*\")","v":1},null,null,null,null,null,null,null,null,null,{"$f":"CONCATENATE(\"Total \",PROFILE!C65,\" Leader Vacant Positions\")","v":"Total  Leader Vacant Positions"},"",null,null,null,null,null,null,null,null,0]
[null,null,{"$f":"COUNTIF(M1060,\"*\"&PROFILE!$C$66&\"*\")","v":1},null,null,null,null,null,null,null,null,null,{"$f":"CONCATENATE(\"Total \",PROFILE!C66,\" Leader Vacant Positions\")","v":"Total  Leader Vacant Positions"},"",null,null,null,null,null,null,null,null,0]
[null,null,{"$f":"COUNTIF(M1061,\"*\"&PROFILE!$C$67&\"*\")","v":1},null,null,null,null,null,null,null,null,null,{"$f":"CONCATENATE(\"Total \",PROFILE!C67,\" Leader Vacant Positions\")","v":"Total  Leader Vacant Positions"},"",null,null,null,null,null,null,null,null,0]
[null,null,{"$f":"COUNTIF(M1062,\"*\"&PROFILE!$C$68&\"*\")","v":1},null,null,null,null,null,null,null,null,null,{"$f":"CONCATENATE(\"Total \",PROFILE!C68,\" Leader Vacant Positions\")","v":"Total  Leader Vacant Positions"},"",null,null,null,null,null,null,null,null,0]
[null,null,{"$f":"COUNTIF(M1063,\"*\"&PROFILE!$C$69&\"*\")","v":1},null,null,null,null,null,null,null,null,null,{"$f":"CONCATENATE(\"Total \",PROFILE!C69,\" Leader Vacant Positions\")","v":"Total  Leader Vacant Positions"},"",null,null,null,null,null,null,null,null,0]
[null,null,{"$f":"COUNTIF(M1064,\"*\"&PROFILE!$C$70&\"*\")","v":1},null,null,null,null,null,null,null,null,null,{"$f":"CONCATENATE(\"Total \",PROFILE!C70,\" Leader Vacant Positions\")","v":"Total  Leader Vacant Positions"},"",null,null,null,null,null,null,null,null,0]
[null,null,{"$f":"COUNTIF(M1065,\"*\"&PROFILE!$C$71&\"*\")","v":1},null,null,null,null,null,null,null,null,null,{"$f":"CONCATENATE(\"Total \",PROFILE!C71,\" Leader Vacant Positions\")","v":"Total  Leader Vacant Positions"},"",null,null,null,null,null,null,null,null,0]
[null,null,{"$f":"COUNTIF(M1066,\"*\"&PROFILE!$C$72&\"*\")","v":1},null,null,null,null,null,null,null,null,null,{"$f":"CONCATENATE(\"Total \",PROFILE!C72,\" Leader Vacant Positions\")","v":"Total  Leader Vacant Positions"},"",null,null,null,null,null,null,null,null,0]
[null,null,null,null,null,null,null,null,null,null,null,null,null,null,null,null,null,null,null,null,null,null,{"$f":"IF(OR($I$55=\"enabled\"),1,0)","v":0}]
[null,null,{"$f":"COUNTIF(M1068,\"*\"&PROFILE!$C$58&\"*\")","v":1},null,null,null,null,null,null,null,null,null,{"$f":"CONCATENATE(\"Total \",PROFILE!C58,\" Executive Vacant Positions\")","v":"Total  Executive Vacant Positions"},"",null,null,null,null,null,null,null,null,{"$f":"IF(AND(OR($J$55=\"enabled\"),C1068=1),1,0)","v":0}]
[null,null,{"$f":"COUNTIF(M1069,\"*\"&PROFILE!$C$59&\"*\")","v":1},null,null,null,null,null,null,null,null,null,{"$f":"CONCATENATE(\"Total \",PROFILE!C59,\" Executive Vacant Positions\")","v":"Total  Executive Vacant Positions"},"",null,null,null,null,null,null,null,null,{"$f":"IF(AND(OR($J$55=\"enabled\"),C1069=1),1,0)","v":0}]
[null,null,{"$f":"COUNTIF(M1070,\"*\"&PROFILE!$C$60&\"*\")","v":1},null,null,null,null,null,null,null,null,null,{"$f":"CONCATENATE(\"Total \",PROFILE!C60,\" Executive Vacant Positions\")","v":"Total  Executive Vacant Positions"},"",null,null,null,null,null,null,null,null,0]
[null,null,{"$f":"COUNTIF(M1071,\"*\"&PROFILE!$C$61&\"*\")","v":1},null,null,null,null,null,null,null,null,null,{"$f":"CONCATENATE(\"Total \",PROFILE!C61,\" Executive Vacant Positions\")","v":"Total  Executive Vacant Positions"},"",null,null,null,null,null,null,null,null,0]
[null,null,{"$f":"COUNTIF(M1072,\"*\"&PROFILE!$C$62&\"*\")","v":1},null,null,null,null,null,null,null,null,null,{"$f":"CONCATENATE(\"Total \",PROFILE!C62,\" Executive Vacant Positions\")","v":"Total  Executive Vacant Positions"},"",null,null,null,null,null,null,null,null,0]
[null,null,{"$f":"COUNTIF(M1073,\"*\"&PROFILE!$C$63&\"*\")","v":1},null,null,null,null,null,null,null,null,null,{"$f":"CONCATENATE(\"Total \",PROFILE!C63,\" Executive Vacant Positions\")","v":"Total  Executive Vacant Positions"},"",null,null,null,null,null,null,null,null,0]
[null,null,{"$f":"COUNTIF(M1074,\"*\"&PROFILE!$C$64&\"*\")","v":1},null,null,null,null,null,null,null,null,null,{"$f":"CONCATENATE(\"Total \",PROFILE!C64,\" Executive Vacant Positions\")","v":"Total  Executive Vacant Positions"},"",null,null,null,null,null,null,null,null,0]
[null,null,{"$f":"COUNTIF(M1075,\"*\"&PROFILE!$C$65&\"*\")","v":1},null,null,null,null,null,null,null,null,null,{"$f":"CONCATENATE(\"Total \",PROFILE!C65,\" Executive Vacant Positions\")","v":"Total  Executive Vacant Positions"},"",null,null,null,null,null,null,null,null,0]
[null,null,{"$f":"COUNTIF(M1076,\"*\"&PROFILE!$C$66&\"*\")","v":1},null,null,null,null,null,null,null,null,null,{"$f":"CONCATENATE(\"Total \",PROFILE!C66,\" Executive Vacant Positions\")","v":"Total  Executive Vacant Positions"},"",null,null,null,null,null,null,null,null,0]
[null,null,{"$f":"COUNTIF(M1077,\"*\"&PROFILE!$C$67&\"*\")","v":1},null,null,null,null,null,null,null,null,null,{"$f":"CONCATENATE(\"Total \",PROFILE!C67,\" Executive Vacant Positions\")","v":"Total  Executive Vacant Positions"},"",null,null,null,null,null,null,null,null,0]
[null,null,{"$f":"COUNTIF(M1078,\"*\"&PROFILE!$C$68&\"*\")","v":1},null,null,null,null,null,null,null,null,null,{"$f":"CONCATENATE(\"Total \",PROFILE!C68,\" Executive Vacant Positions\")","v":"Total  Executive Vacant Positions"},"",null,null,null,null,null,null,null,null,0]
[null,null,{"$f":"COUNTIF(M1079,\"*\"&PROFILE!$C$69&\"*\")","v":1},null,null,null,null,null,null,null,null,null,{"$f":"CONCATENATE(\"Total \",PROFILE!C69,\" Executive Vacant Positions\")","v":"Total  Executive Vacant Positions"},"",null,null,null,null,null,null,null,null,0]
[null,null,{"$f":"COUNTIF(M1080,\"*\"&PROFILE!$C$70&\"*\")","v":1},null,null,null,null,null,null,null,null,null,{"$f":"CONCATENATE(\"Total \",PROFILE!C70,\" Executive Vacant Positions\")","v":"Total  Executive Vacant Positions"},"",null,null,null,null,null,null,null,null,0]
[null,null,{"$f":"COUNTIF(M1081,\"*\"&PROFILE!$C$71&\"*\")","v":1},null,null,null,null,null,null,null,null,null,{"$f":"CONCATENATE(\"Total \",PROFILE!C71,\" Executive Vacant Positions\")","v":"Total  Executive Vacant Positions"},"",null,null,null,null,null,null,null,null,0]
[null,null,{"$f":"COUNTIF(M1082,\"*\"&PROFILE!$C$72&\"*\")","v":1},null,null,null,null,null,null,null,null,null,{"$f":"CONCATENATE(\"Total \",PROFILE!C72,\" Executive Vacant Positions\")","v":"Total  Executive Vacant Positions"},"",null,null,null,null,null,null,null,null,0]
[null,null,null,null,null,null,null,null,null,null,null,null,null,null,null,null,null,null,null,null,null,null,{"$f":"IF(OR($J$55=\"enabled\"),1,0)","v":0}]
[null,null,null,null,null,null,null,null,null,null,null,null,null,null,null,"Average Time to Fill by EEO Codes",null,null,null,null,null,null,{"$f":"IF(OR($H$59=\"enabled\",$I$59=\"enabled\",$J$59=\"enabled\"),1,0)","v":0}]
[null,null,null,null,null,null,null,null,null,null,null,null,null,{"$f":"'CENTRAL DATA'!$H$12","v":"FY-2"},{"$f":"'CENTRAL DATA'!$H$13","v":"FY-1"},{"$f":"IF(PROFILE!$L$43=\"Fiscal Year WFP\",'CENTRAL DATA'!$H$14,IF(PROFILE!$L$43=\"Snapshot\",CONCATENATE(\"As of \",TEXT(PROFILE!$N$44,\"mm/dd/yy\"),\"\")))","v":false},null,null,null,null,null,null,{"$f":"IF(OR($H$59=\"enabled\",$I$59=\"enabled\",$J$59=\"enabled\"),1,0)","v":0}]
[null,null,null,null,null,null,null,null,null,null,null,null,null,null,null,null,null,null,null,null,null,null,0]
[null,null,null,null,null,null,null,null,null,null,null,null," EEO Code \"Officials and Administrators\" Average Time to Fill","",null,null,null,null,null,null,null,null,{"$f":"IF(OR($H$59=\"enabled\"),1,0)","v":0}]
[null,null,null,null,null,null,null,null,null,null,null,null," EEO Code \"Professionals\" Average Time to Fill","",null,null,null,null,null,null,null,null,{"$f":"IF(OR($H$59=\"enabled\"),1,0)","v":0}]
[null,null,null,null,null,null,null,null,null,null,null,null," EEO Code \"Technicians\" Average Time to Fill","",null,null,null,null,null,null,null,null,0]
[null,null,null,null,null,null,null,null,null,null,null,null," EEO Code \"Protective Service Workers\" Average Time to Fill","",null,null,null,null,null,null,null,null,0]
[null,null,null,null,null,null,null,null,null,null,null,null," EEO Code \"Paraprofessionals\" Average Time to Fill","",null,null,null,null,null,null,null,null,0]
[null,null,null,null,null,null,null,null,null,null,null,null," EEO Code \"Administrative Support\" Average Time to Fill","",null,null,null,null,null,null,null,null,0]
[null,null,null,null,null,null,null,null,null,null,null,null," EEO Code \"Skilled Craft Workers\" Average Time to Fill","",null,null,null,null,null,null,null,null,0]
[null,null,null,null,null,null,null,null,null,null,null,null," EEO Code \"Service/Maintenance\" Average Time to Fill","",null,null,null,null,null,null,null,null,0]
[null,null,null,null,null,null,null,null,null,null,null,null," EEO Code \"Faculty\" Average Time to Fill","",null,null,null,null,null,null,null,null,0]
[null,null,null,null,null,null,null,null,null,null,null,null," EEO Code \"Other\" Average Time to Fill","",null,null,null,null,null,null,null,null,0]
[null,null,null,null,null,null,null,null,null,null,null,null,null,null,null,null,null,null,null,null,null,null,0]
[null,null,null,null,null,null,null,null,null,null,null,null," EEO Code \"Officials and Administrators\" Leaders Average Time to Fill","",null,null,null,null,null,null,null,null,{"$f":"IF(OR($I$59=\"enabled\"),1,0)","v":0}]
[null,null,null,null,null,null,null,null,null,null,null,null," EEO Code \"Professionals\" Leaders Average Time to Fill","",null,null,null,null,null,null,null,null,{"$f":"IF(OR($I$59=\"enabled\"),1,0)","v":0}]
[null,null,null,null,null,null,null,null,null,null,null,null," EEO Code \"Technicians\" Leaders Average Time to Fill","",null,null,null,null,null,null,null,null,0]
[null,null,null,null,null,null,null,null,null,null,null,null," EEO Code \"Protective Service Workers\" Leaders Average Time to Fill","",null,null,null,null,null,null,null,null,0]
[null,null,null,null,null,null,null,null,null,null,null,null," EEO Code \"Paraprofessionals\" Leaders Average Time to Fill","",null,null,null,null,null,null,null,null,0]
[null,null,null,null,null,null,null,null,null,null,null,null," EEO Code \"Administrative Support\" Leaders Average Time to Fill","",null,null,null,null,null,null,null,null,0]
[null,null,null,null,null,null,null,null,null,null,null,null," EEO Code \"Skilled Craft Workers\" Leaders Average Time to Fill","",null,null,null,null,null,null,null,null,0]
[null,null,null,null,null,null,null,null,null,null,null,null," EEO Code \"Service/Maintenance\" Leaders Average Time to Fill","",null,null,null,null,null,null,null,null,0]
[null,null,null,null,null,null,null,null,null,null,null,null," EEO Code \"Faculty\" Leaders Average Time to Fill","",null,null,null,null,null,null,null,null,0]
[null,null,null,null,null,null,null,null,null,null,null,null," EEO Code \"Other\" Leaders Average Time to Fill","",null,null,null,null,null,null,null,null,0]
[null,null,null,null,null,null,null,null,null,null,null,null,null,null,null,null,null,null,null,null,null,null,0]
[null,null,null,null,null,null,null,null,null,null,null,null," EEO Code \"Officials and Administrators\" Executives Average Time to Fill","",null,null,null,null,null,null,null,null,{"$f":"IF(OR($J$59=\"enabled\"),1,0)","v":0}]
[null,null,null,null,null,null,null,null,null,null,null,null," EEO Code \"Professionals\" Executives Average Time to Fill","",null,null,null,null,null,null,null,null,{"$f":"IF(OR($J$59=\"enabled\"),1,0)","v":0}]
[null,null,null,null,null,null,null,null,null,null,null,null," EEO Code \"Technicians\" Executives Average Time to Fill","",null,null,null,null,null,null,null,null,0]
[null,null,null,null,null,null,null,null,null,null,null,null," EEO Code \"Protective Service Workers\" Executives Average Time to Fill","",null,null,null,null,null,null,null,null,0]
[null,null,null,null,null,null,null,null,null,null,null,null," EEO Code \"Paraprofessionals\" Executives Average Time to Fill","",null,null,null,null,null,null,null,null,0]
[null,null,null,null,null,null,null,null,null,null,null,null," EEO Code \"Administrative Support\" Executives Average Time to Fill","",null,null,null,null,null,null,null,null,0]
[null,null,null,null,null,null,null,null,null,null,null,null," EEO Code \"Skilled Craft Workers\" Executives Average Time to Fill","",null,null,null,null,null,null,null,null,0]
[null,null,null,null,null,null,null,null,null,null,null,null," EEO Code \"Service/Maintenance\" Executives Average Time to Fill","",null,null,null,null,null,null,null,null,0]
[null,null,null,null,null,null,null,null,null,null,null,null," EEO Code \"Faculty\" Executives Average Time to Fill","",null,null,null,null,null,null,null,null,0]
[null,null,null,null,null,null,null,null,null,null,null,null," EEO Code \"Other\" Executives Average Time to Fill","",null,null,null,null,null,null,null,null,0]
[null,null,null,null,null,null,null,null,null,null,null,null,null,null,null,null,null,null,null,null,null,null,0]
[null,null,null,null,null,null,null,null,null,null,null,null,null,null,null,"Average Time to Fill by Classifications",null,null,null,null,null,null,{"$f":"IF(OR($H$60=\"enabled\",$I$60=\"enabled\",$J$60=\"enabled\"),1,0)","v":0}]
[null,null,null,null,null,null,null,null,null,null,null,null,null,{"$f":"'CENTRAL DATA'!$H$12","v":"FY-2"},{"$f":"'CENTRAL DATA'!$H$13","v":"FY-1"},{"$f":"IF(PROFILE!$L$43=\"Fiscal Year WFP\",'CENTRAL DATA'!$H$14,IF(PROFILE!$L$43=\"Snapshot\",CONCATENATE(\"As of \",TEXT(PROFILE!$N$44,\"mm/dd/yy\"),\"\")))","v":false},null,null,null,null,null,null,{"$f":"IF(OR($H$60=\"enabled\",$I$60=\"enabled\",$J$60=\"enabled\"),1,0)","v":0}]
[null,null,null,null,null,null,null,null,null,null,null,null,null,null,null,null,null,null,null,null,null,null,0]
[null,null,{"$f":"COUNTIF(M1123,\"*\"&PROFILE!$C$58&\"*\")","v":1},null,null,null,null,null,null,null,null,null,{"$f":"CONCATENATE(\" \",PROFILE!C58,\" Average Time to Fill\")","v":"  Average Time to Fill"},"",null,null,null,null,null,null,null,null,{"$f":"IF(AND(OR($H$60=\"enabled\"),C1123=1),1,0)","v":0}]
[null,null,{"$f":"COUNTIF(M1124,\"*\"&PROFILE!$C$59&\"*\")","v":1},null,null,null,null,null,null,null,null,null,{"$f":"CONCATENATE(\" \",PROFILE!C59,\" Average Time to Fill\")","v":"  Average Time to Fill"},"",null,null,null,null,null,null,null,null,{"$f":"IF(AND(OR($H$60=\"enabled\"),C1124=1),1,0)","v":0}]
[null,null,{"$f":"COUNTIF(M1125,\"*\"&PROFILE!$C$60&\"*\")","v":1},null,null,null,null,null,null,null,null,null,{"$f":"CONCATENATE(\" \",PROFILE!C60,\" Average Time to Fill\")","v":"  Average Time to Fill"},"",null,null,null,null,null,null,null,null,0]
[null,null,{"$f":"COUNTIF(M1126,\"*\"&PROFILE!$C$61&\"*\")","v":1},null,null,null,null,null,null,null,null,null,{"$f":"CONCATENATE(\" \",PROFILE!C61,\" Average Time to Fill\")","v":"  Average Time to Fill"},"",null,null,null,null,null,null,null,null,0]
[null,null,{"$f":"COUNTIF(M1127,\"*\"&PROFILE!$C$62&\"*\")","v":1},null,null,null,null,null,null,null,null,null,{"$f":"CONCATENATE(\" \",PROFILE!C62,\" Average Time to Fill\")","v":"  Average Time to Fill"},"",null,null,null,null,null,null,null,null,0]
[null,null,{"$f":"COUNTIF(M1128,\"*\"&PROFILE!$C$63&\"*\")","v":1},null,null,null,null,null,null,null,null,null,{"$f":"CONCATENATE(\" \",PROFILE!C63,\" Average Time to Fill\")","v":"  Average Time to Fill"},"",null,null,null,null,null,null,null,null,0]
[null,null,{"$f":"COUNTIF(M1129,\"*\"&PROFILE!$C$64&\"*\")","v":1},null,null,null,null,null,null,null,null,null,{"$f":"CONCATENATE(\" \",PROFILE!C64,\" Average Time to Fill\")","v":"  Average Time to Fill"},"",null,null,null,null,null,null,null,null,0]
[null,null,{"$f":"COUNTIF(M1130,\"*\"&PROFILE!$C$65&\"*\")","v":1},null,null,null,null,null,null,null,null,null,{"$f":"CONCATENATE(\" \",PROFILE!C65,\" Average Time to Fill\")","v":"  Average Time to Fill"},"",null,null,null,null,null,null,null,null,0]
[null,null,{"$f":"COUNTIF(M1131,\"*\"&PROFILE!$C$66&\"*\")","v":1},null,null,null,null,null,null,null,null,null,{"$f":"CONCATENATE(\" \",PROFILE!C66,\" Average Time to Fill\")","v":"  Average Time to Fill"},"",null,null,null,null,null,null,null,null,0]
[null,null,{"$f":"COUNTIF(M1132,\"*\"&PROFILE!$C$67&\"*\")","v":1},null,null,null,null,null,null,null,null,null,{"$f":"CONCATENATE(\" \",PROFILE!C67,\" Average Time to Fill\")","v":"  Average Time to Fill"},"",null,null,null,null,null,null,null,null,0]
[null,null,{"$f":"COUNTIF(M1133,\"*\"&PROFILE!$C$68&\"*\")","v":1},null,null,null,null,null,null,null,null,null,{"$f":"CONCATENATE(\" \",PROFILE!C68,\" Average Time to Fill\")","v":"  Average Time to Fill"},"",null,null,null,null,null,null,null,null,0]
[null,null,{"$f":"COUNTIF(M1134,\"*\"&PROFILE!$C$69&\"*\")","v":1},null,null,null,null,null,null,null,null,null,{"$f":"CONCATENATE(\" \",PROFILE!C69,\" Average Time to Fill\")","v":"  Average Time to Fill"},"",null,null,null,null,null,null,null,null,0]
[null,null,{"$f":"COUNTIF(M1135,\"*\"&PROFILE!$C$70&\"*\")","v":1},null,null,null,null,null,null,null,null,null,{"$f":"CONCATENATE(\" \",PROFILE!C70,\" Average Time to Fill\")","v":"  Average Time to Fill"},"",null,null,null,null,null,null,null,null,0]
[null,null,{"$f":"COUNTIF(M1136,\"*\"&PROFILE!$C$71&\"*\")","v":1},null,null,null,null,null,null,null,null,null,{"$f":"CONCATENATE(\" \",PROFILE!C71,\" Average Time to Fill\")","v":"  Average Time to Fill"},"",null,null,null,null,null,null,null,null,0]
[null,null,{"$f":"COUNTIF(M1137,\"*\"&PROFILE!$C$72&\"*\")","v":1},null,null,null,null,null,null,null,null,null,{"$f":"CONCATENATE(\" \",PROFILE!C72,\" Average Time to Fill\")","v":"  Average Time to Fill"},"",null,null,null,null,null,null,null,null,0]
[null,null,null,null,null,null,null,null,null,null,null,null,null,null,null,null,null,null,null,null,null,null,{"$f":"IF(OR($H$60=\"enabled\"),1,0)","v":0}]
[null,null,{"$f":"COUNTIF(M1139,\"*\"&PROFILE!$C$58&\"*\")","v":1},null,null,null,null,null,null,null,null,null,{"$f":"CONCATENATE(\" \",PROFILE!C58,\" Leaders Average Time to Fill\")","v":"  Leaders Average Time to Fill"},"",null,null,null,null,null,null,null,null,{"$f":"IF(AND(OR($I$60=\"enabled\"),C1139=1),1,0)","v":0}]
[null,null,{"$f":"COUNTIF(M1140,\"*\"&PROFILE!$C$59&\"*\")","v":1},null,null,null,null,null,null,null,null,null,{"$f":"CONCATENATE(\" \",PROFILE!C59,\" Leaders Average Time to Fill\")","v":"  Leaders Average Time to Fill"},"",null,null,null,null,null,null,null,null,{"$f":"IF(AND(OR($I$60=\"enabled\"),C1140=1),1,0)","v":0}]
[null,null,{"$f":"COUNTIF(M1141,\"*\"&PROFILE!$C$60&\"*\")","v":1},null,null,null,null,null,null,null,null,null,{"$f":"CONCATENATE(\" \",PROFILE!C60,\" Leaders Average Time to Fill\")","v":"  Leaders Average Time to Fill"},"",null,null,null,null,null,null,null,null,0]
[null,null,{"$f":"COUNTIF(M1142,\"*\"&PROFILE!$C$61&\"*\")","v":1},null,null,null,null,null,null,null,null,null,{"$f":"CONCATENATE(\" \",PROFILE!C61,\" Leaders Average Time to Fill\")","v":"  Leaders Average Time to Fill"},"",null,null,null,null,null,null,null,null,0]
[null,null,{"$f":"COUNTIF(M1143,\"*\"&PROFILE!$C$62&\"*\")","v":1},null,null,null,null,null,null,null,null,null,{"$f":"CONCATENATE(\" \",PROFILE!C62,\" Leaders Average Time to Fill\")","v":"  Leaders Average Time to Fill"},"",null,null,null,null,null,null,null,null,0]
[null,null,{"$f":"COUNTIF(M1144,\"*\"&PROFILE!$C$63&\"*\")","v":1},null,null,null,null,null,null,null,null,null,{"$f":"CONCATENATE(\" \",PROFILE!C63,\" Leaders Average Time to Fill\")","v":"  Leaders Average Time to Fill"},"",null,null,null,null,null,null,null,null,0]
[null,null,{"$f":"COUNTIF(M1145,\"*\"&PROFILE!$C$64&\"*\")","v":1},null,null,null,null,null,null,null,null,null,{"$f":"CONCATENATE(\" \",PROFILE!C64,\" Leaders Average Time to Fill\")","v":"  Leaders Average Time to Fill"},"",null,null,null,null,null,null,null,null,0]
[null,null,{"$f":"COUNTIF(M1146,\"*\"&PROFILE!$C$65&\"*\")","v":1},null,null,null,null,null,null,null,null,null,{"$f":"CONCATENATE(\" \",PROFILE!C65,\" Leaders Average Time to Fill\")","v":"  Leaders Average Time to Fill"},"",null,null,null,null,null,null,null,null,0]
[null,null,{"$f":"COUNTIF(M1147,\"*\"&PROFILE!$C$66&\"*\")","v":1},null,null,null,null,null,null,null,null,null,{"$f":"CONCATENATE(\" \",PROFILE!C66,\" Leaders Average Time to Fill\")","v":"  Leaders Average Time to Fill"},"",null,null,null,null,null,null,null,null,0]
[null,null,{"$f":"COUNTIF(M1148,\"*\"&PROFILE!$C$67&\"*\")","v":1},null,null,null,null,null,null,null,null,null,{"$f":"CONCATENATE(\" \",PROFILE!C67,\" Leaders Average Time to Fill\")","v":"  Leaders Average Time to Fill"},"",null,null,null,null,null,null,null,null,0]
[null,null,{"$f":"COUNTIF(M1149,\"*\"&PROFILE!$C$68&\"*\")","v":1},null,null,null,null,null,null,null,null,null,{"$f":"CONCATENATE(\" \",PROFILE!C68,\" Leaders Average Time to Fill\")","v":"  Leaders Average Time to Fill"},"",null,null,null,null,null,null,null,null,0]
[null,null,{"$f":"COUNTIF(M1150,\"*\"&PROFILE!$C$69&\"*\")","v":1},null,null,null,null,null,null,null,null,null,{"$f":"CONCATENATE(\" \",PROFILE!C69,\" Leaders Average Time to Fill\")","v":"  Leaders Average Time to Fill"},"",null,null,null,null,null,null,null,null,0]
[null,null,{"$f":"COUNTIF(M1151,\"*\"&PROFILE!$C$70&\"*\")","v":1},null,null,null,null,null,null,null,null,null,{"$f":"CONCATENATE(\" \",PROFILE!C70,\" Leaders Average Time to Fill\")","v":"  Leaders Average Time to Fill"},"",null,null,null,null,null,null,null,null,0]
[null,null,{"$f":"COUNTIF(M1152,\"*\"&PROFILE!$C$71&\"*\")","v":1},null,null,null,null,null,null,null,null,null,{"$f":"CONCATENATE(\" \",PROFILE!C71,\" Leaders Average Time to Fill\")","v":"  Leaders Average Time to Fill"},"",null,null,null,null,null,null,null,null,0]
[null,null,{"$f":"COUNTIF(M1153,\"*\"&PROFILE!$C$72&\"*\")","v":1},null,null,null,null,null,null,null,null,null,{"$f":"CONCATENATE(\" \",PROFILE!C72,\" Leaders Average Time to Fill\")","v":"  Leaders Average Time to Fill"},"",null,null,null,null,null,null,null,null,0]
[null,null,null,null,null,null,null,null,null,null,null,null,null,null,null,null,null,null,null,null,null,null,{"$f":"IF(OR($I$60=\"enabled\"),1,0)","v":0}]
[null,null,{"$f":"COUNTIF(M1155,\"*\"&PROFILE!$C$58&\"*\")","v":1},null,null,null,null,null,null,null,null,null,{"$f":"CONCATENATE(\" \",PROFILE!C58,\" Executives Average Time to Fill\")","v":"  Executives Average Time to Fill"},"",null,null,null,null,null,null,null,null,{"$f":"IF(AND(OR($J$60=\"enabled\"),C1155=1),1,0)","v":0}]
[null,null,{"$f":"COUNTIF(M1156,\"*\"&PROFILE!$C$59&\"*\")","v":1},null,null,null,null,null,null,null,null,null,{"$f":"CONCATENATE(\" \",PROFILE!C59,\" Executives Average Time to Fill\")","v":"  Executives Average Time to Fill"},"",null,null,null,null,null,null,null,null,{"$f":"IF(AND(OR($J$60=\"enabled\"),C1156=1),1,0)","v":0}]
[null,null,{"$f":"COUNTIF(M1157,\"*\"&PROFILE!$C$60&\"*\")","v":1},null,null,null,null,null,null,null,null,null,{"$f":"CONCATENATE(\" \",PROFILE!C60,\" Executives Average Time to Fill\")","v":"  Executives Average Time to Fill"},"",null,null,null,null,null,null,null,null,0]
[null,null,{"$f":"COUNTIF(M1158,\"*\"&PROFILE!$C$61&\"*\")","v":1},null,null,null,null,null,null,null,null,null,{"$f":"CONCATENATE(\" \",PROFILE!C61,\" Executives Average Time to Fill\")","v":"  Executives Average Time to Fill"},"",null,null,null,null,null,null,null,null,0]
[null,null,{"$f":"COUNTIF(M1159,\"*\"&PROFILE!$C$62&\"*\")","v":1},null,null,null,null,null,null,null,null,null,{"$f":"CONCATENATE(\" \",PROFILE!C62,\" Executives Average Time to Fill\")","v":"  Executives Average Time to Fill"},"",null,null,null,null,null,null,null,null,0]
[null,null,{"$f":"COUNTIF(M1160,\"*\"&PROFILE!$C$63&\"*\")","v":1},null,null,null,null,null,null,null,null,null,{"$f":"CONCATENATE(\" \",PROFILE!C63,\" Executives Average Time to Fill\")","v":"  Executives Average Time to Fill"},"",null,null,null,null,null,null,null,null,0]
[null,null,{"$f":"COUNTIF(M1161,\"*\"&PROFILE!$C$64&\"*\")","v":1},null,null,null,null,null,null,null,null,null,{"$f":"CONCATENATE(\" \",PROFILE!C64,\" Executives Average Time to Fill\")","v":"  Executives Average Time to Fill"},"",null,null,null,null,null,null,null,null,0]
[null,null,{"$f":"COUNTIF(M1162,\"*\"&PROFILE!$C$65&\"*\")","v":1},null,null,null,null,null,null,null,null,null,{"$f":"CONCATENATE(\" \",PROFILE!C65,\" Executives Average Time to Fill\")","v":"  Executives Average Time to Fill"},"",null,null,null,null,null,null,null,null,0]
[null,null,{"$f":"COUNTIF(M1163,\"*\"&PROFILE!$C$66&\"*\")","v":1},null,null,null,null,null,null,null,null,null,{"$f":"CONCATENATE(\" \",PROFILE!C66,\" Executives Average Time to Fill\")","v":"  Executives Average Time to Fill"},"",null,null,null,null,null,null,null,null,0]
[null,null,{"$f":"COUNTIF(M1164,\"*\"&PROFILE!$C$67&\"*\")","v":1},null,null,null,null,null,null,null,null,null,{"$f":"CONCATENATE(\" \",PROFILE!C67,\" Executives Average Time to Fill\")","v":"  Executives Average Time to Fill"},"",null,null,null,null,null,null,null,null,0]
[null,null,{"$f":"COUNTIF(M1165,\"*\"&PROFILE!$C$68&\"*\")","v":1},null,null,null,null,null,null,null,null,null,{"$f":"CONCATENATE(\" \",PROFILE!C68,\" Executives Average Time to Fill\")","v":"  Executives Average Time to Fill"},"",null,null,null,null,null,null,null,null,0]
[null,null,{"$f":"COUNTIF(M1166,\"*\"&PROFILE!$C$69&\"*\")","v":1},null,null,null,null,null,null,null,null,null,{"$f":"CONCATENATE(\" \",PROFILE!C69,\" Executives Average Time to Fill\")","v":"  Executives Average Time to Fill"},"",null,null,null,null,null,null,null,null,0]
[null,null,{"$f":"COUNTIF(M1167,\"*\"&PROFILE!$C$70&\"*\")","v":1},null,null,null,null,null,null,null,null,null,{"$f":"CONCATENATE(\" \",PROFILE!C70,\" Executives Average Time to Fill\")","v":"  Executives Average Time to Fill"},"",null,null,null,null,null,null,null,null,0]
[null,null,{"$f":"COUNTIF(M1168,\"*\"&PROFILE!$C$71&\"*\")","v":1},null,null,null,null,null,null,null,null,null,{"$f":"CONCATENATE(\" \",PROFILE!C71,\" Executives Average Time to Fill\")","v":"  Executives Average Time to Fill"},"",null,null,null,null,null,null,null,null,0]
[null,null,{"$f":"COUNTIF(M1169,\"*\"&PROFILE!$C$72&\"*\")","v":1},null,null,null,null,null,null,null,null,null,{"$f":"CONCATENATE(\" \",PROFILE!C72,\" Executives Average Time to Fill\")","v":"  Executives Average Time to Fill"},"",null,null,null,null,null,null,null,null,0]
[null,null,null,null,null,null,null,null,null,null,null,null,null,null,null,null,null,null,null,null,null,null,{"$f":"IF(OR($J$60=\"enabled\"),1,0)","v":0}]
[null,null,null,null,null,null,null,null,null,null,null,null,null,null,null,"Average Time to Fill By Quarter by EEO Code",null,null,null,null,null,null,{"$f":"IF(OR($H$64=\"enabled\",$I$64=\"enabled\",$J$64=\"enabled\"),1,0)","v":0}]
[null,null,null,null,null,null,null,null,null,null,null,null,null,null,null,null,null,null,null,null,null,null,{"$f":"IF(OR($H$64=\"enabled\",$I$64=\"enabled\",$J$64=\"enabled\"),1,0)","v":0}]
[null,null,null,null,"Quarter 1",null,null,"Quarter 2",null,null,"Quarter 3",null,null,"Quarter 4",null,null,null,null,null,null,null,null,0]
[null,null,null,null,{"$f":"'CENTRAL DATA'!$H$12","v":"FY-2"},{"$f":"'CENTRAL DATA'!$H$13","v":"FY-1"},{"$f":"IF(PROFILE!$L$43=\"Fiscal Year WFP\",'CENTRAL DATA'!$H$14,IF(PROFILE!$L$43=\"Snapshot\",CONCATENATE(\"As of \",TEXT(PROFILE!$N$44,\"mm/dd/yy\"),\"\")))","v":false},{"$f":"'CENTRAL DATA'!$H$12","v":"FY-2"},{"$f":"'CENTRAL DATA'!$H$13","v":"FY-1"},{"$f":"IF(PROFILE!$L$43=\"Fiscal Year WFP\",'CENTRAL DATA'!$H$14,IF(PROFILE!$L$43=\"Snapshot\",CONCATENATE(\"As of \",TEXT(PROFILE!$N$44,\"mm/dd/yy\"),\"\")))","v":false},{"$f":"'CENTRAL DATA'!$H$12","v":"FY-2"},{"$f":"'CENTRAL DATA'!$H$13","v":"FY-1"},{"$f":"IF(PROFILE!$L$43=\"Fiscal Year WFP\",'CENTRAL DATA'!$H$14,IF(PROFILE!$L$43=\"Snapshot\",CONCATENATE(\"As of \",TEXT(PROFILE!$N$44,\"mm/dd/yy\"),\"\")))","v":false},{"$f":"'CENTRAL DATA'!$H$12","v":"FY-2"},{"$f":"'CENTRAL DATA'!$H$13","v":"FY-1"},{"$f":"IF(PROFILE!$L$43=\"Fiscal Year WFP\",'CENTRAL DATA'!$H$14,IF(PROFILE!$L$43=\"Snapshot\",CONCATENATE(\"As of \",TEXT(PROFILE!$N$44,\"mm/dd/yy\"),\"\")))","v":false},null,null,null,null,null,null,0]
[null,null,null,null,null,null,null,null,null,null,null,null,null,null,null,null,null,null,null,null,null,null,0]
[null,null,null," EEO Code \"Officials and Administrators\" ","",null,null,null,null,null,null,null,null,null,null,null,null,null,null,null,null,null,{"$f":"IF(OR($H$64=\"enabled\"),1,0)","v":0}]
[null,null,null," EEO Code \"Professionals\" ","",null,null,null,null,null,null,null,null,null,null,null,null,null,null,null,null,null,{"$f":"IF(OR($H$64=\"enabled\"),1,0)","v":0}]
[null,null,null," EEO Code \"Technicians\" ","",null,null,null,null,null,null,null,null,null,null,null,null,null,null,null,null,null,0]
[null,null,null," EEO Code \"Protective Service Workers\" ","",null,null,null,null,null,null,null,null,null,null,null,null,null,null,null,null,null,0]
[null,null,null," EEO Code \"Paraprofessionals\" ","",null,null,null,null,null,null,null,null,null,null,null,null,null,null,null,null,null,0]
[null,null,null," EEO Code \"Administrative Support\" ","",null,null,null,null,null,null,null,null,null,null,null,null,null,null,null,null,null,0]
[null,null,null," EEO Code \"Skilled Craft Workers\" ","",null,null,null,null,null,null,null,null,null,null,null,null,null,null,null,null,null,0]
[null,null,null," EEO Code \"Service/Maintenance\" ","",null,null,null,null,null,null,null,null,null,null,null,null,null,null,null,null,null,0]
[null,null,null," EEO Code \"Faculty\" ","",null,null,null,null,null,null,null,null,null,null,null,null,null,null,null,null,null,0]
[null,null,null," EEO Code \"Other\" ","",null,null,null,null,null,null,null,null,null,null,null,null,null,null,null,null,null,0]
[null,null,null,null,null,null,null,null,null,null,null,null,null,null,null,null,null,null,null,null,null,null,0]
[null,null,null," EEO Code \"Officials and Administrators\" Leaders","",null,null,null,null,null,null,null,null,null,null,null,null,null,null,null,null,null,{"$f":"IF(OR($I$64=\"enabled\"),1,0)","v":0}]
[null,null,null," EEO Code \"Professionals\" Leaders","",null,null,null,null,null,null,null,null,null,null,null,null,null,null,null,null,null,{"$f":"IF(OR($I$64=\"enabled\"),1,0)","v":0}]
[null,null,null," EEO Code \"Technicians\" Leaders","",null,null,null,null,null,null,null,null,null,null,null,null,null,null,null,null,null,0]
[null,null,null," EEO Code \"Protective Service Workers\" Leaders","",null,null,null,null,null,null,null,null,null,null,null,null,null,null,null,null,null,0]
[null,null,null," EEO Code \"Paraprofessionals\" Leaders","",null,null,null,null,null,null,null,null,null,null,null,null,null,null,null,null,null,0]
[null,null,null," EEO Code \"Administrative Support\" Leaders","",null,null,null,null,null,null,null,null,null,null,null,null,null,null,null,null,null,0]
[null,null,null," EEO Code \"Skilled Craft Workers\" Leaders","",null,null,null,null,null,null,null,null,null,null,null,null,null,null,null,null,null,0]
[null,null,null," EEO Code \"Service/Maintenance\" Leaders","",null,null,null,null,null,null,null,null,null,null,null,null,null,null,null,null,null,0]
[null,null,null," EEO Code \"Faculty\" Leaders","",null,null,null,null,null,null,null,null,null,null,null,null,null,null,null,null,null,0]
[null,null,null,"\"Other\" Leaders","",null,null,null,null,null,null,null,null,null,null,null,null,null,null,null,null,null,0]
[null,null,null,null,null,null,null,null,null,null,null,null,null,null,null,null,null,null,null,null,null,null,0]
[null,null,null," EEO Code \"Officials and Administrators\" Executives","",null,null,null,null,null,null,null,null,null,null,null,null,null,null,null,null,null,{"$f":"IF(OR($J$64=\"enabled\"),1,0)","v":0}]
[null,null,null," EEO Code \"Professionals\" Executives","",null,null,null,null,null,null,null,null,null,null,null,null,null,null,null,null,null,{"$f":"IF(OR($J$64=\"enabled\"),1,0)","v":0}]
[null,null,null," EEO Code \"Technicians\" Executives","",null,null,null,null,null,null,null,null,null,null,null,null,null,null,null,null,null,0]
[null,null,null," EEO Code \"Protective Service Workers\" Executives","",null,null,null,null,null,null,null,null,null,null,null,null,null,null,null,null,null,0]
[null,null,null," EEO Code \"Paraprofessionals\" Executives","",null,null,null,null,null,null,null,null,null,null,null,null,null,null,null,null,null,0]
[null,null,null," EEO Code \"Administrative Support\" Executives","",null,null,null,null,null,null,null,null,null,null,null,null,null,null,null,null,null,0]
[null,null,null," EEO Code \"Skilled Craft Workers\" Executives","",null,null,null,null,null,null,null,null,null,null,null,null,null,null,null,null,null,0]
[null,null,null," EEO Code \"Service/Maintenance\" Executives","",null,null,null,null,null,null,null,null,null,null,null,null,null,null,null,null,null,0]
[null,null,null," EEO Code \"Faculty\" Executives","",null,null,null,null,null,null,null,null,null,null,null,null,null,null,null,null,null,0]
[null,null,null," EEO Code \"Other\" Executives","",null,null,null,null,null,null,null,null,null,null,null,null,null,null,null,null,null,0]
[null,null,null,null,null,null,null,null,null,null,null,null,null,null,null,null,null,null,null,null,null,null,0]
[null,null,null,null,null,null,null,null,null,null,null,null,null,null,null,"Average Time to Fill By Quarter by Classification",null,null,null,null,null,null,{"$f":"IF(OR($H$65=\"enabled\",$I$65=\"enabled\",$J$65=\"enabled\"),1,0)","v":0}]
[null,null,null,null,null,null,null,null,null,null,null,null,null,null,null,null,null,null,null,null,null,null,{"$f":"IF(OR($H$65=\"enabled\",$I$65=\"enabled\",$J$65=\"enabled\"),1,0)","v":0}]
[null,null,null,null,"Quarter 1",null,null,"Quarter 2",null,null,"Quarter 3",null,null,"Quarter 4",null,null,null,null,null,null,null,null,0]
[null,null,null,null,{"$f":"'CENTRAL DATA'!$H$12","v":"FY-2"},{"$f":"'CENTRAL DATA'!$H$13","v":"FY-1"},{"$f":"IF(PROFILE!$L$43=\"Fiscal Year WFP\",'CENTRAL DATA'!$H$14,IF(PROFILE!$L$43=\"Snapshot\",CONCATENATE(\"As of \",TEXT(PROFILE!$N$44,\"mm/dd/yy\"),\"\")))","v":false},{"$f":"'CENTRAL DATA'!$H$12","v":"FY-2"},{"$f":"'CENTRAL DATA'!$H$13","v":"FY-1"},{"$f":"IF(PROFILE!$L$43=\"Fiscal Year WFP\",'CENTRAL DATA'!$H$14,IF(PROFILE!$L$43=\"Snapshot\",CONCATENATE(\"As of \",TEXT(PROFILE!$N$44,\"mm/dd/yy\"),\"\")))","v":false},{"$f":"'CENTRAL DATA'!$H$12","v":"FY-2"},{"$f":"'CENTRAL DATA'!$H$13","v":"FY-1"},{"$f":"IF(PROFILE!$L$43=\"Fiscal Year WFP\",'CENTRAL DATA'!$H$14,IF(PROFILE!$L$43=\"Snapshot\",CONCATENATE(\"As of \",TEXT(PROFILE!$N$44,\"mm/dd/yy\"),\"\")))","v":false},{"$f":"'CENTRAL DATA'!$H$12","v":"FY-2"},{"$f":"'CENTRAL DATA'!$H$13","v":"FY-1"},{"$f":"IF(PROFILE!$L$43=\"Fiscal Year WFP\",'CENTRAL DATA'!$H$14,IF(PROFILE!$L$43=\"Snapshot\",CONCATENATE(\"As of \",TEXT(PROFILE!$N$44,\"mm/dd/yy\"),\"\")))","v":false},null,null,null,null,null,null,0]
[null,null,null,null,null,null,null,null,null,null,null,null,null,null,null,null,null,null,null,null,null,null,0]
[null,null,null,{"$f":"CONCATENATE(PROFILE!C58,\" Avgerage Time to Fill\")","v":" Avgerage Time to Fill"},"",null,null,null,null,null,null,null,null,null,null,null,null,null,null,null,null,null,{"$f":"IF(OR($H$65=\"enabled\"),1,0)","v":0}]
[null,null,null,{"$f":"CONCATENATE(PROFILE!C59,\" Avgerage Time to Fill\")","v":" Avgerage Time to Fill"},"",null,null,null,null,null,null,null,null,null,null,null,null,null,null,null,null,null,{"$f":"IF(OR($H$65=\"enabled\"),1,0)","v":0}]
[null,null,null,{"$f":"CONCATENATE(PROFILE!C60,\" Avgerage Time to Fill\")","v":" Avgerage Time to Fill"},"",null,null,null,null,null,null,null,null,null,null,null,null,null,null,null,null,null,0]
[null,null,null,{"$f":"CONCATENATE(PROFILE!C61,\" Avgerage Time to Fill\")","v":" Avgerage Time to Fill"},"",null,null,null,null,null,null,null,null,null,null,null,null,null,null,null,null,null,0]
[null,null,null,{"$f":"CONCATENATE(PROFILE!C62,\" Avgerage Time to Fill\")","v":" Avgerage Time to Fill"},"",null,null,null,null,null,null,null,null,null,null,null,null,null,null,null,null,null,0]
[null,null,null,{"$f":"CONCATENATE(PROFILE!C63,\" Avgerage Time to Fill\")","v":" Avgerage Time to Fill"},"",null,null,null,null,null,null,null,null,null,null,null,null,null,null,null,null,null,0]
[null,null,null,{"$f":"CONCATENATE(PROFILE!C64,\" Avgerage Time to Fill\")","v":" Avgerage Time to Fill"},"",null,null,null,null,null,null,null,null,null,null,null,null,null,null,null,null,null,0]
[null,null,null,{"$f":"CONCATENATE(PROFILE!C65,\" Avgerage Time to Fill\")","v":" Avgerage Time to Fill"},"",null,null,null,null,null,null,null,null,null,null,null,null,null,null,null,null,null,0]
[null,null,null,{"$f":"CONCATENATE(PROFILE!C66,\" Avgerage Time to Fill\")","v":" Avgerage Time to Fill"},"",null,null,null,null,null,null,null,null,null,null,null,null,null,null,null,null,null,0]
[null,null,null,{"$f":"CONCATENATE(PROFILE!C67,\" Avgerage Time to Fill\")","v":" Avgerage Time to Fill"},"",null,null,null,null,null,null,null,null,null,null,null,null,null,null,null,null,null,0]
[null,null,null,{"$f":"CONCATENATE(PROFILE!C68,\" Avgerage Time to Fill\")","v":" Avgerage Time to Fill"},"",null,null,null,null,null,null,null,null,null,null,null,null,null,null,null,null,null,0]
[null,null,null,{"$f":"CONCATENATE(PROFILE!C69,\" Avgerage Time to Fill\")","v":" Avgerage Time to Fill"},"",null,null,null,null,null,null,null,null,null,null,null,null,null,null,null,null,null,0]
[null,null,null,{"$f":"CONCATENATE(PROFILE!C70,\" Avgerage Time to Fill\")","v":" Avgerage Time to Fill"},"",null,null,null,null,null,null,null,null,null,null,null,null,null,null,null,null,null,0]
[null,null,null,{"$f":"CONCATENATE(PROFILE!C71,\" Avgerage Time to Fill\")","v":" Avgerage Time to Fill"},"",null,null,null,null,null,null,null,null,null,null,null,null,null,null,null,null,null,0]
[null,null,null,{"$f":"CONCATENATE(PROFILE!C72,\" Avgerage Time to Fill\")","v":" Avgerage Time to Fill"},"",null,null,null,null,null,null,null,null,null,null,null,null,null,null,null,null,null,0]
[null,null,null,null,null,null,null,null,null,null,null,null,null,null,null,null,null,null,null,null,null,null,0]
[null,null,null,{"$f":"CONCATENATE(PROFILE!C58,\" Leaders Time to Fill\")","v":" Leaders Time to Fill"},"",null,null,null,null,null,null,null,null,null,null,null,null,null,null,null,null,null,{"$f":"IF(OR($I$65=\"enabled\"),1,0)","v":0}]
[null,null,null,{"$f":"CONCATENATE(PROFILE!C59,\" Leaders Time to Fill\")","v":" Leaders Time to Fill"},"",null,null,null,null,null,null,null,null,null,null,null,null,null,null,null,null,null,{"$f":"IF(OR($I$65=\"enabled\"),1,0)","v":0}]
[null,null,null,{"$f":"CONCATENATE(PROFILE!C60,\" Leaders Time to Fill\")","v":" Leaders Time to Fill"},"",null,null,null,null,null,null,null,null,null,null,null,null,null,null,null,null,null,0]
[null,null,null,{"$f":"CONCATENATE(PROFILE!C61,\" Leaders Time to Fill\")","v":" Leaders Time to Fill"},"",null,null,null,null,null,null,null,null,null,null,null,null,null,null,null,null,null,0]
[null,null,null,{"$f":"CONCATENATE(PROFILE!C62,\" Leaders Time to Fill\")","v":" Leaders Time to Fill"},"",null,null,null,null,null,null,null,null,null,null,null,null,null,null,null,null,null,0]
[null,null,null,{"$f":"CONCATENATE(PROFILE!C63,\" Leaders Time to Fill\")","v":" Leaders Time to Fill"},"",null,null,null,null,null,null,null,null,null,null,null,null,null,null,null,null,null,0]
[null,null,null,{"$f":"CONCATENATE(PROFILE!C64,\" Leaders Time to Fill\")","v":" Leaders Time to Fill"},"",null,null,null,null,null,null,null,null,null,null,null,null,null,null,null,null,null,0]
[null,null,null,{"$f":"CONCATENATE(PROFILE!C65,\" Leaders Time to Fill\")","v":" Leaders Time to Fill"},"",null,null,null,null,null,null,null,null,null,null,null,null,null,null,null,null,null,0]
[null,null,null,{"$f":"CONCATENATE(PROFILE!C66,\" Leaders Time to Fill\")","v":" Leaders Time to Fill"},"",null,null,null,null,null,null,null,null,null,null,null,null,null,null,null,null,null,0]
[null,null,null,{"$f":"CONCATENATE(PROFILE!C67,\" Leaders Time to Fill\")","v":" Leaders Time to Fill"},"",null,null,null,null,null,null,null,null,null,null,null,null,null,null,null,null,null,0]
[null,null,null,{"$f":"CONCATENATE(PROFILE!C68,\" Leaders Time to Fill\")","v":" Leaders Time to Fill"},"",null,null,null,null,null,null,null,null,null,null,null,null,null,null,null,null,null,0]
[null,null,null,{"$f":"CONCATENATE(PROFILE!C69,\" Leaders Time to Fill\")","v":" Leaders Time to Fill"},"",null,null,null,null,null,null,null,null,null,null,null,null,null,null,null,null,null,0]
[null,null,null,{"$f":"CONCATENATE(PROFILE!C70,\" Leaders Time to Fill\")","v":" Leaders Time to Fill"},"",null,null,null,null,null,null,null,null,null,null,null,null,null,null,null,null,null,0]
[null,null,null,{"$f":"CONCATENATE(PROFILE!C71,\" Leaders Time to Fill\")","v":" Leaders Time to Fill"},"",null,null,null,null,null,null,null,null,null,null,null,null,null,null,null,null,null,0]
[null,null,null,{"$f":"CONCATENATE(PROFILE!C72,\" Leaders Time to Fill\")","v":" Leaders Time to Fill"},"",null,null,null,null,null,null,null,null,null,null,null,null,null,null,null,null,null,0]
[null,null,null,null,null,null,null,null,null,null,null,null,null,null,null,null,null,null,null,null,null,null,0]
[null,null,null,{"$f":"CONCATENATE(PROFILE!C58,\" Executives Time to Fill\")","v":" Executives Time to Fill"},"",null,null,null,null,null,null,null,null,null,null,null,null,null,null,null,null,null,{"$f":"IF(OR($J$65=\"enabled\"),1,0)","v":0}]
[null,null,null,{"$f":"CONCATENATE(PROFILE!C59,\" Executives Time to Fill\")","v":" Executives Time to Fill"},"",null,null,null,null,null,null,null,null,null,null,null,null,null,null,null,null,null,{"$f":"IF(OR($J$65=\"enabled\"),1,0)","v":0}]
[null,null,null,{"$f":"CONCATENATE(PROFILE!C60,\" Executives Time to Fill\")","v":" Executives Time to Fill"},"",null,null,null,null,null,null,null,null,null,null,null,null,null,null,null,null,null,0]
[null,null,null,{"$f":"CONCATENATE(PROFILE!C61,\" Executives Time to Fill\")","v":" Executives Time to Fill"},"",null,null,null,null,null,null,null,null,null,null,null,null,null,null,null,null,null,0]
[null,null,null,{"$f":"CONCATENATE(PROFILE!C62,\" Executives Time to Fill\")","v":" Executives Time to Fill"},"",null,null,null,null,null,null,null,null,null,null,null,null,null,null,null,null,null,0]
[null,null,null,{"$f":"CONCATENATE(PROFILE!C63,\" Executives Time to Fill\")","v":" Executives Time to Fill"},"",null,null,null,null,null,null,null,null,null,null,null,null,null,null,null,null,null,0]
[null,null,null,{"$f":"CONCATENATE(PROFILE!C64,\" Executives Time to Fill\")","v":" Executives Time to Fill"},"",null,null,null,null,null,null,null,null,null,null,null,null,null,null,null,null,null,0]
[null,null,null,{"$f":"CONCATENATE(PROFILE!C65,\" Executives Time to Fill\")","v":" Executives Time to Fill"},"",null,null,null,null,null,null,null,null,null,null,null,null,null,null,null,null,null,0]
[null,null,null,{"$f":"CONCATENATE(PROFILE!C66,\" Executives Time to Fill\")","v":" Executives Time to Fill"},"",null,null,null,null,null,null,null,null,null,null,null,null,null,null,null,null,null,0]
[null,null,null,{"$f":"CONCATENATE(PROFILE!C67,\" Executives Time to Fill\")","v":" Executives Time to Fill"},"",null,null,null,null,null,null,null,null,null,null,null,null,null,null,null,null,null,0]
[null,null,null,{"$f":"CONCATENATE(PROFILE!C68,\" Executives Time to Fill\")","v":" Executives Time to Fill"},"",null,null,null,null,null,null,null,null,null,null,null,null,null,null,null,null,null,0]
[null,null,null,{"$f":"CONCATENATE(PROFILE!C69,\" Executives Time to Fill\")","v":" Executives Time to Fill"},"",null,null,null,null,null,null,null,null,null,null,null,null,null,null,null,null,null,0]
[null,null,null,{"$f":"CONCATENATE(PROFILE!C70,\" Executives Time to Fill\")","v":" Executives Time to Fill"},"",null,null,null,null,null,null,null,null,null,null,null,null,null,null,null,null,null,0]
[null,null,null,{"$f":"CONCATENATE(PROFILE!C71,\" Executives Time to Fill\")","v":" Executives Time to Fill"},"",null,null,null,null,null,null,null,null,null,null,null,null,null,null,null,null,null,0]
[null,null,null,{"$f":"CONCATENATE(PROFILE!C72,\" Executives Time to Fill\")","v":" Executives Time to Fill"},"",null,null,null,null,null,null,null,null,null,null,null,null,null,null,null,null,null,0]
[null,null,null,null,null,null,null,null,null,null,null,null,null,null,null,null,null,null,null,null,null,null,0]
[null,null,null,null,null,null,null,null,null,null,null,null,null,null,null,null,null,null,null,null,null,null,{"$f":"IF(OR($J$65=\"enabled\"),1,0)","v":0}]
[null,null,null,null,null,null,null,null,null,null,null,null,null,null,null,null,null,null,null,null,null,null,{"$f":"IF(OR(COUNTIF($M$33:$Q$37,\"enabled\")>0,COUNTIF($M$41:$Q$45,\"enabled\")>0,COUNTIF($M$49:$Q$53,\"enabled\")>0,COUNTIF($M$57:$Q$61,\"enabled\")>0,COUNTIF($M$65:$Q$69,\"enabled\")>0),1,0)","v":0}]
[null,"Step 4: Enter Retention and Engagement Information",null,null,null,null,null,null,null,null,null,null,null,null,null,null,null,null,null,null,null,null,{"$f":"IF(OR($H$65=\"enabled\",$I$65=\"enabled\",$J$65=\"enabled\"),1,0)","v":0}]
[null,null,null,null,null,null,null,null,null,null,null,null,null,null,null,null,null,null,null,null,null,null,{"$f":"IF(OR($M$33=\"enabled\",$P$33=\"enabled\",$Q$33=\"enabled\"),1,0)","v":0}]
[null,"INSTRUCTIONS: Please enter the total number of  employees in the boxes below for the respective data fields related to retention and engagement, which include average years of service, internal promotions, internal transfers, external transfers, and voluntary separations for all employees, employees in their first five years, and employees in their first year. ",null,null,null,null,null,null,null,null,null,null,null,null,null,null,null,null,null,null,null,null,{"$f":"IF(OR($M$33=\"enabled\",$P$33=\"enabled\",$Q$33=\"enabled\"),1,0)","v":0}]
[null,null,null,null,null,null,null,null,null,null,null,null,null,null,null,null,null,null,null,null,null,null,0]
[null,null,null,null,null,null,null,null,null,null,null,null,null,null,null,null,null,null,null,null,null,null,0]
[null,null,null,null,null,null,null,null,null,null,null,null,null,null,null,null,null,null,null,null,null,null,0]
[null,null,null,null,null,null,null,null,null,null,null,null,null,null,null,"All Employees Avg. Years of Service by EEO Code",null,null,null,null,null,null,0]
[null,null,null,null,null,null,null,null,null,null,null,null,null,{"$f":"'CENTRAL DATA'!$H$12","v":"FY-2"},{"$f":"'CENTRAL DATA'!$H$13","v":"FY-1"},{"$f":"IF(PROFILE!$L$43=\"Fiscal Year WFP\",'CENTRAL DATA'!$H$14,IF(PROFILE!$L$43=\"Snapshot\",CONCATENATE(\"As of \",TEXT(PROFILE!$N$44,\"mm/dd/yy\"),\"\")))","v":false},null,null,null,null,null,null,0]
[null,null,null,null,null,null,null,null,null,null,null,null,null,null,null,null,null,null,null,null,null,null,0]
[null,null,null,null,null,null,null,null,null,null,null,null,"EEO Code \"Officials and Administrators\" Average Years of Service","",null,null,null,null,null,null,null,null,{"$f":"IF(OR($M$33=\"enabled\"),1,0)","v":0}]
[null,null,null,null,null,null,null,null,null,null,null,null," EEO Code \"Professionals\" Average Years of Service","",null,null,null,null,null,null,null,null,{"$f":"IF(OR($M$33=\"enabled\"),1,0)","v":0}]
[null,null,null,null,null,null,null,null,null,null,null,null," EEO Code \"Technicians\" Average Years of Service","",null,null,null,null,null,null,null,null,0]
[null,null,null,null,null,null,null,null,null,null,null,null," EEO Code \"Protective Service Workers\" Average Years of Service","",null,null,null,null,null,null,null,null,0]
[null,null,null,null,null,null,null,null,null,null,null,null," EEO Code \"Paraprofessionals\" Average Years of Service","",null,null,null,null,null,null,null,null,0]
[null,null,null,null,null,null,null,null,null,null,null,null," EEO Code \"Administrative Support\" Average Years of Service","",null,null,null,null,null,null,null,null,0]
[null,null,null,null,null,null,null,null,null,null,null,null," EEO Code \"Skilled Craft Workers\" Average Years of Service","",null,null,null,null,null,null,null,null,0]
[null,null,null,null,null,null,null,null,null,null,null,null," EEO Code \"Service/Maintenance\" Average Years of Service","",null,null,null,null,null,null,null,null,0]
[null,null,null,null,null,null,null,null,null,null,null,null," EEO Code \"Faculty\" Average Years of Service","",null,null,null,null,null,null,null,null,0]
[null,null,null,null,null,null,null,null,null,null,null,null," EEO Code \"Other\" Average Years of Service","",null,null,null,null,null,null,null,null,0]
[null,null,null,null,null,null,null,null,null,null,null,null,null,null,null,null,null,null,null,null,null,null,0]
[null,null,null,null,null,null,null,null,null,null,null,null,"EEO Code \"Officials and Administrators\" Leaders Average Years of Service","",null,null,null,null,null,null,null,null,{"$f":"IF(AND($M$33=\"enabled\",$P$33=\"enabled\"),1,0)","v":0}]
[null,null,null,null,null,null,null,null,null,null,null,null," EEO Code \"Professionals\" Leaders  Average Years of Service","",null,null,null,null,null,null,null,null,{"$f":"IF(AND($M$33=\"enabled\",$P$33=\"enabled\"),1,0)","v":0}]
[null,null,null,null,null,null,null,null,null,null,null,null," EEO Code \"Technicians\" Leaders  Average Years of Service","",null,null,null,null,null,null,null,null,0]
[null,null,null,null,null,null,null,null,null,null,null,null," EEO Code \"Protective Service Workers\" Leaders  Average Years of Service","",null,null,null,null,null,null,null,null,0]
[null,null,null,null,null,null,null,null,null,null,null,null," EEO Code \"Paraprofessionals\" Leaders  Average Years of Service","",null,null,null,null,null,null,null,null,0]
[null,null,null,null,null,null,null,null,null,null,null,null," EEO Code \"Administrative Support\" Leaders  Average Years of Service","",null,null,null,null,null,null,null,null,0]
[null,null,null,null,null,null,null,null,null,null,null,null," EEO Code \"Skilled Craft Workers\" Leaders  Average Years of Service","",null,null,null,null,null,null,null,null,0]
[null,null,null,null,null,null,null,null,null,null,null,null," EEO Code \"Service/Maintenance\" Leaders  Average Years of Service","",null,null,null,null,null,null,null,null,0]
[null,null,null,null,null,null,null,null,null,null,null,null," EEO Code \"Faculty\" Leaders  Average Years of Service","",null,null,null,null,null,null,null,null,0]
[null,null,null,null,null,null,null,null,null,null,null,null," EEO Code \"Other\" Leaders  Average Years of Service","",null,null,null,null,null,null,null,null,0]
[null,null,null,null,null,null,null,null,null,null,null,null,null,null,null,null,null,null,null,null,null,null,0]
[null,null,null,null,null,null,null,null,null,null,null,null,"EEO Code \"Officials and Administrators\" Executives Average Years of Service","",null,null,null,null,null,null,null,null,{"$f":"IF(AND($M$33=\"enabled\",$Q$33=\"enabled\"),1,0)","v":0}]
[null,null,null,null,null,null,null,null,null,null,null,null," EEO Code \"Professionals\" Executives  Average Years of Service","",null,null,null,null,null,null,null,null,{"$f":"IF(AND($M$33=\"enabled\",$Q$33=\"enabled\"),1,0)","v":0}]
[null,null,null,null,null,null,null,null,null,null,null,null," EEO Code \"Technicians\" Executives  Average Years of Service","",null,null,null,null,null,null,null,null,0]
[null,null,null,null,null,null,null,null,null,null,null,null," EEO Code \"Protective Service Workers\" Executives  Average Years of Service","",null,null,null,null,null,null,null,null,0]
[null,null,null,null,null,null,null,null,null,null,null,null," EEO Code \"Paraprofessionals\" Executives  Average Years of Service","",null,null,null,null,null,null,null,null,0]
[null,null,null,null,null,null,null,null,null,null,null,null," EEO Code \"Administrative Support\" Executives  Average Years of Service","",null,null,null,null,null,null,null,null,0]
[null,null,null,null,null,null,null,null,null,null,null,null," EEO Code \"Skilled Craft Workers\" Executives  Average Years of Service","",null,null,null,null,null,null,null,null,0]
[null,null,null,null,null,null,null,null,null,null,null,null," EEO Code \"Service/Maintenance\" Executives  Average Years of Service","",null,null,null,null,null,null,null,null,0]
[null,null,null,null,null,null,null,null,null,null,null,null," EEO Code \"Faculty\" Executives  Average Years of Service","",null,null,null,null,null,null,null,null,0]
[null,null,null,null,null,null,null,null,null,null,null,null," EEO Code \"Other\" Executives  Average Years of Service","",null,null,null,null,null,null,null,null,0]
[null,null,null,null,null,null,null,null,null,null,null,null,null,null,null,null,null,null,null,null,null,null,0]
[null,null,null,null,null,null,null,null,null,null,null,null,null,null,null,"All Employees Avg. Years of Service by Classification",null,null,null,null,null,null,{"$f":"IF(OR($M$34=\"enabled\",$P$34=\"enabled\",$Q$34=\"enabled\"),1,0)","v":0}]
[null,null,null,null,null,null,null,null,null,null,null,null,null,{"$f":"'CENTRAL DATA'!$H$12","v":"FY-2"},{"$f":"'CENTRAL DATA'!$H$13","v":"FY-1"},{"$f":"IF(PROFILE!$L$43=\"Fiscal Year WFP\",'CENTRAL DATA'!$H$14,IF(PROFILE!$L$43=\"Snapshot\",CONCATENATE(\"As of \",TEXT(PROFILE!$N$44,\"mm/dd/yy\"),\"\")))","v":false},null,null,null,null,null,null,{"$f":"IF(OR($M$34=\"enabled\",$P$34=\"enabled\",$Q$34=\"enabled\"),1,0)","v":0}]
[null,null,null,null,null,null,null,null,null,null,null,null,null,null,null,null,null,null,null,null,null,null,0]
[null,null,{"$f":"COUNTIF(M1309,\"*\"&PROFILE!$C$58&\"*\")","v":1},null,null,null,null,null,null,null,null,null,{"$f":"CONCATENATE(\" \",PROFILE!C58,\" Average Years of Service\")","v":"  Average Years of Service"},"",null,null,null,null,null,null,null,null,{"$f":"IF(AND(OR($M$34=\"enabled\"),C1309=1),1,0)","v":0}]
[null,null,{"$f":"COUNTIF(M1310,\"*\"&PROFILE!$C$59&\"*\")","v":1},null,null,null,null,null,null,null,null,null,{"$f":"CONCATENATE(\" \",PROFILE!C59,\" Average Years of Service\")","v":"  Average Years of Service"},"",null,null,null,null,null,null,null,null,{"$f":"IF(AND(OR($M$34=\"enabled\"),C1310=1),1,0)","v":0}]
[null,null,{"$f":"COUNTIF(M1311,\"*\"&PROFILE!$C$60&\"*\")","v":1},null,null,null,null,null,null,null,null,null,{"$f":"CONCATENATE(\" \",PROFILE!C60,\" Average Years of Service\")","v":"  Average Years of Service"},"",null,null,null,null,null,null,null,null,0]
[null,null,{"$f":"COUNTIF(M1312,\"*\"&PROFILE!$C$61&\"*\")","v":1},null,null,null,null,null,null,null,null,null,{"$f":"CONCATENATE(\" \",PROFILE!C61,\" Average Years of Service\")","v":"  Average Years of Service"},"",null,null,null,null,null,null,null,null,0]
[null,null,{"$f":"COUNTIF(M1313,\"*\"&PROFILE!$C$62&\"*\")","v":1},null,null,null,null,null,null,null,null,null,{"$f":"CONCATENATE(\" \",PROFILE!C62,\" Average Years of Service\")","v":"  Average Years of Service"},"",null,null,null,null,null,null,null,null,0]
[null,null,{"$f":"COUNTIF(M1314,\"*\"&PROFILE!$C$63&\"*\")","v":1},null,null,null,null,null,null,null,null,null,{"$f":"CONCATENATE(\" \",PROFILE!C63,\" Average Years of Service\")","v":"  Average Years of Service"},"",null,null,null,null,null,null,null,null,0]
[null,null,{"$f":"COUNTIF(M1315,\"*\"&PROFILE!$C$64&\"*\")","v":1},null,null,null,null,null,null,null,null,null,{"$f":"CONCATENATE(\" \",PROFILE!C64,\" Average Years of Service\")","v":"  Average Years of Service"},"",null,null,null,null,null,null,null,null,0]
[null,null,{"$f":"COUNTIF(M1316,\"*\"&PROFILE!$C$65&\"*\")","v":1},null,null,null,null,null,null,null,null,null,{"$f":"CONCATENATE(\" \",PROFILE!C65,\" Average Years of Service\")","v":"  Average Years of Service"},"",null,null,null,null,null,null,null,null,0]
[null,null,{"$f":"COUNTIF(M1317,\"*\"&PROFILE!$C$66&\"*\")","v":1},null,null,null,null,null,null,null,null,null,{"$f":"CONCATENATE(\" \",PROFILE!C66,\" Average Years of Service\")","v":"  Average Years of Service"},"",null,null,null,null,null,null,null,null,0]
[null,null,{"$f":"COUNTIF(M1318,\"*\"&PROFILE!$C$67&\"*\")","v":1},null,null,null,null,null,null,null,null,null,{"$f":"CONCATENATE(\" \",PROFILE!C67,\" Average Years of Service\")","v":"  Average Years of Service"},"",null,null,null,null,null,null,null,null,0]
[null,null,{"$f":"COUNTIF(M1319,\"*\"&PROFILE!$C$68&\"*\")","v":1},null,null,null,null,null,null,null,null,null,{"$f":"CONCATENATE(\" \",PROFILE!C68,\" Average Years of Service\")","v":"  Average Years of Service"},"",null,null,null,null,null,null,null,null,0]
[null,null,{"$f":"COUNTIF(M1320,\"*\"&PROFILE!$C$69&\"*\")","v":1},null,null,null,null,null,null,null,null,null,{"$f":"CONCATENATE(\" \",PROFILE!C69,\" Average Years of Service\")","v":"  Average Years of Service"},"",null,null,null,null,null,null,null,null,0]
[null,null,{"$f":"COUNTIF(M1321,\"*\"&PROFILE!$C$70&\"*\")","v":1},null,null,null,null,null,null,null,null,null,{"$f":"CONCATENATE(\" \",PROFILE!C70,\" Average Years of Service\")","v":"  Average Years of Service"},"",null,null,null,null,null,null,null,null,0]
[null,null,{"$f":"COUNTIF(M1322,\"*\"&PROFILE!$C$71&\"*\")","v":1},null,null,null,null,null,null,null,null,null,{"$f":"CONCATENATE(\" \",PROFILE!C71,\" Average Years of Service\")","v":"  Average Years of Service"},"",null,null,null,null,null,null,null,null,0]
[null,null,{"$f":"COUNTIF(M1323,\"*\"&PROFILE!$C$72&\"*\")","v":1},null,null,null,null,null,null,null,null,null,{"$f":"CONCATENATE(\" \",PROFILE!C72,\" Average Years of Service\")","v":"  Average Years of Service"},"",null,null,null,null,null,null,null,null,0]
[null,null,null,null,null,null,null,null,null,null,null,null,null,null,null,null,null,null,null,null,null,null,{"$f":"IF(OR($M$34=\"enabled\"),1,0)","v":0}]
[null,null,{"$f":"COUNTIF(M1325,\"*\"&PROFILE!$C$58&\"*\")","v":1},null,null,null,null,null,null,null,null,null,{"$f":"CONCATENATE(\" \",PROFILE!C58,\" Leaders Average Years of Service\")","v":"  Leaders Average Years of Service"},"",null,null,null,null,null,null,null,null,{"$f":"IF(AND($M$34=\"enabled\",$P$34=\"enabled\",C1325=1),1,0)","v":0}]
[null,null,{"$f":"COUNTIF(M1326,\"*\"&PROFILE!$C$59&\"*\")","v":1},null,null,null,null,null,null,null,null,null,{"$f":"CONCATENATE(\" \",PROFILE!C59,\" Leaders Average Years of Service\")","v":"  Leaders Average Years of Service"},"",null,null,null,null,null,null,null,null,{"$f":"IF(AND($M$34=\"enabled\",$P$34=\"enabled\",C1326=1),1,0)","v":0}]
[null,null,{"$f":"COUNTIF(M1327,\"*\"&PROFILE!$C$60&\"*\")","v":1},null,null,null,null,null,null,null,null,null,{"$f":"CONCATENATE(\" \",PROFILE!C60,\" Leaders Average Years of Service\")","v":"  Leaders Average Years of Service"},"",null,null,null,null,null,null,null,null,0]
[null,null,{"$f":"COUNTIF(M1328,\"*\"&PROFILE!$C$61&\"*\")","v":1},null,null,null,null,null,null,null,null,null,{"$f":"CONCATENATE(\" \",PROFILE!C61,\" Leaders Average Years of Service\")","v":"  Leaders Average Years of Service"},"",null,null,null,null,null,null,null,null,0]
[null,null,{"$f":"COUNTIF(M1329,\"*\"&PROFILE!$C$62&\"*\")","v":1},null,null,null,null,null,null,null,null,null,{"$f":"CONCATENATE(\" \",PROFILE!C62,\" Leaders Average Years of Service\")","v":"  Leaders Average Years of Service"},"",null,null,null,null,null,null,null,null,0]
[null,null,{"$f":"COUNTIF(M1330,\"*\"&PROFILE!$C$63&\"*\")","v":1},null,null,null,null,null,null,null,null,null,{"$f":"CONCATENATE(\" \",PROFILE!C63,\" Leaders Average Years of Service\")","v":"  Leaders Average Years of Service"},"",null,null,null,null,null,null,null,null,0]
[null,null,{"$f":"COUNTIF(M1331,\"*\"&PROFILE!$C$64&\"*\")","v":1},null,null,null,null,null,null,null,null,null,{"$f":"CONCATENATE(\" \",PROFILE!C64,\" Leaders Average Years of Service\")","v":"  Leaders Average Years of Service"},"",null,null,null,null,null,null,null,null,0]
[null,null,{"$f":"COUNTIF(M1332,\"*\"&PROFILE!$C$65&\"*\")","v":1},null,null,null,null,null,null,null,null,null,{"$f":"CONCATENATE(\" \",PROFILE!C65,\" Leaders Average Years of Service\")","v":"  Leaders Average Years of Service"},"",null,null,null,null,null,null,null,null,0]
[null,null,{"$f":"COUNTIF(M1333,\"*\"&PROFILE!$C$66&\"*\")","v":1},null,null,null,null,null,null,null,null,null,{"$f":"CONCATENATE(\" \",PROFILE!C66,\" Leaders Average Years of Service\")","v":"  Leaders Average Years of Service"},"",null,null,null,null,null,null,null,null,0]
[null,null,{"$f":"COUNTIF(M1334,\"*\"&PROFILE!$C$67&\"*\")","v":1},null,null,null,null,null,null,null,null,null,{"$f":"CONCATENATE(\" \",PROFILE!C67,\" Leaders Average Years of Service\")","v":"  Leaders Average Years of Service"},"",null,null,null,null,null,null,null,null,0]
[null,null,{"$f":"COUNTIF(M1335,\"*\"&PROFILE!$C$68&\"*\")","v":1},null,null,null,null,null,null,null,null,null,{"$f":"CONCATENATE(\" \",PROFILE!C68,\" Leaders Average Years of Service\")","v":"  Leaders Average Years of Service"},"",null,null,null,null,null,null,null,null,0]
[null,null,{"$f":"COUNTIF(M1336,\"*\"&PROFILE!$C$69&\"*\")","v":1},null,null,null,null,null,null,null,null,null,{"$f":"CONCATENATE(\" \",PROFILE!C69,\" Leaders Average Years of Service\")","v":"  Leaders Average Years of Service"},"",null,null,null,null,null,null,null,null,0]
[null,null,{"$f":"COUNTIF(M1337,\"*\"&PROFILE!$C$70&\"*\")","v":1},null,null,null,null,null,null,null,null,null,{"$f":"CONCATENATE(\" \",PROFILE!C70,\" Leaders Average Years of Service\")","v":"  Leaders Average Years of Service"},"",null,null,null,null,null,null,null,null,0]
[null,null,{"$f":"COUNTIF(M1338,\"*\"&PROFILE!$C$71&\"*\")","v":1},null,null,null,null,null,null,null,null,null,{"$f":"CONCATENATE(\" \",PROFILE!C71,\" Leaders Average Years of Service\")","v":"  Leaders Average Years of Service"},"",null,null,null,null,null,null,null,null,0]
[null,null,{"$f":"COUNTIF(M1339,\"*\"&PROFILE!$C$72&\"*\")","v":1},null,null,null,null,null,null,null,null,null,{"$f":"CONCATENATE(\" \",PROFILE!C72,\" Leaders Average Years of Service\")","v":"  Leaders Average Years of Service"},"",null,null,null,null,null,null,null,null,0]
[null,null,null,null,null,null,null,null,null,null,null,null,null,null,null,null,null,null,null,null,null,null,{"$f":"IF(AND($M$34=\"enabled\",$P$34=\"enabled\"),1,0)","v":0}]
[null,null,{"$f":"COUNTIF(M1341,\"*\"&PROFILE!$C$58&\"*\")","v":1},null,null,null,null,null,null,null,null,null,{"$f":"CONCATENATE(\" \",PROFILE!C58,\" Executives Average Years of Service\")","v":"  Executives Average Years of Service"},"",null,null,null,null,null,null,null,null,{"$f":"IF(AND($M$34=\"enabled\",$Q$34=\"enabled\",C1341=1),1,0)","v":0}]
[null,null,{"$f":"COUNTIF(M1342,\"*\"&PROFILE!$C$59&\"*\")","v":1},null,null,null,null,null,null,null,null,null,{"$f":"CONCATENATE(\" \",PROFILE!C59,\" Executives Average Years of Service\")","v":"  Executives Average Years of Service"},"",null,null,null,null,null,null,null,null,{"$f":"IF(AND($M$34=\"enabled\",$Q$34=\"enabled\",C1342=1),1,0)","v":0}]
[null,null,{"$f":"COUNTIF(M1343,\"*\"&PROFILE!$C$60&\"*\")","v":1},null,null,null,null,null,null,null,null,null,{"$f":"CONCATENATE(\" \",PROFILE!C60,\" Executives Average Years of Service\")","v":"  Executives Average Years of Service"},"",null,null,null,null,null,null,null,null,0]
[null,null,{"$f":"COUNTIF(M1344,\"*\"&PROFILE!$C$61&\"*\")","v":1},null,null,null,null,null,null,null,null,null,{"$f":"CONCATENATE(\" \",PROFILE!C61,\" Executives Average Years of Service\")","v":"  Executives Average Years of Service"},"",null,null,null,null,null,null,null,null,0]
[null,null,{"$f":"COUNTIF(M1345,\"*\"&PROFILE!$C$62&\"*\")","v":1},null,null,null,null,null,null,null,null,null,{"$f":"CONCATENATE(\" \",PROFILE!C62,\" Executives Average Years of Service\")","v":"  Executives Average Years of Service"},"",null,null,null,null,null,null,null,null,0]
[null,null,{"$f":"COUNTIF(M1346,\"*\"&PROFILE!$C$63&\"*\")","v":1},null,null,null,null,null,null,null,null,null,{"$f":"CONCATENATE(\" \",PROFILE!C63,\" Executives Average Years of Service\")","v":"  Executives Average Years of Service"},"",null,null,null,null,null,null,null,null,0]
[null,null,{"$f":"COUNTIF(M1347,\"*\"&PROFILE!$C$64&\"*\")","v":1},null,null,null,null,null,null,null,null,null,{"$f":"CONCATENATE(\" \",PROFILE!C64,\" Executives Average Years of Service\")","v":"  Executives Average Years of Service"},"",null,null,null,null,null,null,null,null,0]
[null,null,{"$f":"COUNTIF(M1348,\"*\"&PROFILE!$C$65&\"*\")","v":1},null,null,null,null,null,null,null,null,null,{"$f":"CONCATENATE(\" \",PROFILE!C65,\" Executives Average Years of Service\")","v":"  Executives Average Years of Service"},"",null,null,null,null,null,null,null,null,0]
[null,null,{"$f":"COUNTIF(M1349,\"*\"&PROFILE!$C$66&\"*\")","v":1},null,null,null,null,null,null,null,null,null,{"$f":"CONCATENATE(\" \",PROFILE!C66,\" Executives Average Years of Service\")","v":"  Executives Average Years of Service"},"",null,null,null,null,null,null,null,null,0]
[null,null,{"$f":"COUNTIF(M1350,\"*\"&PROFILE!$C$67&\"*\")","v":1},null,null,null,null,null,null,null,null,null,{"$f":"CONCATENATE(\" \",PROFILE!C67,\" Executives Average Years of Service\")","v":"  Executives Average Years of Service"},"",null,null,null,null,null,null,null,null,0]
[null,null,{"$f":"COUNTIF(M1351,\"*\"&PROFILE!$C$68&\"*\")","v":1},null,null,null,null,null,null,null,null,null,{"$f":"CONCATENATE(\" \",PROFILE!C68,\" Executives Average Years of Service\")","v":"  Executives Average Years of Service"},"",null,null,null,null,null,null,null,null,0]
[null,null,{"$f":"COUNTIF(M1352,\"*\"&PROFILE!$C$69&\"*\")","v":1},null,null,null,null,null,null,null,null,null,{"$f":"CONCATENATE(\" \",PROFILE!C69,\" Executives Average Years of Service\")","v":"  Executives Average Years of Service"},"",null,null,null,null,null,null,null,null,0]
[null,null,{"$f":"COUNTIF(M1353,\"*\"&PROFILE!$C$70&\"*\")","v":1},null,null,null,null,null,null,null,null,null,{"$f":"CONCATENATE(\" \",PROFILE!C70,\" Executives Average Years of Service\")","v":"  Executives Average Years of Service"},"",null,null,null,null,null,null,null,null,0]
[null,null,{"$f":"COUNTIF(M1354,\"*\"&PROFILE!$C$71&\"*\")","v":1},null,null,null,null,null,null,null,null,null,{"$f":"CONCATENATE(\" \",PROFILE!C71,\" Executives Average Years of Service\")","v":"  Executives Average Years of Service"},"",null,null,null,null,null,null,null,null,0]
[null,null,{"$f":"COUNTIF(M1355,\"*\"&PROFILE!$C$72&\"*\")","v":1},null,null,null,null,null,null,null,null,null,{"$f":"CONCATENATE(\" \",PROFILE!C72,\" Executives Average Years of Service\")","v":"  Executives Average Years of Service"},"",null,null,null,null,null,null,null,null,0]
[null,null,null,null,null,null,null,null,null,null,null,null,null,null,null,null,null,null,null,null,null,null,{"$f":"IF(AND($M$34=\"enabled\",$Q$34=\"enabled\"),1,0)","v":0}]
[null,null,null,null,null,null,null,null,null,null,null,null,null,null,null,"All Employees Avg. Years of Service by Sex",null,null,null,null,null,null,{"$f":"IF(OR($M$35=\"enabled\",$P$35=\"enabled\",$Q$35=\"enabled\"),1,0)","v":0}]
[null,null,null,null,null,null,null,null,null,null,null,null,null,{"$f":"'CENTRAL DATA'!$H$12","v":"FY-2"},{"$f":"'CENTRAL DATA'!$H$13","v":"FY-1"},{"$f":"IF(PROFILE!$L$43=\"Fiscal Year WFP\",'CENTRAL DATA'!$H$14,IF(PROFILE!$L$43=\"Snapshot\",CONCATENATE(\"As of \",TEXT(PROFILE!$N$44,\"mm/dd/yy\"),\"\")))","v":false},null,null,null,null,null,null,{"$f":"IF(OR($M$35=\"enabled\",$P$35=\"enabled\",$Q$35=\"enabled\"),1,0)","v":0}]
[null,null,null,null,null,null,null,null,null,null,null,null,null,null,null,null,null,null,null,null,null,null,0]
[null,null,null,null,null,null,null,null,null,null,null,null,"Male Average Years of Service","",null,null,null,null,null,null,null,null,{"$f":"IF(OR($M$35=\"enabled\"),1,0)","v":0}]
[null,null,null,null,null,null,null,null,null,null,null,null,"Female Average Years of Service","",null,null,null,null,null,null,null,null,{"$f":"IF(OR($M$35=\"enabled\"),1,0)","v":0}]
[null,null,null,null,null,null,null,null,null,null,null,null,null,null,null,null,null,null,null,null,null,null,0]
[null,null,null,null,null,null,null,null,null,null,null,null,"Male Leader Average Years of Service","",null,null,null,null,null,null,null,null,{"$f":"IF(AND($M$35=\"enabled\",$P$35=\"enabled\"),1,0)","v":0}]
[null,null,null,null,null,null,null,null,null,null,null,null,"Female Leader Average Years of Service","",null,null,null,null,null,null,null,null,{"$f":"IF(AND($M$35=\"enabled\",$P$35=\"enabled\"),1,0)","v":0}]
[null,null,null,null,null,null,null,null,null,null,null,null,null,null,null,null,null,null,null,null,null,null,0]
[null,null,null,null,null,null,null,null,null,null,null,null,"Male Executive Average Years of Service","",null,null,null,null,null,null,null,null,{"$f":"IF(AND($M$35=\"enabled\",$Q$35=\"enabled\"),1,0)","v":0}]
[null,null,null,null,null,null,null,null,null,null,null,null,"Female Executive Average Years of Service","",null,null,null,null,null,null,null,null,{"$f":"IF(AND($M$35=\"enabled\",$Q$35=\"enabled\"),1,0)","v":0}]
[null,null,null,null,null,null,null,null,null,null,null,null,null,null,null,null,null,null,null,null,null,null,0]
[null,null,null,null,null,null,null,null,null,null,null,null,null,null,null,"All Employees Avg. Years of Service by Race",null,null,null,null,null,null,{"$f":"IF(OR($M$36=\"enabled\",$P$36=\"enabled\",$Q$36=\"enabled\"),1,0)","v":0}]
[null,null,null,null,null,null,null,null,null,null,null,null,null,{"$f":"'CENTRAL DATA'!$H$12","v":"FY-2"},{"$f":"'CENTRAL DATA'!$H$13","v":"FY-1"},{"$f":"IF(PROFILE!$L$43=\"Fiscal Year WFP\",'CENTRAL DATA'!$H$14,IF(PROFILE!$L$43=\"Snapshot\",CONCATENATE(\"As of \",TEXT(PROFILE!$N$44,\"mm/dd/yy\"),\"\")))","v":false},null,null,null,null,null,null,{"$f":"IF(OR($M$36=\"enabled\",$P$36=\"enabled\",$Q$36=\"enabled\"),1,0)","v":0}]
[null,null,null,null,null,null,null,null,null,null,null,null,null,null,null,null,null,null,null,null,null,null,0]
[null,null,null,null,null,null,null,null,null,null,null,null,"Minorities Average Years of Service","",null,null,null,null,null,null,null,null,{"$f":"IF(OR($M$36=\"enabled\"),1,0)","v":0}]
[null,null,null,null,null,null,null,null,null,null,null,null,"Non-Minorities Years of Service","",null,null,null,null,null,null,null,null,{"$f":"IF(OR($M$36=\"enabled\"),1,0)","v":0}]
[null,null,null,null,null,null,null,null,null,null,null,null,null,null,null,null,null,null,null,null,null,null,0]
[null,null,null,null,null,null,null,null,null,null,null,null,"Minorities Leader Average Years of Service","",null,null,null,null,null,null,null,null,{"$f":"IF(AND($M$36=\"enabled\",$P$36=\"enabled\"),1,0)","v":0}]
[null,null,null,null,null,null,null,null,null,null,null,null,"Non-Minorities Leader Average Years of Service","",null,null,null,null,null,null,null,null,{"$f":"IF(AND($M$36=\"enabled\",$P$36=\"enabled\"),1,0)","v":0}]
[null,null,null,null,null,null,null,null,null,null,null,null,null,null,null,null,null,null,null,null,null,null,0]
[null,null,null,null,null,null,null,null,null,null,null,null,"Minorities Executive Average Years of Service","",null,null,null,null,null,null,null,null,{"$f":"IF(AND($M$36=\"enabled\",$Q$36=\"enabled\"),1,0)","v":0}]
[null,null,null,null,null,null,null,null,null,null,null,null,"Non-Minorities Executive Average Years of Service","",null,null,null,null,null,null,null,null,{"$f":"IF(AND($M$36=\"enabled\",$Q$36=\"enabled\"),1,0)","v":0}]
[null,null,null,null,null,null,null,null,null,null,null,null,null,null,null,null,null,null,null,null,null,null,0]
[null,null,null,null,null,null,null,null,null,null,null,null,null,null,null,"All Employees Avg. Years of Service by Other Demographics",null,null,null,null,null,null,{"$f":"IF(OR($M$37=\"enabled\",$P$37=\"enabled\",$Q$37=\"enabled\"),1,0)","v":0}]
[null,null,null,null,null,null,null,null,null,null,null,null,null,{"$f":"'CENTRAL DATA'!$H$12","v":"FY-2"},{"$f":"'CENTRAL DATA'!$H$13","v":"FY-1"},{"$f":"IF(PROFILE!$L$43=\"Fiscal Year WFP\",'CENTRAL DATA'!$H$14,IF(PROFILE!$L$43=\"Snapshot\",CONCATENATE(\"As of \",TEXT(PROFILE!$N$44,\"mm/dd/yy\"),\"\")))","v":false},null,null,null,null,null,null,{"$f":"IF(OR($M$37=\"enabled\",$P$37=\"enabled\",$Q$37=\"enabled\"),1,0)","v":0}]
[null,null,null,null,null,null,null,null,null,null,null,null,null,null,null,null,null,null,null,null,null,null,0]
[null,null,null,null,null,null,null,null,null,null,null,null,"Employees with Disabilities Average Years of Service","",null,null,null,null,null,null,null,null,{"$f":"IF(OR($M$37=\"enabled\"),1,0)","v":0}]
[null,null,null,null,null,null,null,null,null,null,null,null,"Average Years of Service who are Veterans","",null,null,null,null,null,null,null,null,{"$f":"IF(OR($M$37=\"enabled\"),1,0)","v":0}]
[null,null,null,null,null,null,null,null,null,null,null,null,null,null,null,null,null,null,null,null,null,null,0]
[null,null,null,null,null,null,null,null,null,null,null,null,"Leaders with Disabilities Average Years of Service","",null,null,null,null,null,null,null,null,{"$f":"IF(AND($M$37=\"enabled\",$P$37=\"enabled\"),1,0)","v":0}]
[null,null,null,null,null,null,null,null,null,null,null,null,"Leaders who are Veterans Average Years of Service","",null,null,null,null,null,null,null,null,{"$f":"IF(AND($M$37=\"enabled\",$P$37=\"enabled\"),1,0)","v":0}]
[null,null,null,null,null,null,null,null,null,null,null,null,null,null,null,null,null,null,null,null,null,null,0]
[null,null,null,null,null,null,null,null,null,null,null,null,"Executives with Disabilities Average Years of Service","",null,null,null,null,null,null,null,null,{"$f":"IF(AND($M$37=\"enabled\",$Q$37=\"enabled\"),1,0)","v":0}]
[null,null,null,null,null,null,null,null,null,null,null,null,"Executives who are Veterans Average Years of Service","",null,null,null,null,null,null,null,null,{"$f":"IF(AND($M$37=\"enabled\",$Q$37=\"enabled\"),1,0)","v":0}]
[null,null,null,null,null,null,null,null,null,null,null,null,null,null,null,null,null,null,null,null,null,null,0]
[null,null,null,null,null,null,null,null,null,null,null,null,null,null,null,"All Employees Internal Promotions by EEO Code",null,null,null,null,null,null,{"$f":"IF(OR($M$41=\"enabled\",$P$41=\"enabled\",$Q$41=\"enabled\"),1,0)","v":0}]
[null,null,null,null,null,null,null,null,null,null,null,null,null,{"$f":"'CENTRAL DATA'!$H$12","v":"FY-2"},{"$f":"'CENTRAL DATA'!$H$13","v":"FY-1"},{"$f":"IF(PROFILE!$L$43=\"Fiscal Year WFP\",'CENTRAL DATA'!$H$14,IF(PROFILE!$L$43=\"Snapshot\",CONCATENATE(\"As of \",TEXT(PROFILE!$N$44,\"mm/dd/yy\"),\"\")))","v":false},null,null,null,null,null,null,{"$f":"IF(OR($M$41=\"enabled\",$P$41=\"enabled\",$Q$41=\"enabled\"),1,0)","v":0}]
[null,null,null,null,null,null,null,null,null,null,null,null,null,null,null,null,null,null,null,null,null,null,{"$f":"IF(OR($M$41=\"enabled\",$P$41=\"enabled\",$Q$41=\"enabled\"),1,0)","v":0}]
[null,null,null,null,null,null,null,null,null,null,null,null,"EEO Code \"Officials and Administrators\" Internal Promotions","",null,null,null,null,null,null,null,null,{"$f":"IF(OR($M$41=\"enabled\"),1,0)","v":0}]
[null,null,null,null,null,null,null,null,null,null,null,null," EEO Code \"Professionals\" Internal Promotions","",null,null,null,null,null,null,null,null,0]
[null,null,null,null,null,null,null,null,null,null,null,null," EEO Code \"Technicians\" Internal Promotions","",null,null,null,null,null,null,null,null,0]
[null,null,null,null,null,null,null,null,null,null,null,null," EEO Code \"Protective Service Workers\" Internal Promotions","",null,null,null,null,null,null,null,null,0]
[null,null,null,null,null,null,null,null,null,null,null,null," EEO Code \"Paraprofessionals\" Internal Promotions","",null,null,null,null,null,null,null,null,0]
[null,null,null,null,null,null,null,null,null,null,null,null," EEO Code \"Administrative Support\" Internal Promotions","",null,null,null,null,null,null,null,null,0]
[null,null,null,null,null,null,null,null,null,null,null,null," EEO Code \"Skilled Craft Workers\" Internal Promotions","",null,null,null,null,null,null,null,null,0]
[null,null,null,null,null,null,null,null,null,null,null,null," EEO Code \"Service/Maintenance\" Internal Promotions","",null,null,null,null,null,null,null,null,0]
[null,null,null,null,null,null,null,null,null,null,null,null," EEO Code \"Faculty\" Internal Promotions","",null,null,null,null,null,null,null,null,0]
[null,null,null,null,null,null,null,null,null,null,null,null," EEO Code \"Other\" Internal Promotions","",null,null,null,null,null,null,null,null,0]
[null,null,null,null,null,null,null,null,null,null,null,null,null,null,null,null,null,null,null,null,null,null,0]
[null,null,null,null,null,null,null,null,null,null,null,null,"EEO Code \"Officials and Administrators\" Leaders Internal Promotions","",null,null,null,null,null,null,null,null,{"$f":"IF(AND($M$41=\"enabled\",$P$41=\"enabled\"),1,0)","v":0}]
[null,null,null,null,null,null,null,null,null,null,null,null," EEO Code \"Professionals\" Leaders  Internal Promotions","",null,null,null,null,null,null,null,null,0]
[null,null,null,null,null,null,null,null,null,null,null,null," EEO Code \"Technicians\" Leaders  Internal Promotions","",null,null,null,null,null,null,null,null,0]
[null,null,null,null,null,null,null,null,null,null,null,null," EEO Code \"Protective Service Workers\" Leaders  Internal Promotions","",null,null,null,null,null,null,null,null,0]
[null,null,null,null,null,null,null,null,null,null,null,null," EEO Code \"Paraprofessionals\" Leaders  Internal Promotions","",null,null,null,null,null,null,null,null,0]
[null,null,null,null,null,null,null,null,null,null,null,null," EEO Code \"Administrative Support\" Leaders  Internal Promotions","",null,null,null,null,null,null,null,null,0]
[null,null,null,null,null,null,null,null,null,null,null,null," EEO Code \"Skilled Craft Workers\" Leaders  Internal Promotions","",null,null,null,null,null,null,null,null,0]
[null,null,null,null,null,null,null,null,null,null,null,null," EEO Code \"Service/Maintenance\" Leaders  Internal Promotions","",null,null,null,null,null,null,null,null,0]
[null,null,null,null,null,null,null,null,null,null,null,null," EEO Code \"Faculty\" Leaders  Internal Promotions","",null,null,null,null,null,null,null,null,0]
[null,null,null,null,null,null,null,null,null,null,null,null," EEO Code \"Other\" Leaders  Internal Promotions","",null,null,null,null,null,null,null,null,0]
[null,null,null,null,null,null,null,null,null,null,null,null,null,null,null,null,null,null,null,null,null,null,0]
[null,null,null,null,null,null,null,null,null,null,null,null,"EEO Code \"Officials and Administrators\" Executives Internal Promotions","",null,null,null,null,null,null,null,null,{"$f":"IF(AND($M$41=\"enabled\",$Q$41=\"enabled\"),1,0)","v":0}]
[null,null,null,null,null,null,null,null,null,null,null,null," EEO Code \"Professionals\" Executives  Internal Promotions","",null,null,null,null,null,null,null,null,0]
[null,null,null,null,null,null,null,null,null,null,null,null," EEO Code \"Technicians\" Executives  Internal Promotions","",null,null,null,null,null,null,null,null,0]
[null,null,null,null,null,null,null,null,null,null,null,null," EEO Code \"Protective Service Workers\" Executives  Internal Promotions","",null,null,null,null,null,null,null,null,0]
[null,null,null,null,null,null,null,null,null,null,null,null," EEO Code \"Paraprofessionals\" Executives  Internal Promotions","",null,null,null,null,null,null,null,null,0]
[null,null,null,null,null,null,null,null,null,null,null,null," EEO Code \"Administrative Support\" Executives  Internal Promotions","",null,null,null,null,null,null,null,null,0]
[null,null,null,null,null,null,null,null,null,null,null,null," EEO Code \"Skilled Craft Workers\" Executives  Internal Promotions","",null,null,null,null,null,null,null,null,0]
[null,null,null,null,null,null,null,null,null,null,null,null," EEO Code \"Service/Maintenance\" Executives  Internal Promotions","",null,null,null,null,null,null,null,null,0]
[null,null,null,null,null,null,null,null,null,null,null,null," EEO Code \"Faculty\" Executives  Internal Promotions","",null,null,null,null,null,null,null,null,0]
[null,null,null,null,null,null,null,null,null,null,null,null," EEO Code \"Other\" Executives  Internal Promotions","",null,null,null,null,null,null,null,null,0]
[null,null,null,null,null,null,null,null,null,null,null,null,null,null,null,null,null,null,null,null,null,null,0]
[null,null,null,null,null,null,null,null,null,null,null,null,null,null,null,"All Employees Internal Promotions by Classification",null,null,null,null,null,null,{"$f":"IF(OR($M$42=\"enabled\",$P$42=\"enabled\",$Q$42=\"enabled\"),1,0)","v":0}]
[null,null,null,null,null,null,null,null,null,null,null,null,null,{"$f":"'CENTRAL DATA'!$H$12","v":"FY-2"},{"$f":"'CENTRAL DATA'!$H$13","v":"FY-1"},{"$f":"IF(PROFILE!$L$43=\"Fiscal Year WFP\",'CENTRAL DATA'!$H$14,IF(PROFILE!$L$43=\"Snapshot\",CONCATENATE(\"As of \",TEXT(PROFILE!$N$44,\"mm/dd/yy\"),\"\")))","v":false},null,null,null,null,null,null,{"$f":"IF(OR($M$42=\"enabled\",$P$42=\"enabled\",$Q$42=\"enabled\"),1,0)","v":0}]
[null,null,null,null,null,null,null,null,null,null,null,null,null,null,null,null,null,null,null,null,null,null,{"$f":"IF(OR($M$42=\"enabled\",$P$42=\"enabled\",$Q$42=\"enabled\"),1,0)","v":0}]
[null,null,{"$f":"COUNTIF(M1432,\"*\"&PROFILE!$C$58&\"*\")","v":1},null,null,null,null,null,null,null,null,null,{"$f":"CONCATENATE(\" \",PROFILE!C58,\" Internal Promotions\")","v":"  Internal Promotions"},"",null,null,null,null,null,null,null,null,{"$f":"IF(AND(OR($M$42=\"enabled\"),C1432=1),1,0)","v":0}]
[null,null,{"$f":"COUNTIF(M1433,\"*\"&PROFILE!$C$59&\"*\")","v":1},null,null,null,null,null,null,null,null,null,{"$f":"CONCATENATE(\" \",PROFILE!C59,\" Internal Promotions\")","v":"  Internal Promotions"},"",null,null,null,null,null,null,null,null,{"$f":"IF(AND(OR($M$42=\"enabled\"),C1433=1),1,0)","v":0}]
[null,null,{"$f":"COUNTIF(M1434,\"*\"&PROFILE!$C$60&\"*\")","v":1},null,null,null,null,null,null,null,null,null,{"$f":"CONCATENATE(\" \",PROFILE!C60,\" Internal Promotions\")","v":"  Internal Promotions"},"",null,null,null,null,null,null,null,null,0]
[null,null,{"$f":"COUNTIF(M1435,\"*\"&PROFILE!$C$61&\"*\")","v":1},null,null,null,null,null,null,null,null,null,{"$f":"CONCATENATE(\" \",PROFILE!C61,\" Internal Promotions\")","v":"  Internal Promotions"},"",null,null,null,null,null,null,null,null,0]
[null,null,{"$f":"COUNTIF(M1436,\"*\"&PROFILE!$C$62&\"*\")","v":1},null,null,null,null,null,null,null,null,null,{"$f":"CONCATENATE(\" \",PROFILE!C62,\" Internal Promotions\")","v":"  Internal Promotions"},"",null,null,null,null,null,null,null,null,0]
[null,null,{"$f":"COUNTIF(M1437,\"*\"&PROFILE!$C$63&\"*\")","v":1},null,null,null,null,null,null,null,null,null,{"$f":"CONCATENATE(\" \",PROFILE!C63,\" Internal Promotions\")","v":"  Internal Promotions"},"",null,null,null,null,null,null,null,null,0]
[null,null,{"$f":"COUNTIF(M1438,\"*\"&PROFILE!$C$64&\"*\")","v":1},null,null,null,null,null,null,null,null,null,{"$f":"CONCATENATE(\" \",PROFILE!C64,\" Internal Promotions\")","v":"  Internal Promotions"},"",null,null,null,null,null,null,null,null,0]
[null,null,{"$f":"COUNTIF(M1439,\"*\"&PROFILE!$C$65&\"*\")","v":1},null,null,null,null,null,null,null,null,null,{"$f":"CONCATENATE(\" \",PROFILE!C65,\" Internal Promotions\")","v":"  Internal Promotions"},"",null,null,null,null,null,null,null,null,0]
[null,null,{"$f":"COUNTIF(M1440,\"*\"&PROFILE!$C$66&\"*\")","v":1},null,null,null,null,null,null,null,null,null,{"$f":"CONCATENATE(\" \",PROFILE!C66,\" Internal Promotions\")","v":"  Internal Promotions"},"",null,null,null,null,null,null,null,null,0]
[null,null,{"$f":"COUNTIF(M1441,\"*\"&PROFILE!$C$67&\"*\")","v":1},null,null,null,null,null,null,null,null,null,{"$f":"CONCATENATE(\" \",PROFILE!C67,\" Internal Promotions\")","v":"  Internal Promotions"},"",null,null,null,null,null,null,null,null,0]
[null,null,{"$f":"COUNTIF(M1442,\"*\"&PROFILE!$C$68&\"*\")","v":1},null,null,null,null,null,null,null,null,null,{"$f":"CONCATENATE(\" \",PROFILE!C68,\" Internal Promotions\")","v":"  Internal Promotions"},"",null,null,null,null,null,null,null,null,0]
[null,null,{"$f":"COUNTIF(M1443,\"*\"&PROFILE!$C$69&\"*\")","v":1},null,null,null,null,null,null,null,null,null,{"$f":"CONCATENATE(\" \",PROFILE!C69,\" Internal Promotions\")","v":"  Internal Promotions"},"",null,null,null,null,null,null,null,null,0]
[null,null,{"$f":"COUNTIF(M1444,\"*\"&PROFILE!$C$70&\"*\")","v":1},null,null,null,null,null,null,null,null,null,{"$f":"CONCATENATE(\" \",PROFILE!C70,\" Internal Promotions\")","v":"  Internal Promotions"},"",null,null,null,null,null,null,null,null,0]
[null,null,{"$f":"COUNTIF(M1445,\"*\"&PROFILE!$C$71&\"*\")","v":1},null,null,null,null,null,null,null,null,null,{"$f":"CONCATENATE(\" \",PROFILE!C71,\" Internal Promotions\")","v":"  Internal Promotions"},"",null,null,null,null,null,null,null,null,0]
[null,null,{"$f":"COUNTIF(M1446,\"*\"&PROFILE!$C$72&\"*\")","v":1},null,null,null,null,null,null,null,null,null,{"$f":"CONCATENATE(\" \",PROFILE!C72,\" Internal Promotions\")","v":"  Internal Promotions"},"",null,null,null,null,null,null,null,null,0]
[null,null,null,null,null,null,null,null,null,null,null,null,null,null,null,null,null,null,null,null,null,null,{"$f":"IF(OR($M$42=\"enabled\"),1,0)","v":0}]
[null,null,{"$f":"COUNTIF(M1448,\"*\"&PROFILE!$C$58&\"*\")","v":1},null,null,null,null,null,null,null,null,null,{"$f":"CONCATENATE(\" \",PROFILE!C58,\" Leaders Internal Promotions\")","v":"  Leaders Internal Promotions"},"",null,null,null,null,null,null,null,null,{"$f":"IF(AND($M$42=\"enabled\",$P$42=\"enabled\",C1448=1),1,0)","v":0}]
[null,null,{"$f":"COUNTIF(M1449,\"*\"&PROFILE!$C$59&\"*\")","v":1},null,null,null,null,null,null,null,null,null,{"$f":"CONCATENATE(\" \",PROFILE!C59,\" Leaders Internal Promotions\")","v":"  Leaders Internal Promotions"},"",null,null,null,null,null,null,null,null,{"$f":"IF(AND($M$42=\"enabled\",$P$42=\"enabled\",C1449=1),1,0)","v":0}]
[null,null,{"$f":"COUNTIF(M1450,\"*\"&PROFILE!$C$60&\"*\")","v":1},null,null,null,null,null,null,null,null,null,{"$f":"CONCATENATE(\" \",PROFILE!C60,\" Leaders Internal Promotions\")","v":"  Leaders Internal Promotions"},"",null,null,null,null,null,null,null,null,0]
[null,null,{"$f":"COUNTIF(M1451,\"*\"&PROFILE!$C$61&\"*\")","v":1},null,null,null,null,null,null,null,null,null,{"$f":"CONCATENATE(\" \",PROFILE!C61,\" Leaders Internal Promotions\")","v":"  Leaders Internal Promotions"},"",null,null,null,null,null,null,null,null,0]
[null,null,{"$f":"COUNTIF(M1452,\"*\"&PROFILE!$C$62&\"*\")","v":1},null,null,null,null,null,null,null,null,null,{"$f":"CONCATENATE(\" \",PROFILE!C62,\" Leaders Internal Promotions\")","v":"  Leaders Internal Promotions"},"",null,null,null,null,null,null,null,null,0]
[null,null,{"$f":"COUNTIF(M1453,\"*\"&PROFILE!$C$63&\"*\")","v":1},null,null,null,null,null,null,null,null,null,{"$f":"CONCATENATE(\" \",PROFILE!C63,\" Leaders Internal Promotions\")","v":"  Leaders Internal Promotions"},"",null,null,null,null,null,null,null,null,0]
[null,null,{"$f":"COUNTIF(M1454,\"*\"&PROFILE!$C$64&\"*\")","v":1},null,null,null,null,null,null,null,null,null,{"$f":"CONCATENATE(\" \",PROFILE!C64,\" Leaders Internal Promotions\")","v":"  Leaders Internal Promotions"},"",null,null,null,null,null,null,null,null,0]
[null,null,{"$f":"COUNTIF(M1455,\"*\"&PROFILE!$C$65&\"*\")","v":1},null,null,null,null,null,null,null,null,null,{"$f":"CONCATENATE(\" \",PROFILE!C65,\" Leaders Internal Promotions\")","v":"  Leaders Internal Promotions"},"",null,null,null,null,null,null,null,null,0]
[null,null,{"$f":"COUNTIF(M1456,\"*\"&PROFILE!$C$66&\"*\")","v":1},null,null,null,null,null,null,null,null,null,{"$f":"CONCATENATE(\" \",PROFILE!C66,\" Leaders Internal Promotions\")","v":"  Leaders Internal Promotions"},"",null,null,null,null,null,null,null,null,0]
[null,null,{"$f":"COUNTIF(M1457,\"*\"&PROFILE!$C$67&\"*\")","v":1},null,null,null,null,null,null,null,null,null,{"$f":"CONCATENATE(\" \",PROFILE!C67,\" Leaders Internal Promotions\")","v":"  Leaders Internal Promotions"},"",null,null,null,null,null,null,null,null,0]
[null,null,{"$f":"COUNTIF(M1458,\"*\"&PROFILE!$C$68&\"*\")","v":1},null,null,null,null,null,null,null,null,null,{"$f":"CONCATENATE(\" \",PROFILE!C68,\" Leaders Internal Promotions\")","v":"  Leaders Internal Promotions"},"",null,null,null,null,null,null,null,null,0]
[null,null,{"$f":"COUNTIF(M1459,\"*\"&PROFILE!$C$69&\"*\")","v":1},null,null,null,null,null,null,null,null,null,{"$f":"CONCATENATE(\" \",PROFILE!C69,\" Leaders Internal Promotions\")","v":"  Leaders Internal Promotions"},"",null,null,null,null,null,null,null,null,0]
[null,null,{"$f":"COUNTIF(M1460,\"*\"&PROFILE!$C$70&\"*\")","v":1},null,null,null,null,null,null,null,null,null,{"$f":"CONCATENATE(\" \",PROFILE!C70,\" Leaders Internal Promotions\")","v":"  Leaders Internal Promotions"},"",null,null,null,null,null,null,null,null,0]
[null,null,{"$f":"COUNTIF(M1461,\"*\"&PROFILE!$C$71&\"*\")","v":1},null,null,null,null,null,null,null,null,null,{"$f":"CONCATENATE(\" \",PROFILE!C71,\" Leaders Internal Promotions\")","v":"  Leaders Internal Promotions"},"",null,null,null,null,null,null,null,null,0]
[null,null,{"$f":"COUNTIF(M1462,\"*\"&PROFILE!$C$72&\"*\")","v":1},null,null,null,null,null,null,null,null,null,{"$f":"CONCATENATE(\" \",PROFILE!C72,\" Leaders Internal Promotions\")","v":"  Leaders Internal Promotions"},"",null,null,null,null,null,null,null,null,0]
[null,null,null,null,null,null,null,null,null,null,null,null,null,null,null,null,null,null,null,null,null,null,{"$f":"IF(AND($M$42=\"enabled\",$P$42=\"enabled\"),1,0)","v":0}]
[null,null,{"$f":"COUNTIF(M1464,\"*\"&PROFILE!$C$58&\"*\")","v":1},null,null,null,null,null,null,null,null,null,{"$f":"CONCATENATE(\" \",PROFILE!C58,\" Executives Internal Promotions\")","v":"  Executives Internal Promotions"},"",null,null,null,null,null,null,null,null,{"$f":"IF(AND($M$42=\"enabled\",$Q$42=\"enabled\",C1464),1,0)","v":0}]
[null,null,{"$f":"COUNTIF(M1465,\"*\"&PROFILE!$C$59&\"*\")","v":1},null,null,null,null,null,null,null,null,null,{"$f":"CONCATENATE(\" \",PROFILE!C59,\" Executives Internal Promotions\")","v":"  Executives Internal Promotions"},"",null,null,null,null,null,null,null,null,{"$f":"IF(AND($M$42=\"enabled\",$Q$42=\"enabled\",C1465),1,0)","v":0}]
[null,null,{"$f":"COUNTIF(M1466,\"*\"&PROFILE!$C$60&\"*\")","v":1},null,null,null,null,null,null,null,null,null,{"$f":"CONCATENATE(\" \",PROFILE!C60,\" Executives Internal Promotions\")","v":"  Executives Internal Promotions"},"",null,null,null,null,null,null,null,null,0]
[null,null,{"$f":"COUNTIF(M1467,\"*\"&PROFILE!$C$61&\"*\")","v":1},null,null,null,null,null,null,null,null,null,{"$f":"CONCATENATE(\" \",PROFILE!C61,\" Executives Internal Promotions\")","v":"  Executives Internal Promotions"},"",null,null,null,null,null,null,null,null,0]
[null,null,{"$f":"COUNTIF(M1468,\"*\"&PROFILE!$C$62&\"*\")","v":1},null,null,null,null,null,null,null,null,null,{"$f":"CONCATENATE(\" \",PROFILE!C62,\" Executives Internal Promotions\")","v":"  Executives Internal Promotions"},"",null,null,null,null,null,null,null,null,0]
[null,null,{"$f":"COUNTIF(M1469,\"*\"&PROFILE!$C$63&\"*\")","v":1},null,null,null,null,null,null,null,null,null,{"$f":"CONCATENATE(\" \",PROFILE!C63,\" Executives Internal Promotions\")","v":"  Executives Internal Promotions"},"",null,null,null,null,null,null,null,null,0]
[null,null,{"$f":"COUNTIF(M1470,\"*\"&PROFILE!$C$64&\"*\")","v":1},null,null,null,null,null,null,null,null,null,{"$f":"CONCATENATE(\" \",PROFILE!C64,\" Executives Internal Promotions\")","v":"  Executives Internal Promotions"},"",null,null,null,null,null,null,null,null,0]
[null,null,{"$f":"COUNTIF(M1471,\"*\"&PROFILE!$C$65&\"*\")","v":1},null,null,null,null,null,null,null,null,null,{"$f":"CONCATENATE(\" \",PROFILE!C65,\" Executives Internal Promotions\")","v":"  Executives Internal Promotions"},"",null,null,null,null,null,null,null,null,0]
[null,null,{"$f":"COUNTIF(M1472,\"*\"&PROFILE!$C$66&\"*\")","v":1},null,null,null,null,null,null,null,null,null,{"$f":"CONCATENATE(\" \",PROFILE!C66,\" Executives Internal Promotions\")","v":"  Executives Internal Promotions"},"",null,null,null,null,null,null,null,null,0]
[null,null,{"$f":"COUNTIF(M1473,\"*\"&PROFILE!$C$67&\"*\")","v":1},null,null,null,null,null,null,null,null,null,{"$f":"CONCATENATE(\" \",PROFILE!C67,\" Executives Internal Promotions\")","v":"  Executives Internal Promotions"},"",null,null,null,null,null,null,null,null,0]
[null,null,{"$f":"COUNTIF(M1474,\"*\"&PROFILE!$C$68&\"*\")","v":1},null,null,null,null,null,null,null,null,null,{"$f":"CONCATENATE(\" \",PROFILE!C68,\" Executives Internal Promotions\")","v":"  Executives Internal Promotions"},"",null,null,null,null,null,null,null,null,0]
[null,null,{"$f":"COUNTIF(M1475,\"*\"&PROFILE!$C$69&\"*\")","v":1},null,null,null,null,null,null,null,null,null,{"$f":"CONCATENATE(\" \",PROFILE!C69,\" Executives Internal Promotions\")","v":"  Executives Internal Promotions"},"",null,null,null,null,null,null,null,null,0]
[null,null,{"$f":"COUNTIF(M1476,\"*\"&PROFILE!$C$70&\"*\")","v":1},null,null,null,null,null,null,null,null,null,{"$f":"CONCATENATE(\" \",PROFILE!C70,\" Executives Internal Promotions\")","v":"  Executives Internal Promotions"},"",null,null,null,null,null,null,null,null,0]
[null,null,{"$f":"COUNTIF(M1477,\"*\"&PROFILE!$C$71&\"*\")","v":1},null,null,null,null,null,null,null,null,null,{"$f":"CONCATENATE(\" \",PROFILE!C71,\" Executives Internal Promotions\")","v":"  Executives Internal Promotions"},"",null,null,null,null,null,null,null,null,0]
[null,null,{"$f":"COUNTIF(M1478,\"*\"&PROFILE!$C$72&\"*\")","v":1},null,null,null,null,null,null,null,null,null,{"$f":"CONCATENATE(\" \",PROFILE!C72,\" Executives Internal Promotions\")","v":"  Executives Internal Promotions"},"",null,null,null,null,null,null,null,null,0]
[null,null,null,null,null,null,null,null,null,null,null,null,null,null,null,null,null,null,null,null,null,null,{"$f":"IF(AND($M$42=\"enabled\",$Q$42=\"enabled\"),1,0)","v":0}]
[null,null,null,null,null,null,null,null,null,null,null,null,null,null,null,"All Employees Internal Promotions by Sex",null,null,null,null,null,null,{"$f":"IF(OR($M$43=\"enabled\",$P$43=\"enabled\",$Q$43=\"enabled\"),1,0)","v":0}]
[null,null,null,null,null,null,null,null,null,null,null,null,null,{"$f":"'CENTRAL DATA'!$H$12","v":"FY-2"},{"$f":"'CENTRAL DATA'!$H$13","v":"FY-1"},{"$f":"IF(PROFILE!$L$43=\"Fiscal Year WFP\",'CENTRAL DATA'!$H$14,IF(PROFILE!$L$43=\"Snapshot\",CONCATENATE(\"As of \",TEXT(PROFILE!$N$44,\"mm/dd/yy\"),\"\")))","v":false},null,null,null,null,null,null,{"$f":"IF(OR($M$43=\"enabled\",$P$43=\"enabled\",$Q$43=\"enabled\"),1,0)","v":0}]
[null,null,null,null,null,null,null,null,null,null,null,null,null,null,null,null,null,null,null,null,null,null,{"$f":"IF(OR($M$43=\"enabled\",$P$43=\"enabled\",$Q$43=\"enabled\"),1,0)","v":0}]
[null,null,null,null,null,null,null,null,null,null,null,null,"Male Internal Promotions","",null,null,null,null,null,null,null,null,{"$f":"IF(OR($M$43=\"enabled\"),1,0)","v":0}]
[null,null,null,null,null,null,null,null,null,null,null,null,"Female Internal Promotions","",null,null,null,null,null,null,null,null,{"$f":"IF(OR($M$43=\"enabled\"),1,0)","v":0}]
[null,null,null,null,null,null,null,null,null,null,null,null,null,null,null,null,null,null,null,null,null,null,{"$f":"IF(OR($M$43=\"enabled\"),1,0)","v":0}]
[null,null,null,null,null,null,null,null,null,null,null,null,"Male Leader Internal Promotions","",null,null,null,null,null,null,null,null,{"$f":"IF(AND($M$43=\"enabled\",$P$43=\"enabled\"),1,0)","v":0}]
[null,null,null,null,null,null,null,null,null,null,null,null,"Female Leader Internal Promotions","",null,null,null,null,null,null,null,null,{"$f":"IF(AND($M$43=\"enabled\",$P$43=\"enabled\"),1,0)","v":0}]
[null,null,null,null,null,null,null,null,null,null,null,null,null,null,null,null,null,null,null,null,null,null,{"$f":"IF(AND($M$43=\"enabled\",$P$43=\"enabled\"),1,0)","v":0}]
[null,null,null,null,null,null,null,null,null,null,null,null,"Male Executive Internal Promotions","",null,null,null,null,null,null,null,null,{"$f":"IF(AND($M$43=\"enabled\",$Q$43=\"enabled\"),1,0)","v":0}]
[null,null,null,null,null,null,null,null,null,null,null,null,"Female Executive Internal Promotions","",null,null,null,null,null,null,null,null,{"$f":"IF(AND($M$43=\"enabled\",$Q$43=\"enabled\"),1,0)","v":0}]
[null,null,null,null,null,null,null,null,null,null,null,null,null,null,null,null,null,null,null,null,null,null,{"$f":"IF(AND($M$43=\"enabled\",$Q$43=\"enabled\"),1,0)","v":0}]
[null,null,null,null,null,null,null,null,null,null,null,null,null,null,null,"All Employees Internal Promotions by Race",null,null,null,null,null,null,{"$f":"IF(OR($M$44=\"enabled\",$P$44=\"enabled\",$Q$44=\"enabled\"),1,0)","v":0}]
[null,null,null,null,null,null,null,null,null,null,null,null,null,{"$f":"'CENTRAL DATA'!$H$12","v":"FY-2"},{"$f":"'CENTRAL DATA'!$H$13","v":"FY-1"},{"$f":"IF(PROFILE!$L$43=\"Fiscal Year WFP\",'CENTRAL DATA'!$H$14,IF(PROFILE!$L$43=\"Snapshot\",CONCATENATE(\"As of \",TEXT(PROFILE!$N$44,\"mm/dd/yy\"),\"\")))","v":false},null,null,null,null,null,null,{"$f":"IF(OR($M$44=\"enabled\",$P$44=\"enabled\",$Q$44=\"enabled\"),1,0)","v":0}]
[null,null,null,null,null,null,null,null,null,null,null,null,null,null,null,null,null,null,null,null,null,null,{"$f":"IF(OR($M$44=\"enabled\",$P$44=\"enabled\",$Q$44=\"enabled\"),1,0)","v":0}]
[null,null,null,null,null,null,null,null,null,null,null,null,"Minorities Internal Promotions","",null,null,null,null,null,null,null,null,{"$f":"IF(OR($M$44=\"enabled\"),1,0)","v":0}]
[null,null,null,null,null,null,null,null,null,null,null,null,"Non-Minorities Internal Promotions","",null,null,null,null,null,null,null,null,0]
[null,null,null,null,null,null,null,null,null,null,null,null,null,null,null,null,null,null,null,null,null,null,0]
[null,null,null,null,null,null,null,null,null,null,null,null,"Minorities Leader Internal Promotions","",null,null,null,null,null,null,null,null,{"$f":"IF(AND($M$44=\"enabled\",$P$44=\"enabled\"),1,0)","v":0}]
[null,null,null,null,null,null,null,null,null,null,null,null,"Non-Minorities Leader Internal Promotions","",null,null,null,null,null,null,null,null,0]
[null,null,null,null,null,null,null,null,null,null,null,null,null,null,null,null,null,null,null,null,null,null,0]
[null,null,null,null,null,null,null,null,null,null,null,null,"Minorities Executive Internal Promotions","",null,null,null,null,null,null,null,null,{"$f":"IF(AND($M$44=\"enabled\",$Q$44=\"enabled\"),1,0)","v":0}]
[null,null,null,null,null,null,null,null,null,null,null,null,"Non-Minorities Executive Internal Promotions","",null,null,null,null,null,null,null,null,0]
[null,null,null,null,null,null,null,null,null,null,null,null,null,null,null,null,null,null,null,null,null,null,0]
[null,null,null,null,null,null,null,null,null,null,null,null,null,null,null,"All Employees Internal Promotions by Other Demographics",null,null,null,null,null,null,{"$f":"IF(OR($M$45=\"enabled\",$P$45=\"enabled\",$Q$45=\"enabled\"),1,0)","v":0}]
[null,null,null,null,null,null,null,null,null,null,null,null,null,{"$f":"'CENTRAL DATA'!$H$12","v":"FY-2"},{"$f":"'CENTRAL DATA'!$H$13","v":"FY-1"},{"$f":"IF(PROFILE!$L$43=\"Fiscal Year WFP\",'CENTRAL DATA'!$H$14,IF(PROFILE!$L$43=\"Snapshot\",CONCATENATE(\"As of \",TEXT(PROFILE!$N$44,\"mm/dd/yy\"),\"\")))","v":false},null,null,null,null,null,null,{"$f":"IF(OR($M$45=\"enabled\",$P$45=\"enabled\",$Q$45=\"enabled\"),1,0)","v":0}]
[null,null,null,null,null,null,null,null,null,null,null,null,null,null,null,null,null,null,null,null,null,null,{"$f":"IF(OR($M$45=\"enabled\",$P$45=\"enabled\",$Q$45=\"enabled\"),1,0)","v":0}]
[null,null,null,null,null,null,null,null,null,null,null,null,"Employees with Disabilities Internal Promotions","",null,null,null,null,null,null,null,null,{"$f":"IF(OR($M$45=\"enabled\"),1,0)","v":0}]
[null,null,null,null,null,null,null,null,null,null,null,null,"Internal Promotions who are Veterans","",null,null,null,null,null,null,null,null,{"$f":"IF(OR($M$45=\"enabled\"),1,0)","v":0}]
[null,null,null,null,null,null,null,null,null,null,null,null,null,null,null,null,null,null,null,null,null,null,{"$f":"IF(OR($M$45=\"enabled\"),1,0)","v":0}]
[null,null,null,null,null,null,null,null,null,null,null,null,"Leaders with Disabilities Internal Promotions","",null,null,null,null,null,null,null,null,{"$f":"IF(AND($M$45=\"enabled\",$P$45=\"enabled\"),1,0)","v":0}]
[null,null,null,null,null,null,null,null,null,null,null,null,"Leaders who are Veterans Internal Promotions","",null,null,null,null,null,null,null,null,{"$f":"IF(AND($M$45=\"enabled\",$P$45=\"enabled\"),1,0)","v":0}]
[null,null,null,null,null,null,null,null,null,null,null,null,null,null,null,null,null,null,null,null,null,null,{"$f":"IF(AND($M$45=\"enabled\",$P$45=\"enabled\"),1,0)","v":0}]
[null,null,null,null,null,null,null,null,null,null,null,null,"Executives with Disabilities Internal Promotions","",null,null,null,null,null,null,null,null,{"$f":"IF(AND($M$45=\"enabled\",$Q$45=\"enabled\"),1,0)","v":0}]
[null,null,null,null,null,null,null,null,null,null,null,null,"Executives who are Veterans Internal Promotions","",null,null,null,null,null,null,null,null,{"$f":"IF(AND($M$45=\"enabled\",$Q$45=\"enabled\"),1,0)","v":0}]
[null,null,null,null,null,null,null,null,null,null,null,null,null,null,null,null,null,null,null,null,null,null,{"$f":"IF(AND($M$45=\"enabled\",$Q$45=\"enabled\"),1,0)","v":0}]
[null,null,null,null,null,null,null,null,null,null,null,null,null,null,null,"All Employees Internal Transfers by EEO Code",null,null,null,null,null,null,{"$f":"IF(OR($M$49=\"enabled\",$P$49=\"enabled\",$Q$49=\"enabled\"),1,0)","v":0}]
[null,null,null,null,null,null,null,null,null,null,null,null,null,{"$f":"'CENTRAL DATA'!$H$12","v":"FY-2"},{"$f":"'CENTRAL DATA'!$H$13","v":"FY-1"},{"$f":"IF(PROFILE!$L$43=\"Fiscal Year WFP\",'CENTRAL DATA'!$H$14,IF(PROFILE!$L$43=\"Snapshot\",CONCATENATE(\"As of \",TEXT(PROFILE!$N$44,\"mm/dd/yy\"),\"\")))","v":false},null,null,null,null,null,null,{"$f":"IF(OR($M$49=\"enabled\",$P$49=\"enabled\",$Q$49=\"enabled\"),1,0)","v":0}]
[null,null,null,null,null,null,null,null,null,null,null,null,null,null,null,null,null,null,null,null,null,null,{"$f":"IF(OR($M$49=\"enabled\",$P$49=\"enabled\",$Q$49=\"enabled\"),1,0)","v":0}]
[null,null,null,null,null,null,null,null,null,null,null,null,"EEO Code \"Officials and Administrators\" Internal Transfers","",null,null,null,null,null,null,null,null,{"$f":"IF(OR($M$49=\"enabled\"),1,0)","v":0}]
[null,null,null,null,null,null,null,null,null,null,null,null," EEO Code \"Professionals\" Internal Transfers","",null,null,null,null,null,null,null,null,0]
[null,null,null,null,null,null,null,null,null,null,null,null," EEO Code \"Technicians\" Internal Transfers","",null,null,null,null,null,null,null,null,0]
[null,null,null,null,null,null,null,null,null,null,null,null," EEO Code \"Protective Service Workers\" Internal Transfers","",null,null,null,null,null,null,null,null,0]
[null,null,null,null,null,null,null,null,null,null,null,null," EEO Code \"Paraprofessionals\" Internal Transfers","",null,null,null,null,null,null,null,null,0]
[null,null,null,null,null,null,null,null,null,null,null,null," EEO Code \"Administrative Support\" Internal Transfers","",null,null,null,null,null,null,null,null,0]
[null,null,null,null,null,null,null,null,null,null,null,null," EEO Code \"Skilled Craft Workers\" Internal Transfers","",null,null,null,null,null,null,null,null,0]
[null,null,null,null,null,null,null,null,null,null,null,null," EEO Code \"Service/Maintenance\" Internal Transfers","",null,null,null,null,null,null,null,null,0]
[null,null,null,null,null,null,null,null,null,null,null,null," EEO Code \"Faculty\" Internal Transfers","",null,null,null,null,null,null,null,null,0]
[null,null,null,null,null,null,null,null,null,null,null,null," EEO Code \"Other\" Internal Transfers","",null,null,null,null,null,null,null,null,0]
[null,null,null,null,null,null,null,null,null,null,null,null,null,null,null,null,null,null,null,null,null,null,0]
[null,null,null,null,null,null,null,null,null,null,null,null,"EEO Code \"Officials and Administrators\" Leaders Internal Transfers","",null,null,null,null,null,null,null,null,{"$f":"IF(AND($M$49=\"enabled\",$P$49=\"enabled\"),1,0)","v":0}]
[null,null,null,null,null,null,null,null,null,null,null,null," EEO Code \"Professionals\" Leaders  Internal Transfers","",null,null,null,null,null,null,null,null,0]
[null,null,null,null,null,null,null,null,null,null,null,null," EEO Code \"Technicians\" Leaders  Internal Transfers","",null,null,null,null,null,null,null,null,0]
[null,null,null,null,null,null,null,null,null,null,null,null," EEO Code \"Protective Service Workers\" Leaders  Internal Transfers","",null,null,null,null,null,null,null,null,0]
[null,null,null,null,null,null,null,null,null,null,null,null," EEO Code \"Paraprofessionals\" Leaders  Internal Transfers","",null,null,null,null,null,null,null,null,0]
[null,null,null,null,null,null,null,null,null,null,null,null," EEO Code \"Administrative Support\" Leaders  Internal Transfers","",null,null,null,null,null,null,null,null,0]
[null,null,null,null,null,null,null,null,null,null,null,null," EEO Code \"Skilled Craft Workers\" Leaders  Internal Transfers","",null,null,null,null,null,null,null,null,0]
[null,null,null,null,null,null,null,null,null,null,null,null," EEO Code \"Service/Maintenance\" Leaders  Internal Transfers","",null,null,null,null,null,null,null,null,0]
[null,null,null,null,null,null,null,null,null,null,null,null," EEO Code \"Faculty\" Leaders  Internal Transfers","",null,null,null,null,null,null,null,null,0]
[null,null,null,null,null,null,null,null,null,null,null,null," EEO Code \"Other\" Leaders  Internal Transfers","",null,null,null,null,null,null,null,null,0]
[null,null,null,null,null,null,null,null,null,null,null,null,null,null,null,null,null,null,null,null,null,null,0]
[null,null,null,null,null,null,null,null,null,null,null,null,"EEO Code \"Officials and Administrators\" Executives Internal Transfers","",null,null,null,null,null,null,null,null,{"$f":"IF(AND($M$49=\"enabled\",$Q$49=\"enabled\"),1,0)","v":0}]
[null,null,null,null,null,null,null,null,null,null,null,null," EEO Code \"Professionals\" Executives  Internal Transfers","",null,null,null,null,null,null,null,null,0]
[null,null,null,null,null,null,null,null,null,null,null,null," EEO Code \"Technicians\" Executives  Internal Transfers","",null,null,null,null,null,null,null,null,0]
[null,null,null,null,null,null,null,null,null,null,null,null," EEO Code \"Protective Service Workers\" Executives  Internal Transfers","",null,null,null,null,null,null,null,null,0]
[null,null,null,null,null,null,null,null,null,null,null,null," EEO Code \"Paraprofessionals\" Executives  Internal Transfers","",null,null,null,null,null,null,null,null,0]
[null,null,null,null,null,null,null,null,null,null,null,null," EEO Code \"Administrative Support\" Executives  Internal Transfers","",null,null,null,null,null,null,null,null,0]
[null,null,null,null,null,null,null,null,null,null,null,null," EEO Code \"Skilled Craft Workers\" Executives  Internal Transfers","",null,null,null,null,null,null,null,null,0]
[null,null,null,null,null,null,null,null,null,null,null,null," EEO Code \"Service/Maintenance\" Executives  Internal Transfers","",null,null,null,null,null,null,null,null,0]
[null,null,null,null,null,null,null,null,null,null,null,null," EEO Code \"Faculty\" Executives  Internal Transfers","",null,null,null,null,null,null,null,null,0]
[null,null,null,null,null,null,null,null,null,null,null,null," EEO Code \"Other\" Executives  Internal Transfers","",null,null,null,null,null,null,null,null,0]
[null,null,null,null,null,null,null,null,null,null,null,null,null,null,null,null,null,null,null,null,null,null,0]
[null,null,null,null,null,null,null,null,null,null,null,null,null,null,null,"All Employees Internal Transfers by Classification",null,null,null,null,null,null,{"$f":"IF(OR($M$50=\"enabled\",$P$50=\"enabled\",$Q$50=\"enabled\"),1,0)","v":0}]
[null,null,null,null,null,null,null,null,null,null,null,null,null,{"$f":"'CENTRAL DATA'!$H$12","v":"FY-2"},{"$f":"'CENTRAL DATA'!$H$13","v":"FY-1"},{"$f":"IF(PROFILE!$L$43=\"Fiscal Year WFP\",'CENTRAL DATA'!$H$14,IF(PROFILE!$L$43=\"Snapshot\",CONCATENATE(\"As of \",TEXT(PROFILE!$N$44,\"mm/dd/yy\"),\"\")))","v":false},null,null,null,null,null,null,{"$f":"IF(OR($M$50=\"enabled\",$P$50=\"enabled\",$Q$50=\"enabled\"),1,0)","v":0}]
[null,null,null,null,null,null,null,null,null,null,null,null,null,null,null,null,null,null,null,null,null,null,{"$f":"IF(OR($M$50=\"enabled\",$P$50=\"enabled\",$Q$50=\"enabled\"),1,0)","v":0}]
[null,null,{"$f":"COUNTIF(M1555,\"*\"&PROFILE!$C$58&\"*\")","v":1},null,null,null,null,null,null,null,null,null,{"$f":"CONCATENATE(\" \",PROFILE!C58,\" Internal Transfers\")","v":"  Internal Transfers"},"",null,null,null,null,null,null,null,null,{"$f":"IF(AND(OR($M$50=\"enabled\"),C1555=1),1,0)","v":0}]
[null,null,{"$f":"COUNTIF(M1556,\"*\"&PROFILE!$C$59&\"*\")","v":1},null,null,null,null,null,null,null,null,null,{"$f":"CONCATENATE(\" \",PROFILE!C59,\" Internal Transfers\")","v":"  Internal Transfers"},"",null,null,null,null,null,null,null,null,{"$f":"IF(AND(OR($M$50=\"enabled\"),C1556=1),1,0)","v":0}]
[null,null,{"$f":"COUNTIF(M1557,\"*\"&PROFILE!$C$60&\"*\")","v":1},null,null,null,null,null,null,null,null,null,{"$f":"CONCATENATE(\" \",PROFILE!C60,\" Internal Transfers\")","v":"  Internal Transfers"},"",null,null,null,null,null,null,null,null,0]
[null,null,{"$f":"COUNTIF(M1558,\"*\"&PROFILE!$C$61&\"*\")","v":1},null,null,null,null,null,null,null,null,null,{"$f":"CONCATENATE(\" \",PROFILE!C61,\" Internal Transfers\")","v":"  Internal Transfers"},"",null,null,null,null,null,null,null,null,0]
[null,null,{"$f":"COUNTIF(M1559,\"*\"&PROFILE!$C$62&\"*\")","v":1},null,null,null,null,null,null,null,null,null,{"$f":"CONCATENATE(\" \",PROFILE!C62,\" Internal Transfers\")","v":"  Internal Transfers"},"",null,null,null,null,null,null,null,null,0]
[null,null,{"$f":"COUNTIF(M1560,\"*\"&PROFILE!$C$63&\"*\")","v":1},null,null,null,null,null,null,null,null,null,{"$f":"CONCATENATE(\" \",PROFILE!C63,\" Internal Transfers\")","v":"  Internal Transfers"},"",null,null,null,null,null,null,null,null,0]
[null,null,{"$f":"COUNTIF(M1561,\"*\"&PROFILE!$C$64&\"*\")","v":1},null,null,null,null,null,null,null,null,null,{"$f":"CONCATENATE(\" \",PROFILE!C64,\" Internal Transfers\")","v":"  Internal Transfers"},"",null,null,null,null,null,null,null,null,0]
[null,null,{"$f":"COUNTIF(M1562,\"*\"&PROFILE!$C$65&\"*\")","v":1},null,null,null,null,null,null,null,null,null,{"$f":"CONCATENATE(\" \",PROFILE!C65,\" Internal Transfers\")","v":"  Internal Transfers"},"",null,null,null,null,null,null,null,null,0]
[null,null,{"$f":"COUNTIF(M1563,\"*\"&PROFILE!$C$66&\"*\")","v":1},null,null,null,null,null,null,null,null,null,{"$f":"CONCATENATE(\" \",PROFILE!C66,\" Internal Transfers\")","v":"  Internal Transfers"},"",null,null,null,null,null,null,null,null,0]
[null,null,{"$f":"COUNTIF(M1564,\"*\"&PROFILE!$C$67&\"*\")","v":1},null,null,null,null,null,null,null,null,null,{"$f":"CONCATENATE(\" \",PROFILE!C67,\" Internal Transfers\")","v":"  Internal Transfers"},"",null,null,null,null,null,null,null,null,0]
[null,null,{"$f":"COUNTIF(M1565,\"*\"&PROFILE!$C$68&\"*\")","v":1},null,null,null,null,null,null,null,null,null,{"$f":"CONCATENATE(\" \",PROFILE!C68,\" Internal Transfers\")","v":"  Internal Transfers"},"",null,null,null,null,null,null,null,null,0]
[null,null,{"$f":"COUNTIF(M1566,\"*\"&PROFILE!$C$69&\"*\")","v":1},null,null,null,null,null,null,null,null,null,{"$f":"CONCATENATE(\" \",PROFILE!C69,\" Internal Transfers\")","v":"  Internal Transfers"},"",null,null,null,null,null,null,null,null,0]
[null,null,{"$f":"COUNTIF(M1567,\"*\"&PROFILE!$C$70&\"*\")","v":1},null,null,null,null,null,null,null,null,null,{"$f":"CONCATENATE(\" \",PROFILE!C70,\" Internal Transfers\")","v":"  Internal Transfers"},"",null,null,null,null,null,null,null,null,0]
[null,null,{"$f":"COUNTIF(M1568,\"*\"&PROFILE!$C$71&\"*\")","v":1},null,null,null,null,null,null,null,null,null,{"$f":"CONCATENATE(\" \",PROFILE!C71,\" Internal Transfers\")","v":"  Internal Transfers"},"",null,null,null,null,null,null,null,null,0]
[null,null,{"$f":"COUNTIF(M1569,\"*\"&PROFILE!$C$72&\"*\")","v":1},null,null,null,null,null,null,null,null,null,{"$f":"CONCATENATE(\" \",PROFILE!C72,\" Internal Transfers\")","v":"  Internal Transfers"},"",null,null,null,null,null,null,null,null,0]
[null,null,null,null,null,null,null,null,null,null,null,null,null,null,null,null,null,null,null,null,null,null,{"$f":"IF(OR($M$50=\"enabled\"),1,0)","v":0}]
[null,null,{"$f":"COUNTIF(M1571,\"*\"&PROFILE!$C$58&\"*\")","v":1},null,null,null,null,null,null,null,null,null,{"$f":"CONCATENATE(\" \",PROFILE!C58,\" Leaders Internal Transfers\")","v":"  Leaders Internal Transfers"},"",null,null,null,null,null,null,null,null,{"$f":"IF(AND($M$50=\"enabled\",$P$50=\"enabled\",C1571=1),1,0)","v":0}]
[null,null,{"$f":"COUNTIF(M1572,\"*\"&PROFILE!$C$59&\"*\")","v":1},null,null,null,null,null,null,null,null,null,{"$f":"CONCATENATE(\" \",PROFILE!C59,\" Leaders Internal Transfers\")","v":"  Leaders Internal Transfers"},"",null,null,null,null,null,null,null,null,{"$f":"IF(AND($M$50=\"enabled\",$P$50=\"enabled\",C1572=1),1,0)","v":0}]
[null,null,{"$f":"COUNTIF(M1573,\"*\"&PROFILE!$C$60&\"*\")","v":1},null,null,null,null,null,null,null,null,null,{"$f":"CONCATENATE(\" \",PROFILE!C60,\" Leaders Internal Transfers\")","v":"  Leaders Internal Transfers"},"",null,null,null,null,null,null,null,null,0]
[null,null,{"$f":"COUNTIF(M1574,\"*\"&PROFILE!$C$61&\"*\")","v":1},null,null,null,null,null,null,null,null,null,{"$f":"CONCATENATE(\" \",PROFILE!C61,\" Leaders Internal Transfers\")","v":"  Leaders Internal Transfers"},"",null,null,null,null,null,null,null,null,0]
[null,null,{"$f":"COUNTIF(M1575,\"*\"&PROFILE!$C$62&\"*\")","v":1},null,null,null,null,null,null,null,null,null,{"$f":"CONCATENATE(\" \",PROFILE!C62,\" Leaders Internal Transfers\")","v":"  Leaders Internal Transfers"},"",null,null,null,null,null,null,null,null,0]
[null,null,{"$f":"COUNTIF(M1576,\"*\"&PROFILE!$C$63&\"*\")","v":1},null,null,null,null,null,null,null,null,null,{"$f":"CONCATENATE(\" \",PROFILE!C63,\" Leaders Internal Transfers\")","v":"  Leaders Internal Transfers"},"",null,null,null,null,null,null,null,null,0]
[null,null,{"$f":"COUNTIF(M1577,\"*\"&PROFILE!$C$64&\"*\")","v":1},null,null,null,null,null,null,null,null,null,{"$f":"CONCATENATE(\" \",PROFILE!C64,\" Leaders Internal Transfers\")","v":"  Leaders Internal Transfers"},"",null,null,null,null,null,null,null,null,0]
[null,null,{"$f":"COUNTIF(M1578,\"*\"&PROFILE!$C$65&\"*\")","v":1},null,null,null,null,null,null,null,null,null,{"$f":"CONCATENATE(\" \",PROFILE!C65,\" Leaders Internal Transfers\")","v":"  Leaders Internal Transfers"},"",null,null,null,null,null,null,null,null,0]
[null,null,{"$f":"COUNTIF(M1579,\"*\"&PROFILE!$C$66&\"*\")","v":1},null,null,null,null,null,null,null,null,null,{"$f":"CONCATENATE(\" \",PROFILE!C66,\" Leaders Internal Transfers\")","v":"  Leaders Internal Transfers"},"",null,null,null,null,null,null,null,null,0]
[null,null,{"$f":"COUNTIF(M1580,\"*\"&PROFILE!$C$67&\"*\")","v":1},null,null,null,null,null,null,null,null,null,{"$f":"CONCATENATE(\" \",PROFILE!C67,\" Leaders Internal Transfers\")","v":"  Leaders Internal Transfers"},"",null,null,null,null,null,null,null,null,0]
[null,null,{"$f":"COUNTIF(M1581,\"*\"&PROFILE!$C$68&\"*\")","v":1},null,null,null,null,null,null,null,null,null,{"$f":"CONCATENATE(\" \",PROFILE!C68,\" Leaders Internal Transfers\")","v":"  Leaders Internal Transfers"},"",null,null,null,null,null,null,null,null,0]
[null,null,{"$f":"COUNTIF(M1582,\"*\"&PROFILE!$C$69&\"*\")","v":1},null,null,null,null,null,null,null,null,null,{"$f":"CONCATENATE(\" \",PROFILE!C69,\" Leaders Internal Transfers\")","v":"  Leaders Internal Transfers"},"",null,null,null,null,null,null,null,null,0]
[null,null,{"$f":"COUNTIF(M1583,\"*\"&PROFILE!$C$70&\"*\")","v":1},null,null,null,null,null,null,null,null,null,{"$f":"CONCATENATE(\" \",PROFILE!C70,\" Leaders Internal Transfers\")","v":"  Leaders Internal Transfers"},"",null,null,null,null,null,null,null,null,0]
[null,null,{"$f":"COUNTIF(M1584,\"*\"&PROFILE!$C$71&\"*\")","v":1},null,null,null,null,null,null,null,null,null,{"$f":"CONCATENATE(\" \",PROFILE!C71,\" Leaders Internal Transfers\")","v":"  Leaders Internal Transfers"},"",null,null,null,null,null,null,null,null,0]
[null,null,{"$f":"COUNTIF(M1585,\"*\"&PROFILE!$C$72&\"*\")","v":1},null,null,null,null,null,null,null,null,null,{"$f":"CONCATENATE(\" \",PROFILE!C72,\" Leaders Internal Transfers\")","v":"  Leaders Internal Transfers"},"",null,null,null,null,null,null,null,null,0]
[null,null,null,null,null,null,null,null,null,null,null,null,null,null,null,null,null,null,null,null,null,null,{"$f":"IF(AND($M$50=\"enabled\",$P$50=\"enabled\"),1,0)","v":0}]
[null,null,{"$f":"COUNTIF(M1587,\"*\"&PROFILE!$C$58&\"*\")","v":1},null,null,null,null,null,null,null,null,null,{"$f":"CONCATENATE(\" \",PROFILE!C58,\" Executives Internal Transfers\")","v":"  Executives Internal Transfers"},"",null,null,null,null,null,null,null,null,{"$f":"IF(AND($M$50=\"enabled\",$Q$50=\"enabled\",C1587=1),1,0)","v":0}]
[null,null,{"$f":"COUNTIF(M1588,\"*\"&PROFILE!$C$59&\"*\")","v":1},null,null,null,null,null,null,null,null,null,{"$f":"CONCATENATE(\" \",PROFILE!C59,\" Executives Internal Transfers\")","v":"  Executives Internal Transfers"},"",null,null,null,null,null,null,null,null,{"$f":"IF(AND($M$50=\"enabled\",$Q$50=\"enabled\",C1588=1),1,0)","v":0}]
[null,null,{"$f":"COUNTIF(M1589,\"*\"&PROFILE!$C$60&\"*\")","v":1},null,null,null,null,null,null,null,null,null,{"$f":"CONCATENATE(\" \",PROFILE!C60,\" Executives Internal Transfers\")","v":"  Executives Internal Transfers"},"",null,null,null,null,null,null,null,null,0]
[null,null,{"$f":"COUNTIF(M1590,\"*\"&PROFILE!$C$61&\"*\")","v":1},null,null,null,null,null,null,null,null,null,{"$f":"CONCATENATE(\" \",PROFILE!C61,\" Executives Internal Transfers\")","v":"  Executives Internal Transfers"},"",null,null,null,null,null,null,null,null,0]
[null,null,{"$f":"COUNTIF(M1591,\"*\"&PROFILE!$C$62&\"*\")","v":1},null,null,null,null,null,null,null,null,null,{"$f":"CONCATENATE(\" \",PROFILE!C62,\" Executives Internal Transfers\")","v":"  Executives Internal Transfers"},"",null,null,null,null,null,null,null,null,0]
[null,null,{"$f":"COUNTIF(M1592,\"*\"&PROFILE!$C$63&\"*\")","v":1},null,null,null,null,null,null,null,null,null,{"$f":"CONCATENATE(\" \",PROFILE!C63,\" Executives Internal Transfers\")","v":"  Executives Internal Transfers"},"",null,null,null,null,null,null,null,null,0]
[null,null,{"$f":"COUNTIF(M1593,\"*\"&PROFILE!$C$64&\"*\")","v":1},null,null,null,null,null,null,null,null,null,{"$f":"CONCATENATE(\" \",PROFILE!C64,\" Executives Internal Transfers\")","v":"  Executives Internal Transfers"},"",null,null,null,null,null,null,null,null,0]
[null,null,{"$f":"COUNTIF(M1594,\"*\"&PROFILE!$C$65&\"*\")","v":1},null,null,null,null,null,null,null,null,null,{"$f":"CONCATENATE(\" \",PROFILE!C65,\" Executives Internal Transfers\")","v":"  Executives Internal Transfers"},"",null,null,null,null,null,null,null,null,0]
[null,null,{"$f":"COUNTIF(M1595,\"*\"&PROFILE!$C$66&\"*\")","v":1},null,null,null,null,null,null,null,null,null,{"$f":"CONCATENATE(\" \",PROFILE!C66,\" Executives Internal Transfers\")","v":"  Executives Internal Transfers"},"",null,null,null,null,null,null,null,null,0]
[null,null,{"$f":"COUNTIF(M1596,\"*\"&PROFILE!$C$67&\"*\")","v":1},null,null,null,null,null,null,null,null,null,{"$f":"CONCATENATE(\" \",PROFILE!C67,\" Executives Internal Transfers\")","v":"  Executives Internal Transfers"},"",null,null,null,null,null,null,null,null,0]
[null,null,{"$f":"COUNTIF(M1597,\"*\"&PROFILE!$C$68&\"*\")","v":1},null,null,null,null,null,null,null,null,null,{"$f":"CONCATENATE(\" \",PROFILE!C68,\" Executives Internal Transfers\")","v":"  Executives Internal Transfers"},"",null,null,null,null,null,null,null,null,0]
[null,null,{"$f":"COUNTIF(M1598,\"*\"&PROFILE!$C$69&\"*\")","v":1},null,null,null,null,null,null,null,null,null,{"$f":"CONCATENATE(\" \",PROFILE!C69,\" Executives Internal Transfers\")","v":"  Executives Internal Transfers"},"",null,null,null,null,null,null,null,null,0]
[null,null,{"$f":"COUNTIF(M1599,\"*\"&PROFILE!$C$70&\"*\")","v":1},null,null,null,null,null,null,null,null,null,{"$f":"CONCATENATE(\" \",PROFILE!C70,\" Executives Internal Transfers\")","v":"  Executives Internal Transfers"},"",null,null,null,null,null,null,null,null,0]
[null,null,{"$f":"COUNTIF(M1600,\"*\"&PROFILE!$C$71&\"*\")","v":1},null,null,null,null,null,null,null,null,null,{"$f":"CONCATENATE(\" \",PROFILE!C71,\" Executives Internal Transfers\")","v":"  Executives Internal Transfers"},"",null,null,null,null,null,null,null,null,0]
[null,null,{"$f":"COUNTIF(M1601,\"*\"&PROFILE!$C$72&\"*\")","v":1},null,null,null,null,null,null,null,null,null,{"$f":"CONCATENATE(\" \",PROFILE!C72,\" Executives Internal Transfers\")","v":"  Executives Internal Transfers"},"",null,null,null,null,null,null,null,null,0]
[null,null,null,null,null,null,null,null,null,null,null,null,null,null,null,null,null,null,null,null,null,null,{"$f":"IF(AND($M$50=\"enabled\",$Q$50=\"enabled\"),1,0)","v":0}]
[null,null,null,null,null,null,null,null,null,null,null,null,null,null,null,"All Employees Internal Transfers by Sex",null,null,null,null,null,null,{"$f":"IF(OR($M$51=\"enabled\",$P$51=\"enabled\",$Q$51=\"enabled\"),1,0)","v":0}]
[null,null,null,null,null,null,null,null,null,null,null,null,null,{"$f":"'CENTRAL DATA'!$H$12","v":"FY-2"},{"$f":"'CENTRAL DATA'!$H$13","v":"FY-1"},{"$f":"IF(PROFILE!$L$43=\"Fiscal Year WFP\",'CENTRAL DATA'!$H$14,IF(PROFILE!$L$43=\"Snapshot\",CONCATENATE(\"As of \",TEXT(PROFILE!$N$44,\"mm/dd/yy\"),\"\")))","v":false},null,null,null,null,null,null,{"$f":"IF(OR($M$51=\"enabled\",$P$51=\"enabled\",$Q$51=\"enabled\"),1,0)","v":0}]
[null,null,null,null,null,null,null,null,null,null,null,null,null,null,null,null,null,null,null,null,null,null,{"$f":"IF(OR($M$51=\"enabled\",$P$51=\"enabled\",$Q$51=\"enabled\"),1,0)","v":0}]
[null,null,null,null,null,null,null,null,null,null,null,null,"Male Internal Transfers","",null,null,null,null,null,null,null,null,{"$f":"IF(OR($M$51=\"enabled\"),1,0)","v":0}]
[null,null,null,null,null,null,null,null,null,null,null,null,"Female Internal Transfers","",null,null,null,null,null,null,null,null,{"$f":"IF(OR($M$51=\"enabled\"),1,0)","v":0}]
[null,null,null,null,null,null,null,null,null,null,null,null,null,null,null,null,null,null,null,null,null,null,{"$f":"IF(OR($M$51=\"enabled\"),1,0)","v":0}]
[null,null,null,null,null,null,null,null,null,null,null,null,"Male Leader Internal Transfers","",null,null,null,null,null,null,null,null,{"$f":"IF(AND($M$51=\"enabled\",$P$51=\"enabled\"),1,0)","v":0}]
[null,null,null,null,null,null,null,null,null,null,null,null,"Female Leader Internal Transfers","",null,null,null,null,null,null,null,null,{"$f":"IF(AND($M$51=\"enabled\",$P$51=\"enabled\"),1,0)","v":0}]
[null,null,null,null,null,null,null,null,null,null,null,null,null,null,null,null,null,null,null,null,null,null,{"$f":"IF(AND($M$51=\"enabled\",$P$51=\"enabled\"),1,0)","v":0}]
[null,null,null,null,null,null,null,null,null,null,null,null,"Male Executive Internal Transfers","",null,null,null,null,null,null,null,null,{"$f":"IF(AND($M$51=\"enabled\",$Q$51=\"enabled\"),1,0)","v":0}]
[null,null,null,null,null,null,null,null,null,null,null,null,"Female Executive Internal Transfers","",null,null,null,null,null,null,null,null,{"$f":"IF(AND($M$51=\"enabled\",$Q$51=\"enabled\"),1,0)","v":0}]
[null,null,null,null,null,null,null,null,null,null,null,null,null,null,null,null,null,null,null,null,null,null,{"$f":"IF(AND($M$51=\"enabled\",$Q$51=\"enabled\"),1,0)","v":0}]
[null,null,null,null,null,null,null,null,null,null,null,null,null,null,null,"All Employees Internal Transfers by Race",null,null,null,null,null,null,{"$f":"IF(OR($M$52=\"enabled\",$P$52=\"enabled\",$Q$52=\"enabled\"),1,0)","v":0}]
[null,null,null,null,null,null,null,null,null,null,null,null,null,{"$f":"'CENTRAL DATA'!$H$12","v":"FY-2"},{"$f":"'CENTRAL DATA'!$H$13","v":"FY-1"},{"$f":"IF(PROFILE!$L$43=\"Fiscal Year WFP\",'CENTRAL DATA'!$H$14,IF(PROFILE!$L$43=\"Snapshot\",CONCATENATE(\"As of \",TEXT(PROFILE!$N$44,\"mm/dd/yy\"),\"\")))","v":false},null,null,null,null,null,null,{"$f":"IF(OR($M$52=\"enabled\",$P$52=\"enabled\",$Q$52=\"enabled\"),1,0)","v":0}]
[null,null,null,null,null,null,null,null,null,null,null,null,null,null,null,null,null,null,null,null,null,null,{"$f":"IF(OR($M$52=\"enabled\",$P$52=\"enabled\",$Q$52=\"enabled\"),1,0)","v":0}]
[null,null,null,null,null,null,null,null,null,null,null,null,"Minority Internal Transfers","",null,null,null,null,null,null,null,null,{"$f":"IF(OR($M$52=\"enabled\"),1,0)","v":0}]
[null,null,null,null,null,null,null,null,null,null,null,null,"Non Minority Internal Transfers","",null,null,null,null,null,null,null,null,0]
[null,null,null,null,null,null,null,null,null,null,null,null,null,null,null,null,null,null,null,null,null,null,0]
[null,null,null,null,null,null,null,null,null,null,null,null,"Minority Leader Internal Transfers","",null,null,null,null,null,null,null,null,{"$f":"IF(AND($M$52=\"enabled\",$P$52=\"enabled\"),1,0)","v":0}]
[null,null,null,null,null,null,null,null,null,null,null,null,"Non-Minority Leader Internal Transfers","",null,null,null,null,null,null,null,null,0]
[null,null,null,null,null,null,null,null,null,null,null,null,null,null,null,null,null,null,null,null,null,null,0]
[null,null,null,null,null,null,null,null,null,null,null,null,"Minority Executive Internal Transfers","",null,null,null,null,null,null,null,null,{"$f":"IF(AND($M$52=\"enabled\",$Q$52=\"enabled\"),1,0)","v":0}]
[null,null,null,null,null,null,null,null,null,null,null,null,"Non-Minority Executive Internal Transfers","",null,null,null,null,null,null,null,null,0]
[null,null,null,null,null,null,null,null,null,null,null,null,null,null,null,null,null,null,null,null,null,null,0]
[null,null,null,null,null,null,null,null,null,null,null,null,null,null,null,"All Employees Internal Transfers by Other Demographics",null,null,null,null,null,null,{"$f":"IF(OR($M$53=\"enabled\",$P$53=\"enabled\",$Q$53=\"enabled\"),1,0)","v":0}]
[null,null,null,null,null,null,null,null,null,null,null,null,null,{"$f":"'CENTRAL DATA'!$H$12","v":"FY-2"},{"$f":"'CENTRAL DATA'!$H$13","v":"FY-1"},{"$f":"IF(PROFILE!$L$43=\"Fiscal Year WFP\",'CENTRAL DATA'!$H$14,IF(PROFILE!$L$43=\"Snapshot\",CONCATENATE(\"As of \",TEXT(PROFILE!$N$44,\"mm/dd/yy\"),\"\")))","v":false},null,null,null,null,null,null,{"$f":"IF(OR($M$53=\"enabled\",$P$53=\"enabled\",$Q$53=\"enabled\"),1,0)","v":0}]
[null,null,null,null,null,null,null,null,null,null,null,null,null,null,null,null,null,null,null,null,null,null,{"$f":"IF(OR($M$53=\"enabled\",$P$53=\"enabled\",$Q$53=\"enabled\"),1,0)","v":0}]
[null,null,null,null,null,null,null,null,null,null,null,null,"Employees with Disabilities Internal Transfers","",null,null,null,null,null,null,null,null,{"$f":"IF(OR($M$53=\"enabled\"),1,0)","v":0}]
[null,null,null,null,null,null,null,null,null,null,null,null,"Internal Transfers who are Veterans","",null,null,null,null,null,null,null,null,{"$f":"IF(OR($M$53=\"enabled\"),1,0)","v":0}]
[null,null,null,null,null,null,null,null,null,null,null,null,null,null,null,null,null,null,null,null,null,null,{"$f":"IF(OR($M$53=\"enabled\"),1,0)","v":0}]
[null,null,null,null,null,null,null,null,null,null,null,null,"Leaders with Disabilities Internal Transfers","",null,null,null,null,null,null,null,null,{"$f":"IF(AND($M$53=\"enabled\",$P$53=\"enabled\"),1,0)","v":0}]
[null,null,null,null,null,null,null,null,null,null,null,null,"Leaders who are Veterans Internal Transfers","",null,null,null,null,null,null,null,null,{"$f":"IF(AND($M$53=\"enabled\",$P$53=\"enabled\"),1,0)","v":0}]
[null,null,null,null,null,null,null,null,null,null,null,null,null,null,null,null,null,null,null,null,null,null,{"$f":"IF(AND($M$53=\"enabled\",$P$53=\"enabled\"),1,0)","v":0}]
[null,null,null,null,null,null,null,null,null,null,null,null,"Executives with Disabilities Internal Transfers","",null,null,null,null,null,null,null,null,{"$f":"IF(AND($M$53=\"enabled\",$Q$53=\"enabled\"),1,0)","v":0}]
[null,null,null,null,null,null,null,null,null,null,null,null,"Executives who are Veterans Internal Transfers","",null,null,null,null,null,null,null,null,{"$f":"IF(AND($M$53=\"enabled\",$Q$53=\"enabled\"),1,0)","v":0}]
[null,null,null,null,null,null,null,null,null,null,null,null,null,null,null,null,null,null,null,null,null,null,{"$f":"IF(AND($M$53=\"enabled\",$Q$53=\"enabled\"),1,0)","v":0}]
[null,null,null,null,null,null,null,null,null,null,null,null,null,null,null,"All Employees External Transfers by EEO Code",null,null,null,null,null,null,{"$f":"IF(OR($M$57=\"enabled\",$P$57=\"enabled\",$Q$57=\"enabled\"),1,0)","v":0}]
[null,null,null,null,null,null,null,null,null,null,null,null,null,{"$f":"'CENTRAL DATA'!$H$12","v":"FY-2"},{"$f":"'CENTRAL DATA'!$H$13","v":"FY-1"},{"$f":"IF(PROFILE!$L$43=\"Fiscal Year WFP\",'CENTRAL DATA'!$H$14,IF(PROFILE!$L$43=\"Snapshot\",CONCATENATE(\"As of \",TEXT(PROFILE!$N$44,\"mm/dd/yy\"),\"\")))","v":false},null,null,null,null,null,null,{"$f":"IF(OR($M$57=\"enabled\",$P$57=\"enabled\",$Q$57=\"enabled\"),1,0)","v":0}]
[null,null,null,null,null,null,null,null,null,null,null,null,null,null,null,null,null,null,null,null,null,null,{"$f":"IF(OR($M$57=\"enabled\",$P$57=\"enabled\",$Q$57=\"enabled\"),1,0)","v":0}]
[null,null,null,null,null,null,null,null,null,null,null,null,"EEO Code \"Officials and Administrators\" External Transfers","",null,null,null,null,null,null,null,null,{"$f":"IF(OR($M$57=\"enabled\"),1,0)","v":0}]
[null,null,null,null,null,null,null,null,null,null,null,null," EEO Code \"Professionals\" External Transfers","",null,null,null,null,null,null,null,null,0]
[null,null,null,null,null,null,null,null,null,null,null,null," EEO Code \"Technicians\" External Transfers","",null,null,null,null,null,null,null,null,0]
[null,null,null,null,null,null,null,null,null,null,null,null," EEO Code \"Protective Service Workers\" External Transfers","",null,null,null,null,null,null,null,null,0]
[null,null,null,null,null,null,null,null,null,null,null,null," EEO Code \"Paraprofessionals\" External Transfers","",null,null,null,null,null,null,null,null,0]
[null,null,null,null,null,null,null,null,null,null,null,null," EEO Code \"Administrative Support\" External Transfers","",null,null,null,null,null,null,null,null,0]
[null,null,null,null,null,null,null,null,null,null,null,null," EEO Code \"Skilled Craft Workers\" External Transfers","",null,null,null,null,null,null,null,null,0]
[null,null,null,null,null,null,null,null,null,null,null,null," EEO Code \"Service/Maintenance\" External Transfers","",null,null,null,null,null,null,null,null,0]
[null,null,null,null,null,null,null,null,null,null,null,null," EEO Code \"Faculty\" External Transfers","",null,null,null,null,null,null,null,null,0]
[null,null,null,null,null,null,null,null,null,null,null,null," EEO Code \"Other\" External Transfers","",null,null,null,null,null,null,null,null,0]
[null,null,null,null,null,null,null,null,null,null,null,null,null,null,null,null,null,null,null,null,null,null,0]
[null,null,null,null,null,null,null,null,null,null,null,null,"EEO Code \"Officials and Administrators\" Leaders External Transfers","",null,null,null,null,null,null,null,null,{"$f":"IF(AND($M$57=\"enabled\",$P$57=\"enabled\"),1,0)","v":0}]
[null,null,null,null,null,null,null,null,null,null,null,null," EEO Code \"Professionals\" Leaders  External Transfers","",null,null,null,null,null,null,null,null,0]
[null,null,null,null,null,null,null,null,null,null,null,null," EEO Code \"Technicians\" Leaders  External Transfers","",null,null,null,null,null,null,null,null,0]
[null,null,null,null,null,null,null,null,null,null,null,null," EEO Code \"Protective Service Workers\" Leaders  External Transfers","",null,null,null,null,null,null,null,null,0]
[null,null,null,null,null,null,null,null,null,null,null,null," EEO Code \"Paraprofessionals\" Leaders  External Transfers","",null,null,null,null,null,null,null,null,0]
[null,null,null,null,null,null,null,null,null,null,null,null," EEO Code \"Administrative Support\" Leaders  External Transfers","",null,null,null,null,null,null,null,null,0]
[null,null,null,null,null,null,null,null,null,null,null,null," EEO Code \"Skilled Craft Workers\" Leaders  External Transfers","",null,null,null,null,null,null,null,null,0]
[null,null,null,null,null,null,null,null,null,null,null,null," EEO Code \"Service/Maintenance\" Leaders  External Transfers","",null,null,null,null,null,null,null,null,0]
[null,null,null,null,null,null,null,null,null,null,null,null," EEO Code \"Faculty\" Leaders  External Transfers","",null,null,null,null,null,null,null,null,0]
[null,null,null,null,null,null,null,null,null,null,null,null," EEO Code \"Other\" Leaders  External Transfers","",null,null,null,null,null,null,null,null,0]
[null,null,null,null,null,null,null,null,null,null,null,null,null,null,null,null,null,null,null,null,null,null,0]
[null,null,null,null,null,null,null,null,null,null,null,null,"EEO Code \"Officials and Administrators\" Executives External Transfers","",null,null,null,null,null,null,null,null,{"$f":"IF(AND($M$57=\"enabled\",$Q$57=\"enabled\"),1,0)","v":0}]
[null,null,null,null,null,null,null,null,null,null,null,null," EEO Code \"Professionals\" Executives  External Transfers","",null,null,null,null,null,null,null,null,0]
[null,null,null,null,null,null,null,null,null,null,null,null," EEO Code \"Technicians\" Executives  External Transfers","",null,null,null,null,null,null,null,null,0]
[null,null,null,null,null,null,null,null,null,null,null,null," EEO Code \"Protective Service Workers\" Executives  External Transfers","",null,null,null,null,null,null,null,null,0]
[null,null,null,null,null,null,null,null,null,null,null,null," EEO Code \"Paraprofessionals\" Executives  External Transfers","",null,null,null,null,null,null,null,null,0]
[null,null,null,null,null,null,null,null,null,null,null,null," EEO Code \"Administrative Support\" Executives  External Transfers","",null,null,null,null,null,null,null,null,0]
[null,null,null,null,null,null,null,null,null,null,null,null," EEO Code \"Skilled Craft Workers\" Executives  External Transfers","",null,null,null,null,null,null,null,null,0]
[null,null,null,null,null,null,null,null,null,null,null,null," EEO Code \"Service/Maintenance\" Executives  External Transfers","",null,null,null,null,null,null,null,null,0]
[null,null,null,null,null,null,null,null,null,null,null,null," EEO Code \"Faculty\" Executives  External Transfers","",null,null,null,null,null,null,null,null,0]
[null,null,null,null,null,null,null,null,null,null,null,null," EEO Code \"Other\" Executives  External Transfers","",null,null,null,null,null,null,null,null,0]
[null,null,null,null,null,null,null,null,null,null,null,null,null,null,null,null,null,null,null,null,null,null,0]
[null,null,null,null,null,null,null,null,null,null,null,null,null,null,null,"All Employees External Transfers by Classification",null,null,null,null,null,null,{"$f":"IF(OR($M$58=\"enabled\",$P$58=\"enabled\",$Q$58=\"enabled\"),1,0)","v":0}]
[null,null,null,null,null,null,null,null,null,null,null,null,null,{"$f":"'CENTRAL DATA'!$H$12","v":"FY-2"},{"$f":"'CENTRAL DATA'!$H$13","v":"FY-1"},{"$f":"IF(PROFILE!$L$43=\"Fiscal Year WFP\",'CENTRAL DATA'!$H$14,IF(PROFILE!$L$43=\"Snapshot\",CONCATENATE(\"As of \",TEXT(PROFILE!$N$44,\"mm/dd/yy\"),\"\")))","v":false},null,null,null,null,null,null,{"$f":"IF(OR($M$58=\"enabled\",$P$58=\"enabled\",$Q$58=\"enabled\"),1,0)","v":0}]
[null,null,null,null,null,null,null,null,null,null,null,null,null,null,null,null,null,null,null,null,null,null,{"$f":"IF(OR($M$58=\"enabled\",$P$58=\"enabled\",$Q$58=\"enabled\"),1,0)","v":0}]
[null,null,{"$f":"COUNTIF(M1678,\"*\"&PROFILE!$C$58&\"*\")","v":1},null,null,null,null,null,null,null,null,null,{"$f":"CONCATENATE(\" \",PROFILE!C58,\" External Transfers\")","v":"  External Transfers"},"",null,null,null,null,null,null,null,null,{"$f":"IF(AND(OR($M$58=\"enabled\"),C1678=1),1,0)","v":0}]
[null,null,{"$f":"COUNTIF(M1679,\"*\"&PROFILE!$C$59&\"*\")","v":1},null,null,null,null,null,null,null,null,null,{"$f":"CONCATENATE(\" \",PROFILE!C59,\" External Transfers\")","v":"  External Transfers"},"",null,null,null,null,null,null,null,null,{"$f":"IF(AND(OR($M$58=\"enabled\"),C1679=1),1,0)","v":0}]
[null,null,{"$f":"COUNTIF(M1680,\"*\"&PROFILE!$C$60&\"*\")","v":1},null,null,null,null,null,null,null,null,null,{"$f":"CONCATENATE(\" \",PROFILE!C60,\" External Transfers\")","v":"  External Transfers"},"",null,null,null,null,null,null,null,null,0]
[null,null,{"$f":"COUNTIF(M1681,\"*\"&PROFILE!$C$61&\"*\")","v":1},null,null,null,null,null,null,null,null,null,{"$f":"CONCATENATE(\" \",PROFILE!C61,\" External Transfers\")","v":"  External Transfers"},"",null,null,null,null,null,null,null,null,0]
[null,null,{"$f":"COUNTIF(M1682,\"*\"&PROFILE!$C$62&\"*\")","v":1},null,null,null,null,null,null,null,null,null,{"$f":"CONCATENATE(\" \",PROFILE!C62,\" External Transfers\")","v":"  External Transfers"},"",null,null,null,null,null,null,null,null,0]
[null,null,{"$f":"COUNTIF(M1683,\"*\"&PROFILE!$C$63&\"*\")","v":1},null,null,null,null,null,null,null,null,null,{"$f":"CONCATENATE(\" \",PROFILE!C63,\" External Transfers\")","v":"  External Transfers"},"",null,null,null,null,null,null,null,null,0]
[null,null,{"$f":"COUNTIF(M1684,\"*\"&PROFILE!$C$64&\"*\")","v":1},null,null,null,null,null,null,null,null,null,{"$f":"CONCATENATE(\" \",PROFILE!C64,\" External Transfers\")","v":"  External Transfers"},"",null,null,null,null,null,null,null,null,0]
[null,null,{"$f":"COUNTIF(M1685,\"*\"&PROFILE!$C$65&\"*\")","v":1},null,null,null,null,null,null,null,null,null,{"$f":"CONCATENATE(\" \",PROFILE!C65,\" External Transfers\")","v":"  External Transfers"},"",null,null,null,null,null,null,null,null,0]
[null,null,{"$f":"COUNTIF(M1686,\"*\"&PROFILE!$C$66&\"*\")","v":1},null,null,null,null,null,null,null,null,null,{"$f":"CONCATENATE(\" \",PROFILE!C66,\" External Transfers\")","v":"  External Transfers"},"",null,null,null,null,null,null,null,null,0]
[null,null,{"$f":"COUNTIF(M1687,\"*\"&PROFILE!$C$67&\"*\")","v":1},null,null,null,null,null,null,null,null,null,{"$f":"CONCATENATE(\" \",PROFILE!C67,\" External Transfers\")","v":"  External Transfers"},"",null,null,null,null,null,null,null,null,0]
[null,null,{"$f":"COUNTIF(M1688,\"*\"&PROFILE!$C$68&\"*\")","v":1},null,null,null,null,null,null,null,null,null,{"$f":"CONCATENATE(\" \",PROFILE!C68,\" External Transfers\")","v":"  External Transfers"},"",null,null,null,null,null,null,null,null,0]
[null,null,{"$f":"COUNTIF(M1689,\"*\"&PROFILE!$C$69&\"*\")","v":1},null,null,null,null,null,null,null,null,null,{"$f":"CONCATENATE(\" \",PROFILE!C69,\" External Transfers\")","v":"  External Transfers"},"",null,null,null,null,null,null,null,null,0]
[null,null,{"$f":"COUNTIF(M1690,\"*\"&PROFILE!$C$70&\"*\")","v":1},null,null,null,null,null,null,null,null,null,{"$f":"CONCATENATE(\" \",PROFILE!C70,\" External Transfers\")","v":"  External Transfers"},"",null,null,null,null,null,null,null,null,0]
[null,null,{"$f":"COUNTIF(M1691,\"*\"&PROFILE!$C$71&\"*\")","v":1},null,null,null,null,null,null,null,null,null,{"$f":"CONCATENATE(\" \",PROFILE!C71,\" External Transfers\")","v":"  External Transfers"},"",null,null,null,null,null,null,null,null,0]
[null,null,{"$f":"COUNTIF(M1692,\"*\"&PROFILE!$C$72&\"*\")","v":1},null,null,null,null,null,null,null,null,null,{"$f":"CONCATENATE(\" \",PROFILE!C72,\" External Transfers\")","v":"  External Transfers"},"",null,null,null,null,null,null,null,null,0]
[null,null,null,null,null,null,null,null,null,null,null,null,null,null,null,null,null,null,null,null,null,null,{"$f":"IF(OR($M$58=\"enabled\"),1,0)","v":0}]
[null,null,{"$f":"COUNTIF(M1694,\"*\"&PROFILE!$C$58&\"*\")","v":1},null,null,null,null,null,null,null,null,null,{"$f":"CONCATENATE(\" \",PROFILE!C58,\" Leaders External Transfers\")","v":"  Leaders External Transfers"},"",null,null,null,null,null,null,null,null,{"$f":"IF(AND($M$58=\"enabled\",$P$58=\"enabled\",C1694=1),1,0)","v":0}]
[null,null,{"$f":"COUNTIF(M1695,\"*\"&PROFILE!$C$59&\"*\")","v":1},null,null,null,null,null,null,null,null,null,{"$f":"CONCATENATE(\" \",PROFILE!C59,\" Leaders External Transfers\")","v":"  Leaders External Transfers"},"",null,null,null,null,null,null,null,null,{"$f":"IF(AND($M$58=\"enabled\",$P$58=\"enabled\",C1695=1),1,0)","v":0}]
[null,null,{"$f":"COUNTIF(M1696,\"*\"&PROFILE!$C$60&\"*\")","v":1},null,null,null,null,null,null,null,null,null,{"$f":"CONCATENATE(\" \",PROFILE!C60,\" Leaders External Transfers\")","v":"  Leaders External Transfers"},"",null,null,null,null,null,null,null,null,0]
[null,null,{"$f":"COUNTIF(M1697,\"*\"&PROFILE!$C$61&\"*\")","v":1},null,null,null,null,null,null,null,null,null,{"$f":"CONCATENATE(\" \",PROFILE!C61,\" Leaders External Transfers\")","v":"  Leaders External Transfers"},"",null,null,null,null,null,null,null,null,0]
[null,null,{"$f":"COUNTIF(M1698,\"*\"&PROFILE!$C$62&\"*\")","v":1},null,null,null,null,null,null,null,null,null,{"$f":"CONCATENATE(\" \",PROFILE!C62,\" Leaders External Transfers\")","v":"  Leaders External Transfers"},"",null,null,null,null,null,null,null,null,0]
[null,null,{"$f":"COUNTIF(M1699,\"*\"&PROFILE!$C$63&\"*\")","v":1},null,null,null,null,null,null,null,null,null,{"$f":"CONCATENATE(\" \",PROFILE!C63,\" Leaders External Transfers\")","v":"  Leaders External Transfers"},"",null,null,null,null,null,null,null,null,0]
[null,null,{"$f":"COUNTIF(M1700,\"*\"&PROFILE!$C$64&\"*\")","v":1},null,null,null,null,null,null,null,null,null,{"$f":"CONCATENATE(\" \",PROFILE!C64,\" Leaders External Transfers\")","v":"  Leaders External Transfers"},"",null,null,null,null,null,null,null,null,0]
[null,null,{"$f":"COUNTIF(M1701,\"*\"&PROFILE!$C$65&\"*\")","v":1},null,null,null,null,null,null,null,null,null,{"$f":"CONCATENATE(\" \",PROFILE!C65,\" Leaders External Transfers\")","v":"  Leaders External Transfers"},"",null,null,null,null,null,null,null,null,0]
[null,null,{"$f":"COUNTIF(M1702,\"*\"&PROFILE!$C$66&\"*\")","v":1},null,null,null,null,null,null,null,null,null,{"$f":"CONCATENATE(\" \",PROFILE!C66,\" Leaders External Transfers\")","v":"  Leaders External Transfers"},"",null,null,null,null,null,null,null,null,0]
[null,null,{"$f":"COUNTIF(M1703,\"*\"&PROFILE!$C$67&\"*\")","v":1},null,null,null,null,null,null,null,null,null,{"$f":"CONCATENATE(\" \",PROFILE!C67,\" Leaders External Transfers\")","v":"  Leaders External Transfers"},"",null,null,null,null,null,null,null,null,0]
[null,null,{"$f":"COUNTIF(M1704,\"*\"&PROFILE!$C$68&\"*\")","v":1},null,null,null,null,null,null,null,null,null,{"$f":"CONCATENATE(\" \",PROFILE!C68,\" Leaders External Transfers\")","v":"  Leaders External Transfers"},"",null,null,null,null,null,null,null,null,0]
[null,null,{"$f":"COUNTIF(M1705,\"*\"&PROFILE!$C$69&\"*\")","v":1},null,null,null,null,null,null,null,null,null,{"$f":"CONCATENATE(\" \",PROFILE!C69,\" Leaders External Transfers\")","v":"  Leaders External Transfers"},"",null,null,null,null,null,null,null,null,0]
[null,null,{"$f":"COUNTIF(M1706,\"*\"&PROFILE!$C$70&\"*\")","v":1},null,null,null,null,null,null,null,null,null,{"$f":"CONCATENATE(\" \",PROFILE!C70,\" Leaders External Transfers\")","v":"  Leaders External Transfers"},"",null,null,null,null,null,null,null,null,0]
[null,null,{"$f":"COUNTIF(M1707,\"*\"&PROFILE!$C$71&\"*\")","v":1},null,null,null,null,null,null,null,null,null,{"$f":"CONCATENATE(\" \",PROFILE!C71,\" Leaders External Transfers\")","v":"  Leaders External Transfers"},"",null,null,null,null,null,null,null,null,0]
[null,null,{"$f":"COUNTIF(M1708,\"*\"&PROFILE!$C$72&\"*\")","v":1},null,null,null,null,null,null,null,null,null,{"$f":"CONCATENATE(\" \",PROFILE!C72,\" Leaders External Transfers\")","v":"  Leaders External Transfers"},"",null,null,null,null,null,null,null,null,0]
[null,null,null,null,null,null,null,null,null,null,null,null,null,null,null,null,null,null,null,null,null,null,{"$f":"IF(AND($M$58=\"enabled\",$P$58=\"enabled\"),1,0)","v":0}]
[null,null,{"$f":"COUNTIF(M1710,\"*\"&PROFILE!$C$58&\"*\")","v":1},null,null,null,null,null,null,null,null,null,{"$f":"CONCATENATE(\" \",PROFILE!C58,\" Executives External Transfers\")","v":"  Executives External Transfers"},"",null,null,null,null,null,null,null,null,{"$f":"IF(AND($M$58=\"enabled\",$Q$58=\"enabled\",C1710=1),1,0)","v":0}]
[null,null,{"$f":"COUNTIF(M1711,\"*\"&PROFILE!$C$59&\"*\")","v":1},null,null,null,null,null,null,null,null,null,{"$f":"CONCATENATE(\" \",PROFILE!C59,\" Executives External Transfers\")","v":"  Executives External Transfers"},"",null,null,null,null,null,null,null,null,{"$f":"IF(AND($M$58=\"enabled\",$Q$58=\"enabled\",C1711=1),1,0)","v":0}]
[null,null,{"$f":"COUNTIF(M1712,\"*\"&PROFILE!$C$60&\"*\")","v":1},null,null,null,null,null,null,null,null,null,{"$f":"CONCATENATE(\" \",PROFILE!C60,\" Executives External Transfers\")","v":"  Executives External Transfers"},"",null,null,null,null,null,null,null,null,0]
[null,null,{"$f":"COUNTIF(M1713,\"*\"&PROFILE!$C$61&\"*\")","v":1},null,null,null,null,null,null,null,null,null,{"$f":"CONCATENATE(\" \",PROFILE!C61,\" Executives External Transfers\")","v":"  Executives External Transfers"},"",null,null,null,null,null,null,null,null,0]
[null,null,{"$f":"COUNTIF(M1714,\"*\"&PROFILE!$C$62&\"*\")","v":1},null,null,null,null,null,null,null,null,null,{"$f":"CONCATENATE(\" \",PROFILE!C62,\" Executives External Transfers\")","v":"  Executives External Transfers"},"",null,null,null,null,null,null,null,null,0]
[null,null,{"$f":"COUNTIF(M1715,\"*\"&PROFILE!$C$63&\"*\")","v":1},null,null,null,null,null,null,null,null,null,{"$f":"CONCATENATE(\" \",PROFILE!C63,\" Executives External Transfers\")","v":"  Executives External Transfers"},"",null,null,null,null,null,null,null,null,0]
[null,null,{"$f":"COUNTIF(M1716,\"*\"&PROFILE!$C$64&\"*\")","v":1},null,null,null,null,null,null,null,null,null,{"$f":"CONCATENATE(\" \",PROFILE!C64,\" Executives External Transfers\")","v":"  Executives External Transfers"},"",null,null,null,null,null,null,null,null,0]
[null,null,{"$f":"COUNTIF(M1717,\"*\"&PROFILE!$C$65&\"*\")","v":1},null,null,null,null,null,null,null,null,null,{"$f":"CONCATENATE(\" \",PROFILE!C65,\" Executives External Transfers\")","v":"  Executives External Transfers"},"",null,null,null,null,null,null,null,null,0]
[null,null,{"$f":"COUNTIF(M1718,\"*\"&PROFILE!$C$66&\"*\")","v":1},null,null,null,null,null,null,null,null,null,{"$f":"CONCATENATE(\" \",PROFILE!C66,\" Executives External Transfers\")","v":"  Executives External Transfers"},"",null,null,null,null,null,null,null,null,0]
[null,null,{"$f":"COUNTIF(M1719,\"*\"&PROFILE!$C$67&\"*\")","v":1},null,null,null,null,null,null,null,null,null,{"$f":"CONCATENATE(\" \",PROFILE!C67,\" Executives External Transfers\")","v":"  Executives External Transfers"},"",null,null,null,null,null,null,null,null,0]
[null,null,{"$f":"COUNTIF(M1720,\"*\"&PROFILE!$C$68&\"*\")","v":1},null,null,null,null,null,null,null,null,null,{"$f":"CONCATENATE(\" \",PROFILE!C68,\" Executives External Transfers\")","v":"  Executives External Transfers"},"",null,null,null,null,null,null,null,null,0]
[null,null,{"$f":"COUNTIF(M1721,\"*\"&PROFILE!$C$69&\"*\")","v":1},null,null,null,null,null,null,null,null,null,{"$f":"CONCATENATE(\" \",PROFILE!C69,\" Executives External Transfers\")","v":"  Executives External Transfers"},"",null,null,null,null,null,null,null,null,0]
[null,null,{"$f":"COUNTIF(M1722,\"*\"&PROFILE!$C$70&\"*\")","v":1},null,null,null,null,null,null,null,null,null,{"$f":"CONCATENATE(\" \",PROFILE!C70,\" Executives External Transfers\")","v":"  Executives External Transfers"},"",null,null,null,null,null,null,null,null,0]
[null,null,{"$f":"COUNTIF(M1723,\"*\"&PROFILE!$C$71&\"*\")","v":1},null,null,null,null,null,null,null,null,null,{"$f":"CONCATENATE(\" \",PROFILE!C71,\" Executives External Transfers\")","v":"  Executives External Transfers"},"",null,null,null,null,null,null,null,null,0]
[null,null,{"$f":"COUNTIF(M1724,\"*\"&PROFILE!$C$72&\"*\")","v":1},null,null,null,null,null,null,null,null,null,{"$f":"CONCATENATE(\" \",PROFILE!C72,\" Executives External Transfers\")","v":"  Executives External Transfers"},"",null,null,null,null,null,null,null,null,0]
[null,null,null,null,null,null,null,null,null,null,null,null,null,null,null,null,null,null,null,null,null,null,{"$f":"IF(AND($M$58=\"enabled\",$Q$58=\"enabled\"),1,0)","v":0}]
[null,null,null,null,null,null,null,null,null,null,null,null,null,null,null,"All Employees External Transfers by Sex",null,null,null,null,null,null,{"$f":"IF(OR($M$59=\"enabled\",$P$59=\"enabled\",$Q$59=\"enabled\"),1,0)","v":0}]
[null,null,null,null,null,null,null,null,null,null,null,null,null,{"$f":"'CENTRAL DATA'!$H$12","v":"FY-2"},{"$f":"'CENTRAL DATA'!$H$13","v":"FY-1"},{"$f":"IF(PROFILE!$L$43=\"Fiscal Year WFP\",'CENTRAL DATA'!$H$14,IF(PROFILE!$L$43=\"Snapshot\",CONCATENATE(\"As of \",TEXT(PROFILE!$N$44,\"mm/dd/yy\"),\"\")))","v":false},null,null,null,null,null,null,{"$f":"IF(OR($M$59=\"enabled\",$P$59=\"enabled\",$Q$59=\"enabled\"),1,0)","v":0}]
[null,null,null,null,null,null,null,null,null,null,null,null,null,null,null,null,null,null,null,null,null,null,{"$f":"IF(OR($M$59=\"enabled\",$P$59=\"enabled\",$Q$59=\"enabled\"),1,0)","v":0}]
[null,null,null,null,null,null,null,null,null,null,null,null,"Male External Transfers","",null,null,null,null,null,null,null,null,{"$f":"IF(OR($M$59=\"enabled\"),1,0)","v":0}]
[null,null,null,null,null,null,null,null,null,null,null,null,"Female External Transfers","",null,null,null,null,null,null,null,null,{"$f":"IF(OR($M$59=\"enabled\"),1,0)","v":0}]
[null,null,null,null,null,null,null,null,null,null,null,null,null,null,null,null,null,null,null,null,null,null,{"$f":"IF(OR($M$59=\"enabled\"),1,0)","v":0}]
[null,null,null,null,null,null,null,null,null,null,null,null,"Male Leader External Transfers","",null,null,null,null,null,null,null,null,{"$f":"IF(AND($M$59=\"enabled\",$P$59=\"enabled\"),1,0)","v":0}]
[null,null,null,null,null,null,null,null,null,null,null,null,"Female Leader External Transfers","",null,null,null,null,null,null,null,null,{"$f":"IF(AND($M$59=\"enabled\",$P$59=\"enabled\"),1,0)","v":0}]
[null,null,null,null,null,null,null,null,null,null,null,null,null,null,null,null,null,null,null,null,null,null,{"$f":"IF(AND($M$59=\"enabled\",$P$59=\"enabled\"),1,0)","v":0}]
[null,null,null,null,null,null,null,null,null,null,null,null,"Male Executive External Transfers","",null,null,null,null,null,null,null,null,{"$f":"IF(AND($M$59=\"enabled\",$Q$59=\"enabled\"),1,0)","v":0}]
[null,null,null,null,null,null,null,null,null,null,null,null,"Female Executive External Transfers","",null,null,null,null,null,null,null,null,{"$f":"IF(AND($M$59=\"enabled\",$Q$59=\"enabled\"),1,0)","v":0}]
[null,null,null,null,null,null,null,null,null,null,null,null,null,null,null,null,null,null,null,null,null,null,{"$f":"IF(AND($M$59=\"enabled\",$Q$59=\"enabled\"),1,0)","v":0}]
[null,null,null,null,null,null,null,null,null,null,null,null,null,null,null,"All Employees External Transfers by Race",null,null,null,null,null,null,{"$f":"IF(OR($M$60=\"enabled\",$P$60=\"enabled\",$Q$60=\"enabled\"),1,0)","v":0}]
[null,null,null,null,null,null,null,null,null,null,null,null,null,{"$f":"'CENTRAL DATA'!$H$12","v":"FY-2"},{"$f":"'CENTRAL DATA'!$H$13","v":"FY-1"},{"$f":"IF(PROFILE!$L$43=\"Fiscal Year WFP\",'CENTRAL DATA'!$H$14,IF(PROFILE!$L$43=\"Snapshot\",CONCATENATE(\"As of \",TEXT(PROFILE!$N$44,\"mm/dd/yy\"),\"\")))","v":false},null,null,null,null,null,null,{"$f":"IF(OR($M$60=\"enabled\",$P$60=\"enabled\",$Q$60=\"enabled\"),1,0)","v":0}]
[null,null,null,null,null,null,null,null,null,null,null,null,null,null,null,null,null,null,null,null,null,null,{"$f":"IF(OR($M$60=\"enabled\",$P$60=\"enabled\",$Q$60=\"enabled\"),1,0)","v":0}]
[null,null,null,null,null,null,null,null,null,null,null,null,"Minority External Transfers","",null,null,null,null,null,null,null,null,{"$f":"IF(OR($M$60=\"enabled\"),1,0)","v":0}]
[null,null,null,null,null,null,null,null,null,null,null,null,"Non-Minority External Transfers","",null,null,null,null,null,null,null,null,0]
[null,null,null,null,null,null,null,null,null,null,null,null,null,null,null,null,null,null,null,null,null,null,0]
[null,null,null,null,null,null,null,null,null,null,null,null,"Minority Leader External Transfers","",null,null,null,null,null,null,null,null,{"$f":"IF(AND($M$60=\"enabled\",$P$60=\"enabled\"),1,0)","v":0}]
[null,null,null,null,null,null,null,null,null,null,null,null,"Non-Minority Leader External Transfers","",null,null,null,null,null,null,null,null,0]
[null,null,null,null,null,null,null,null,null,null,null,null,null,null,null,null,null,null,null,null,null,null,0]
[null,null,null,null,null,null,null,null,null,null,null,null,"Minority Executive External Transfers","",null,null,null,null,null,null,null,null,{"$f":"IF(AND($M$60=\"enabled\",$Q$60=\"enabled\"),1,0)","v":0}]
[null,null,null,null,null,null,null,null,null,null,null,null,"Non-Minority Executive External Transfers","",null,null,null,null,null,null,null,null,0]
[null,null,null,null,null,null,null,null,null,null,null,null,null,null,null,null,null,null,null,null,null,null,0]
[null,null,null,null,null,null,null,null,null,null,null,null,null,null,null,"All Employees External Transfers by Other Demographics",null,null,null,null,null,null,{"$f":"IF(OR($M$61=\"enabled\",$P$61=\"enabled\",$Q$61=\"enabled\"),1,0)","v":0}]
[null,null,null,null,null,null,null,null,null,null,null,null,null,{"$f":"'CENTRAL DATA'!$H$12","v":"FY-2"},{"$f":"'CENTRAL DATA'!$H$13","v":"FY-1"},{"$f":"IF(PROFILE!$L$43=\"Fiscal Year WFP\",'CENTRAL DATA'!$H$14,IF(PROFILE!$L$43=\"Snapshot\",CONCATENATE(\"As of \",TEXT(PROFILE!$N$44,\"mm/dd/yy\"),\"\")))","v":false},null,null,null,null,null,null,{"$f":"IF(OR($M$61=\"enabled\",$P$61=\"enabled\",$Q$61=\"enabled\"),1,0)","v":0}]
[null,null,null,null,null,null,null,null,null,null,null,null,null,null,null,null,null,null,null,null,null,null,{"$f":"IF(OR($M$61=\"enabled\",$P$61=\"enabled\",$Q$61=\"enabled\"),1,0)","v":0}]
[null,null,null,null,null,null,null,null,null,null,null,null,"Employees with Disabilities External Transfers","",null,null,null,null,null,null,null,null,{"$f":"IF(OR($M$61=\"enabled\"),1,0)","v":0}]
[null,null,null,null,null,null,null,null,null,null,null,null,"External Transfers who are Veterans","",null,null,null,null,null,null,null,null,{"$f":"IF(OR($M$61=\"enabled\"),1,0)","v":0}]
[null,null,null,null,null,null,null,null,null,null,null,null,null,null,null,null,null,null,null,null,null,null,{"$f":"IF(OR($M$61=\"enabled\"),1,0)","v":0}]
[null,null,null,null,null,null,null,null,null,null,null,null,"Leaders with Disabilities External Transfers","",null,null,null,null,null,null,null,null,{"$f":"IF(AND($M$61=\"enabled\",$P$61=\"enabled\"),1,0)","v":0}]
[null,null,null,null,null,null,null,null,null,null,null,null,"Leaders who are Veterans External Transfers","",null,null,null,null,null,null,null,null,{"$f":"IF(AND($M$61=\"enabled\",$P$61=\"enabled\"),1,0)","v":0}]
[null,null,null,null,null,null,null,null,null,null,null,null,null,null,null,null,null,null,null,null,null,null,{"$f":"IF(AND($M$61=\"enabled\",$P$61=\"enabled\"),1,0)","v":0}]
[null,null,null,null,null,null,null,null,null,null,null,null,"Executives with Disabilities External Transfers","",null,null,null,null,null,null,null,null,{"$f":"IF(AND($M$61=\"enabled\",$Q$61=\"enabled\"),1,0)","v":0}]
[null,null,null,null,null,null,null,null,null,null,null,null,"Executives who are Veterans External Transfers","",null,null,null,null,null,null,null,null,{"$f":"IF(AND($M$61=\"enabled\",$Q$61=\"enabled\"),1,0)","v":0}]
[null,null,null,null,null,null,null,null,null,null,null,null,null,null,null,null,null,null,null,null,null,null,{"$f":"IF(AND($M$61=\"enabled\",$Q$61=\"enabled\"),1,0)","v":0}]
[null,null,null,null,null,null,null,null,null,null,null,null,null,null,null,"All Employees Voluntary Separations by EEO Code",null,null,null,null,null,null,{"$f":"IF(OR($M$65=\"enabled\",$P$65=\"enabled\",$Q$65=\"enabled\"),1,0)","v":0}]
[null,null,null,null,null,null,null,null,null,null,null,null,null,{"$f":"'CENTRAL DATA'!$H$12","v":"FY-2"},{"$f":"'CENTRAL DATA'!$H$13","v":"FY-1"},{"$f":"IF(PROFILE!$L$43=\"Fiscal Year WFP\",'CENTRAL DATA'!$H$14,IF(PROFILE!$L$43=\"Snapshot\",CONCATENATE(\"As of \",TEXT(PROFILE!$N$44,\"mm/dd/yy\"),\"\")))","v":false},null,null,null,null,null,null,{"$f":"IF(OR($M$65=\"enabled\",$P$65=\"enabled\",$Q$65=\"enabled\"),1,0)","v":0}]
[null,null,null,null,null,null,null,null,null,null,null,null,null,null,null,null,null,null,null,null,null,null,{"$f":"IF(OR($M$65=\"enabled\",$P$65=\"enabled\",$Q$65=\"enabled\"),1,0)","v":0}]
[null,null,null,null,null,null,null,null,null,null,null,null,"EEO Code \"Officials and Administrators\" Voluntary Separations","",null,null,null,null,null,null,null,null,{"$f":"IF(OR($M$65=\"enabled\"),1,0)","v":0}]
[null,null,null,null,null,null,null,null,null,null,null,null," EEO Code \"Professionals\" Voluntary Separations","",null,null,null,null,null,null,null,null,0]
[null,null,null,null,null,null,null,null,null,null,null,null," EEO Code \"Technicians\" Voluntary Separations","",null,null,null,null,null,null,null,null,0]
[null,null,null,null,null,null,null,null,null,null,null,null," EEO Code \"Protective Service Workers\" Voluntary Separations","",null,null,null,null,null,null,null,null,0]
[null,null,null,null,null,null,null,null,null,null,null,null," EEO Code \"Paraprofessionals\" Voluntary Separations","",null,null,null,null,null,null,null,null,0]
[null,null,null,null,null,null,null,null,null,null,null,null," EEO Code \"Administrative Support\" Voluntary Separations","",null,null,null,null,null,null,null,null,0]
[null,null,null,null,null,null,null,null,null,null,null,null," EEO Code \"Skilled Craft Workers\" Voluntary Separations","",null,null,null,null,null,null,null,null,0]
[null,null,null,null,null,null,null,null,null,null,null,null," EEO Code \"Service/Maintenance\" Voluntary Separations","",null,null,null,null,null,null,null,null,0]
[null,null,null,null,null,null,null,null,null,null,null,null," EEO Code \"Faculty\" Voluntary Separations","",null,null,null,null,null,null,null,null,0]
[null,null,null,null,null,null,null,null,null,null,null,null," EEO Code \"Other\" Voluntary Separations","",null,null,null,null,null,null,null,null,0]
[null,null,null,null,null,null,null,null,null,null,null,null,null,null,null,null,null,null,null,null,null,null,0]
[null,null,null,null,null,null,null,null,null,null,null,null,"EEO Code \"Officials and Administrators\" Leaders Voluntary Separations","",null,null,null,null,null,null,null,null,{"$f":"IF(AND($M$65=\"enabled\",$P$65=\"enabled\"),1,0)","v":0}]
[null,null,null,null,null,null,null,null,null,null,null,null," EEO Code \"Professionals\" Leaders  Voluntary Separations","",null,null,null,null,null,null,null,null,0]
[null,null,null,null,null,null,null,null,null,null,null,null," EEO Code \"Technicians\" Leaders  Voluntary Separations","",null,null,null,null,null,null,null,null,0]
[null,null,null,null,null,null,null,null,null,null,null,null," EEO Code \"Protective Service Workers\" Leaders  Voluntary Separations","",null,null,null,null,null,null,null,null,0]
[null,null,null,null,null,null,null,null,null,null,null,null," EEO Code \"Paraprofessionals\" Leaders  Voluntary Separations","",null,null,null,null,null,null,null,null,0]
[null,null,null,null,null,null,null,null,null,null,null,null," EEO Code \"Administrative Support\" Leaders  Voluntary Separations","",null,null,null,null,null,null,null,null,0]
[null,null,null,null,null,null,null,null,null,null,null,null," EEO Code \"Skilled Craft Workers\" Leaders  Voluntary Separations","",null,null,null,null,null,null,null,null,0]
[null,null,null,null,null,null,null,null,null,null,null,null," EEO Code \"Service/Maintenance\" Leaders  Voluntary Separations","",null,null,null,null,null,null,null,null,0]
[null,null,null,null,null,null,null,null,null,null,null,null," EEO Code \"Faculty\" Leaders  Voluntary Separations","",null,null,null,null,null,null,null,null,0]
[null,null,null,null,null,null,null,null,null,null,null,null," EEO Code \"Other\" Leaders  Voluntary Separations","",null,null,null,null,null,null,null,null,0]
[null,null,null,null,null,null,null,null,null,null,null,null,null,null,null,null,null,null,null,null,null,null,0]
[null,null,null,null,null,null,null,null,null,null,null,null,"EEO Code \"Officials and Administrators\" Executives Voluntary Separations","",null,null,null,null,null,null,null,null,{"$f":"IF(AND($M$65=\"enabled\",$Q$65=\"enabled\"),1,0)","v":0}]
[null,null,null,null,null,null,null,null,null,null,null,null," EEO Code \"Professionals\" Executives  Voluntary Separations","",null,null,null,null,null,null,null,null,0]
[null,null,null,null,null,null,null,null,null,null,null,null," EEO Code \"Technicians\" Executives  Voluntary Separations","",null,null,null,null,null,null,null,null,0]
[null,null,null,null,null,null,null,null,null,null,null,null," EEO Code \"Protective Service Workers\" Executives  Voluntary Separations","",null,null,null,null,null,null,null,null,0]
[null,null,null,null,null,null,null,null,null,null,null,null," EEO Code \"Paraprofessionals\" Executives  Voluntary Separations","",null,null,null,null,null,null,null,null,0]
[null,null,null,null,null,null,null,null,null,null,null,null," EEO Code \"Administrative Support\" Executives  Voluntary Separations","",null,null,null,null,null,null,null,null,0]
[null,null,null,null,null,null,null,null,null,null,null,null," EEO Code \"Skilled Craft Workers\" Executives  Voluntary Separations","",null,null,null,null,null,null,null,null,0]
[null,null,null,null,null,null,null,null,null,null,null,null," EEO Code \"Service/Maintenance\" Executives  Voluntary Separations","",null,null,null,null,null,null,null,null,0]
[null,null,null,null,null,null,null,null,null,null,null,null," EEO Code \"Faculty\" Executives  Voluntary Separations","",null,null,null,null,null,null,null,null,0]
[null,null,null,null,null,null,null,null,null,null,null,null," EEO Code \"Other\" Executives  Voluntary Separations","",null,null,null,null,null,null,null,null,0]
[null,null,null,null,null,null,null,null,null,null,null,null,null,null,null,null,null,null,null,null,null,null,0]
[null,null,null,null,null,null,null,null,null,null,null,null,null,null,null,"All Employees Voluntary Separations by Classification",null,null,null,null,null,null,{"$f":"IF(OR($M$66=\"enabled\",$P$66=\"enabled\",$Q$66=\"enabled\"),1,0)","v":0}]
[null,null,null,null,null,null,null,null,null,null,null,null,null,{"$f":"'CENTRAL DATA'!$H$12","v":"FY-2"},{"$f":"'CENTRAL DATA'!$H$13","v":"FY-1"},{"$f":"IF(PROFILE!$L$43=\"Fiscal Year WFP\",'CENTRAL DATA'!$H$14,IF(PROFILE!$L$43=\"Snapshot\",CONCATENATE(\"As of \",TEXT(PROFILE!$N$44,\"mm/dd/yy\"),\"\")))","v":false},null,null,null,null,null,null,{"$f":"IF(OR($M$66=\"enabled\",$P$66=\"enabled\",$Q$66=\"enabled\"),1,0)","v":0}]
[null,null,null,null,null,null,null,null,null,null,null,null,null,null,null,null,null,null,null,null,null,null,{"$f":"IF(OR($M$66=\"enabled\",$P$66=\"enabled\",$Q$66=\"enabled\"),1,0)","v":0}]
[null,null,{"$f":"COUNTIF(M1801,\"*\"&PROFILE!$C$58&\"*\")","v":1},null,null,null,null,null,null,null,null,null,{"$f":"CONCATENATE(\" \",PROFILE!C58,\" Voluntary Separations\")","v":"  Voluntary Separations"},"",null,null,null,null,null,null,null,null,{"$f":"IF(AND(OR($M$66=\"enabled\"),C1801=1),1,0)","v":0}]
[null,null,{"$f":"COUNTIF(M1802,\"*\"&PROFILE!$C$59&\"*\")","v":1},null,null,null,null,null,null,null,null,null,{"$f":"CONCATENATE(\" \",PROFILE!C59,\" Voluntary Separations\")","v":"  Voluntary Separations"},"",null,null,null,null,null,null,null,null,{"$f":"IF(AND(OR($M$66=\"enabled\"),C1802=1),1,0)","v":0}]
[null,null,{"$f":"COUNTIF(M1803,\"*\"&PROFILE!$C$60&\"*\")","v":1},null,null,null,null,null,null,null,null,null,{"$f":"CONCATENATE(\" \",PROFILE!C60,\" Voluntary Separations\")","v":"  Voluntary Separations"},"",null,null,null,null,null,null,null,null,0]
[null,null,{"$f":"COUNTIF(M1804,\"*\"&PROFILE!$C$61&\"*\")","v":1},null,null,null,null,null,null,null,null,null,{"$f":"CONCATENATE(\" \",PROFILE!C61,\" Voluntary Separations\")","v":"  Voluntary Separations"},"",null,null,null,null,null,null,null,null,0]
[null,null,{"$f":"COUNTIF(M1805,\"*\"&PROFILE!$C$62&\"*\")","v":1},null,null,null,null,null,null,null,null,null,{"$f":"CONCATENATE(\" \",PROFILE!C62,\" Voluntary Separations\")","v":"  Voluntary Separations"},"",null,null,null,null,null,null,null,null,0]
[null,null,{"$f":"COUNTIF(M1806,\"*\"&PROFILE!$C$63&\"*\")","v":1},null,null,null,null,null,null,null,null,null,{"$f":"CONCATENATE(\" \",PROFILE!C63,\" Voluntary Separations\")","v":"  Voluntary Separations"},"",null,null,null,null,null,null,null,null,0]
[null,null,{"$f":"COUNTIF(M1807,\"*\"&PROFILE!$C$64&\"*\")","v":1},null,null,null,null,null,null,null,null,null,{"$f":"CONCATENATE(\" \",PROFILE!C64,\" Voluntary Separations\")","v":"  Voluntary Separations"},"",null,null,null,null,null,null,null,null,0]
[null,null,{"$f":"COUNTIF(M1808,\"*\"&PROFILE!$C$65&\"*\")","v":1},null,null,null,null,null,null,null,null,null,{"$f":"CONCATENATE(\" \",PROFILE!C65,\" Voluntary Separations\")","v":"  Voluntary Separations"},"",null,null,null,null,null,null,null,null,0]
[null,null,{"$f":"COUNTIF(M1809,\"*\"&PROFILE!$C$66&\"*\")","v":1},null,null,null,null,null,null,null,null,null,{"$f":"CONCATENATE(\" \",PROFILE!C66,\" Voluntary Separations\")","v":"  Voluntary Separations"},"",null,null,null,null,null,null,null,null,0]
[null,null,{"$f":"COUNTIF(M1810,\"*\"&PROFILE!$C$67&\"*\")","v":1},null,null,null,null,null,null,null,null,null,{"$f":"CONCATENATE(\" \",PROFILE!C67,\" Voluntary Separations\")","v":"  Voluntary Separations"},"",null,null,null,null,null,null,null,null,0]
[null,null,{"$f":"COUNTIF(M1811,\"*\"&PROFILE!$C$68&\"*\")","v":1},null,null,null,null,null,null,null,null,null,{"$f":"CONCATENATE(\" \",PROFILE!C68,\" Voluntary Separations\")","v":"  Voluntary Separations"},"",null,null,null,null,null,null,null,null,0]
[null,null,{"$f":"COUNTIF(M1812,\"*\"&PROFILE!$C$69&\"*\")","v":1},null,null,null,null,null,null,null,null,null,{"$f":"CONCATENATE(\" \",PROFILE!C69,\" Voluntary Separations\")","v":"  Voluntary Separations"},"",null,null,null,null,null,null,null,null,0]
[null,null,{"$f":"COUNTIF(M1813,\"*\"&PROFILE!$C$70&\"*\")","v":1},null,null,null,null,null,null,null,null,null,{"$f":"CONCATENATE(\" \",PROFILE!C70,\" Voluntary Separations\")","v":"  Voluntary Separations"},"",null,null,null,null,null,null,null,null,0]
[null,null,{"$f":"COUNTIF(M1814,\"*\"&PROFILE!$C$71&\"*\")","v":1},null,null,null,null,null,null,null,null,null,{"$f":"CONCATENATE(\" \",PROFILE!C71,\" Voluntary Separations\")","v":"  Voluntary Separations"},"",null,null,null,null,null,null,null,null,0]
[null,null,{"$f":"COUNTIF(M1815,\"*\"&PROFILE!$C$72&\"*\")","v":1},null,null,null,null,null,null,null,null,null,{"$f":"CONCATENATE(\" \",PROFILE!C72,\" Voluntary Separations\")","v":"  Voluntary Separations"},"",null,null,null,null,null,null,null,null,0]
[null,null,null,null,null,null,null,null,null,null,null,null,null,null,null,null,null,null,null,null,null,null,{"$f":"IF(OR($M$66=\"enabled\"),1,0)","v":0}]
[null,null,{"$f":"COUNTIF(M1817,\"*\"&PROFILE!$C$58&\"*\")","v":1},null,null,null,null,null,null,null,null,null,{"$f":"CONCATENATE(\" \",PROFILE!C58,\" Leaders Voluntary Separations\")","v":"  Leaders Voluntary Separations"},"",null,null,null,null,null,null,null,null,{"$f":"IF(AND($M$66=\"enabled\",$P$66=\"enabled\",C1817=1),1,0)","v":0}]
[null,null,{"$f":"COUNTIF(M1818,\"*\"&PROFILE!$C$59&\"*\")","v":1},null,null,null,null,null,null,null,null,null,{"$f":"CONCATENATE(\" \",PROFILE!C59,\" Leaders Voluntary Separations\")","v":"  Leaders Voluntary Separations"},"",null,null,null,null,null,null,null,null,{"$f":"IF(AND($M$66=\"enabled\",$P$66=\"enabled\",C1818=1),1,0)","v":0}]
[null,null,{"$f":"COUNTIF(M1819,\"*\"&PROFILE!$C$60&\"*\")","v":1},null,null,null,null,null,null,null,null,null,{"$f":"CONCATENATE(\" \",PROFILE!C60,\" Leaders Voluntary Separations\")","v":"  Leaders Voluntary Separations"},"",null,null,null,null,null,null,null,null,0]
[null,null,{"$f":"COUNTIF(M1820,\"*\"&PROFILE!$C$61&\"*\")","v":1},null,null,null,null,null,null,null,null,null,{"$f":"CONCATENATE(\" \",PROFILE!C61,\" Leaders Voluntary Separations\")","v":"  Leaders Voluntary Separations"},"",null,null,null,null,null,null,null,null,0]
[null,null,{"$f":"COUNTIF(M1821,\"*\"&PROFILE!$C$62&\"*\")","v":1},null,null,null,null,null,null,null,null,null,{"$f":"CONCATENATE(\" \",PROFILE!C62,\" Leaders Voluntary Separations\")","v":"  Leaders Voluntary Separations"},"",null,null,null,null,null,null,null,null,0]
[null,null,{"$f":"COUNTIF(M1822,\"*\"&PROFILE!$C$63&\"*\")","v":1},null,null,null,null,null,null,null,null,null,{"$f":"CONCATENATE(\" \",PROFILE!C63,\" Leaders Voluntary Separations\")","v":"  Leaders Voluntary Separations"},"",null,null,null,null,null,null,null,null,0]
[null,null,{"$f":"COUNTIF(M1823,\"*\"&PROFILE!$C$64&\"*\")","v":1},null,null,null,null,null,null,null,null,null,{"$f":"CONCATENATE(\" \",PROFILE!C64,\" Leaders Voluntary Separations\")","v":"  Leaders Voluntary Separations"},"",null,null,null,null,null,null,null,null,0]
[null,null,{"$f":"COUNTIF(M1824,\"*\"&PROFILE!$C$65&\"*\")","v":1},null,null,null,null,null,null,null,null,null,{"$f":"CONCATENATE(\" \",PROFILE!C65,\" Leaders Voluntary Separations\")","v":"  Leaders Voluntary Separations"},"",null,null,null,null,null,null,null,null,0]
[null,null,{"$f":"COUNTIF(M1825,\"*\"&PROFILE!$C$66&\"*\")","v":1},null,null,null,null,null,null,null,null,null,{"$f":"CONCATENATE(\" \",PROFILE!C66,\" Leaders Voluntary Separations\")","v":"  Leaders Voluntary Separations"},"",null,null,null,null,null,null,null,null,0]
[null,null,{"$f":"COUNTIF(M1826,\"*\"&PROFILE!$C$67&\"*\")","v":1},null,null,null,null,null,null,null,null,null,{"$f":"CONCATENATE(\" \",PROFILE!C67,\" Leaders Voluntary Separations\")","v":"  Leaders Voluntary Separations"},"",null,null,null,null,null,null,null,null,0]
[null,null,{"$f":"COUNTIF(M1827,\"*\"&PROFILE!$C$68&\"*\")","v":1},null,null,null,null,null,null,null,null,null,{"$f":"CONCATENATE(\" \",PROFILE!C68,\" Leaders Voluntary Separations\")","v":"  Leaders Voluntary Separations"},"",null,null,null,null,null,null,null,null,0]
[null,null,{"$f":"COUNTIF(M1828,\"*\"&PROFILE!$C$69&\"*\")","v":1},null,null,null,null,null,null,null,null,null,{"$f":"CONCATENATE(\" \",PROFILE!C69,\" Leaders Voluntary Separations\")","v":"  Leaders Voluntary Separations"},"",null,null,null,null,null,null,null,null,0]
[null,null,{"$f":"COUNTIF(M1829,\"*\"&PROFILE!$C$70&\"*\")","v":1},null,null,null,null,null,null,null,null,null,{"$f":"CONCATENATE(\" \",PROFILE!C70,\" Leaders Voluntary Separations\")","v":"  Leaders Voluntary Separations"},"",null,null,null,null,null,null,null,null,0]
[null,null,{"$f":"COUNTIF(M1830,\"*\"&PROFILE!$C$71&\"*\")","v":1},null,null,null,null,null,null,null,null,null,{"$f":"CONCATENATE(\" \",PROFILE!C71,\" Leaders Voluntary Separations\")","v":"  Leaders Voluntary Separations"},"",null,null,null,null,null,null,null,null,0]
[null,null,{"$f":"COUNTIF(M1831,\"*\"&PROFILE!$C$72&\"*\")","v":1},null,null,null,null,null,null,null,null,null,{"$f":"CONCATENATE(\" \",PROFILE!C72,\" Leaders Voluntary Separations\")","v":"  Leaders Voluntary Separations"},"",null,null,null,null,null,null,null,null,0]
[null,null,null,null,null,null,null,null,null,null,null,null,null,null,null,null,null,null,null,null,null,null,{"$f":"IF(AND($M$66=\"enabled\",$P$66=\"enabled\"),1,0)","v":0}]
[null,null,{"$f":"COUNTIF(M1833,\"*\"&PROFILE!$C$58&\"*\")","v":1},null,null,null,null,null,null,null,null,null,{"$f":"CONCATENATE(\" \",PROFILE!C58,\" Executives Voluntary Separations\")","v":"  Executives Voluntary Separations"},"",null,null,null,null,null,null,null,null,{"$f":"IF(AND($M$66=\"enabled\",$Q$66=\"enabled\",C1833=1),1,0)","v":0}]
[null,null,{"$f":"COUNTIF(M1834,\"*\"&PROFILE!$C$59&\"*\")","v":1},null,null,null,null,null,null,null,null,null,{"$f":"CONCATENATE(\" \",PROFILE!C59,\" Executives Voluntary Separations\")","v":"  Executives Voluntary Separations"},"",null,null,null,null,null,null,null,null,{"$f":"IF(AND($M$66=\"enabled\",$Q$66=\"enabled\",C1834=1),1,0)","v":0}]
[null,null,{"$f":"COUNTIF(M1835,\"*\"&PROFILE!$C$60&\"*\")","v":1},null,null,null,null,null,null,null,null,null,{"$f":"CONCATENATE(\" \",PROFILE!C60,\" Executives Voluntary Separations\")","v":"  Executives Voluntary Separations"},"",null,null,null,null,null,null,null,null,0]
[null,null,{"$f":"COUNTIF(M1836,\"*\"&PROFILE!$C$61&\"*\")","v":1},null,null,null,null,null,null,null,null,null,{"$f":"CONCATENATE(\" \",PROFILE!C61,\" Executives Voluntary Separations\")","v":"  Executives Voluntary Separations"},"",null,null,null,null,null,null,null,null,0]
[null,null,{"$f":"COUNTIF(M1837,\"*\"&PROFILE!$C$62&\"*\")","v":1},null,null,null,null,null,null,null,null,null,{"$f":"CONCATENATE(\" \",PROFILE!C62,\" Executives Voluntary Separations\")","v":"  Executives Voluntary Separations"},"",null,null,null,null,null,null,null,null,0]
[null,null,{"$f":"COUNTIF(M1838,\"*\"&PROFILE!$C$63&\"*\")","v":1},null,null,null,null,null,null,null,null,null,{"$f":"CONCATENATE(\" \",PROFILE!C63,\" Executives Voluntary Separations\")","v":"  Executives Voluntary Separations"},"",null,null,null,null,null,null,null,null,0]
[null,null,{"$f":"COUNTIF(M1839,\"*\"&PROFILE!$C$64&\"*\")","v":1},null,null,null,null,null,null,null,null,null,{"$f":"CONCATENATE(\" \",PROFILE!C64,\" Executives Voluntary Separations\")","v":"  Executives Voluntary Separations"},"",null,null,null,null,null,null,null,null,0]
[null,null,{"$f":"COUNTIF(M1840,\"*\"&PROFILE!$C$65&\"*\")","v":1},null,null,null,null,null,null,null,null,null,{"$f":"CONCATENATE(\" \",PROFILE!C65,\" Executives Voluntary Separations\")","v":"  Executives Voluntary Separations"},"",null,null,null,null,null,null,null,null,0]
[null,null,{"$f":"COUNTIF(M1841,\"*\"&PROFILE!$C$66&\"*\")","v":1},null,null,null,null,null,null,null,null,null,{"$f":"CONCATENATE(\" \",PROFILE!C66,\" Executives Voluntary Separations\")","v":"  Executives Voluntary Separations"},"",null,null,null,null,null,null,null,null,0]
[null,null,{"$f":"COUNTIF(M1842,\"*\"&PROFILE!$C$67&\"*\")","v":1},null,null,null,null,null,null,null,null,null,{"$f":"CONCATENATE(\" \",PROFILE!C67,\" Executives Voluntary Separations\")","v":"  Executives Voluntary Separations"},"",null,null,null,null,null,null,null,null,0]
[null,null,{"$f":"COUNTIF(M1843,\"*\"&PROFILE!$C$68&\"*\")","v":1},null,null,null,null,null,null,null,null,null,{"$f":"CONCATENATE(\" \",PROFILE!C68,\" Executives Voluntary Separations\")","v":"  Executives Voluntary Separations"},"",null,null,null,null,null,null,null,null,0]
[null,null,{"$f":"COUNTIF(M1844,\"*\"&PROFILE!$C$69&\"*\")","v":1},null,null,null,null,null,null,null,null,null,{"$f":"CONCATENATE(\" \",PROFILE!C69,\" Executives Voluntary Separations\")","v":"  Executives Voluntary Separations"},"",null,null,null,null,null,null,null,null,0]
[null,null,{"$f":"COUNTIF(M1845,\"*\"&PROFILE!$C$70&\"*\")","v":1},null,null,null,null,null,null,null,null,null,{"$f":"CONCATENATE(\" \",PROFILE!C70,\" Executives Voluntary Separations\")","v":"  Executives Voluntary Separations"},"",null,null,null,null,null,null,null,null,0]
[null,null,{"$f":"COUNTIF(M1846,\"*\"&PROFILE!$C$71&\"*\")","v":1},null,null,null,null,null,null,null,null,null,{"$f":"CONCATENATE(\" \",PROFILE!C71,\" Executives Voluntary Separations\")","v":"  Executives Voluntary Separations"},"",null,null,null,null,null,null,null,null,0]
[null,null,{"$f":"COUNTIF(M1847,\"*\"&PROFILE!$C$72&\"*\")","v":1},null,null,null,null,null,null,null,null,null,{"$f":"CONCATENATE(\" \",PROFILE!C72,\" Executives Voluntary Separations\")","v":"  Executives Voluntary Separations"},"",null,null,null,null,null,null,null,null,0]
[null,null,null,null,null,null,null,null,null,null,null,null,null,null,null,null,null,null,null,null,null,null,{"$f":"IF(AND($M$66=\"enabled\",$Q$66=\"enabled\"),1,0)","v":0}]
[null,null,null,null,null,null,null,null,null,null,null,null,null,null,null,"All Employees Voluntary Separations by Sex",null,null,null,null,null,null,{"$f":"IF(OR($M$67=\"enabled\",$P$67=\"enabled\",$Q$67=\"enabled\"),1,0)","v":0}]
[null,null,null,null,null,null,null,null,null,null,null,null,null,{"$f":"'CENTRAL DATA'!$H$12","v":"FY-2"},{"$f":"'CENTRAL DATA'!$H$13","v":"FY-1"},{"$f":"IF(PROFILE!$L$43=\"Fiscal Year WFP\",'CENTRAL DATA'!$H$14,IF(PROFILE!$L$43=\"Snapshot\",CONCATENATE(\"As of \",TEXT(PROFILE!$N$44,\"mm/dd/yy\"),\"\")))","v":false},null,null,null,null,null,null,{"$f":"IF(OR($M$67=\"enabled\",$P$67=\"enabled\",$Q$67=\"enabled\"),1,0)","v":0}]
[null,null,null,null,null,null,null,null,null,null,null,null,null,null,null,null,null,null,null,null,null,null,{"$f":"IF(OR($M$67=\"enabled\",$P$67=\"enabled\",$Q$67=\"enabled\"),1,0)","v":0}]
[null,null,null,null,null,null,null,null,null,null,null,null,"Male Voluntary Separations","",null,null,null,null,null,null,null,null,{"$f":"IF(OR($M$67=\"enabled\"),1,0)","v":0}]
[null,null,null,null,null,null,null,null,null,null,null,null,"Female Voluntary Separations","",null,null,null,null,null,null,null,null,{"$f":"IF(OR($M$67=\"enabled\"),1,0)","v":0}]
[null,null,null,null,null,null,null,null,null,null,null,null,null,null,null,null,null,null,null,null,null,null,{"$f":"IF(OR($M$67=\"enabled\"),1,0)","v":0}]
[null,null,null,null,null,null,null,null,null,null,null,null,"Male Leader Voluntary Separations","",null,null,null,null,null,null,null,null,{"$f":"IF(AND($M$67=\"enabled\",$P$67=\"enabled\"),1,0)","v":0}]
[null,null,null,null,null,null,null,null,null,null,null,null,"Female Leader Voluntary Separations","",null,null,null,null,null,null,null,null,{"$f":"IF(AND($M$67=\"enabled\",$P$67=\"enabled\"),1,0)","v":0}]
[null,null,null,null,null,null,null,null,null,null,null,null,null,null,null,null,null,null,null,null,null,null,{"$f":"IF(AND($M$67=\"enabled\",$P$67=\"enabled\"),1,0)","v":0}]
[null,null,null,null,null,null,null,null,null,null,null,null,"Male Executive Voluntary Separations","",null,null,null,null,null,null,null,null,{"$f":"IF(AND($M$67=\"enabled\",$Q$67=\"enabled\"),1,0)","v":0}]
[null,null,null,null,null,null,null,null,null,null,null,null,"Female Executive Voluntary Separations","",null,null,null,null,null,null,null,null,{"$f":"IF(AND($M$67=\"enabled\",$Q$67=\"enabled\"),1,0)","v":0}]
[null,null,null,null,null,null,null,null,null,null,null,null,null,null,null,null,null,null,null,null,null,null,{"$f":"IF(AND($M$67=\"enabled\",$Q$67=\"enabled\"),1,0)","v":0}]
[null,null,null,null,null,null,null,null,null,null,null,null,null,null,null,"All Employees Voluntary Separations by Race",null,null,null,null,null,null,{"$f":"IF(OR($M$68=\"enabled\",$P$68=\"enabled\",$Q$68=\"enabled\"),1,0)","v":0}]
[null,null,null,null,null,null,null,null,null,null,null,null,null,{"$f":"'CENTRAL DATA'!$H$12","v":"FY-2"},{"$f":"'CENTRAL DATA'!$H$13","v":"FY-1"},{"$f":"IF(PROFILE!$L$43=\"Fiscal Year WFP\",'CENTRAL DATA'!$H$14,IF(PROFILE!$L$43=\"Snapshot\",CONCATENATE(\"As of \",TEXT(PROFILE!$N$44,\"mm/dd/yy\"),\"\")))","v":false},null,null,null,null,null,null,{"$f":"IF(OR($M$68=\"enabled\",$P$68=\"enabled\",$Q$68=\"enabled\"),1,0)","v":0}]
[null,null,null,null,null,null,null,null,null,null,null,null,null,null,null,null,null,null,null,null,null,null,{"$f":"IF(OR($M$68=\"enabled\",$P$68=\"enabled\",$Q$68=\"enabled\"),1,0)","v":0}]
[null,null,null,null,null,null,null,null,null,null,null,null,"Minority Voluntary Separations","",null,null,null,null,null,null,null,null,{"$f":"IF(OR($M$68=\"enabled\"),1,0)","v":0}]
[null,null,null,null,null,null,null,null,null,null,null,null,"Non-Minority Voluntary Separations","",null,null,null,null,null,null,null,null,0]
[null,null,null,null,null,null,null,null,null,null,null,null,null,null,null,null,null,null,null,null,null,null,0]
[null,null,null,null,null,null,null,null,null,null,null,null,"Minority Leader Voluntary Separations","",null,null,null,null,null,null,null,null,{"$f":"IF(AND($M$68=\"enabled\",$P$68=\"enabled\"),1,0)","v":0}]
[null,null,null,null,null,null,null,null,null,null,null,null,"Non-Minority Leader Voluntary Separations","",null,null,null,null,null,null,null,null,0]
[null,null,null,null,null,null,null,null,null,null,null,null,null,null,null,null,null,null,null,null,null,null,0]
[null,null,null,null,null,null,null,null,null,null,null,null,"Minority Executive Voluntary Separations","",null,null,null,null,null,null,null,null,{"$f":"IF(AND($M$68=\"enabled\",$Q$68=\"enabled\"),1,0)","v":0}]
[null,null,null,null,null,null,null,null,null,null,null,null,"Non-Minority Executive Voluntary Separations","",null,null,null,null,null,null,null,null,0]
[null,null,null,null,null,null,null,null,null,null,null,null,null,null,null,null,null,null,null,null,null,null,0]
[null,null,null,null,null,null,null,null,null,null,null,null,null,null,null,"All Employees Voluntary Separations by Other Demographics",null,null,null,null,null,null,{"$f":"IF(OR($M$69=\"enabled\",$P$69=\"enabled\",$Q$69=\"enabled\"),1,0)","v":0}]
[null,null,null,null,null,null,null,null,null,null,null,null,null,{"$f":"'CENTRAL DATA'!$H$12","v":"FY-2"},{"$f":"'CENTRAL DATA'!$H$13","v":"FY-1"},{"$f":"IF(PROFILE!$L$43=\"Fiscal Year WFP\",'CENTRAL DATA'!$H$14,IF(PROFILE!$L$43=\"Snapshot\",CONCATENATE(\"As of \",TEXT(PROFILE!$N$44,\"mm/dd/yy\"),\"\")))","v":false},null,null,null,null,null,null,{"$f":"IF(OR($M$69=\"enabled\",$P$69=\"enabled\",$Q$69=\"enabled\"),1,0)","v":0}]
[null,null,null,null,null,null,null,null,null,null,null,null,null,null,null,null,null,null,null,null,null,null,{"$f":"IF(OR($M$69=\"enabled\",$P$69=\"enabled\",$Q$69=\"enabled\"),1,0)","v":0}]
[null,null,null,null,null,null,null,null,null,null,null,null,"Employees with Disabilities Voluntary Separations","",null,null,null,null,null,null,null,null,{"$f":"IF(OR($M$69=\"enabled\"),1,0)","v":0}]
[null,null,null,null,null,null,null,null,null,null,null,null,"Voluntary Separations of Veterans","",null,null,null,null,null,null,null,null,{"$f":"IF(OR($M$69=\"enabled\"),1,0)","v":0}]
[null,null,null,null,null,null,null,null,null,null,null,null,null,null,null,null,null,null,null,null,null,null,{"$f":"IF(OR($M$69=\"enabled\"),1,0)","v":0}]
[null,null,null,null,null,null,null,null,null,null,null,null,"Leaders with Disabilities Voluntary Separations","",null,null,null,null,null,null,null,null,{"$f":"IF(AND($M$69=\"enabled\",$P$69=\"enabled\"),1,0)","v":0}]
[null,null,null,null,null,null,null,null,null,null,null,null,"Leaders who are Veterans Voluntary Separations","",null,null,null,null,null,null,null,null,{"$f":"IF(AND($M$69=\"enabled\",$P$69=\"enabled\"),1,0)","v":0}]
[null,null,null,null,null,null,null,null,null,null,null,null,null,null,null,null,null,null,null,null,null,null,{"$f":"IF(AND($M$69=\"enabled\",$P$69=\"enabled\"),1,0)","v":0}]
[null,null,null,null,null,null,null,null,null,null,null,null,"Executives with Disabilities Voluntary Separations","",null,null,null,null,null,null,null,null,{"$f":"IF(AND($M$69=\"enabled\",$Q$69=\"enabled\"),1,0)","v":0}]
[null,null,null,null,null,null,null,null,null,null,null,null,"Executives who are Veterans Voluntary Separations","",null,null,null,null,null,null,null,null,{"$f":"IF(AND($M$69=\"enabled\",$Q$69=\"enabled\"),1,0)","v":0}]
[null,null,null,null,null,null,null,null,null,null,null,null,null,null,null,null,null,null,null,null,null,null,{"$f":"IF(AND($M$69=\"enabled\",$Q$69=\"enabled\"),1,0)","v":0}]
[null,null,null,null,null,null,null,null,null,null,null,null,null,null,null,"Employees in their First Five Years Avg. Years of Service by EEO Code",null,null,null,null,null,null,{"$f":"IF(OR($N$33=\"enabled\",$P$33=\"enabled\",$Q$33=\"enabled\"),1,0)","v":0}]
[null,null,null,null,null,null,null,null,null,null,null,null,null,{"$f":"'CENTRAL DATA'!$H$12","v":"FY-2"},{"$f":"'CENTRAL DATA'!$H$13","v":"FY-1"},{"$f":"IF(PROFILE!$L$43=\"Fiscal Year WFP\",'CENTRAL DATA'!$H$14,IF(PROFILE!$L$43=\"Snapshot\",CONCATENATE(\"As of \",TEXT(PROFILE!$N$44,\"mm/dd/yy\"),\"\")))","v":false},null,null,null,null,null,null,{"$f":"IF(OR($N$33=\"enabled\",$P$33=\"enabled\",$Q$33=\"enabled\"),1,0)","v":0}]
[null,null,null,null,null,null,null,null,null,null,null,null,null,null,null,null,null,null,null,null,null,null,{"$f":"IF(OR($N$33=\"enabled\",$P$33=\"enabled\",$Q$33=\"enabled\"),1,0)","v":0}]
[null,null,null,null,null,null,null,null,null,null,null,null,"EEO Code \"Officials and Administrators\" Average Years of Service","",null,null,null,null,null,null,null,null,{"$f":"IF(OR($N$33=\"enabled\"),1,0)","v":0}]
[null,null,null,null,null,null,null,null,null,null,null,null," EEO Code \"Professionals\" Average Years of Service","",null,null,null,null,null,null,null,null,0]
[null,null,null,null,null,null,null,null,null,null,null,null," EEO Code \"Technicians\" Average Years of Service","",null,null,null,null,null,null,null,null,0]
[null,null,null,null,null,null,null,null,null,null,null,null," EEO Code \"Protective Service Workers\" Average Years of Service","",null,null,null,null,null,null,null,null,0]
[null,null,null,null,null,null,null,null,null,null,null,null," EEO Code \"Paraprofessionals\" Average Years of Service","",null,null,null,null,null,null,null,null,0]
[null,null,null,null,null,null,null,null,null,null,null,null," EEO Code \"Administrative Support\" Average Years of Service","",null,null,null,null,null,null,null,null,0]
[null,null,null,null,null,null,null,null,null,null,null,null," EEO Code \"Skilled Craft Workers\" Average Years of Service","",null,null,null,null,null,null,null,null,0]
[null,null,null,null,null,null,null,null,null,null,null,null," EEO Code \"Service/Maintenance\" Average Years of Service","",null,null,null,null,null,null,null,null,0]
[null,null,null,null,null,null,null,null,null,null,null,null," EEO Code \"Faculty\" Average Years of Service","",null,null,null,null,null,null,null,null,0]
[null,null,null,null,null,null,null,null,null,null,null,null," EEO Code \"Other\" Average Years of Service","",null,null,null,null,null,null,null,null,0]
[null,null,null,null,null,null,null,null,null,null,null,null,null,null,null,null,null,null,null,null,null,null,0]
[null,null,null,null,null,null,null,null,null,null,null,null,"EEO Code \"Officials and Administrators\" Leaders Average Years of Service","",null,null,null,null,null,null,null,null,{"$f":"IF(AND($N$33=\"enabled\",$P$33=\"enabled\"),1,0)","v":0}]
[null,null,null,null,null,null,null,null,null,null,null,null," EEO Code \"Professionals\" Leaders  Average Years of Service","",null,null,null,null,null,null,null,null,0]
[null,null,null,null,null,null,null,null,null,null,null,null," EEO Code \"Technicians\" Leaders  Average Years of Service","",null,null,null,null,null,null,null,null,0]
[null,null,null,null,null,null,null,null,null,null,null,null," EEO Code \"Protective Service Workers\" Leaders  Average Years of Service","",null,null,null,null,null,null,null,null,0]
[null,null,null,null,null,null,null,null,null,null,null,null," EEO Code \"Paraprofessionals\" Leaders  Average Years of Service","",null,null,null,null,null,null,null,null,0]
[null,null,null,null,null,null,null,null,null,null,null,null," EEO Code \"Administrative Support\" Leaders  Average Years of Service","",null,null,null,null,null,null,null,null,0]
[null,null,null,null,null,null,null,null,null,null,null,null," EEO Code \"Skilled Craft Workers\" Leaders  Average Years of Service","",null,null,null,null,null,null,null,null,0]
[null,null,null,null,null,null,null,null,null,null,null,null," EEO Code \"Service/Maintenance\" Leaders  Average Years of Service","",null,null,null,null,null,null,null,null,0]
[null,null,null,null,null,null,null,null,null,null,null,null," EEO Code \"Faculty\" Leaders  Average Years of Service","",null,null,null,null,null,null,null,null,0]
[null,null,null,null,null,null,null,null,null,null,null,null," EEO Code \"Other\" Leaders  Average Years of Service","",null,null,null,null,null,null,null,null,0]
[null,null,null,null,null,null,null,null,null,null,null,null,null,null,null,null,null,null,null,null,null,null,0]
[null,null,null,null,null,null,null,null,null,null,null,null,"EEO Code \"Officials and Administrators\" Executives Average Years of Service","",null,null,null,null,null,null,null,null,{"$f":"IF(AND($N$33=\"enabled\",$Q$33=\"enabled\"),1,0)","v":0}]
[null,null,null,null,null,null,null,null,null,null,null,null," EEO Code \"Professionals\" Executives  Average Years of Service","",null,null,null,null,null,null,null,null,0]
[null,null,null,null,null,null,null,null,null,null,null,null," EEO Code \"Technicians\" Executives  Average Years of Service","",null,null,null,null,null,null,null,null,0]
[null,null,null,null,null,null,null,null,null,null,null,null," EEO Code \"Protective Service Workers\" Executives  Average Years of Service","",null,null,null,null,null,null,null,null,0]
[null,null,null,null,null,null,null,null,null,null,null,null," EEO Code \"Paraprofessionals\" Executives  Average Years of Service","",null,null,null,null,null,null,null,null,0]
[null,null,null,null,null,null,null,null,null,null,null,null," EEO Code \"Administrative Support\" Executives  Average Years of Service","",null,null,null,null,null,null,null,null,0]
[null,null,null,null,null,null,null,null,null,null,null,null," EEO Code \"Skilled Craft Workers\" Executives  Average Years of Service","",null,null,null,null,null,null,null,null,0]
[null,null,null,null,null,null,null,null,null,null,null,null," EEO Code \"Service/Maintenance\" Executives  Average Years of Service","",null,null,null,null,null,null,null,null,0]
[null,null,null,null,null,null,null,null,null,null,null,null," EEO Code \"Faculty\" Executives  Average Years of Service","",null,null,null,null,null,null,null,null,0]
[null,null,null,null,null,null,null,null,null,null,null,null," EEO Code \"Other\" Executives  Average Years of Service","",null,null,null,null,null,null,null,null,0]
[null,null,null,null,null,null,null,null,null,null,null,null,null,null,null,null,null,null,null,null,null,null,0]
[null,null,null,null,null,null,null,null,null,null,null,null,null,null,null,"Employees in their First Five Years Avg. Years of Service by Classification",null,null,null,null,null,null,{"$f":"IF(OR($N$34=\"enabled\",$P$34=\"enabled\",$Q$34=\"enabled\"),1,0)","v":0}]
[null,null,null,null,null,null,null,null,null,null,null,null,null,{"$f":"'CENTRAL DATA'!$H$12","v":"FY-2"},{"$f":"'CENTRAL DATA'!$H$13","v":"FY-1"},{"$f":"IF(PROFILE!$L$43=\"Fiscal Year WFP\",'CENTRAL DATA'!$H$14,IF(PROFILE!$L$43=\"Snapshot\",CONCATENATE(\"As of \",TEXT(PROFILE!$N$44,\"mm/dd/yy\"),\"\")))","v":false},null,null,null,null,null,null,{"$f":"IF(OR($N$34=\"enabled\",$P$34=\"enabled\",$Q$34=\"enabled\"),1,0)","v":0}]
[null,null,null,null,null,null,null,null,null,null,null,null,null,null,null,null,null,null,null,null,null,null,{"$f":"IF(OR($N$34=\"enabled\",$P$34=\"enabled\",$Q$34=\"enabled\"),1,0)","v":0}]
[null,null,{"$f":"COUNTIF(M1924,\"*\"&PROFILE!$C$58&\"*\")","v":1},null,null,null,null,null,null,null,null,null,{"$f":"CONCATENATE(\" \",PROFILE!C58,\" Average Years of Service\")","v":"  Average Years of Service"},"",null,null,null,null,null,null,null,null,{"$f":"IF(AND(OR($N$34=\"enabled\"),C1924=1),1,0)","v":0}]
[null,null,{"$f":"COUNTIF(M1925,\"*\"&PROFILE!$C$59&\"*\")","v":1},null,null,null,null,null,null,null,null,null,{"$f":"CONCATENATE(\" \",PROFILE!C59,\" Average Years of Service\")","v":"  Average Years of Service"},"",null,null,null,null,null,null,null,null,{"$f":"IF(AND(OR($N$34=\"enabled\"),C1925=1),1,0)","v":0}]
[null,null,{"$f":"COUNTIF(M1926,\"*\"&PROFILE!$C$60&\"*\")","v":1},null,null,null,null,null,null,null,null,null,{"$f":"CONCATENATE(\" \",PROFILE!C60,\" Average Years of Service\")","v":"  Average Years of Service"},"",null,null,null,null,null,null,null,null,0]
[null,null,{"$f":"COUNTIF(M1927,\"*\"&PROFILE!$C$61&\"*\")","v":1},null,null,null,null,null,null,null,null,null,{"$f":"CONCATENATE(\" \",PROFILE!C61,\" Average Years of Service\")","v":"  Average Years of Service"},"",null,null,null,null,null,null,null,null,0]
[null,null,{"$f":"COUNTIF(M1928,\"*\"&PROFILE!$C$62&\"*\")","v":1},null,null,null,null,null,null,null,null,null,{"$f":"CONCATENATE(\" \",PROFILE!C62,\" Average Years of Service\")","v":"  Average Years of Service"},"",null,null,null,null,null,null,null,null,0]
[null,null,{"$f":"COUNTIF(M1929,\"*\"&PROFILE!$C$63&\"*\")","v":1},null,null,null,null,null,null,null,null,null,{"$f":"CONCATENATE(\" \",PROFILE!C63,\" Average Years of Service\")","v":"  Average Years of Service"},"",null,null,null,null,null,null,null,null,0]
[null,null,{"$f":"COUNTIF(M1930,\"*\"&PROFILE!$C$64&\"*\")","v":1},null,null,null,null,null,null,null,null,null,{"$f":"CONCATENATE(\" \",PROFILE!C64,\" Average Years of Service\")","v":"  Average Years of Service"},"",null,null,null,null,null,null,null,null,0]
[null,null,{"$f":"COUNTIF(M1931,\"*\"&PROFILE!$C$65&\"*\")","v":1},null,null,null,null,null,null,null,null,null,{"$f":"CONCATENATE(\" \",PROFILE!C65,\" Average Years of Service\")","v":"  Average Years of Service"},"",null,null,null,null,null,null,null,null,0]
[null,null,{"$f":"COUNTIF(M1932,\"*\"&PROFILE!$C$66&\"*\")","v":1},null,null,null,null,null,null,null,null,null,{"$f":"CONCATENATE(\" \",PROFILE!C66,\" Average Years of Service\")","v":"  Average Years of Service"},"",null,null,null,null,null,null,null,null,0]
[null,null,{"$f":"COUNTIF(M1933,\"*\"&PROFILE!$C$67&\"*\")","v":1},null,null,null,null,null,null,null,null,null,{"$f":"CONCATENATE(\" \",PROFILE!C67,\" Average Years of Service\")","v":"  Average Years of Service"},"",null,null,null,null,null,null,null,null,0]
[null,null,{"$f":"COUNTIF(M1934,\"*\"&PROFILE!$C$68&\"*\")","v":1},null,null,null,null,null,null,null,null,null,{"$f":"CONCATENATE(\" \",PROFILE!C68,\" Average Years of Service\")","v":"  Average Years of Service"},"",null,null,null,null,null,null,null,null,0]
[null,null,{"$f":"COUNTIF(M1935,\"*\"&PROFILE!$C$69&\"*\")","v":1},null,null,null,null,null,null,null,null,null,{"$f":"CONCATENATE(\" \",PROFILE!C69,\" Average Years of Service\")","v":"  Average Years of Service"},"",null,null,null,null,null,null,null,null,0]
[null,null,{"$f":"COUNTIF(M1936,\"*\"&PROFILE!$C$70&\"*\")","v":1},null,null,null,null,null,null,null,null,null,{"$f":"CONCATENATE(\" \",PROFILE!C70,\" Average Years of Service\")","v":"  Average Years of Service"},"",null,null,null,null,null,null,null,null,0]
[null,null,{"$f":"COUNTIF(M1937,\"*\"&PROFILE!$C$71&\"*\")","v":1},null,null,null,null,null,null,null,null,null,{"$f":"CONCATENATE(\" \",PROFILE!C71,\" Average Years of Service\")","v":"  Average Years of Service"},"",null,null,null,null,null,null,null,null,0]
[null,null,{"$f":"COUNTIF(M1938,\"*\"&PROFILE!$C$72&\"*\")","v":1},null,null,null,null,null,null,null,null,null,{"$f":"CONCATENATE(\" \",PROFILE!C72,\" Average Years of Service\")","v":"  Average Years of Service"},"",null,null,null,null,null,null,null,null,0]
[null,null,null,null,null,null,null,null,null,null,null,null,null,null,null,null,null,null,null,null,null,null,{"$f":"IF(OR($N$34=\"enabled\"),1,0)","v":0}]
[null,null,{"$f":"COUNTIF(M1940,\"*\"&PROFILE!$C$58&\"*\")","v":1},null,null,null,null,null,null,null,null,null,{"$f":"CONCATENATE(\" \",PROFILE!C58,\" Leaders Average Years of Service\")","v":"  Leaders Average Years of Service"},"",null,null,null,null,null,null,null,null,{"$f":"IF(AND($N$34=\"enabled\",$P$34=\"enabled\",C1940=1),1,0)","v":0}]
[null,null,{"$f":"COUNTIF(M1941,\"*\"&PROFILE!$C$59&\"*\")","v":1},null,null,null,null,null,null,null,null,null,{"$f":"CONCATENATE(\" \",PROFILE!C59,\" Leaders Average Years of Service\")","v":"  Leaders Average Years of Service"},"",null,null,null,null,null,null,null,null,{"$f":"IF(AND($N$34=\"enabled\",$P$34=\"enabled\",C1941=1),1,0)","v":0}]
[null,null,{"$f":"COUNTIF(M1942,\"*\"&PROFILE!$C$60&\"*\")","v":1},null,null,null,null,null,null,null,null,null,{"$f":"CONCATENATE(\" \",PROFILE!C60,\" Leaders Average Years of Service\")","v":"  Leaders Average Years of Service"},"",null,null,null,null,null,null,null,null,0]
[null,null,{"$f":"COUNTIF(M1943,\"*\"&PROFILE!$C$61&\"*\")","v":1},null,null,null,null,null,null,null,null,null,{"$f":"CONCATENATE(\" \",PROFILE!C61,\" Leaders Average Years of Service\")","v":"  Leaders Average Years of Service"},"",null,null,null,null,null,null,null,null,0]
[null,null,{"$f":"COUNTIF(M1944,\"*\"&PROFILE!$C$62&\"*\")","v":1},null,null,null,null,null,null,null,null,null,{"$f":"CONCATENATE(\" \",PROFILE!C62,\" Leaders Average Years of Service\")","v":"  Leaders Average Years of Service"},"",null,null,null,null,null,null,null,null,0]
[null,null,{"$f":"COUNTIF(M1945,\"*\"&PROFILE!$C$63&\"*\")","v":1},null,null,null,null,null,null,null,null,null,{"$f":"CONCATENATE(\" \",PROFILE!C63,\" Leaders Average Years of Service\")","v":"  Leaders Average Years of Service"},"",null,null,null,null,null,null,null,null,0]
[null,null,{"$f":"COUNTIF(M1946,\"*\"&PROFILE!$C$64&\"*\")","v":1},null,null,null,null,null,null,null,null,null,{"$f":"CONCATENATE(\" \",PROFILE!C64,\" Leaders Average Years of Service\")","v":"  Leaders Average Years of Service"},"",null,null,null,null,null,null,null,null,0]
[null,null,{"$f":"COUNTIF(M1947,\"*\"&PROFILE!$C$65&\"*\")","v":1},null,null,null,null,null,null,null,null,null,{"$f":"CONCATENATE(\" \",PROFILE!C65,\" Leaders Average Years of Service\")","v":"  Leaders Average Years of Service"},"",null,null,null,null,null,null,null,null,0]
[null,null,{"$f":"COUNTIF(M1948,\"*\"&PROFILE!$C$66&\"*\")","v":1},null,null,null,null,null,null,null,null,null,{"$f":"CONCATENATE(\" \",PROFILE!C66,\" Leaders Average Years of Service\")","v":"  Leaders Average Years of Service"},"",null,null,null,null,null,null,null,null,0]
[null,null,{"$f":"COUNTIF(M1949,\"*\"&PROFILE!$C$67&\"*\")","v":1},null,null,null,null,null,null,null,null,null,{"$f":"CONCATENATE(\" \",PROFILE!C67,\" Leaders Average Years of Service\")","v":"  Leaders Average Years of Service"},"",null,null,null,null,null,null,null,null,0]
[null,null,{"$f":"COUNTIF(M1950,\"*\"&PROFILE!$C$68&\"*\")","v":1},null,null,null,null,null,null,null,null,null,{"$f":"CONCATENATE(\" \",PROFILE!C68,\" Leaders Average Years of Service\")","v":"  Leaders Average Years of Service"},"",null,null,null,null,null,null,null,null,0]
[null,null,{"$f":"COUNTIF(M1951,\"*\"&PROFILE!$C$69&\"*\")","v":1},null,null,null,null,null,null,null,null,null,{"$f":"CONCATENATE(\" \",PROFILE!C69,\" Leaders Average Years of Service\")","v":"  Leaders Average Years of Service"},"",null,null,null,null,null,null,null,null,0]
[null,null,{"$f":"COUNTIF(M1952,\"*\"&PROFILE!$C$70&\"*\")","v":1},null,null,null,null,null,null,null,null,null,{"$f":"CONCATENATE(\" \",PROFILE!C70,\" Leaders Average Years of Service\")","v":"  Leaders Average Years of Service"},"",null,null,null,null,null,null,null,null,0]
[null,null,{"$f":"COUNTIF(M1953,\"*\"&PROFILE!$C$71&\"*\")","v":1},null,null,null,null,null,null,null,null,null,{"$f":"CONCATENATE(\" \",PROFILE!C71,\" Leaders Average Years of Service\")","v":"  Leaders Average Years of Service"},"",null,null,null,null,null,null,null,null,0]
[null,null,{"$f":"COUNTIF(M1954,\"*\"&PROFILE!$C$72&\"*\")","v":1},null,null,null,null,null,null,null,null,null,{"$f":"CONCATENATE(\" \",PROFILE!C72,\" Leaders Average Years of Service\")","v":"  Leaders Average Years of Service"},"",null,null,null,null,null,null,null,null,0]
[null,null,null,null,null,null,null,null,null,null,null,null,null,null,null,null,null,null,null,null,null,null,{"$f":"IF(AND($N$34=\"enabled\",$P$34=\"enabled\"),1,0)","v":0}]
[null,null,{"$f":"COUNTIF(M1956,\"*\"&PROFILE!$C$58&\"*\")","v":1},null,null,null,null,null,null,null,null,null,{"$f":"CONCATENATE(\" \",PROFILE!C58,\" Executives Average Years of Service\")","v":"  Executives Average Years of Service"},"",null,null,null,null,null,null,null,null,{"$f":"IF(AND($N$34=\"enabled\",$Q$34=\"enabled\",C1956=1),1,0)","v":0}]
[null,null,{"$f":"COUNTIF(M1957,\"*\"&PROFILE!$C$59&\"*\")","v":1},null,null,null,null,null,null,null,null,null,{"$f":"CONCATENATE(\" \",PROFILE!C59,\" Executives Average Years of Service\")","v":"  Executives Average Years of Service"},"",null,null,null,null,null,null,null,null,{"$f":"IF(AND($N$34=\"enabled\",$Q$34=\"enabled\",C1957=1),1,0)","v":0}]
[null,null,{"$f":"COUNTIF(M1958,\"*\"&PROFILE!$C$60&\"*\")","v":1},null,null,null,null,null,null,null,null,null,{"$f":"CONCATENATE(\" \",PROFILE!C60,\" Executives Average Years of Service\")","v":"  Executives Average Years of Service"},"",null,null,null,null,null,null,null,null,0]
[null,null,{"$f":"COUNTIF(M1959,\"*\"&PROFILE!$C$61&\"*\")","v":1},null,null,null,null,null,null,null,null,null,{"$f":"CONCATENATE(\" \",PROFILE!C61,\" Executives Average Years of Service\")","v":"  Executives Average Years of Service"},"",null,null,null,null,null,null,null,null,0]
[null,null,{"$f":"COUNTIF(M1960,\"*\"&PROFILE!$C$62&\"*\")","v":1},null,null,null,null,null,null,null,null,null,{"$f":"CONCATENATE(\" \",PROFILE!C62,\" Executives Average Years of Service\")","v":"  Executives Average Years of Service"},"",null,null,null,null,null,null,null,null,0]
[null,null,{"$f":"COUNTIF(M1961,\"*\"&PROFILE!$C$63&\"*\")","v":1},null,null,null,null,null,null,null,null,null,{"$f":"CONCATENATE(\" \",PROFILE!C63,\" Executives Average Years of Service\")","v":"  Executives Average Years of Service"},"",null,null,null,null,null,null,null,null,0]
[null,null,{"$f":"COUNTIF(M1962,\"*\"&PROFILE!$C$64&\"*\")","v":1},null,null,null,null,null,null,null,null,null,{"$f":"CONCATENATE(\" \",PROFILE!C64,\" Executives Average Years of Service\")","v":"  Executives Average Years of Service"},"",null,null,null,null,null,null,null,null,0]
[null,null,{"$f":"COUNTIF(M1963,\"*\"&PROFILE!$C$65&\"*\")","v":1},null,null,null,null,null,null,null,null,null,{"$f":"CONCATENATE(\" \",PROFILE!C65,\" Executives Average Years of Service\")","v":"  Executives Average Years of Service"},"",null,null,null,null,null,null,null,null,0]
[null,null,{"$f":"COUNTIF(M1964,\"*\"&PROFILE!$C$66&\"*\")","v":1},null,null,null,null,null,null,null,null,null,{"$f":"CONCATENATE(\" \",PROFILE!C66,\" Executives Average Years of Service\")","v":"  Executives Average Years of Service"},"",null,null,null,null,null,null,null,null,0]
[null,null,{"$f":"COUNTIF(M1965,\"*\"&PROFILE!$C$67&\"*\")","v":1},null,null,null,null,null,null,null,null,null,{"$f":"CONCATENATE(\" \",PROFILE!C67,\" Executives Average Years of Service\")","v":"  Executives Average Years of Service"},"",null,null,null,null,null,null,null,null,0]
[null,null,{"$f":"COUNTIF(M1966,\"*\"&PROFILE!$C$68&\"*\")","v":1},null,null,null,null,null,null,null,null,null,{"$f":"CONCATENATE(\" \",PROFILE!C68,\" Executives Average Years of Service\")","v":"  Executives Average Years of Service"},"",null,null,null,null,null,null,null,null,0]
[null,null,{"$f":"COUNTIF(M1967,\"*\"&PROFILE!$C$69&\"*\")","v":1},null,null,null,null,null,null,null,null,null,{"$f":"CONCATENATE(\" \",PROFILE!C69,\" Executives Average Years of Service\")","v":"  Executives Average Years of Service"},"",null,null,null,null,null,null,null,null,0]
[null,null,{"$f":"COUNTIF(M1968,\"*\"&PROFILE!$C$70&\"*\")","v":1},null,null,null,null,null,null,null,null,null,{"$f":"CONCATENATE(\" \",PROFILE!C70,\" Executives Average Years of Service\")","v":"  Executives Average Years of Service"},"",null,null,null,null,null,null,null,null,0]
[null,null,{"$f":"COUNTIF(M1969,\"*\"&PROFILE!$C$71&\"*\")","v":1},null,null,null,null,null,null,null,null,null,{"$f":"CONCATENATE(\" \",PROFILE!C71,\" Executives Average Years of Service\")","v":"  Executives Average Years of Service"},"",null,null,null,null,null,null,null,null,0]
[null,null,{"$f":"COUNTIF(M1970,\"*\"&PROFILE!$C$72&\"*\")","v":1},null,null,null,null,null,null,null,null,null,{"$f":"CONCATENATE(\" \",PROFILE!C72,\" Executives Average Years of Service\")","v":"  Executives Average Years of Service"},"",null,null,null,null,null,null,null,null,0]
[null,null,null,null,null,null,null,null,null,null,null,null,null,null,null,null,null,null,null,null,null,null,{"$f":"IF(AND($N$34=\"enabled\",$Q$34=\"enabled\"),1,0)","v":0}]
[null,null,null,null,null,null,null,null,null,null,null,null,null,null,null,"Employees in their First Five Years Avg. Years of Service by Sex",null,null,null,null,null,null,{"$f":"IF(OR($N$35=\"enabled\",$P$35=\"enabled\",$Q$35=\"enabled\"),1,0)","v":0}]
[null,null,null,null,null,null,null,null,null,null,null,null,null,{"$f":"'CENTRAL DATA'!$H$12","v":"FY-2"},{"$f":"'CENTRAL DATA'!$H$13","v":"FY-1"},{"$f":"IF(PROFILE!$L$43=\"Fiscal Year WFP\",'CENTRAL DATA'!$H$14,IF(PROFILE!$L$43=\"Snapshot\",CONCATENATE(\"As of \",TEXT(PROFILE!$N$44,\"mm/dd/yy\"),\"\")))","v":false},null,null,null,null,null,null,{"$f":"IF(OR($N$35=\"enabled\",$P$35=\"enabled\",$Q$35=\"enabled\"),1,0)","v":0}]
[null,null,null,null,null,null,null,null,null,null,null,null,null,null,null,null,null,null,null,null,null,null,{"$f":"IF(OR($N$35=\"enabled\",$P$35=\"enabled\",$Q$35=\"enabled\"),1,0)","v":0}]
[null,null,null,null,null,null,null,null,null,null,null,null,"Male Average Years of Service","",null,null,null,null,null,null,null,null,{"$f":"IF(OR($N$35=\"enabled\"),1,0)","v":0}]
[null,null,null,null,null,null,null,null,null,null,null,null,"Female Average Years of Service","",null,null,null,null,null,null,null,null,{"$f":"IF(OR($N$35=\"enabled\"),1,0)","v":0}]
[null,null,null,null,null,null,null,null,null,null,null,null,null,null,null,null,null,null,null,null,null,null,{"$f":"IF(OR($N$35=\"enabled\"),1,0)","v":0}]
[null,null,null,null,null,null,null,null,null,null,null,null,"Male Leader Average Years of Service","",null,null,null,null,null,null,null,null,{"$f":"IF(AND($N$35=\"enabled\",$P$35=\"enabled\"),1,0)","v":0}]
[null,null,null,null,null,null,null,null,null,null,null,null,"Female Leader Average Years of Service","",null,null,null,null,null,null,null,null,{"$f":"IF(AND($N$35=\"enabled\",$P$35=\"enabled\"),1,0)","v":0}]
[null,null,null,null,null,null,null,null,null,null,null,null,null,null,null,null,null,null,null,null,null,null,{"$f":"IF(AND($N$35=\"enabled\",$P$35=\"enabled\"),1,0)","v":0}]
[null,null,null,null,null,null,null,null,null,null,null,null,"Male Executive Average Years of Service","",null,null,null,null,null,null,null,null,{"$f":"IF(AND($N$35=\"enabled\",$Q$35=\"enabled\"),1,0)","v":0}]
[null,null,null,null,null,null,null,null,null,null,null,null,"Female Executive Average Years of Service","",null,null,null,null,null,null,null,null,{"$f":"IF(AND($N$35=\"enabled\",$Q$35=\"enabled\"),1,0)","v":0}]
[null,null,null,null,null,null,null,null,null,null,null,null,null,null,null,null,null,null,null,null,null,null,{"$f":"IF(AND($N$35=\"enabled\",$Q$35=\"enabled\"),1,0)","v":0}]
[null,null,null,null,null,null,null,null,null,null,null,null,null,null,null,"Employees in their First Five Years Avg. Years of Service by Race",null,null,null,null,null,null,{"$f":"IF(OR($N$36=\"enabled\",$P$36=\"enabled\",$Q$36=\"enabled\"),1,0)","v":0}]
[null,null,null,null,null,null,null,null,null,null,null,null,null,{"$f":"'CENTRAL DATA'!$H$12","v":"FY-2"},{"$f":"'CENTRAL DATA'!$H$13","v":"FY-1"},{"$f":"IF(PROFILE!$L$43=\"Fiscal Year WFP\",'CENTRAL DATA'!$H$14,IF(PROFILE!$L$43=\"Snapshot\",CONCATENATE(\"As of \",TEXT(PROFILE!$N$44,\"mm/dd/yy\"),\"\")))","v":false},null,null,null,null,null,null,{"$f":"IF(OR($N$36=\"enabled\",$P$36=\"enabled\",$Q$36=\"enabled\"),1,0)","v":0}]
[null,null,null,null,null,null,null,null,null,null,null,null,null,null,null,null,null,null,null,null,null,null,{"$f":"IF(OR($N$36=\"enabled\",$P$36=\"enabled\",$Q$36=\"enabled\"),1,0)","v":0}]
[null,null,null,null,null,null,null,null,null,null,null,null,"Minority Average Years of Service","",null,null,null,null,null,null,null,null,{"$f":"IF(OR($N$36=\"enabled\"),1,0)","v":0}]
[null,null,null,null,null,null,null,null,null,null,null,null,"Non-Minority Years of Service","",null,null,null,null,null,null,null,null,0]
[null,null,null,null,null,null,null,null,null,null,null,null,null,null,null,null,null,null,null,null,null,null,0]
[null,null,null,null,null,null,null,null,null,null,null,null,"Minority Leader Average Years of Service","",null,null,null,null,null,null,null,null,{"$f":"IF(AND($N$36=\"enabled\",$P$36=\"enabled\"),1,0)","v":0}]
[null,null,null,null,null,null,null,null,null,null,null,null,"Non-Minority Leader Average Years of Service","",null,null,null,null,null,null,null,null,0]
[null,null,null,null,null,null,null,null,null,null,null,null,null,null,null,null,null,null,null,null,null,null,0]
[null,null,null,null,null,null,null,null,null,null,null,null,"Minority Executive Average Years of Service","",null,null,null,null,null,null,null,null,{"$f":"IF(AND($N$36=\"enabled\",$Q$36=\"enabled\"),1,0)","v":0}]
[null,null,null,null,null,null,null,null,null,null,null,null,"Non-Minority Executive Average Years of Service","",null,null,null,null,null,null,null,null,0]
[null,null,null,null,null,null,null,null,null,null,null,null,null,null,null,null,null,null,null,null,null,null,0]
[null,null,null,null,null,null,null,null,null,null,null,null,null,null,null,"All Employees Avg. Years of Service by Other Demographics",null,null,null,null,null,null,{"$f":"IF(OR($N$37=\"enabled\",$P$37=\"enabled\",$Q$37=\"enabled\"),1,0)","v":0}]
[null,null,null,null,null,null,null,null,null,null,null,null,null,{"$f":"'CENTRAL DATA'!$H$12","v":"FY-2"},{"$f":"'CENTRAL DATA'!$H$13","v":"FY-1"},{"$f":"IF(PROFILE!$L$43=\"Fiscal Year WFP\",'CENTRAL DATA'!$H$14,IF(PROFILE!$L$43=\"Snapshot\",CONCATENATE(\"As of \",TEXT(PROFILE!$N$44,\"mm/dd/yy\"),\"\")))","v":false},null,null,null,null,null,null,{"$f":"IF(OR($N$37=\"enabled\",$P$37=\"enabled\",$Q$37=\"enabled\"),1,0)","v":0}]
[null,null,null,null,null,null,null,null,null,null,null,null,null,null,null,null,null,null,null,null,null,null,{"$f":"IF(OR($N$37=\"enabled\",$P$37=\"enabled\",$Q$37=\"enabled\"),1,0)","v":0}]
[null,null,null,null,null,null,null,null,null,null,null,null,"Employees with Disabilities Average Years of Service","",null,null,null,null,null,null,null,null,{"$f":"IF(OR($N$37=\"enabled\"),1,0)","v":0}]
[null,null,null,null,null,null,null,null,null,null,null,null,"Average Years of Service who are Veterans","",null,null,null,null,null,null,null,null,{"$f":"IF(OR($N$37=\"enabled\"),1,0)","v":0}]
[null,null,null,null,null,null,null,null,null,null,null,null,null,null,null,null,null,null,null,null,null,null,{"$f":"IF(OR($N$37=\"enabled\"),1,0)","v":0}]
[null,null,null,null,null,null,null,null,null,null,null,null,"Leaders with Disabilities Average Years of Service","",null,null,null,null,null,null,null,null,{"$f":"IF(AND($N$37=\"enabled\",$P$37=\"enabled\"),1,0)","v":0}]
[null,null,null,null,null,null,null,null,null,null,null,null,"Leaders who are Veterans Average Years of Service","",null,null,null,null,null,null,null,null,{"$f":"IF(AND($N$37=\"enabled\",$P$37=\"enabled\"),1,0)","v":0}]
[null,null,null,null,null,null,null,null,null,null,null,null,null,null,null,null,null,null,null,null,null,null,{"$f":"IF(AND($N$37=\"enabled\",$P$37=\"enabled\"),1,0)","v":0}]
[null,null,null,null,null,null,null,null,null,null,null,null,"Executives with Disabilities Average Years of Service","",null,null,null,null,null,null,null,null,{"$f":"IF(AND($N$37=\"enabled\",$Q$37=\"enabled\"),1,0)","v":0}]
[null,null,null,null,null,null,null,null,null,null,null,null,"Executives who are Veterans Average Years of Service","",null,null,null,null,null,null,null,null,{"$f":"IF(AND($N$37=\"enabled\",$Q$37=\"enabled\"),1,0)","v":0}]
[null,null,null,null,null,null,null,null,null,null,null,null,null,null,null,null,null,null,null,null,null,null,{"$f":"IF(AND($N$37=\"enabled\",$Q$37=\"enabled\"),1,0)","v":0}]
[null,null,null,null,null,null,null,null,null,null,null,null,null,null,null,"Employees in their First Five Years Internal Promotions by EEO Code",null,null,null,null,null,null,{"$f":"IF(OR($N$41=\"enabled\",$P$41=\"enabled\",$Q$41=\"enabled\"),1,0)","v":0}]
[null,null,null,null,null,null,null,null,null,null,null,null,null,{"$f":"'CENTRAL DATA'!$H$12","v":"FY-2"},{"$f":"'CENTRAL DATA'!$H$13","v":"FY-1"},{"$f":"IF(PROFILE!$L$43=\"Fiscal Year WFP\",'CENTRAL DATA'!$H$14,IF(PROFILE!$L$43=\"Snapshot\",CONCATENATE(\"As of \",TEXT(PROFILE!$N$44,\"mm/dd/yy\"),\"\")))","v":false},null,null,null,null,null,null,{"$f":"IF(OR($N$41=\"enabled\",$P$41=\"enabled\",$Q$41=\"enabled\"),1,0)","v":0}]
[null,null,null,null,null,null,null,null,null,null,null,null,null,null,null,null,null,null,null,null,null,null,{"$f":"IF(OR($N$41=\"enabled\",$P$41=\"enabled\",$Q$41=\"enabled\"),1,0)","v":0}]
[null,null,null,null,null,null,null,null,null,null,null,null,"EEO Code \"Officials and Administrators\" Internal Promotions","",null,null,null,null,null,null,null,null,{"$f":"IF(OR($N$41=\"enabled\"),1,0)","v":0}]
[null,null,null,null,null,null,null,null,null,null,null,null," EEO Code \"Professionals\" Internal Promotions","",null,null,null,null,null,null,null,null,0]
[null,null,null,null,null,null,null,null,null,null,null,null," EEO Code \"Technicians\" Internal Promotions","",null,null,null,null,null,null,null,null,0]
[null,null,null,null,null,null,null,null,null,null,null,null," EEO Code \"Protective Service Workers\" Internal Promotions","",null,null,null,null,null,null,null,null,0]
[null,null,null,null,null,null,null,null,null,null,null,null," EEO Code \"Paraprofessionals\" Internal Promotions","",null,null,null,null,null,null,null,null,0]
[null,null,null,null,null,null,null,null,null,null,null,null," EEO Code \"Administrative Support\" Internal Promotions","",null,null,null,null,null,null,null,null,0]
[null,null,null,null,null,null,null,null,null,null,null,null," EEO Code \"Skilled Craft Workers\" Internal Promotions","",null,null,null,null,null,null,null,null,0]
[null,null,null,null,null,null,null,null,null,null,null,null," EEO Code \"Service/Maintenance\" Internal Promotions","",null,null,null,null,null,null,null,null,0]
[null,null,null,null,null,null,null,null,null,null,null,null," EEO Code \"Faculty\" Internal Promotions","",null,null,null,null,null,null,null,null,0]
[null,null,null,null,null,null,null,null,null,null,null,null," EEO Code \"Other\" Internal Promotions","",null,null,null,null,null,null,null,null,0]
[null,null,null,null,null,null,null,null,null,null,null,null,null,null,null,null,null,null,null,null,null,null,0]
[null,null,null,null,null,null,null,null,null,null,null,null,"EEO Code \"Officials and Administrators\" Leaders Internal Promotions","",null,null,null,null,null,null,null,null,{"$f":"IF(AND($N$41=\"enabled\",$P$41=\"enabled\"),1,0)","v":0}]
[null,null,null,null,null,null,null,null,null,null,null,null," EEO Code \"Professionals\" Leaders  Internal Promotions","",null,null,null,null,null,null,null,null,0]
[null,null,null,null,null,null,null,null,null,null,null,null," EEO Code \"Technicians\" Leaders  Internal Promotions","",null,null,null,null,null,null,null,null,0]
[null,null,null,null,null,null,null,null,null,null,null,null," EEO Code \"Protective Service Workers\" Leaders  Internal Promotions","",null,null,null,null,null,null,null,null,0]
[null,null,null,null,null,null,null,null,null,null,null,null," EEO Code \"Paraprofessionals\" Leaders  Internal Promotions","",null,null,null,null,null,null,null,null,0]
[null,null,null,null,null,null,null,null,null,null,null,null," EEO Code \"Administrative Support\" Leaders  Internal Promotions","",null,null,null,null,null,null,null,null,0]
[null,null,null,null,null,null,null,null,null,null,null,null," EEO Code \"Skilled Craft Workers\" Leaders  Internal Promotions","",null,null,null,null,null,null,null,null,0]
[null,null,null,null,null,null,null,null,null,null,null,null," EEO Code \"Service/Maintenance\" Leaders  Internal Promotions","",null,null,null,null,null,null,null,null,0]
[null,null,null,null,null,null,null,null,null,null,null,null," EEO Code \"Faculty\" Leaders  Internal Promotions","",null,null,null,null,null,null,null,null,0]
[null,null,null,null,null,null,null,null,null,null,null,null," EEO Code \"Other\" Leaders  Internal Promotions","",null,null,null,null,null,null,null,null,0]
[null,null,null,null,null,null,null,null,null,null,null,null,null,null,null,null,null,null,null,null,null,null,0]
[null,null,null,null,null,null,null,null,null,null,null,null,"EEO Code \"Officials and Administrators\" Executives Internal Promotions","",null,null,null,null,null,null,null,null,{"$f":"IF(AND($N$41=\"enabled\",$Q$41=\"enabled\"),1,0)","v":0}]
[null,null,null,null,null,null,null,null,null,null,null,null," EEO Code \"Professionals\" Executives  Internal Promotions","",null,null,null,null,null,null,null,null,0]
[null,null,null,null,null,null,null,null,null,null,null,null," EEO Code \"Technicians\" Executives  Internal Promotions","",null,null,null,null,null,null,null,null,0]
[null,null,null,null,null,null,null,null,null,null,null,null," EEO Code \"Protective Service Workers\" Executives  Internal Promotions","",null,null,null,null,null,null,null,null,0]
[null,null,null,null,null,null,null,null,null,null,null,null," EEO Code \"Paraprofessionals\" Executives  Internal Promotions","",null,null,null,null,null,null,null,null,0]
[null,null,null,null,null,null,null,null,null,null,null,null," EEO Code \"Administrative Support\" Executives  Internal Promotions","",null,null,null,null,null,null,null,null,0]
[null,null,null,null,null,null,null,null,null,null,null,null," EEO Code \"Skilled Craft Workers\" Executives  Internal Promotions","",null,null,null,null,null,null,null,null,0]
[null,null,null,null,null,null,null,null,null,null,null,null," EEO Code \"Service/Maintenance\" Executives  Internal Promotions","",null,null,null,null,null,null,null,null,0]
[null,null,null,null,null,null,null,null,null,null,null,null," EEO Code \"Faculty\" Executives  Internal Promotions","",null,null,null,null,null,null,null,null,0]
[null,null,null,null,null,null,null,null,null,null,null,null," EEO Code \"Other\" Executives  Internal Promotions","",null,null,null,null,null,null,null,null,0]
[null,null,null,null,null,null,null,null,null,null,null,null,null,null,null,null,null,null,null,null,null,null,0]
[null,null,null,null,null,null,null,null,null,null,null,null,null,null,null,"Employees in their First Five Years Internal Promotions by Classification",null,null,null,null,null,null,{"$f":"IF(OR($N$42=\"enabled\",$P$42=\"enabled\",$Q$42=\"enabled\"),1,0)","v":0}]
[null,null,null,null,null,null,null,null,null,null,null,null,null,{"$f":"'CENTRAL DATA'!$H$12","v":"FY-2"},{"$f":"'CENTRAL DATA'!$H$13","v":"FY-1"},{"$f":"IF(PROFILE!$L$43=\"Fiscal Year WFP\",'CENTRAL DATA'!$H$14,IF(PROFILE!$L$43=\"Snapshot\",CONCATENATE(\"As of \",TEXT(PROFILE!$N$44,\"mm/dd/yy\"),\"\")))","v":false},null,null,null,null,null,null,{"$f":"IF(OR($N$42=\"enabled\",$P$42=\"enabled\",$Q$42=\"enabled\"),1,0)","v":0}]
[null,null,null,null,null,null,null,null,null,null,null,null,null,null,null,null,null,null,null,null,null,null,{"$f":"IF(OR($N$42=\"enabled\",$P$42=\"enabled\",$Q$42=\"enabled\"),1,0)","v":0}]
[null,null,{"$f":"COUNTIF(M2047,\"*\"&PROFILE!$C$58&\"*\")","v":1},null,null,null,null,null,null,null,null,null,{"$f":"CONCATENATE(\" \",PROFILE!C58,\" Internal Promotions\")","v":"  Internal Promotions"},"",null,null,null,null,null,null,null,null,{"$f":"IF(AND(OR($N$42=\"enabled\"),C2047=1),1,0)","v":0}]
[null,null,{"$f":"COUNTIF(M2048,\"*\"&PROFILE!$C$59&\"*\")","v":1},null,null,null,null,null,null,null,null,null,{"$f":"CONCATENATE(\" \",PROFILE!C59,\" Internal Promotions\")","v":"  Internal Promotions"},"",null,null,null,null,null,null,null,null,{"$f":"IF(AND(OR($N$42=\"enabled\"),C2048=1),1,0)","v":0}]
[null,null,{"$f":"COUNTIF(M2049,\"*\"&PROFILE!$C$60&\"*\")","v":1},null,null,null,null,null,null,null,null,null,{"$f":"CONCATENATE(\" \",PROFILE!C60,\" Internal Promotions\")","v":"  Internal Promotions"},"",null,null,null,null,null,null,null,null,0]
[null,null,{"$f":"COUNTIF(M2050,\"*\"&PROFILE!$C$61&\"*\")","v":1},null,null,null,null,null,null,null,null,null,{"$f":"CONCATENATE(\" \",PROFILE!C61,\" Internal Promotions\")","v":"  Internal Promotions"},"",null,null,null,null,null,null,null,null,0]
[null,null,{"$f":"COUNTIF(M2051,\"*\"&PROFILE!$C$62&\"*\")","v":1},null,null,null,null,null,null,null,null,null,{"$f":"CONCATENATE(\" \",PROFILE!C62,\" Internal Promotions\")","v":"  Internal Promotions"},"",null,null,null,null,null,null,null,null,0]
[null,null,{"$f":"COUNTIF(M2052,\"*\"&PROFILE!$C$63&\"*\")","v":1},null,null,null,null,null,null,null,null,null,{"$f":"CONCATENATE(\" \",PROFILE!C63,\" Internal Promotions\")","v":"  Internal Promotions"},"",null,null,null,null,null,null,null,null,0]
[null,null,{"$f":"COUNTIF(M2053,\"*\"&PROFILE!$C$64&\"*\")","v":1},null,null,null,null,null,null,null,null,null,{"$f":"CONCATENATE(\" \",PROFILE!C64,\" Internal Promotions\")","v":"  Internal Promotions"},"",null,null,null,null,null,null,null,null,0]
[null,null,{"$f":"COUNTIF(M2054,\"*\"&PROFILE!$C$65&\"*\")","v":1},null,null,null,null,null,null,null,null,null,{"$f":"CONCATENATE(\" \",PROFILE!C65,\" Internal Promotions\")","v":"  Internal Promotions"},"",null,null,null,null,null,null,null,null,0]
[null,null,{"$f":"COUNTIF(M2055,\"*\"&PROFILE!$C$66&\"*\")","v":1},null,null,null,null,null,null,null,null,null,{"$f":"CONCATENATE(\" \",PROFILE!C66,\" Internal Promotions\")","v":"  Internal Promotions"},"",null,null,null,null,null,null,null,null,0]
[null,null,{"$f":"COUNTIF(M2056,\"*\"&PROFILE!$C$67&\"*\")","v":1},null,null,null,null,null,null,null,null,null,{"$f":"CONCATENATE(\" \",PROFILE!C67,\" Internal Promotions\")","v":"  Internal Promotions"},"",null,null,null,null,null,null,null,null,0]
[null,null,{"$f":"COUNTIF(M2057,\"*\"&PROFILE!$C$68&\"*\")","v":1},null,null,null,null,null,null,null,null,null,{"$f":"CONCATENATE(\" \",PROFILE!C68,\" Internal Promotions\")","v":"  Internal Promotions"},"",null,null,null,null,null,null,null,null,0]
[null,null,{"$f":"COUNTIF(M2058,\"*\"&PROFILE!$C$69&\"*\")","v":1},null,null,null,null,null,null,null,null,null,{"$f":"CONCATENATE(\" \",PROFILE!C69,\" Internal Promotions\")","v":"  Internal Promotions"},"",null,null,null,null,null,null,null,null,0]
[null,null,{"$f":"COUNTIF(M2059,\"*\"&PROFILE!$C$70&\"*\")","v":1},null,null,null,null,null,null,null,null,null,{"$f":"CONCATENATE(\" \",PROFILE!C70,\" Internal Promotions\")","v":"  Internal Promotions"},"",null,null,null,null,null,null,null,null,0]
[null,null,{"$f":"COUNTIF(M2060,\"*\"&PROFILE!$C$71&\"*\")","v":1},null,null,null,null,null,null,null,null,null,{"$f":"CONCATENATE(\" \",PROFILE!C71,\" Internal Promotions\")","v":"  Internal Promotions"},"",null,null,null,null,null,null,null,null,0]
[null,null,{"$f":"COUNTIF(M2061,\"*\"&PROFILE!$C$72&\"*\")","v":1},null,null,null,null,null,null,null,null,null,{"$f":"CONCATENATE(\" \",PROFILE!C72,\" Internal Promotions\")","v":"  Internal Promotions"},"",null,null,null,null,null,null,null,null,0]
[null,null,null,null,null,null,null,null,null,null,null,null,null,null,null,null,null,null,null,null,null,null,{"$f":"IF(OR($N$42=\"enabled\"),1,0)","v":0}]
[null,null,{"$f":"COUNTIF(M2063,\"*\"&PROFILE!$C$58&\"*\")","v":1},null,null,null,null,null,null,null,null,null,{"$f":"CONCATENATE(\" \",PROFILE!C58,\" Leaders Internal Promotions\")","v":"  Leaders Internal Promotions"},"",null,null,null,null,null,null,null,null,{"$f":"IF(AND($N$42=\"enabled\",$P$42=\"enabled\",C2063=1),1,0)","v":0}]
[null,null,{"$f":"COUNTIF(M2064,\"*\"&PROFILE!$C$59&\"*\")","v":1},null,null,null,null,null,null,null,null,null,{"$f":"CONCATENATE(\" \",PROFILE!C59,\" Leaders Internal Promotions\")","v":"  Leaders Internal Promotions"},"",null,null,null,null,null,null,null,null,{"$f":"IF(AND($N$42=\"enabled\",$P$42=\"enabled\",C2064=1),1,0)","v":0}]
[null,null,{"$f":"COUNTIF(M2065,\"*\"&PROFILE!$C$60&\"*\")","v":1},null,null,null,null,null,null,null,null,null,{"$f":"CONCATENATE(\" \",PROFILE!C60,\" Leaders Internal Promotions\")","v":"  Leaders Internal Promotions"},"",null,null,null,null,null,null,null,null,0]
[null,null,{"$f":"COUNTIF(M2066,\"*\"&PROFILE!$C$61&\"*\")","v":1},null,null,null,null,null,null,null,null,null,{"$f":"CONCATENATE(\" \",PROFILE!C61,\" Leaders Internal Promotions\")","v":"  Leaders Internal Promotions"},"",null,null,null,null,null,null,null,null,0]
[null,null,{"$f":"COUNTIF(M2067,\"*\"&PROFILE!$C$62&\"*\")","v":1},null,null,null,null,null,null,null,null,null,{"$f":"CONCATENATE(\" \",PROFILE!C62,\" Leaders Internal Promotions\")","v":"  Leaders Internal Promotions"},"",null,null,null,null,null,null,null,null,0]
[null,null,{"$f":"COUNTIF(M2068,\"*\"&PROFILE!$C$63&\"*\")","v":1},null,null,null,null,null,null,null,null,null,{"$f":"CONCATENATE(\" \",PROFILE!C63,\" Leaders Internal Promotions\")","v":"  Leaders Internal Promotions"},"",null,null,null,null,null,null,null,null,0]
[null,null,{"$f":"COUNTIF(M2069,\"*\"&PROFILE!$C$64&\"*\")","v":1},null,null,null,null,null,null,null,null,null,{"$f":"CONCATENATE(\" \",PROFILE!C64,\" Leaders Internal Promotions\")","v":"  Leaders Internal Promotions"},"",null,null,null,null,null,null,null,null,0]
[null,null,{"$f":"COUNTIF(M2070,\"*\"&PROFILE!$C$65&\"*\")","v":1},null,null,null,null,null,null,null,null,null,{"$f":"CONCATENATE(\" \",PROFILE!C65,\" Leaders Internal Promotions\")","v":"  Leaders Internal Promotions"},"",null,null,null,null,null,null,null,null,0]
[null,null,{"$f":"COUNTIF(M2071,\"*\"&PROFILE!$C$66&\"*\")","v":1},null,null,null,null,null,null,null,null,null,{"$f":"CONCATENATE(\" \",PROFILE!C66,\" Leaders Internal Promotions\")","v":"  Leaders Internal Promotions"},"",null,null,null,null,null,null,null,null,0]
[null,null,{"$f":"COUNTIF(M2072,\"*\"&PROFILE!$C$67&\"*\")","v":1},null,null,null,null,null,null,null,null,null,{"$f":"CONCATENATE(\" \",PROFILE!C67,\" Leaders Internal Promotions\")","v":"  Leaders Internal Promotions"},"",null,null,null,null,null,null,null,null,0]
[null,null,{"$f":"COUNTIF(M2073,\"*\"&PROFILE!$C$68&\"*\")","v":1},null,null,null,null,null,null,null,null,null,{"$f":"CONCATENATE(\" \",PROFILE!C68,\" Leaders Internal Promotions\")","v":"  Leaders Internal Promotions"},"",null,null,null,null,null,null,null,null,0]
[null,null,{"$f":"COUNTIF(M2074,\"*\"&PROFILE!$C$69&\"*\")","v":1},null,null,null,null,null,null,null,null,null,{"$f":"CONCATENATE(\" \",PROFILE!C69,\" Leaders Internal Promotions\")","v":"  Leaders Internal Promotions"},"",null,null,null,null,null,null,null,null,0]
[null,null,{"$f":"COUNTIF(M2075,\"*\"&PROFILE!$C$70&\"*\")","v":1},null,null,null,null,null,null,null,null,null,{"$f":"CONCATENATE(\" \",PROFILE!C70,\" Leaders Internal Promotions\")","v":"  Leaders Internal Promotions"},"",null,null,null,null,null,null,null,null,0]
[null,null,{"$f":"COUNTIF(M2076,\"*\"&PROFILE!$C$71&\"*\")","v":1},null,null,null,null,null,null,null,null,null,{"$f":"CONCATENATE(\" \",PROFILE!C71,\" Leaders Internal Promotions\")","v":"  Leaders Internal Promotions"},"",null,null,null,null,null,null,null,null,0]
[null,null,{"$f":"COUNTIF(M2077,\"*\"&PROFILE!$C$72&\"*\")","v":1},null,null,null,null,null,null,null,null,null,{"$f":"CONCATENATE(\" \",PROFILE!C72,\" Leaders Internal Promotions\")","v":"  Leaders Internal Promotions"},"",null,null,null,null,null,null,null,null,0]
[null,null,null,null,null,null,null,null,null,null,null,null,null,null,null,null,null,null,null,null,null,null,{"$f":"IF(AND($N$42=\"enabled\",$P$42=\"enabled\"),1,0)","v":0}]
[null,null,{"$f":"COUNTIF(M2079,\"*\"&PROFILE!$C$58&\"*\")","v":1},null,null,null,null,null,null,null,null,null,{"$f":"CONCATENATE(\" \",PROFILE!C58,\" Executives Internal Promotions\")","v":"  Executives Internal Promotions"},"",null,null,null,null,null,null,null,null,{"$f":"IF(AND($N$42=\"enabled\",$Q$42=\"enabled\",C2079=1),1,0)","v":0}]
[null,null,{"$f":"COUNTIF(M2080,\"*\"&PROFILE!$C$59&\"*\")","v":1},null,null,null,null,null,null,null,null,null,{"$f":"CONCATENATE(\" \",PROFILE!C59,\" Executives Internal Promotions\")","v":"  Executives Internal Promotions"},"",null,null,null,null,null,null,null,null,{"$f":"IF(AND($N$42=\"enabled\",$Q$42=\"enabled\",C2080=1),1,0)","v":0}]
[null,null,{"$f":"COUNTIF(M2081,\"*\"&PROFILE!$C$60&\"*\")","v":1},null,null,null,null,null,null,null,null,null,{"$f":"CONCATENATE(\" \",PROFILE!C60,\" Executives Internal Promotions\")","v":"  Executives Internal Promotions"},"",null,null,null,null,null,null,null,null,0]
[null,null,{"$f":"COUNTIF(M2082,\"*\"&PROFILE!$C$61&\"*\")","v":1},null,null,null,null,null,null,null,null,null,{"$f":"CONCATENATE(\" \",PROFILE!C61,\" Executives Internal Promotions\")","v":"  Executives Internal Promotions"},"",null,null,null,null,null,null,null,null,0]
[null,null,{"$f":"COUNTIF(M2083,\"*\"&PROFILE!$C$62&\"*\")","v":1},null,null,null,null,null,null,null,null,null,{"$f":"CONCATENATE(\" \",PROFILE!C62,\" Executives Internal Promotions\")","v":"  Executives Internal Promotions"},"",null,null,null,null,null,null,null,null,0]
[null,null,{"$f":"COUNTIF(M2084,\"*\"&PROFILE!$C$63&\"*\")","v":1},null,null,null,null,null,null,null,null,null,{"$f":"CONCATENATE(\" \",PROFILE!C63,\" Executives Internal Promotions\")","v":"  Executives Internal Promotions"},"",null,null,null,null,null,null,null,null,0]
[null,null,{"$f":"COUNTIF(M2085,\"*\"&PROFILE!$C$64&\"*\")","v":1},null,null,null,null,null,null,null,null,null,{"$f":"CONCATENATE(\" \",PROFILE!C64,\" Executives Internal Promotions\")","v":"  Executives Internal Promotions"},"",null,null,null,null,null,null,null,null,0]
[null,null,{"$f":"COUNTIF(M2086,\"*\"&PROFILE!$C$65&\"*\")","v":1},null,null,null,null,null,null,null,null,null,{"$f":"CONCATENATE(\" \",PROFILE!C65,\" Executives Internal Promotions\")","v":"  Executives Internal Promotions"},"",null,null,null,null,null,null,null,null,0]
[null,null,{"$f":"COUNTIF(M2087,\"*\"&PROFILE!$C$66&\"*\")","v":1},null,null,null,null,null,null,null,null,null,{"$f":"CONCATENATE(\" \",PROFILE!C66,\" Executives Internal Promotions\")","v":"  Executives Internal Promotions"},"",null,null,null,null,null,null,null,null,0]
[null,null,{"$f":"COUNTIF(M2088,\"*\"&PROFILE!$C$67&\"*\")","v":1},null,null,null,null,null,null,null,null,null,{"$f":"CONCATENATE(\" \",PROFILE!C67,\" Executives Internal Promotions\")","v":"  Executives Internal Promotions"},"",null,null,null,null,null,null,null,null,0]
[null,null,{"$f":"COUNTIF(M2089,\"*\"&PROFILE!$C$68&\"*\")","v":1},null,null,null,null,null,null,null,null,null,{"$f":"CONCATENATE(\" \",PROFILE!C68,\" Executives Internal Promotions\")","v":"  Executives Internal Promotions"},"",null,null,null,null,null,null,null,null,0]
[null,null,{"$f":"COUNTIF(M2090,\"*\"&PROFILE!$C$69&\"*\")","v":1},null,null,null,null,null,null,null,null,null,{"$f":"CONCATENATE(\" \",PROFILE!C69,\" Executives Internal Promotions\")","v":"  Executives Internal Promotions"},"",null,null,null,null,null,null,null,null,0]
[null,null,{"$f":"COUNTIF(M2091,\"*\"&PROFILE!$C$70&\"*\")","v":1},null,null,null,null,null,null,null,null,null,{"$f":"CONCATENATE(\" \",PROFILE!C70,\" Executives Internal Promotions\")","v":"  Executives Internal Promotions"},"",null,null,null,null,null,null,null,null,0]
[null,null,{"$f":"COUNTIF(M2092,\"*\"&PROFILE!$C$71&\"*\")","v":1},null,null,null,null,null,null,null,null,null,{"$f":"CONCATENATE(\" \",PROFILE!C71,\" Executives Internal Promotions\")","v":"  Executives Internal Promotions"},"",null,null,null,null,null,null,null,null,0]
[null,null,{"$f":"COUNTIF(M2093,\"*\"&PROFILE!$C$72&\"*\")","v":1},null,null,null,null,null,null,null,null,null,{"$f":"CONCATENATE(\" \",PROFILE!C72,\" Executives Internal Promotions\")","v":"  Executives Internal Promotions"},"",null,null,null,null,null,null,null,null,0]
[null,null,null,null,null,null,null,null,null,null,null,null,null,null,null,null,null,null,null,null,null,null,{"$f":"IF(AND($N$42=\"enabled\",$Q$42=\"enabled\"),1,0)","v":0}]
[null,null,null,null,null,null,null,null,null,null,null,null,null,null,null,"Employees in their First Five Years Internal Promotions by Sex",null,null,null,null,null,null,{"$f":"IF(OR($N$43=\"enabled\",$P$43=\"enabled\",$Q$43=\"enabled\"),1,0)","v":0}]
[null,null,null,null,null,null,null,null,null,null,null,null,null,{"$f":"'CENTRAL DATA'!$H$12","v":"FY-2"},{"$f":"'CENTRAL DATA'!$H$13","v":"FY-1"},{"$f":"IF(PROFILE!$L$43=\"Fiscal Year WFP\",'CENTRAL DATA'!$H$14,IF(PROFILE!$L$43=\"Snapshot\",CONCATENATE(\"As of \",TEXT(PROFILE!$N$44,\"mm/dd/yy\"),\"\")))","v":false},null,null,null,null,null,null,{"$f":"IF(OR($N$43=\"enabled\",$P$43=\"enabled\",$Q$43=\"enabled\"),1,0)","v":0}]
[null,null,null,null,null,null,null,null,null,null,null,null,null,null,null,null,null,null,null,null,null,null,{"$f":"IF(OR($N$43=\"enabled\",$P$43=\"enabled\",$Q$43=\"enabled\"),1,0)","v":0}]
[null,null,null,null,null,null,null,null,null,null,null,null,"Male Internal Promotions","",null,null,null,null,null,null,null,null,{"$f":"IF(OR($N$43=\"enabled\"),1,0)","v":0}]
[null,null,null,null,null,null,null,null,null,null,null,null,"Female Internal Promotions","",null,null,null,null,null,null,null,null,{"$f":"IF(OR($N$43=\"enabled\"),1,0)","v":0}]
[null,null,null,null,null,null,null,null,null,null,null,null,null,null,null,null,null,null,null,null,null,null,{"$f":"IF(OR($N$43=\"enabled\"),1,0)","v":0}]
[null,null,null,null,null,null,null,null,null,null,null,null,"Male Leader Internal Promotions","",null,null,null,null,null,null,null,null,{"$f":"IF(AND($N$43=\"enabled\",$P$43=\"enabled\"),1,0)","v":0}]
[null,null,null,null,null,null,null,null,null,null,null,null,"Female Leader Internal Promotions","",null,null,null,null,null,null,null,null,{"$f":"IF(AND($N$43=\"enabled\",$P$43=\"enabled\"),1,0)","v":0}]
[null,null,null,null,null,null,null,null,null,null,null,null,null,null,null,null,null,null,null,null,null,null,{"$f":"IF(AND($N$43=\"enabled\",$P$43=\"enabled\"),1,0)","v":0}]
[null,null,null,null,null,null,null,null,null,null,null,null,"Male Executive Internal Promotions","",null,null,null,null,null,null,null,null,{"$f":"IF(AND($N$43=\"enabled\",$Q$43=\"enabled\"),1,0)","v":0}]
[null,null,null,null,null,null,null,null,null,null,null,null,"Female Executive Internal Promotions","",null,null,null,null,null,null,null,null,{"$f":"IF(AND($N$43=\"enabled\",$Q$43=\"enabled\"),1,0)","v":0}]
[null,null,null,null,null,null,null,null,null,null,null,null,null,null,null,null,null,null,null,null,null,null,{"$f":"IF(AND($N$43=\"enabled\",$Q$43=\"enabled\"),1,0)","v":0}]
[null,null,null,null,null,null,null,null,null,null,null,null,null,null,null,"Employees in their First Five Years Internal Promotions by Race",null,null,null,null,null,null,{"$f":"IF(OR($N$44=\"enabled\",$P$44=\"enabled\",$Q$44=\"enabled\"),1,0)","v":0}]
[null,null,null,null,null,null,null,null,null,null,null,null,null,{"$f":"'CENTRAL DATA'!$H$12","v":"FY-2"},{"$f":"'CENTRAL DATA'!$H$13","v":"FY-1"},{"$f":"IF(PROFILE!$L$43=\"Fiscal Year WFP\",'CENTRAL DATA'!$H$14,IF(PROFILE!$L$43=\"Snapshot\",CONCATENATE(\"As of \",TEXT(PROFILE!$N$44,\"mm/dd/yy\"),\"\")))","v":false},null,null,null,null,null,null,{"$f":"IF(OR($N$44=\"enabled\",$P$44=\"enabled\",$Q$44=\"enabled\"),1,0)","v":0}]
[null,null,null,null,null,null,null,null,null,null,null,null,null,null,null,null,null,null,null,null,null,null,{"$f":"IF(OR($N$44=\"enabled\",$P$44=\"enabled\",$Q$44=\"enabled\"),1,0)","v":0}]
[null,null,null,null,null,null,null,null,null,null,null,null,"Minority Internal Promotions","",null,null,null,null,null,null,null,null,{"$f":"IF(OR($N$44=\"enabled\"),1,0)","v":0}]
[null,null,null,null,null,null,null,null,null,null,null,null,"Non-Minority Internal Promotions","",null,null,null,null,null,null,null,null,0]
[null,null,null,null,null,null,null,null,null,null,null,null,null,null,null,null,null,null,null,null,null,null,0]
[null,null,null,null,null,null,null,null,null,null,null,null,"Minority Leader Internal Promotions","",null,null,null,null,null,null,null,null,{"$f":"IF(AND($N$44=\"enabled\",$P$44=\"enabled\"),1,0)","v":0}]
[null,null,null,null,null,null,null,null,null,null,null,null,"Non-Minority Leader Internal Promotions","",null,null,null,null,null,null,null,null,0]
[null,null,null,null,null,null,null,null,null,null,null,null,null,null,null,null,null,null,null,null,null,null,0]
[null,null,null,null,null,null,null,null,null,null,null,null,"Minority Executive Internal Promotions","",null,null,null,null,null,null,null,null,{"$f":"IF(AND($N$44=\"enabled\",$Q$44=\"enabled\"),1,0)","v":0}]
[null,null,null,null,null,null,null,null,null,null,null,null,"Non-Minority Executive Internal Promotions","",null,null,null,null,null,null,null,null,0]
[null,null,null,null,null,null,null,null,null,null,null,null,null,null,null,null,null,null,null,null,null,null,0]
[null,null,null,null,null,null,null,null,null,null,null,null,null,null,null,"Employees in their First Five Years Internal Promotions by Other Demographics",null,null,null,null,null,null,{"$f":"IF(OR($N$45=\"enabled\",$P$45=\"enabled\",$Q$45=\"enabled\"),1,0)","v":0}]
[null,null,null,null,null,null,null,null,null,null,null,null,null,{"$f":"'CENTRAL DATA'!$H$12","v":"FY-2"},{"$f":"'CENTRAL DATA'!$H$13","v":"FY-1"},{"$f":"IF(PROFILE!$L$43=\"Fiscal Year WFP\",'CENTRAL DATA'!$H$14,IF(PROFILE!$L$43=\"Snapshot\",CONCATENATE(\"As of \",TEXT(PROFILE!$N$44,\"mm/dd/yy\"),\"\")))","v":false},null,null,null,null,null,null,{"$f":"IF(OR($N$45=\"enabled\",$P$45=\"enabled\",$Q$45=\"enabled\"),1,0)","v":0}]
[null,null,null,null,null,null,null,null,null,null,null,null,null,null,null,null,null,null,null,null,null,null,{"$f":"IF(OR($N$45=\"enabled\",$P$45=\"enabled\",$Q$45=\"enabled\"),1,0)","v":0}]
[null,null,null,null,null,null,null,null,null,null,null,null,"Employees with Disabilities Internal Promotions","",null,null,null,null,null,null,null,null,{"$f":"IF(OR($N$45=\"enabled\"),1,0)","v":0}]
[null,null,null,null,null,null,null,null,null,null,null,null,"Internal Promotions who are Veterans","",null,null,null,null,null,null,null,null,{"$f":"IF(OR($N$45=\"enabled\"),1,0)","v":0}]
[null,null,null,null,null,null,null,null,null,null,null,null,null,null,null,null,null,null,null,null,null,null,{"$f":"IF(OR($N$45=\"enabled\"),1,0)","v":0}]
[null,null,null,null,null,null,null,null,null,null,null,null,"Leaders with Disabilities Internal Promotions","",null,null,null,null,null,null,null,null,{"$f":"IF(AND($N$45=\"enabled\",$P$45=\"enabled\"),1,0)","v":0}]
[null,null,null,null,null,null,null,null,null,null,null,null,"Leaders who are Veterans Internal Promotions","",null,null,null,null,null,null,null,null,{"$f":"IF(AND($N$45=\"enabled\",$P$45=\"enabled\"),1,0)","v":0}]
[null,null,null,null,null,null,null,null,null,null,null,null,null,null,null,null,null,null,null,null,null,null,{"$f":"IF(AND($N$45=\"enabled\",$P$45=\"enabled\"),1,0)","v":0}]
[null,null,null,null,null,null,null,null,null,null,null,null,"Executives with Disabilities Internal Promotions","",null,null,null,null,null,null,null,null,{"$f":"IF(AND($N$45=\"enabled\",$Q$45=\"enabled\"),1,0)","v":0}]
[null,null,null,null,null,null,null,null,null,null,null,null,"Executives who are Veterans Internal Promotions","",null,null,null,null,null,null,null,null,{"$f":"IF(AND($N$45=\"enabled\",$Q$45=\"enabled\"),1,0)","v":0}]
[null,null,null,null,null,null,null,null,null,null,null,null,null,null,null,null,null,null,null,null,null,null,{"$f":"IF(AND($N$45=\"enabled\",$Q$45=\"enabled\"),1,0)","v":0}]
[null,null,null,null,null,null,null,null,null,null,null,null,null,null,null,"Employees in their First Five Years Internal Transfers by EEO Code",null,null,null,null,null,null,{"$f":"IF(OR($N$49=\"enabled\",$P$49=\"enabled\",$Q$49=\"enabled\"),1,0)","v":0}]
[null,null,null,null,null,null,null,null,null,null,null,null,null,{"$f":"'CENTRAL DATA'!$H$12","v":"FY-2"},{"$f":"'CENTRAL DATA'!$H$13","v":"FY-1"},{"$f":"IF(PROFILE!$L$43=\"Fiscal Year WFP\",'CENTRAL DATA'!$H$14,IF(PROFILE!$L$43=\"Snapshot\",CONCATENATE(\"As of \",TEXT(PROFILE!$N$44,\"mm/dd/yy\"),\"\")))","v":false},null,null,null,null,null,null,{"$f":"IF(OR($N$49=\"enabled\",$P$49=\"enabled\",$Q$49=\"enabled\"),1,0)","v":0}]
[null,null,null,null,null,null,null,null,null,null,null,null,null,null,null,null,null,null,null,null,null,null,{"$f":"IF(OR($N$49=\"enabled\",$P$49=\"enabled\",$Q$49=\"enabled\"),1,0)","v":0}]
[null,null,null,null,null,null,null,null,null,null,null,null,"EEO Code \"Officials and Administrators\" Internal Transfers","",null,null,null,null,null,null,null,null,{"$f":"IF(OR($N$49=\"enabled\"),1,0)","v":0}]
[null,null,null,null,null,null,null,null,null,null,null,null," EEO Code \"Professionals\" Internal Transfers","",null,null,null,null,null,null,null,null,0]
[null,null,null,null,null,null,null,null,null,null,null,null," EEO Code \"Technicians\" Internal Transfers","",null,null,null,null,null,null,null,null,0]
[null,null,null,null,null,null,null,null,null,null,null,null," EEO Code \"Protective Service Workers\" Internal Transfers","",null,null,null,null,null,null,null,null,0]
[null,null,null,null,null,null,null,null,null,null,null,null," EEO Code \"Paraprofessionals\" Internal Transfers","",null,null,null,null,null,null,null,null,0]
[null,null,null,null,null,null,null,null,null,null,null,null," EEO Code \"Administrative Support\" Internal Transfers","",null,null,null,null,null,null,null,null,0]
[null,null,null,null,null,null,null,null,null,null,null,null," EEO Code \"Skilled Craft Workers\" Internal Transfers","",null,null,null,null,null,null,null,null,0]
[null,null,null,null,null,null,null,null,null,null,null,null," EEO Code \"Service/Maintenance\" Internal Transfers","",null,null,null,null,null,null,null,null,0]
[null,null,null,null,null,null,null,null,null,null,null,null," EEO Code \"Faculty\" Internal Transfers","",null,null,null,null,null,null,null,null,0]
[null,null,null,null,null,null,null,null,null,null,null,null," EEO Code \"Other\" Internal Transfers","",null,null,null,null,null,null,null,null,0]
[null,null,null,null,null,null,null,null,null,null,null,null,null,null,null,null,null,null,null,null,null,null,0]
[null,null,null,null,null,null,null,null,null,null,null,null,"EEO Code \"Officials and Administrators\" Leaders Internal Transfers","",null,null,null,null,null,null,null,null,{"$f":"IF(AND($N$49=\"enabled\",$P$49=\"enabled\"),1,0)","v":0}]
[null,null,null,null,null,null,null,null,null,null,null,null," EEO Code \"Professionals\" Leaders  Internal Transfers","",null,null,null,null,null,null,null,null,0]
[null,null,null,null,null,null,null,null,null,null,null,null," EEO Code \"Technicians\" Leaders  Internal Transfers","",null,null,null,null,null,null,null,null,0]
[null,null,null,null,null,null,null,null,null,null,null,null," EEO Code \"Protective Service Workers\" Leaders  Internal Transfers","",null,null,null,null,null,null,null,null,0]
[null,null,null,null,null,null,null,null,null,null,null,null," EEO Code \"Paraprofessionals\" Leaders  Internal Transfers","",null,null,null,null,null,null,null,null,0]
[null,null,null,null,null,null,null,null,null,null,null,null," EEO Code \"Administrative Support\" Leaders  Internal Transfers","",null,null,null,null,null,null,null,null,0]
[null,null,null,null,null,null,null,null,null,null,null,null," EEO Code \"Skilled Craft Workers\" Leaders  Internal Transfers","",null,null,null,null,null,null,null,null,0]
[null,null,null,null,null,null,null,null,null,null,null,null," EEO Code \"Service/Maintenance\" Leaders  Internal Transfers","",null,null,null,null,null,null,null,null,0]
[null,null,null,null,null,null,null,null,null,null,null,null," EEO Code \"Faculty\" Leaders  Internal Transfers","",null,null,null,null,null,null,null,null,0]
[null,null,null,null,null,null,null,null,null,null,null,null," EEO Code \"Other\" Leaders  Internal Transfers","",null,null,null,null,null,null,null,null,0]
[null,null,null,null,null,null,null,null,null,null,null,null,null,null,null,null,null,null,null,null,null,null,0]
[null,null,null,null,null,null,null,null,null,null,null,null,"EEO Code \"Officials and Administrators\" Executives Internal Transfers","",null,null,null,null,null,null,null,null,{"$f":"IF(AND($N$49=\"enabled\",$Q$49=\"enabled\"),1,0)","v":0}]
[null,null,null,null,null,null,null,null,null,null,null,null," EEO Code \"Professionals\" Executives  Internal Transfers","",null,null,null,null,null,null,null,null,0]
[null,null,null,null,null,null,null,null,null,null,null,null," EEO Code \"Technicians\" Executives  Internal Transfers","",null,null,null,null,null,null,null,null,0]
[null,null,null,null,null,null,null,null,null,null,null,null," EEO Code \"Protective Service Workers\" Executives  Internal Transfers","",null,null,null,null,null,null,null,null,0]
[null,null,null,null,null,null,null,null,null,null,null,null," EEO Code \"Paraprofessionals\" Executives  Internal Transfers","",null,null,null,null,null,null,null,null,0]
[null,null,null,null,null,null,null,null,null,null,null,null," EEO Code \"Administrative Support\" Executives  Internal Transfers","",null,null,null,null,null,null,null,null,0]
[null,null,null,null,null,null,null,null,null,null,null,null," EEO Code \"Skilled Craft Workers\" Executives  Internal Transfers","",null,null,null,null,null,null,null,null,0]
[null,null,null,null,null,null,null,null,null,null,null,null," EEO Code \"Service/Maintenance\" Executives  Internal Transfers","",null,null,null,null,null,null,null,null,0]
[null,null,null,null,null,null,null,null,null,null,null,null," EEO Code \"Faculty\" Executives  Internal Transfers","",null,null,null,null,null,null,null,null,0]
[null,null,null,null,null,null,null,null,null,null,null,null," EEO Code \"Other\" Executives  Internal Transfers","",null,null,null,null,null,null,null,null,0]
[null,null,null,null,null,null,null,null,null,null,null,null,null,null,null,null,null,null,null,null,null,null,0]
[null,null,null,null,null,null,null,null,null,null,null,null,null,null,null,"Employees in their First Five Years Internal Transfers by Classification",null,null,null,null,null,null,{"$f":"IF(OR($N$50=\"enabled\",$P$50=\"enabled\",$Q$50=\"enabled\"),1,0)","v":0}]
[null,null,null,null,null,null,null,null,null,null,null,null,null,{"$f":"'CENTRAL DATA'!$H$12","v":"FY-2"},{"$f":"'CENTRAL DATA'!$H$13","v":"FY-1"},{"$f":"IF(PROFILE!$L$43=\"Fiscal Year WFP\",'CENTRAL DATA'!$H$14,IF(PROFILE!$L$43=\"Snapshot\",CONCATENATE(\"As of \",TEXT(PROFILE!$N$44,\"mm/dd/yy\"),\"\")))","v":false},null,null,null,null,null,null,{"$f":"IF(OR($N$50=\"enabled\",$P$50=\"enabled\",$Q$50=\"enabled\"),1,0)","v":0}]
[null,null,null,null,null,null,null,null,null,null,null,null,null,null,null,null,null,null,null,null,null,null,{"$f":"IF(OR($N$50=\"enabled\",$P$50=\"enabled\",$Q$50=\"enabled\"),1,0)","v":0}]
[null,null,{"$f":"COUNTIF(M2170,\"*\"&PROFILE!$C$58&\"*\")","v":1},null,null,null,null,null,null,null,null,null,{"$f":"CONCATENATE(\" \",PROFILE!C58,\" Internal Transfers\")","v":"  Internal Transfers"},"",null,null,null,null,null,null,null,null,{"$f":"IF(AND(OR($N$50=\"enabled\"),C2170=1),1,0)","v":0}]
[null,null,{"$f":"COUNTIF(M2171,\"*\"&PROFILE!$C$59&\"*\")","v":1},null,null,null,null,null,null,null,null,null,{"$f":"CONCATENATE(\" \",PROFILE!C59,\" Internal Transfers\")","v":"  Internal Transfers"},"",null,null,null,null,null,null,null,null,{"$f":"IF(AND(OR($N$50=\"enabled\"),C2171=1),1,0)","v":0}]
[null,null,{"$f":"COUNTIF(M2172,\"*\"&PROFILE!$C$60&\"*\")","v":1},null,null,null,null,null,null,null,null,null,{"$f":"CONCATENATE(\" \",PROFILE!C60,\" Internal Transfers\")","v":"  Internal Transfers"},"",null,null,null,null,null,null,null,null,0]
[null,null,{"$f":"COUNTIF(M2173,\"*\"&PROFILE!$C$61&\"*\")","v":1},null,null,null,null,null,null,null,null,null,{"$f":"CONCATENATE(\" \",PROFILE!C61,\" Internal Transfers\")","v":"  Internal Transfers"},"",null,null,null,null,null,null,null,null,0]
[null,null,{"$f":"COUNTIF(M2174,\"*\"&PROFILE!$C$62&\"*\")","v":1},null,null,null,null,null,null,null,null,null,{"$f":"CONCATENATE(\" \",PROFILE!C62,\" Internal Transfers\")","v":"  Internal Transfers"},"",null,null,null,null,null,null,null,null,0]
[null,null,{"$f":"COUNTIF(M2175,\"*\"&PROFILE!$C$63&\"*\")","v":1},null,null,null,null,null,null,null,null,null,{"$f":"CONCATENATE(\" \",PROFILE!C63,\" Internal Transfers\")","v":"  Internal Transfers"},"",null,null,null,null,null,null,null,null,0]
[null,null,{"$f":"COUNTIF(M2176,\"*\"&PROFILE!$C$64&\"*\")","v":1},null,null,null,null,null,null,null,null,null,{"$f":"CONCATENATE(\" \",PROFILE!C64,\" Internal Transfers\")","v":"  Internal Transfers"},"",null,null,null,null,null,null,null,null,0]
[null,null,{"$f":"COUNTIF(M2177,\"*\"&PROFILE!$C$65&\"*\")","v":1},null,null,null,null,null,null,null,null,null,{"$f":"CONCATENATE(\" \",PROFILE!C65,\" Internal Transfers\")","v":"  Internal Transfers"},"",null,null,null,null,null,null,null,null,0]
[null,null,{"$f":"COUNTIF(M2178,\"*\"&PROFILE!$C$66&\"*\")","v":1},null,null,null,null,null,null,null,null,null,{"$f":"CONCATENATE(\" \",PROFILE!C66,\" Internal Transfers\")","v":"  Internal Transfers"},"",null,null,null,null,null,null,null,null,0]
[null,null,{"$f":"COUNTIF(M2179,\"*\"&PROFILE!$C$67&\"*\")","v":1},null,null,null,null,null,null,null,null,null,{"$f":"CONCATENATE(\" \",PROFILE!C67,\" Internal Transfers\")","v":"  Internal Transfers"},"",null,null,null,null,null,null,null,null,0]
[null,null,{"$f":"COUNTIF(M2180,\"*\"&PROFILE!$C$68&\"*\")","v":1},null,null,null,null,null,null,null,null,null,{"$f":"CONCATENATE(\" \",PROFILE!C68,\" Internal Transfers\")","v":"  Internal Transfers"},"",null,null,null,null,null,null,null,null,0]
[null,null,{"$f":"COUNTIF(M2181,\"*\"&PROFILE!$C$69&\"*\")","v":1},null,null,null,null,null,null,null,null,null,{"$f":"CONCATENATE(\" \",PROFILE!C69,\" Internal Transfers\")","v":"  Internal Transfers"},"",null,null,null,null,null,null,null,null,0]
[null,null,{"$f":"COUNTIF(M2182,\"*\"&PROFILE!$C$70&\"*\")","v":1},null,null,null,null,null,null,null,null,null,{"$f":"CONCATENATE(\" \",PROFILE!C70,\" Internal Transfers\")","v":"  Internal Transfers"},"",null,null,null,null,null,null,null,null,0]
[null,null,{"$f":"COUNTIF(M2183,\"*\"&PROFILE!$C$71&\"*\")","v":1},null,null,null,null,null,null,null,null,null,{"$f":"CONCATENATE(\" \",PROFILE!C71,\" Internal Transfers\")","v":"  Internal Transfers"},"",null,null,null,null,null,null,null,null,0]
[null,null,{"$f":"COUNTIF(M2184,\"*\"&PROFILE!$C$72&\"*\")","v":1},null,null,null,null,null,null,null,null,null,{"$f":"CONCATENATE(\" \",PROFILE!C72,\" Internal Transfers\")","v":"  Internal Transfers"},"",null,null,null,null,null,null,null,null,0]
[null,null,null,null,null,null,null,null,null,null,null,null,null,null,null,null,null,null,null,null,null,null,{"$f":"IF(OR($N$50=\"enabled\"),1,0)","v":0}]
[null,null,{"$f":"COUNTIF(M2186,\"*\"&PROFILE!$C$58&\"*\")","v":1},null,null,null,null,null,null,null,null,null,{"$f":"CONCATENATE(\" \",PROFILE!C58,\" Leaders Internal Transfers\")","v":"  Leaders Internal Transfers"},"",null,null,null,null,null,null,null,null,{"$f":"IF(AND($N$50=\"enabled\",$P$50=\"enabled\",C2186=1),1,0)","v":0}]
[null,null,{"$f":"COUNTIF(M2187,\"*\"&PROFILE!$C$59&\"*\")","v":1},null,null,null,null,null,null,null,null,null,{"$f":"CONCATENATE(\" \",PROFILE!C59,\" Leaders Internal Transfers\")","v":"  Leaders Internal Transfers"},"",null,null,null,null,null,null,null,null,{"$f":"IF(AND($N$50=\"enabled\",$P$50=\"enabled\",C2187=1),1,0)","v":0}]
[null,null,{"$f":"COUNTIF(M2188,\"*\"&PROFILE!$C$60&\"*\")","v":1},null,null,null,null,null,null,null,null,null,{"$f":"CONCATENATE(\" \",PROFILE!C60,\" Leaders Internal Transfers\")","v":"  Leaders Internal Transfers"},"",null,null,null,null,null,null,null,null,0]
[null,null,{"$f":"COUNTIF(M2189,\"*\"&PROFILE!$C$61&\"*\")","v":1},null,null,null,null,null,null,null,null,null,{"$f":"CONCATENATE(\" \",PROFILE!C61,\" Leaders Internal Transfers\")","v":"  Leaders Internal Transfers"},"",null,null,null,null,null,null,null,null,0]
[null,null,{"$f":"COUNTIF(M2190,\"*\"&PROFILE!$C$62&\"*\")","v":1},null,null,null,null,null,null,null,null,null,{"$f":"CONCATENATE(\" \",PROFILE!C62,\" Leaders Internal Transfers\")","v":"  Leaders Internal Transfers"},"",null,null,null,null,null,null,null,null,0]
[null,null,{"$f":"COUNTIF(M2191,\"*\"&PROFILE!$C$63&\"*\")","v":1},null,null,null,null,null,null,null,null,null,{"$f":"CONCATENATE(\" \",PROFILE!C63,\" Leaders Internal Transfers\")","v":"  Leaders Internal Transfers"},"",null,null,null,null,null,null,null,null,0]
[null,null,{"$f":"COUNTIF(M2192,\"*\"&PROFILE!$C$64&\"*\")","v":1},null,null,null,null,null,null,null,null,null,{"$f":"CONCATENATE(\" \",PROFILE!C64,\" Leaders Internal Transfers\")","v":"  Leaders Internal Transfers"},"",null,null,null,null,null,null,null,null,0]
[null,null,{"$f":"COUNTIF(M2193,\"*\"&PROFILE!$C$65&\"*\")","v":1},null,null,null,null,null,null,null,null,null,{"$f":"CONCATENATE(\" \",PROFILE!C65,\" Leaders Internal Transfers\")","v":"  Leaders Internal Transfers"},"",null,null,null,null,null,null,null,null,0]
[null,null,{"$f":"COUNTIF(M2194,\"*\"&PROFILE!$C$66&\"*\")","v":1},null,null,null,null,null,null,null,null,null,{"$f":"CONCATENATE(\" \",PROFILE!C66,\" Leaders Internal Transfers\")","v":"  Leaders Internal Transfers"},"",null,null,null,null,null,null,null,null,0]
[null,null,{"$f":"COUNTIF(M2195,\"*\"&PROFILE!$C$67&\"*\")","v":1},null,null,null,null,null,null,null,null,null,{"$f":"CONCATENATE(\" \",PROFILE!C67,\" Leaders Internal Transfers\")","v":"  Leaders Internal Transfers"},"",null,null,null,null,null,null,null,null,0]
[null,null,{"$f":"COUNTIF(M2196,\"*\"&PROFILE!$C$68&\"*\")","v":1},null,null,null,null,null,null,null,null,null,{"$f":"CONCATENATE(\" \",PROFILE!C68,\" Leaders Internal Transfers\")","v":"  Leaders Internal Transfers"},"",null,null,null,null,null,null,null,null,0]
[null,null,{"$f":"COUNTIF(M2197,\"*\"&PROFILE!$C$69&\"*\")","v":1},null,null,null,null,null,null,null,null,null,{"$f":"CONCATENATE(\" \",PROFILE!C69,\" Leaders Internal Transfers\")","v":"  Leaders Internal Transfers"},"",null,null,null,null,null,null,null,null,0]
[null,null,{"$f":"COUNTIF(M2198,\"*\"&PROFILE!$C$70&\"*\")","v":1},null,null,null,null,null,null,null,null,null,{"$f":"CONCATENATE(\" \",PROFILE!C70,\" Leaders Internal Transfers\")","v":"  Leaders Internal Transfers"},"",null,null,null,null,null,null,null,null,0]
[null,null,{"$f":"COUNTIF(M2199,\"*\"&PROFILE!$C$71&\"*\")","v":1},null,null,null,null,null,null,null,null,null,{"$f":"CONCATENATE(\" \",PROFILE!C71,\" Leaders Internal Transfers\")","v":"  Leaders Internal Transfers"},"",null,null,null,null,null,null,null,null,0]
[null,null,{"$f":"COUNTIF(M2200,\"*\"&PROFILE!$C$72&\"*\")","v":1},null,null,null,null,null,null,null,null,null,{"$f":"CONCATENATE(\" \",PROFILE!C72,\" Leaders Internal Transfers\")","v":"  Leaders Internal Transfers"},"",null,null,null,null,null,null,null,null,0]
[null,null,null,null,null,null,null,null,null,null,null,null,null,null,null,null,null,null,null,null,null,null,{"$f":"IF(AND($N$50=\"enabled\",$P$50=\"enabled\"),1,0)","v":0}]
[null,null,{"$f":"COUNTIF(M2202,\"*\"&PROFILE!$C$58&\"*\")","v":1},null,null,null,null,null,null,null,null,null,{"$f":"CONCATENATE(\" \",PROFILE!C58,\" Executives Internal Transfers\")","v":"  Executives Internal Transfers"},"",null,null,null,null,null,null,null,null,{"$f":"IF(AND($N$50=\"enabled\",$Q$50=\"enabled\",C2202=1),1,0)","v":0}]
[null,null,{"$f":"COUNTIF(M2203,\"*\"&PROFILE!$C$59&\"*\")","v":1},null,null,null,null,null,null,null,null,null,{"$f":"CONCATENATE(\" \",PROFILE!C59,\" Executives Internal Transfers\")","v":"  Executives Internal Transfers"},"",null,null,null,null,null,null,null,null,{"$f":"IF(AND($N$50=\"enabled\",$Q$50=\"enabled\",C2203=1),1,0)","v":0}]
[null,null,{"$f":"COUNTIF(M2204,\"*\"&PROFILE!$C$60&\"*\")","v":1},null,null,null,null,null,null,null,null,null,{"$f":"CONCATENATE(\" \",PROFILE!C60,\" Executives Internal Transfers\")","v":"  Executives Internal Transfers"},"",null,null,null,null,null,null,null,null,0]
[null,null,{"$f":"COUNTIF(M2205,\"*\"&PROFILE!$C$61&\"*\")","v":1},null,null,null,null,null,null,null,null,null,{"$f":"CONCATENATE(\" \",PROFILE!C61,\" Executives Internal Transfers\")","v":"  Executives Internal Transfers"},"",null,null,null,null,null,null,null,null,0]
[null,null,{"$f":"COUNTIF(M2206,\"*\"&PROFILE!$C$62&\"*\")","v":1},null,null,null,null,null,null,null,null,null,{"$f":"CONCATENATE(\" \",PROFILE!C62,\" Executives Internal Transfers\")","v":"  Executives Internal Transfers"},"",null,null,null,null,null,null,null,null,0]
[null,null,{"$f":"COUNTIF(M2207,\"*\"&PROFILE!$C$63&\"*\")","v":1},null,null,null,null,null,null,null,null,null,{"$f":"CONCATENATE(\" \",PROFILE!C63,\" Executives Internal Transfers\")","v":"  Executives Internal Transfers"},"",null,null,null,null,null,null,null,null,0]
[null,null,{"$f":"COUNTIF(M2208,\"*\"&PROFILE!$C$64&\"*\")","v":1},null,null,null,null,null,null,null,null,null,{"$f":"CONCATENATE(\" \",PROFILE!C64,\" Executives Internal Transfers\")","v":"  Executives Internal Transfers"},"",null,null,null,null,null,null,null,null,0]
[null,null,{"$f":"COUNTIF(M2209,\"*\"&PROFILE!$C$65&\"*\")","v":1},null,null,null,null,null,null,null,null,null,{"$f":"CONCATENATE(\" \",PROFILE!C65,\" Executives Internal Transfers\")","v":"  Executives Internal Transfers"},"",null,null,null,null,null,null,null,null,0]
[null,null,{"$f":"COUNTIF(M2210,\"*\"&PROFILE!$C$66&\"*\")","v":1},null,null,null,null,null,null,null,null,null,{"$f":"CONCATENATE(\" \",PROFILE!C66,\" Executives Internal Transfers\")","v":"  Executives Internal Transfers"},"",null,null,null,null,null,null,null,null,0]
[null,null,{"$f":"COUNTIF(M2211,\"*\"&PROFILE!$C$67&\"*\")","v":1},null,null,null,null,null,null,null,null,null,{"$f":"CONCATENATE(\" \",PROFILE!C67,\" Executives Internal Transfers\")","v":"  Executives Internal Transfers"},"",null,null,null,null,null,null,null,null,0]
[null,null,{"$f":"COUNTIF(M2212,\"*\"&PROFILE!$C$68&\"*\")","v":1},null,null,null,null,null,null,null,null,null,{"$f":"CONCATENATE(\" \",PROFILE!C68,\" Executives Internal Transfers\")","v":"  Executives Internal Transfers"},"",null,null,null,null,null,null,null,null,0]
[null,null,{"$f":"COUNTIF(M2213,\"*\"&PROFILE!$C$69&\"*\")","v":1},null,null,null,null,null,null,null,null,null,{"$f":"CONCATENATE(\" \",PROFILE!C69,\" Executives Internal Transfers\")","v":"  Executives Internal Transfers"},"",null,null,null,null,null,null,null,null,0]
[null,null,{"$f":"COUNTIF(M2214,\"*\"&PROFILE!$C$70&\"*\")","v":1},null,null,null,null,null,null,null,null,null,{"$f":"CONCATENATE(\" \",PROFILE!C70,\" Executives Internal Transfers\")","v":"  Executives Internal Transfers"},"",null,null,null,null,null,null,null,null,0]
[null,null,{"$f":"COUNTIF(M2215,\"*\"&PROFILE!$C$71&\"*\")","v":1},null,null,null,null,null,null,null,null,null,{"$f":"CONCATENATE(\" \",PROFILE!C71,\" Executives Internal Transfers\")","v":"  Executives Internal Transfers"},"",null,null,null,null,null,null,null,null,0]
[null,null,{"$f":"COUNTIF(M2216,\"*\"&PROFILE!$C$72&\"*\")","v":1},null,null,null,null,null,null,null,null,null,{"$f":"CONCATENATE(\" \",PROFILE!C72,\" Executives Internal Transfers\")","v":"  Executives Internal Transfers"},"",null,null,null,null,null,null,null,null,0]
[null,null,null,null,null,null,null,null,null,null,null,null,null,null,null,null,null,null,null,null,null,null,{"$f":"IF(AND($N$50=\"enabled\",$Q$50=\"enabled\"),1,0)","v":0}]
[null,null,null,null,null,null,null,null,null,null,null,null,null,null,null,"Employees in their First Five Years Internal Transfers by Sex",null,null,null,null,null,null,{"$f":"IF(OR($N$51=\"enabled\",$P$51=\"enabled\",$Q$51=\"enabled\"),1,0)","v":0}]
[null,null,null,null,null,null,null,null,null,null,null,null,null,{"$f":"'CENTRAL DATA'!$H$12","v":"FY-2"},{"$f":"'CENTRAL DATA'!$H$13","v":"FY-1"},{"$f":"IF(PROFILE!$L$43=\"Fiscal Year WFP\",'CENTRAL DATA'!$H$14,IF(PROFILE!$L$43=\"Snapshot\",CONCATENATE(\"As of \",TEXT(PROFILE!$N$44,\"mm/dd/yy\"),\"\")))","v":false},null,null,null,null,null,null,{"$f":"IF(OR($N$51=\"enabled\",$P$51=\"enabled\",$Q$51=\"enabled\"),1,0)","v":0}]
[null,null,null,null,null,null,null,null,null,null,null,null,null,null,null,null,null,null,null,null,null,null,{"$f":"IF(OR($N$51=\"enabled\",$P$51=\"enabled\",$Q$51=\"enabled\"),1,0)","v":0}]
[null,null,null,null,null,null,null,null,null,null,null,null,"Male Internal Transfers","",null,null,null,null,null,null,null,null,{"$f":"IF(OR($N$51=\"enabled\"),1,0)","v":0}]
[null,null,null,null,null,null,null,null,null,null,null,null,"Female Internal Transfers","",null,null,null,null,null,null,null,null,{"$f":"IF(OR($N$51=\"enabled\"),1,0)","v":0}]
[null,null,null,null,null,null,null,null,null,null,null,null,null,null,null,null,null,null,null,null,null,null,{"$f":"IF(OR($N$51=\"enabled\"),1,0)","v":0}]
[null,null,null,null,null,null,null,null,null,null,null,null,"Male Leader Internal Transfers","",null,null,null,null,null,null,null,null,{"$f":"IF(AND($N$51=\"enabled\",$P$51=\"enabled\"),1,0)","v":0}]
[null,null,null,null,null,null,null,null,null,null,null,null,"Female Leader Internal Transfers","",null,null,null,null,null,null,null,null,{"$f":"IF(AND($N$51=\"enabled\",$P$51=\"enabled\"),1,0)","v":0}]
[null,null,null,null,null,null,null,null,null,null,null,null,null,null,null,null,null,null,null,null,null,null,{"$f":"IF(AND($N$51=\"enabled\",$P$51=\"enabled\"),1,0)","v":0}]
[null,null,null,null,null,null,null,null,null,null,null,null,"Male Executive Internal Transfers","",null,null,null,null,null,null,null,null,{"$f":"IF(AND($N$51=\"enabled\",$Q$51=\"enabled\"),1,0)","v":0}]
[null,null,null,null,null,null,null,null,null,null,null,null,"Female Executive Internal Transfers","",null,null,null,null,null,null,null,null,{"$f":"IF(AND($N$51=\"enabled\",$Q$51=\"enabled\"),1,0)","v":0}]
[null,null,null,null,null,null,null,null,null,null,null,null,null,null,null,null,null,null,null,null,null,null,{"$f":"IF(AND($N$51=\"enabled\",$Q$51=\"enabled\"),1,0)","v":0}]
[null,null,null,null,null,null,null,null,null,null,null,null,null,null,null,"Employees in their First Five Years Internal Transfers by Race",null,null,null,null,null,null,{"$f":"IF(OR($N$52=\"enabled\",$P$52=\"enabled\",$Q$52=\"enabled\"),1,0)","v":0}]
[null,null,null,null,null,null,null,null,null,null,null,null,null,{"$f":"'CENTRAL DATA'!$H$12","v":"FY-2"},{"$f":"'CENTRAL DATA'!$H$13","v":"FY-1"},{"$f":"IF(PROFILE!$L$43=\"Fiscal Year WFP\",'CENTRAL DATA'!$H$14,IF(PROFILE!$L$43=\"Snapshot\",CONCATENATE(\"As of \",TEXT(PROFILE!$N$44,\"mm/dd/yy\"),\"\")))","v":false},null,null,null,null,null,null,{"$f":"IF(OR($N$52=\"enabled\",$P$52=\"enabled\",$Q$52=\"enabled\"),1,0)","v":0}]
[null,null,null,null,null,null,null,null,null,null,null,null,null,null,null,null,null,null,null,null,null,null,{"$f":"IF(OR($N$52=\"enabled\",$P$52=\"enabled\",$Q$52=\"enabled\"),1,0)","v":0}]
[null,null,null,null,null,null,null,null,null,null,null,null,"Minority Internal Transfers","",null,null,null,null,null,null,null,null,{"$f":"IF(OR($N$52=\"enabled\"),1,0)","v":0}]
[null,null,null,null,null,null,null,null,null,null,null,null,"Non-Minority Internal Transfers","",null,null,null,null,null,null,null,null,0]
[null,null,null,null,null,null,null,null,null,null,null,null,null,null,null,null,null,null,null,null,null,null,0]
[null,null,null,null,null,null,null,null,null,null,null,null,"Minority Leader Internal Transfers","",null,null,null,null,null,null,null,null,{"$f":"IF(AND($N$52=\"enabled\",$P$52=\"enabled\"),1,0)","v":0}]
[null,null,null,null,null,null,null,null,null,null,null,null,"Non-Minority Leader Internal Transfers","",null,null,null,null,null,null,null,null,0]
[null,null,null,null,null,null,null,null,null,null,null,null,null,null,null,null,null,null,null,null,null,null,0]
[null,null,null,null,null,null,null,null,null,null,null,null,"Minority Executive Internal Transfers","",null,null,null,null,null,null,null,null,{"$f":"IF(AND($N$52=\"enabled\",$Q$52=\"enabled\"),1,0)","v":0}]
[null,null,null,null,null,null,null,null,null,null,null,null,"Non-Minority Internal Transfers","",null,null,null,null,null,null,null,null,0]
[null,null,null,null,null,null,null,null,null,null,null,null,null,null,null,null,null,null,null,null,null,null,0]
[null,null,null,null,null,null,null,null,null,null,null,null,null,null,null,"Employees in their First Five Years Internal Transfers by Other Demographics",null,null,null,null,null,null,{"$f":"IF(OR($N$53=\"enabled\",$P$53=\"enabled\",$Q$53=\"enabled\"),1,0)","v":0}]
[null,null,null,null,null,null,null,null,null,null,null,null,null,{"$f":"'CENTRAL DATA'!$H$12","v":"FY-2"},{"$f":"'CENTRAL DATA'!$H$13","v":"FY-1"},{"$f":"IF(PROFILE!$L$43=\"Fiscal Year WFP\",'CENTRAL DATA'!$H$14,IF(PROFILE!$L$43=\"Snapshot\",CONCATENATE(\"As of \",TEXT(PROFILE!$N$44,\"mm/dd/yy\"),\"\")))","v":false},null,null,null,null,null,null,{"$f":"IF(OR($N$53=\"enabled\",$P$53=\"enabled\",$Q$53=\"enabled\"),1,0)","v":0}]
[null,null,null,null,null,null,null,null,null,null,null,null,null,null,null,null,null,null,null,null,null,null,{"$f":"IF(OR($N$53=\"enabled\",$P$53=\"enabled\",$Q$53=\"enabled\"),1,0)","v":0}]
[null,null,null,null,null,null,null,null,null,null,null,null,"Employees with Disabilities Internal Transfers","",null,null,null,null,null,null,null,null,{"$f":"IF(OR($N$53=\"enabled\"),1,0)","v":0}]
[null,null,null,null,null,null,null,null,null,null,null,null,"Internal Transfers who are Veterans","",null,null,null,null,null,null,null,null,{"$f":"IF(OR($N$53=\"enabled\"),1,0)","v":0}]
[null,null,null,null,null,null,null,null,null,null,null,null,null,null,null,null,null,null,null,null,null,null,{"$f":"IF(OR($N$53=\"enabled\"),1,0)","v":0}]
[null,null,null,null,null,null,null,null,null,null,null,null,"Leaders with Disabilities Internal Transfers","",null,null,null,null,null,null,null,null,{"$f":"IF(AND($N$53=\"enabled\",$P$53=\"enabled\"),1,0)","v":0}]
[null,null,null,null,null,null,null,null,null,null,null,null,"Leaders who are Veterans Internal Transfers","",null,null,null,null,null,null,null,null,{"$f":"IF(AND($N$53=\"enabled\",$P$53=\"enabled\"),1,0)","v":0}]
[null,null,null,null,null,null,null,null,null,null,null,null,null,null,null,null,null,null,null,null,null,null,{"$f":"IF(AND($N$53=\"enabled\",$P$53=\"enabled\"),1,0)","v":0}]
[null,null,null,null,null,null,null,null,null,null,null,null,"Executives with Disabilities Internal Transfers","",null,null,null,null,null,null,null,null,{"$f":"IF(AND($N$53=\"enabled\",$Q$53=\"enabled\"),1,0)","v":0}]
[null,null,null,null,null,null,null,null,null,null,null,null,"Executives who are Veterans Internal Transfers","",null,null,null,null,null,null,null,null,{"$f":"IF(AND($N$53=\"enabled\",$Q$53=\"enabled\"),1,0)","v":0}]
[null,null,null,null,null,null,null,null,null,null,null,null,null,null,null,null,null,null,null,null,null,null,{"$f":"IF(AND($N$53=\"enabled\",$Q$53=\"enabled\"),1,0)","v":0}]
[null,null,null,null,null,null,null,null,null,null,null,null,null,null,null,"Employees in their First Five Years External Transfers by EEO Code",null,null,null,null,null,null,{"$f":"IF(OR($N$57=\"enabled\",$P$57=\"enabled\",$Q$57=\"enabled\"),1,0)","v":0}]
[null,null,null,null,null,null,null,null,null,null,null,null,null,{"$f":"'CENTRAL DATA'!$H$12","v":"FY-2"},{"$f":"'CENTRAL DATA'!$H$13","v":"FY-1"},{"$f":"IF(PROFILE!$L$43=\"Fiscal Year WFP\",'CENTRAL DATA'!$H$14,IF(PROFILE!$L$43=\"Snapshot\",CONCATENATE(\"As of \",TEXT(PROFILE!$N$44,\"mm/dd/yy\"),\"\")))","v":false},null,null,null,null,null,null,{"$f":"IF(OR($N$57=\"enabled\",$P$57=\"enabled\",$Q$57=\"enabled\"),1,0)","v":0}]
[null,null,null,null,null,null,null,null,null,null,null,null,null,null,null,null,null,null,null,null,null,null,{"$f":"IF(OR($N$57=\"enabled\",$P$57=\"enabled\",$Q$57=\"enabled\"),1,0)","v":0}]
[null,null,null,null,null,null,null,null,null,null,null,null,"EEO Code \"Officials and Administrators\" External Transfers","",null,null,null,null,null,null,null,null,{"$f":"IF(OR($N$57=\"enabled\"),1,0)","v":0}]
[null,null,null,null,null,null,null,null,null,null,null,null," EEO Code \"Professionals\" External Transfers","",null,null,null,null,null,null,null,null,0]
[null,null,null,null,null,null,null,null,null,null,null,null," EEO Code \"Technicians\" External Transfers","",null,null,null,null,null,null,null,null,0]
[null,null,null,null,null,null,null,null,null,null,null,null," EEO Code \"Protective Service Workers\" External Transfers","",null,null,null,null,null,null,null,null,0]
[null,null,null,null,null,null,null,null,null,null,null,null," EEO Code \"Paraprofessionals\" External Transfers","",null,null,null,null,null,null,null,null,0]
[null,null,null,null,null,null,null,null,null,null,null,null," EEO Code \"Administrative Support\" External Transfers","",null,null,null,null,null,null,null,null,0]
[null,null,null,null,null,null,null,null,null,null,null,null," EEO Code \"Skilled Craft Workers\" External Transfers","",null,null,null,null,null,null,null,null,0]
[null,null,null,null,null,null,null,null,null,null,null,null," EEO Code \"Service/Maintenance\" External Transfers","",null,null,null,null,null,null,null,null,0]
[null,null,null,null,null,null,null,null,null,null,null,null," EEO Code \"Faculty\" External Transfers","",null,null,null,null,null,null,null,null,0]
[null,null,null,null,null,null,null,null,null,null,null,null," EEO Code \"Other\" External Transfers","",null,null,null,null,null,null,null,null,0]
[null,null,null,null,null,null,null,null,null,null,null,null,null,null,null,null,null,null,null,null,null,null,0]
[null,null,null,null,null,null,null,null,null,null,null,null,"EEO Code \"Officials and Administrators\" Leaders External Transfers","",null,null,null,null,null,null,null,null,{"$f":"IF(AND($N$57=\"enabled\",$P$57=\"enabled\"),1,0)","v":0}]
[null,null,null,null,null,null,null,null,null,null,null,null," EEO Code \"Professionals\" Leaders  External Transfers","",null,null,null,null,null,null,null,null,0]
[null,null,null,null,null,null,null,null,null,null,null,null," EEO Code \"Technicians\" Leaders  External Transfers","",null,null,null,null,null,null,null,null,0]
[null,null,null,null,null,null,null,null,null,null,null,null," EEO Code \"Protective Service Workers\" Leaders  External Transfers","",null,null,null,null,null,null,null,null,0]
[null,null,null,null,null,null,null,null,null,null,null,null," EEO Code \"Paraprofessionals\" Leaders  External Transfers","",null,null,null,null,null,null,null,null,0]
[null,null,null,null,null,null,null,null,null,null,null,null," EEO Code \"Administrative Support\" Leaders  External Transfers","",null,null,null,null,null,null,null,null,0]
[null,null,null,null,null,null,null,null,null,null,null,null," EEO Code \"Skilled Craft Workers\" Leaders  External Transfers","",null,null,null,null,null,null,null,null,0]
[null,null,null,null,null,null,null,null,null,null,null,null," EEO Code \"Service/Maintenance\" Leaders  External Transfers","",null,null,null,null,null,null,null,null,0]
[null,null,null,null,null,null,null,null,null,null,null,null," EEO Code \"Faculty\" Leaders  External Transfers","",null,null,null,null,null,null,null,null,0]
[null,null,null,null,null,null,null,null,null,null,null,null," EEO Code \"Other\" Leaders  External Transfers","",null,null,null,null,null,null,null,null,0]
[null,null,null,null,null,null,null,null,null,null,null,null,null,null,null,null,null,null,null,null,null,null,0]
[null,null,null,null,null,null,null,null,null,null,null,null,"EEO Code \"Officials and Administrators\" Executives External Transfers","",null,null,null,null,null,null,null,null,{"$f":"IF(AND($N$57=\"enabled\",$Q$57=\"enabled\"),1,0)","v":0}]
[null,null,null,null,null,null,null,null,null,null,null,null," EEO Code \"Professionals\" Executives  External Transfers","",null,null,null,null,null,null,null,null,0]
[null,null,null,null,null,null,null,null,null,null,null,null," EEO Code \"Technicians\" Executives  External Transfers","",null,null,null,null,null,null,null,null,0]
[null,null,null,null,null,null,null,null,null,null,null,null," EEO Code \"Protective Service Workers\" Executives  External Transfers","",null,null,null,null,null,null,null,null,0]
[null,null,null,null,null,null,null,null,null,null,null,null," EEO Code \"Paraprofessionals\" Executives  External Transfers","",null,null,null,null,null,null,null,null,0]
[null,null,null,null,null,null,null,null,null,null,null,null," EEO Code \"Administrative Support\" Executives  External Transfers","",null,null,null,null,null,null,null,null,0]
[null,null,null,null,null,null,null,null,null,null,null,null," EEO Code \"Skilled Craft Workers\" Executives  External Transfers","",null,null,null,null,null,null,null,null,0]
[null,null,null,null,null,null,null,null,null,null,null,null," EEO Code \"Service/Maintenance\" Executives  External Transfers","",null,null,null,null,null,null,null,null,0]
[null,null,null,null,null,null,null,null,null,null,null,null," EEO Code \"Faculty\" Executives  External Transfers","",null,null,null,null,null,null,null,null,0]
[null,null,null,null,null,null,null,null,null,null,null,null," EEO Code \"Other\" Executives  External Transfers","",null,null,null,null,null,null,null,null,0]
[null,null,null,null,null,null,null,null,null,null,null,null,null,null,null,null,null,null,null,null,null,null,0]
[null,null,null,null,null,null,null,null,null,null,null,null,null,null,null,"Employees in their First Five Years External Transfers by Classification",null,null,null,null,null,null,{"$f":"IF(OR($N$58=\"enabled\",$P$58=\"enabled\",$Q$58=\"enabled\"),1,0)","v":0}]
[null,null,null,null,null,null,null,null,null,null,null,null,null,{"$f":"'CENTRAL DATA'!$H$12","v":"FY-2"},{"$f":"'CENTRAL DATA'!$H$13","v":"FY-1"},{"$f":"IF(PROFILE!$L$43=\"Fiscal Year WFP\",'CENTRAL DATA'!$H$14,IF(PROFILE!$L$43=\"Snapshot\",CONCATENATE(\"As of \",TEXT(PROFILE!$N$44,\"mm/dd/yy\"),\"\")))","v":false},null,null,null,null,null,null,{"$f":"IF(OR($N$58=\"enabled\",$P$58=\"enabled\",$Q$58=\"enabled\"),1,0)","v":0}]
[null,null,null,null,null,null,null,null,null,null,null,null,null,null,null,null,null,null,null,null,null,null,{"$f":"IF(OR($N$58=\"enabled\",$P$58=\"enabled\",$Q$58=\"enabled\"),1,0)","v":0}]
[null,null,{"$f":"COUNTIF(M2293,\"*\"&PROFILE!$C$58&\"*\")","v":1},null,null,null,null,null,null,null,null,null,{"$f":"CONCATENATE(\" \",PROFILE!C58,\" External Transfers\")","v":"  External Transfers"},"",null,null,null,null,null,null,null,null,{"$f":"IF(AND(OR($N$58=\"enabled\"),C2293=1),1,0)","v":0}]
[null,null,{"$f":"COUNTIF(M2294,\"*\"&PROFILE!$C$59&\"*\")","v":1},null,null,null,null,null,null,null,null,null,{"$f":"CONCATENATE(\" \",PROFILE!C59,\" External Transfers\")","v":"  External Transfers"},"",null,null,null,null,null,null,null,null,{"$f":"IF(AND(OR($N$58=\"enabled\"),C2294=1),1,0)","v":0}]
[null,null,{"$f":"COUNTIF(M2295,\"*\"&PROFILE!$C$60&\"*\")","v":1},null,null,null,null,null,null,null,null,null,{"$f":"CONCATENATE(\" \",PROFILE!C60,\" External Transfers\")","v":"  External Transfers"},"",null,null,null,null,null,null,null,null,0]
[null,null,{"$f":"COUNTIF(M2296,\"*\"&PROFILE!$C$61&\"*\")","v":1},null,null,null,null,null,null,null,null,null,{"$f":"CONCATENATE(\" \",PROFILE!C61,\" External Transfers\")","v":"  External Transfers"},"",null,null,null,null,null,null,null,null,0]
[null,null,{"$f":"COUNTIF(M2297,\"*\"&PROFILE!$C$62&\"*\")","v":1},null,null,null,null,null,null,null,null,null,{"$f":"CONCATENATE(\" \",PROFILE!C62,\" External Transfers\")","v":"  External Transfers"},"",null,null,null,null,null,null,null,null,0]
[null,null,{"$f":"COUNTIF(M2298,\"*\"&PROFILE!$C$63&\"*\")","v":1},null,null,null,null,null,null,null,null,null,{"$f":"CONCATENATE(\" \",PROFILE!C63,\" External Transfers\")","v":"  External Transfers"},"",null,null,null,null,null,null,null,null,0]
[null,null,{"$f":"COUNTIF(M2299,\"*\"&PROFILE!$C$64&\"*\")","v":1},null,null,null,null,null,null,null,null,null,{"$f":"CONCATENATE(\" \",PROFILE!C64,\" External Transfers\")","v":"  External Transfers"},"",null,null,null,null,null,null,null,null,0]
[null,null,{"$f":"COUNTIF(M2300,\"*\"&PROFILE!$C$65&\"*\")","v":1},null,null,null,null,null,null,null,null,null,{"$f":"CONCATENATE(\" \",PROFILE!C65,\" External Transfers\")","v":"  External Transfers"},"",null,null,null,null,null,null,null,null,0]
[null,null,{"$f":"COUNTIF(M2301,\"*\"&PROFILE!$C$66&\"*\")","v":1},null,null,null,null,null,null,null,null,null,{"$f":"CONCATENATE(\" \",PROFILE!C66,\" External Transfers\")","v":"  External Transfers"},"",null,null,null,null,null,null,null,null,0]
[null,null,{"$f":"COUNTIF(M2302,\"*\"&PROFILE!$C$67&\"*\")","v":1},null,null,null,null,null,null,null,null,null,{"$f":"CONCATENATE(\" \",PROFILE!C67,\" External Transfers\")","v":"  External Transfers"},"",null,null,null,null,null,null,null,null,0]
[null,null,{"$f":"COUNTIF(M2303,\"*\"&PROFILE!$C$68&\"*\")","v":1},null,null,null,null,null,null,null,null,null,{"$f":"CONCATENATE(\" \",PROFILE!C68,\" External Transfers\")","v":"  External Transfers"},"",null,null,null,null,null,null,null,null,0]
[null,null,{"$f":"COUNTIF(M2304,\"*\"&PROFILE!$C$69&\"*\")","v":1},null,null,null,null,null,null,null,null,null,{"$f":"CONCATENATE(\" \",PROFILE!C69,\" External Transfers\")","v":"  External Transfers"},"",null,null,null,null,null,null,null,null,0]
[null,null,{"$f":"COUNTIF(M2305,\"*\"&PROFILE!$C$70&\"*\")","v":1},null,null,null,null,null,null,null,null,null,{"$f":"CONCATENATE(\" \",PROFILE!C70,\" External Transfers\")","v":"  External Transfers"},"",null,null,null,null,null,null,null,null,0]
[null,null,{"$f":"COUNTIF(M2306,\"*\"&PROFILE!$C$71&\"*\")","v":1},null,null,null,null,null,null,null,null,null,{"$f":"CONCATENATE(\" \",PROFILE!C71,\" External Transfers\")","v":"  External Transfers"},"",null,null,null,null,null,null,null,null,0]
[null,null,{"$f":"COUNTIF(M2307,\"*\"&PROFILE!$C$72&\"*\")","v":1},null,null,null,null,null,null,null,null,null,{"$f":"CONCATENATE(\" \",PROFILE!C72,\" External Transfers\")","v":"  External Transfers"},"",null,null,null,null,null,null,null,null,0]
[null,null,null,null,null,null,null,null,null,null,null,null,null,null,null,null,null,null,null,null,null,null,{"$f":"IF(OR($N$58=\"enabled\"),1,0)","v":0}]
[null,null,{"$f":"COUNTIF(M2309,\"*\"&PROFILE!$C$58&\"*\")","v":1},null,null,null,null,null,null,null,null,null,{"$f":"CONCATENATE(\" \",PROFILE!C58,\" Leaders External Transfers\")","v":"  Leaders External Transfers"},"",null,null,null,null,null,null,null,null,{"$f":"IF(AND($N$58=\"enabled\",$P$58=\"enabled\",C2309=1),1,0)","v":0}]
[null,null,{"$f":"COUNTIF(M2310,\"*\"&PROFILE!$C$59&\"*\")","v":1},null,null,null,null,null,null,null,null,null,{"$f":"CONCATENATE(\" \",PROFILE!C59,\" Leaders External Transfers\")","v":"  Leaders External Transfers"},"",null,null,null,null,null,null,null,null,{"$f":"IF(AND($N$58=\"enabled\",$P$58=\"enabled\",C2310=1),1,0)","v":0}]
[null,null,{"$f":"COUNTIF(M2311,\"*\"&PROFILE!$C$60&\"*\")","v":1},null,null,null,null,null,null,null,null,null,{"$f":"CONCATENATE(\" \",PROFILE!C60,\" Leaders External Transfers\")","v":"  Leaders External Transfers"},"",null,null,null,null,null,null,null,null,0]
[null,null,{"$f":"COUNTIF(M2312,\"*\"&PROFILE!$C$61&\"*\")","v":1},null,null,null,null,null,null,null,null,null,{"$f":"CONCATENATE(\" \",PROFILE!C61,\" Leaders External Transfers\")","v":"  Leaders External Transfers"},"",null,null,null,null,null,null,null,null,0]
[null,null,{"$f":"COUNTIF(M2313,\"*\"&PROFILE!$C$62&\"*\")","v":1},null,null,null,null,null,null,null,null,null,{"$f":"CONCATENATE(\" \",PROFILE!C62,\" Leaders External Transfers\")","v":"  Leaders External Transfers"},"",null,null,null,null,null,null,null,null,0]
[null,null,{"$f":"COUNTIF(M2314,\"*\"&PROFILE!$C$63&\"*\")","v":1},null,null,null,null,null,null,null,null,null,{"$f":"CONCATENATE(\" \",PROFILE!C63,\" Leaders External Transfers\")","v":"  Leaders External Transfers"},"",null,null,null,null,null,null,null,null,0]
[null,null,{"$f":"COUNTIF(M2315,\"*\"&PROFILE!$C$64&\"*\")","v":1},null,null,null,null,null,null,null,null,null,{"$f":"CONCATENATE(\" \",PROFILE!C64,\" Leaders External Transfers\")","v":"  Leaders External Transfers"},"",null,null,null,null,null,null,null,null,0]
[null,null,{"$f":"COUNTIF(M2316,\"*\"&PROFILE!$C$65&\"*\")","v":1},null,null,null,null,null,null,null,null,null,{"$f":"CONCATENATE(\" \",PROFILE!C65,\" Leaders External Transfers\")","v":"  Leaders External Transfers"},"",null,null,null,null,null,null,null,null,0]
[null,null,{"$f":"COUNTIF(M2317,\"*\"&PROFILE!$C$66&\"*\")","v":1},null,null,null,null,null,null,null,null,null,{"$f":"CONCATENATE(\" \",PROFILE!C66,\" Leaders External Transfers\")","v":"  Leaders External Transfers"},"",null,null,null,null,null,null,null,null,0]
[null,null,{"$f":"COUNTIF(M2318,\"*\"&PROFILE!$C$67&\"*\")","v":1},null,null,null,null,null,null,null,null,null,{"$f":"CONCATENATE(\" \",PROFILE!C67,\" Leaders External Transfers\")","v":"  Leaders External Transfers"},"",null,null,null,null,null,null,null,null,0]
[null,null,{"$f":"COUNTIF(M2319,\"*\"&PROFILE!$C$68&\"*\")","v":1},null,null,null,null,null,null,null,null,null,{"$f":"CONCATENATE(\" \",PROFILE!C68,\" Leaders External Transfers\")","v":"  Leaders External Transfers"},"",null,null,null,null,null,null,null,null,0]
[null,null,{"$f":"COUNTIF(M2320,\"*\"&PROFILE!$C$69&\"*\")","v":1},null,null,null,null,null,null,null,null,null,{"$f":"CONCATENATE(\" \",PROFILE!C69,\" Leaders External Transfers\")","v":"  Leaders External Transfers"},"",null,null,null,null,null,null,null,null,0]
[null,null,{"$f":"COUNTIF(M2321,\"*\"&PROFILE!$C$70&\"*\")","v":1},null,null,null,null,null,null,null,null,null,{"$f":"CONCATENATE(\" \",PROFILE!C70,\" Leaders External Transfers\")","v":"  Leaders External Transfers"},"",null,null,null,null,null,null,null,null,0]
[null,null,{"$f":"COUNTIF(M2322,\"*\"&PROFILE!$C$71&\"*\")","v":1},null,null,null,null,null,null,null,null,null,{"$f":"CONCATENATE(\" \",PROFILE!C71,\" Leaders External Transfers\")","v":"  Leaders External Transfers"},"",null,null,null,null,null,null,null,null,0]
[null,null,{"$f":"COUNTIF(M2323,\"*\"&PROFILE!$C$72&\"*\")","v":1},null,null,null,null,null,null,null,null,null,{"$f":"CONCATENATE(\" \",PROFILE!C72,\" Leaders External Transfers\")","v":"  Leaders External Transfers"},"",null,null,null,null,null,null,null,null,0]
[null,null,null,null,null,null,null,null,null,null,null,null,null,null,null,null,null,null,null,null,null,null,{"$f":"IF(AND($N$58=\"enabled\",$P$58=\"enabled\"),1,0)","v":0}]
[null,null,{"$f":"COUNTIF(M2325,\"*\"&PROFILE!$C$58&\"*\")","v":1},null,null,null,null,null,null,null,null,null,{"$f":"CONCATENATE(\" \",PROFILE!C58,\" Executives External Transfers\")","v":"  Executives External Transfers"},"",null,null,null,null,null,null,null,null,{"$f":"IF(AND($N$58=\"enabled\",$Q$58=\"enabled\",C2325=1),1,0)","v":0}]
[null,null,{"$f":"COUNTIF(M2326,\"*\"&PROFILE!$C$59&\"*\")","v":1},null,null,null,null,null,null,null,null,null,{"$f":"CONCATENATE(\" \",PROFILE!C59,\" Executives External Transfers\")","v":"  Executives External Transfers"},"",null,null,null,null,null,null,null,null,{"$f":"IF(AND($N$58=\"enabled\",$Q$58=\"enabled\",C2326=1),1,0)","v":0}]
[null,null,{"$f":"COUNTIF(M2327,\"*\"&PROFILE!$C$60&\"*\")","v":1},null,null,null,null,null,null,null,null,null,{"$f":"CONCATENATE(\" \",PROFILE!C60,\" Executives External Transfers\")","v":"  Executives External Transfers"},"",null,null,null,null,null,null,null,null,0]
[null,null,{"$f":"COUNTIF(M2328,\"*\"&PROFILE!$C$61&\"*\")","v":1},null,null,null,null,null,null,null,null,null,{"$f":"CONCATENATE(\" \",PROFILE!C61,\" Executives External Transfers\")","v":"  Executives External Transfers"},"",null,null,null,null,null,null,null,null,0]
[null,null,{"$f":"COUNTIF(M2329,\"*\"&PROFILE!$C$62&\"*\")","v":1},null,null,null,null,null,null,null,null,null,{"$f":"CONCATENATE(\" \",PROFILE!C62,\" Executives External Transfers\")","v":"  Executives External Transfers"},"",null,null,null,null,null,null,null,null,0]
[null,null,{"$f":"COUNTIF(M2330,\"*\"&PROFILE!$C$63&\"*\")","v":1},null,null,null,null,null,null,null,null,null,{"$f":"CONCATENATE(\" \",PROFILE!C63,\" Executives External Transfers\")","v":"  Executives External Transfers"},"",null,null,null,null,null,null,null,null,0]
[null,null,{"$f":"COUNTIF(M2331,\"*\"&PROFILE!$C$64&\"*\")","v":1},null,null,null,null,null,null,null,null,null,{"$f":"CONCATENATE(\" \",PROFILE!C64,\" Executives External Transfers\")","v":"  Executives External Transfers"},"",null,null,null,null,null,null,null,null,0]
[null,null,{"$f":"COUNTIF(M2332,\"*\"&PROFILE!$C$65&\"*\")","v":1},null,null,null,null,null,null,null,null,null,{"$f":"CONCATENATE(\" \",PROFILE!C65,\" Executives External Transfers\")","v":"  Executives External Transfers"},"",null,null,null,null,null,null,null,null,0]
[null,null,{"$f":"COUNTIF(M2333,\"*\"&PROFILE!$C$66&\"*\")","v":1},null,null,null,null,null,null,null,null,null,{"$f":"CONCATENATE(\" \",PROFILE!C66,\" Executives External Transfers\")","v":"  Executives External Transfers"},"",null,null,null,null,null,null,null,null,0]
[null,null,{"$f":"COUNTIF(M2334,\"*\"&PROFILE!$C$67&\"*\")","v":1},null,null,null,null,null,null,null,null,null,{"$f":"CONCATENATE(\" \",PROFILE!C67,\" Executives External Transfers\")","v":"  Executives External Transfers"},"",null,null,null,null,null,null,null,null,0]
[null,null,{"$f":"COUNTIF(M2335,\"*\"&PROFILE!$C$68&\"*\")","v":1},null,null,null,null,null,null,null,null,null,{"$f":"CONCATENATE(\" \",PROFILE!C68,\" Executives External Transfers\")","v":"  Executives External Transfers"},"",null,null,null,null,null,null,null,null,0]
[null,null,{"$f":"COUNTIF(M2336,\"*\"&PROFILE!$C$69&\"*\")","v":1},null,null,null,null,null,null,null,null,null,{"$f":"CONCATENATE(\" \",PROFILE!C69,\" Executives External Transfers\")","v":"  Executives External Transfers"},"",null,null,null,null,null,null,null,null,0]
[null,null,{"$f":"COUNTIF(M2337,\"*\"&PROFILE!$C$70&\"*\")","v":1},null,null,null,null,null,null,null,null,null,{"$f":"CONCATENATE(\" \",PROFILE!C70,\" Executives External Transfers\")","v":"  Executives External Transfers"},"",null,null,null,null,null,null,null,null,0]
[null,null,{"$f":"COUNTIF(M2338,\"*\"&PROFILE!$C$71&\"*\")","v":1},null,null,null,null,null,null,null,null,null,{"$f":"CONCATENATE(\" \",PROFILE!C71,\" Executives External Transfers\")","v":"  Executives External Transfers"},"",null,null,null,null,null,null,null,null,0]
[null,null,{"$f":"COUNTIF(M2339,\"*\"&PROFILE!$C$72&\"*\")","v":1},null,null,null,null,null,null,null,null,null,{"$f":"CONCATENATE(\" \",PROFILE!C72,\" Executives External Transfers\")","v":"  Executives External Transfers"},"",null,null,null,null,null,null,null,null,0]
[null,null,null,null,null,null,null,null,null,null,null,null,null,null,null,null,null,null,null,null,null,null,{"$f":"IF(AND($N$58=\"enabled\",$Q$58=\"enabled\"),1,0)","v":0}]
[null,null,null,null,null,null,null,null,null,null,null,null,null,null,null,"Employees in their First Five Years External Transfers by Sex",null,null,null,null,null,null,{"$f":"IF(OR($N$59=\"enabled\",$P$59=\"enabled\",$Q$59=\"enabled\"),1,0)","v":0}]
[null,null,null,null,null,null,null,null,null,null,null,null,null,{"$f":"'CENTRAL DATA'!$H$12","v":"FY-2"},{"$f":"'CENTRAL DATA'!$H$13","v":"FY-1"},{"$f":"IF(PROFILE!$L$43=\"Fiscal Year WFP\",'CENTRAL DATA'!$H$14,IF(PROFILE!$L$43=\"Snapshot\",CONCATENATE(\"As of \",TEXT(PROFILE!$N$44,\"mm/dd/yy\"),\"\")))","v":false},null,null,null,null,null,null,{"$f":"IF(OR($N$59=\"enabled\",$P$59=\"enabled\",$Q$59=\"enabled\"),1,0)","v":0}]
[null,null,null,null,null,null,null,null,null,null,null,null,null,null,null,null,null,null,null,null,null,null,{"$f":"IF(OR($N$59=\"enabled\",$P$59=\"enabled\",$Q$59=\"enabled\"),1,0)","v":0}]
[null,null,null,null,null,null,null,null,null,null,null,null,"Male External Transfers","",null,null,null,null,null,null,null,null,{"$f":"IF(OR($N$59=\"enabled\"),1,0)","v":0}]
[null,null,null,null,null,null,null,null,null,null,null,null,"Female External Transfers","",null,null,null,null,null,null,null,null,{"$f":"IF(OR($N$59=\"enabled\"),1,0)","v":0}]
[null,null,null,null,null,null,null,null,null,null,null,null,null,null,null,null,null,null,null,null,null,null,{"$f":"IF(OR($N$59=\"enabled\"),1,0)","v":0}]
[null,null,null,null,null,null,null,null,null,null,null,null,"Male Leader External Transfers","",null,null,null,null,null,null,null,null,{"$f":"IF(AND($N$59=\"enabled\",$P$59=\"enabled\"),1,0)","v":0}]
[null,null,null,null,null,null,null,null,null,null,null,null,"Female Leader External Transfers","",null,null,null,null,null,null,null,null,{"$f":"IF(AND($N$59=\"enabled\",$P$59=\"enabled\"),1,0)","v":0}]
[null,null,null,null,null,null,null,null,null,null,null,null,null,null,null,null,null,null,null,null,null,null,{"$f":"IF(AND($N$59=\"enabled\",$P$59=\"enabled\"),1,0)","v":0}]
[null,null,null,null,null,null,null,null,null,null,null,null,"Male Executive External Transfers","",null,null,null,null,null,null,null,null,{"$f":"IF(AND($N$59=\"enabled\",$Q$59=\"enabled\"),1,0)","v":0}]
[null,null,null,null,null,null,null,null,null,null,null,null,"Female Executive External Transfers","",null,null,null,null,null,null,null,null,{"$f":"IF(AND($N$59=\"enabled\",$Q$59=\"enabled\"),1,0)","v":0}]
[null,null,null,null,null,null,null,null,null,null,null,null,null,null,null,null,null,null,null,null,null,null,{"$f":"IF(AND($N$59=\"enabled\",$Q$59=\"enabled\"),1,0)","v":0}]
[null,null,null,null,null,null,null,null,null,null,null,null,null,null,null,"Employees in their First Five Years External Transfers by Race",null,null,null,null,null,null,{"$f":"IF(OR($N$60=\"enabled\",$P$60=\"enabled\",$Q$60=\"enabled\"),1,0)","v":0}]
[null,null,null,null,null,null,null,null,null,null,null,null,null,{"$f":"'CENTRAL DATA'!$H$12","v":"FY-2"},{"$f":"'CENTRAL DATA'!$H$13","v":"FY-1"},{"$f":"IF(PROFILE!$L$43=\"Fiscal Year WFP\",'CENTRAL DATA'!$H$14,IF(PROFILE!$L$43=\"Snapshot\",CONCATENATE(\"As of \",TEXT(PROFILE!$N$44,\"mm/dd/yy\"),\"\")))","v":false},null,null,null,null,null,null,{"$f":"IF(OR($N$60=\"enabled\",$P$60=\"enabled\",$Q$60=\"enabled\"),1,0)","v":0}]
[null,null,null,null,null,null,null,null,null,null,null,null,null,null,null,null,null,null,null,null,null,null,{"$f":"IF(OR($N$60=\"enabled\",$P$60=\"enabled\",$Q$60=\"enabled\"),1,0)","v":0}]
[null,null,null,null,null,null,null,null,null,null,null,null,"Minority External Transfers","",null,null,null,null,null,null,null,null,{"$f":"IF(OR($N$60=\"enabled\"),1,0)","v":0}]
[null,null,null,null,null,null,null,null,null,null,null,null,"Non-Minority External Transfers","",null,null,null,null,null,null,null,null,0]
[null,null,null,null,null,null,null,null,null,null,null,null,null,null,null,null,null,null,null,null,null,null,0]
[null,null,null,null,null,null,null,null,null,null,null,null,"Minority Leader External Transfers","",null,null,null,null,null,null,null,null,{"$f":"IF(AND($N$60=\"enabled\",$P$60=\"enabled\"),1,0)","v":0}]
[null,null,null,null,null,null,null,null,null,null,null,null,"Non-Minority Leader External Transfers","",null,null,null,null,null,null,null,null,0]
[null,null,null,null,null,null,null,null,null,null,null,null,null,null,null,null,null,null,null,null,null,null,0]
[null,null,null,null,null,null,null,null,null,null,null,null,"Minority Executive External Transfers","",null,null,null,null,null,null,null,null,{"$f":"IF(AND($N$60=\"enabled\",$Q$60=\"enabled\"),1,0)","v":0}]
[null,null,null,null,null,null,null,null,null,null,null,null,"Non-Minority Executive External Transfers","",null,null,null,null,null,null,null,null,0]
[null,null,null,null,null,null,null,null,null,null,null,null,null,null,null,null,null,null,null,null,null,null,0]
[null,null,null,null,null,null,null,null,null,null,null,null,null,null,null,"Employees in their First Five Years External Transfers by Other Demographics",null,null,null,null,null,null,{"$f":"IF(OR($N$61=\"enabled\",$P$61=\"enabled\",$Q$61=\"enabled\"),1,0)","v":0}]
[null,null,null,null,null,null,null,null,null,null,null,null,null,{"$f":"'CENTRAL DATA'!$H$12","v":"FY-2"},{"$f":"'CENTRAL DATA'!$H$13","v":"FY-1"},{"$f":"IF(PROFILE!$L$43=\"Fiscal Year WFP\",'CENTRAL DATA'!$H$14,IF(PROFILE!$L$43=\"Snapshot\",CONCATENATE(\"As of \",TEXT(PROFILE!$N$44,\"mm/dd/yy\"),\"\")))","v":false},null,null,null,null,null,null,{"$f":"IF(OR($N$61=\"enabled\",$P$61=\"enabled\",$Q$61=\"enabled\"),1,0)","v":0}]
[null,null,null,null,null,null,null,null,null,null,null,null,null,null,null,null,null,null,null,null,null,null,{"$f":"IF(OR($N$61=\"enabled\",$P$61=\"enabled\",$Q$61=\"enabled\"),1,0)","v":0}]
[null,null,null,null,null,null,null,null,null,null,null,null,"Employees with Disabilities External Transfers","",null,null,null,null,null,null,null,null,{"$f":"IF(OR($N$61=\"enabled\"),1,0)","v":0}]
[null,null,null,null,null,null,null,null,null,null,null,null,"External Transfers who are Veterans","",null,null,null,null,null,null,null,null,{"$f":"IF(OR($N$61=\"enabled\"),1,0)","v":0}]
[null,null,null,null,null,null,null,null,null,null,null,null,null,null,null,null,null,null,null,null,null,null,{"$f":"IF(OR($N$61=\"enabled\"),1,0)","v":0}]
[null,null,null,null,null,null,null,null,null,null,null,null,"Leaders with Disabilities External Transfers","",null,null,null,null,null,null,null,null,{"$f":"IF(AND($N$61=\"enabled\",$P$61=\"enabled\"),1,0)","v":0}]
[null,null,null,null,null,null,null,null,null,null,null,null,"Leaders who are Veterans External Transfers","",null,null,null,null,null,null,null,null,{"$f":"IF(AND($N$61=\"enabled\",$P$61=\"enabled\"),1,0)","v":0}]
[null,null,null,null,null,null,null,null,null,null,null,null,null,null,null,null,null,null,null,null,null,null,{"$f":"IF(AND($N$61=\"enabled\",$P$61=\"enabled\"),1,0)","v":0}]
[null,null,null,null,null,null,null,null,null,null,null,null,"Executives with Disabilities External Transfers","",null,null,null,null,null,null,null,null,{"$f":"IF(AND($N$61=\"enabled\",$Q$61=\"enabled\"),1,0)","v":0}]
[null,null,null,null,null,null,null,null,null,null,null,null,"Executives who are Veterans External Transfers","",null,null,null,null,null,null,null,null,{"$f":"IF(AND($N$61=\"enabled\",$Q$61=\"enabled\"),1,0)","v":0}]
[null,null,null,null,null,null,null,null,null,null,null,null,null,null,null,null,null,null,null,null,null,null,{"$f":"IF(AND($N$61=\"enabled\",$Q$61=\"enabled\"),1,0)","v":0}]
[null,null,null,null,null,null,null,null,null,null,null,null,null,null,null,"Employees in their First Five Years Voluntary Separations by EEO Code",null,null,null,null,null,null,{"$f":"IF(OR($N$65=\"enabled\",$P$65=\"enabled\",$Q$65=\"enabled\"),1,0)","v":0}]
[null,null,null,null,null,null,null,null,null,null,null,null,null,{"$f":"'CENTRAL DATA'!$H$12","v":"FY-2"},{"$f":"'CENTRAL DATA'!$H$13","v":"FY-1"},{"$f":"IF(PROFILE!$L$43=\"Fiscal Year WFP\",'CENTRAL DATA'!$H$14,IF(PROFILE!$L$43=\"Snapshot\",CONCATENATE(\"As of \",TEXT(PROFILE!$N$44,\"mm/dd/yy\"),\"\")))","v":false},null,null,null,null,null,null,{"$f":"IF(OR($N$65=\"enabled\",$P$65=\"enabled\",$Q$65=\"enabled\"),1,0)","v":0}]
[null,null,null,null,null,null,null,null,null,null,null,null,null,null,null,null,null,null,null,null,null,null,{"$f":"IF(OR($N$65=\"enabled\",$P$65=\"enabled\",$Q$65=\"enabled\"),1,0)","v":0}]
[null,null,null,null,null,null,null,null,null,null,null,null,"EEO Code \"Officials and Administrators\" Voluntary Separations","",null,null,null,null,null,null,null,null,{"$f":"IF(OR($N$65=\"enabled\"),1,0)","v":0}]
[null,null,null,null,null,null,null,null,null,null,null,null," EEO Code \"Professionals\" Voluntary Separations","",null,null,null,null,null,null,null,null,0]
[null,null,null,null,null,null,null,null,null,null,null,null," EEO Code \"Technicians\" Voluntary Separations","",null,null,null,null,null,null,null,null,0]
[null,null,null,null,null,null,null,null,null,null,null,null," EEO Code \"Protective Service Workers\" Voluntary Separations","",null,null,null,null,null,null,null,null,0]
[null,null,null,null,null,null,null,null,null,null,null,null," EEO Code \"Paraprofessionals\" Voluntary Separations","",null,null,null,null,null,null,null,null,0]
[null,null,null,null,null,null,null,null,null,null,null,null," EEO Code \"Administrative Support\" Voluntary Separations","",null,null,null,null,null,null,null,null,0]
[null,null,null,null,null,null,null,null,null,null,null,null," EEO Code \"Skilled Craft Workers\" Voluntary Separations","",null,null,null,null,null,null,null,null,0]
[null,null,null,null,null,null,null,null,null,null,null,null," EEO Code \"Service/Maintenance\" Voluntary Separations","",null,null,null,null,null,null,null,null,0]
[null,null,null,null,null,null,null,null,null,null,null,null," EEO Code \"Faculty\" Voluntary Separations","",null,null,null,null,null,null,null,null,0]
[null,null,null,null,null,null,null,null,null,null,null,null," EEO Code \"Other\" Voluntary Separations","",null,null,null,null,null,null,null,null,0]
[null,null,null,null,null,null,null,null,null,null,null,null,null,null,null,null,null,null,null,null,null,null,0]
[null,null,null,null,null,null,null,null,null,null,null,null,"EEO Code \"Officials and Administrators\" Leaders Voluntary Separations","",null,null,null,null,null,null,null,null,{"$f":"IF(AND($N$65=\"enabled\",$P$65=\"enabled\"),1,0)","v":0}]
[null,null,null,null,null,null,null,null,null,null,null,null," EEO Code \"Professionals\" Leaders  Voluntary Separations","",null,null,null,null,null,null,null,null,0]
[null,null,null,null,null,null,null,null,null,null,null,null," EEO Code \"Technicians\" Leaders  Voluntary Separations","",null,null,null,null,null,null,null,null,0]
[null,null,null,null,null,null,null,null,null,null,null,null," EEO Code \"Protective Service Workers\" Leaders  Voluntary Separations","",null,null,null,null,null,null,null,null,0]
[null,null,null,null,null,null,null,null,null,null,null,null," EEO Code \"Paraprofessionals\" Leaders  Voluntary Separations","",null,null,null,null,null,null,null,null,0]
[null,null,null,null,null,null,null,null,null,null,null,null," EEO Code \"Administrative Support\" Leaders  Voluntary Separations","",null,null,null,null,null,null,null,null,0]
[null,null,null,null,null,null,null,null,null,null,null,null," EEO Code \"Skilled Craft Workers\" Leaders  Voluntary Separations","",null,null,null,null,null,null,null,null,0]
[null,null,null,null,null,null,null,null,null,null,null,null," EEO Code \"Service/Maintenance\" Leaders  Voluntary Separations","",null,null,null,null,null,null,null,null,0]
[null,null,null,null,null,null,null,null,null,null,null,null," EEO Code \"Faculty\" Leaders  Voluntary Separations","",null,null,null,null,null,null,null,null,0]
[null,null,null,null,null,null,null,null,null,null,null,null," EEO Code \"Other\" Leaders  Voluntary Separations","",null,null,null,null,null,null,null,null,0]
[null,null,null,null,null,null,null,null,null,null,null,null,null,null,null,null,null,null,null,null,null,null,0]
[null,null,null,null,null,null,null,null,null,null,null,null,"EEO Code \"Officials and Administrators\" Executives Voluntary Separations","",null,null,null,null,null,null,null,null,{"$f":"IF(AND($N$65=\"enabled\",$Q$65=\"enabled\"),1,0)","v":0}]
[null,null,null,null,null,null,null,null,null,null,null,null," EEO Code \"Professionals\" Executives  Voluntary Separations","",null,null,null,null,null,null,null,null,0]
[null,null,null,null,null,null,null,null,null,null,null,null," EEO Code \"Technicians\" Executives  Voluntary Separations","",null,null,null,null,null,null,null,null,0]
[null,null,null,null,null,null,null,null,null,null,null,null," EEO Code \"Protective Service Workers\" Executives  Voluntary Separations","",null,null,null,null,null,null,null,null,0]
[null,null,null,null,null,null,null,null,null,null,null,null," EEO Code \"Paraprofessionals\" Executives  Voluntary Separations","",null,null,null,null,null,null,null,null,0]
[null,null,null,null,null,null,null,null,null,null,null,null," EEO Code \"Administrative Support\" Executives  Voluntary Separations","",null,null,null,null,null,null,null,null,0]
[null,null,null,null,null,null,null,null,null,null,null,null," EEO Code \"Skilled Craft Workers\" Executives  Voluntary Separations","",null,null,null,null,null,null,null,null,0]
[null,null,null,null,null,null,null,null,null,null,null,null," EEO Code \"Service/Maintenance\" Executives  Voluntary Separations","",null,null,null,null,null,null,null,null,0]
[null,null,null,null,null,null,null,null,null,null,null,null," EEO Code \"Faculty\" Executives  Voluntary Separations","",null,null,null,null,null,null,null,null,0]
[null,null,null,null,null,null,null,null,null,null,null,null," EEO Code \"Other\" Executives  Voluntary Separations","",null,null,null,null,null,null,null,null,0]
[null,null,null,null,null,null,null,null,null,null,null,null,null,null,null,null,null,null,null,null,null,null,0]
[null,null,null,null,null,null,null,null,null,null,null,null,null,null,null,"Employees in their First Five Years Voluntary Separations by Classification",null,null,null,null,null,null,{"$f":"IF(OR($N$66=\"enabled\",$P$66=\"enabled\",$Q$66=\"enabled\"),1,0)","v":0}]
[null,null,null,null,null,null,null,null,null,null,null,null,null,{"$f":"'CENTRAL DATA'!$H$12","v":"FY-2"},{"$f":"'CENTRAL DATA'!$H$13","v":"FY-1"},{"$f":"IF(PROFILE!$L$43=\"Fiscal Year WFP\",'CENTRAL DATA'!$H$14,IF(PROFILE!$L$43=\"Snapshot\",CONCATENATE(\"As of \",TEXT(PROFILE!$N$44,\"mm/dd/yy\"),\"\")))","v":false},null,null,null,null,null,null,{"$f":"IF(OR($N$66=\"enabled\",$P$66=\"enabled\",$Q$66=\"enabled\"),1,0)","v":0}]
[null,null,null,null,null,null,null,null,null,null,null,null,null,null,null,null,null,null,null,null,null,null,{"$f":"IF(OR($N$66=\"enabled\",$P$66=\"enabled\",$Q$66=\"enabled\"),1,0)","v":0}]
[null,null,{"$f":"COUNTIF(M2416,\"*\"&PROFILE!$C$58&\"*\")","v":1},null,null,null,null,null,null,null,null,null,{"$f":"CONCATENATE(\" \",PROFILE!C58,\" Voluntary Separations\")","v":"  Voluntary Separations"},"",null,null,null,null,null,null,null,null,{"$f":"IF(AND(OR($N$66=\"enabled\"),C2416=1),1,0)","v":0}]
[null,null,{"$f":"COUNTIF(M2417,\"*\"&PROFILE!$C$59&\"*\")","v":1},null,null,null,null,null,null,null,null,null,{"$f":"CONCATENATE(\" \",PROFILE!C59,\" Voluntary Separations\")","v":"  Voluntary Separations"},"",null,null,null,null,null,null,null,null,{"$f":"IF(AND(OR($N$66=\"enabled\"),C2417=1),1,0)","v":0}]
[null,null,{"$f":"COUNTIF(M2418,\"*\"&PROFILE!$C$60&\"*\")","v":1},null,null,null,null,null,null,null,null,null,{"$f":"CONCATENATE(\" \",PROFILE!C60,\" Voluntary Separations\")","v":"  Voluntary Separations"},"",null,null,null,null,null,null,null,null,0]
[null,null,{"$f":"COUNTIF(M2419,\"*\"&PROFILE!$C$61&\"*\")","v":1},null,null,null,null,null,null,null,null,null,{"$f":"CONCATENATE(\" \",PROFILE!C61,\" Voluntary Separations\")","v":"  Voluntary Separations"},"",null,null,null,null,null,null,null,null,0]
[null,null,{"$f":"COUNTIF(M2420,\"*\"&PROFILE!$C$62&\"*\")","v":1},null,null,null,null,null,null,null,null,null,{"$f":"CONCATENATE(\" \",PROFILE!C62,\" Voluntary Separations\")","v":"  Voluntary Separations"},"",null,null,null,null,null,null,null,null,0]
[null,null,{"$f":"COUNTIF(M2421,\"*\"&PROFILE!$C$63&\"*\")","v":1},null,null,null,null,null,null,null,null,null,{"$f":"CONCATENATE(\" \",PROFILE!C63,\" Voluntary Separations\")","v":"  Voluntary Separations"},"",null,null,null,null,null,null,null,null,0]
[null,null,{"$f":"COUNTIF(M2422,\"*\"&PROFILE!$C$64&\"*\")","v":1},null,null,null,null,null,null,null,null,null,{"$f":"CONCATENATE(\" \",PROFILE!C64,\" Voluntary Separations\")","v":"  Voluntary Separations"},"",null,null,null,null,null,null,null,null,0]
[null,null,{"$f":"COUNTIF(M2423,\"*\"&PROFILE!$C$65&\"*\")","v":1},null,null,null,null,null,null,null,null,null,{"$f":"CONCATENATE(\" \",PROFILE!C65,\" Voluntary Separations\")","v":"  Voluntary Separations"},"",null,null,null,null,null,null,null,null,0]
[null,null,{"$f":"COUNTIF(M2424,\"*\"&PROFILE!$C$66&\"*\")","v":1},null,null,null,null,null,null,null,null,null,{"$f":"CONCATENATE(\" \",PROFILE!C66,\" Voluntary Separations\")","v":"  Voluntary Separations"},"",null,null,null,null,null,null,null,null,0]
[null,null,{"$f":"COUNTIF(M2425,\"*\"&PROFILE!$C$67&\"*\")","v":1},null,null,null,null,null,null,null,null,null,{"$f":"CONCATENATE(\" \",PROFILE!C67,\" Voluntary Separations\")","v":"  Voluntary Separations"},"",null,null,null,null,null,null,null,null,0]
[null,null,{"$f":"COUNTIF(M2426,\"*\"&PROFILE!$C$68&\"*\")","v":1},null,null,null,null,null,null,null,null,null,{"$f":"CONCATENATE(\" \",PROFILE!C68,\" Voluntary Separations\")","v":"  Voluntary Separations"},"",null,null,null,null,null,null,null,null,0]
[null,null,{"$f":"COUNTIF(M2427,\"*\"&PROFILE!$C$69&\"*\")","v":1},null,null,null,null,null,null,null,null,null,{"$f":"CONCATENATE(\" \",PROFILE!C69,\" Voluntary Separations\")","v":"  Voluntary Separations"},"",null,null,null,null,null,null,null,null,0]
[null,null,{"$f":"COUNTIF(M2428,\"*\"&PROFILE!$C$70&\"*\")","v":1},null,null,null,null,null,null,null,null,null,{"$f":"CONCATENATE(\" \",PROFILE!C70,\" Voluntary Separations\")","v":"  Voluntary Separations"},"",null,null,null,null,null,null,null,null,0]
[null,null,{"$f":"COUNTIF(M2429,\"*\"&PROFILE!$C$71&\"*\")","v":1},null,null,null,null,null,null,null,null,null,{"$f":"CONCATENATE(\" \",PROFILE!C71,\" Voluntary Separations\")","v":"  Voluntary Separations"},"",null,null,null,null,null,null,null,null,0]
[null,null,{"$f":"COUNTIF(M2430,\"*\"&PROFILE!$C$72&\"*\")","v":1},null,null,null,null,null,null,null,null,null,{"$f":"CONCATENATE(\" \",PROFILE!C72,\" Voluntary Separations\")","v":"  Voluntary Separations"},"",null,null,null,null,null,null,null,null,0]
[null,null,null,null,null,null,null,null,null,null,null,null,null,null,null,null,null,null,null,null,null,null,{"$f":"IF(OR($N$66=\"enabled\"),1,0)","v":0}]
[null,null,{"$f":"COUNTIF(M2432,\"*\"&PROFILE!$C$58&\"*\")","v":1},null,null,null,null,null,null,null,null,null,{"$f":"CONCATENATE(\" \",PROFILE!C58,\" Leaders Voluntary Separations\")","v":"  Leaders Voluntary Separations"},"",null,null,null,null,null,null,null,null,{"$f":"IF(AND($N$66=\"enabled\",$P$66=\"enabled\",C2432=1),1,0)","v":0}]
[null,null,{"$f":"COUNTIF(M2433,\"*\"&PROFILE!$C$59&\"*\")","v":1},null,null,null,null,null,null,null,null,null,{"$f":"CONCATENATE(\" \",PROFILE!C59,\" Leaders Voluntary Separations\")","v":"  Leaders Voluntary Separations"},"",null,null,null,null,null,null,null,null,{"$f":"IF(AND($N$66=\"enabled\",$P$66=\"enabled\",C2433=1),1,0)","v":0}]
[null,null,{"$f":"COUNTIF(M2434,\"*\"&PROFILE!$C$60&\"*\")","v":1},null,null,null,null,null,null,null,null,null,{"$f":"CONCATENATE(\" \",PROFILE!C60,\" Leaders Voluntary Separations\")","v":"  Leaders Voluntary Separations"},"",null,null,null,null,null,null,null,null,0]
[null,null,{"$f":"COUNTIF(M2435,\"*\"&PROFILE!$C$61&\"*\")","v":1},null,null,null,null,null,null,null,null,null,{"$f":"CONCATENATE(\" \",PROFILE!C61,\" Leaders Voluntary Separations\")","v":"  Leaders Voluntary Separations"},"",null,null,null,null,null,null,null,null,0]
[null,null,{"$f":"COUNTIF(M2436,\"*\"&PROFILE!$C$62&\"*\")","v":1},null,null,null,null,null,null,null,null,null,{"$f":"CONCATENATE(\" \",PROFILE!C62,\" Leaders Voluntary Separations\")","v":"  Leaders Voluntary Separations"},"",null,null,null,null,null,null,null,null,0]
[null,null,{"$f":"COUNTIF(M2437,\"*\"&PROFILE!$C$63&\"*\")","v":1},null,null,null,null,null,null,null,null,null,{"$f":"CONCATENATE(\" \",PROFILE!C63,\" Leaders Voluntary Separations\")","v":"  Leaders Voluntary Separations"},"",null,null,null,null,null,null,null,null,0]
[null,null,{"$f":"COUNTIF(M2438,\"*\"&PROFILE!$C$64&\"*\")","v":1},null,null,null,null,null,null,null,null,null,{"$f":"CONCATENATE(\" \",PROFILE!C64,\" Leaders Voluntary Separations\")","v":"  Leaders Voluntary Separations"},"",null,null,null,null,null,null,null,null,0]
[null,null,{"$f":"COUNTIF(M2439,\"*\"&PROFILE!$C$65&\"*\")","v":1},null,null,null,null,null,null,null,null,null,{"$f":"CONCATENATE(\" \",PROFILE!C65,\" Leaders Voluntary Separations\")","v":"  Leaders Voluntary Separations"},"",null,null,null,null,null,null,null,null,0]
[null,null,{"$f":"COUNTIF(M2440,\"*\"&PROFILE!$C$66&\"*\")","v":1},null,null,null,null,null,null,null,null,null,{"$f":"CONCATENATE(\" \",PROFILE!C66,\" Leaders Voluntary Separations\")","v":"  Leaders Voluntary Separations"},"",null,null,null,null,null,null,null,null,0]
[null,null,{"$f":"COUNTIF(M2441,\"*\"&PROFILE!$C$67&\"*\")","v":1},null,null,null,null,null,null,null,null,null,{"$f":"CONCATENATE(\" \",PROFILE!C67,\" Leaders Voluntary Separations\")","v":"  Leaders Voluntary Separations"},"",null,null,null,null,null,null,null,null,0]
[null,null,{"$f":"COUNTIF(M2442,\"*\"&PROFILE!$C$68&\"*\")","v":1},null,null,null,null,null,null,null,null,null,{"$f":"CONCATENATE(\" \",PROFILE!C68,\" Leaders Voluntary Separations\")","v":"  Leaders Voluntary Separations"},"",null,null,null,null,null,null,null,null,0]
[null,null,{"$f":"COUNTIF(M2443,\"*\"&PROFILE!$C$69&\"*\")","v":1},null,null,null,null,null,null,null,null,null,{"$f":"CONCATENATE(\" \",PROFILE!C69,\" Leaders Voluntary Separations\")","v":"  Leaders Voluntary Separations"},"",null,null,null,null,null,null,null,null,0]
[null,null,{"$f":"COUNTIF(M2444,\"*\"&PROFILE!$C$70&\"*\")","v":1},null,null,null,null,null,null,null,null,null,{"$f":"CONCATENATE(\" \",PROFILE!C70,\" Leaders Voluntary Separations\")","v":"  Leaders Voluntary Separations"},"",null,null,null,null,null,null,null,null,0]
[null,null,{"$f":"COUNTIF(M2445,\"*\"&PROFILE!$C$71&\"*\")","v":1},null,null,null,null,null,null,null,null,null,{"$f":"CONCATENATE(\" \",PROFILE!C71,\" Leaders Voluntary Separations\")","v":"  Leaders Voluntary Separations"},"",null,null,null,null,null,null,null,null,0]
[null,null,{"$f":"COUNTIF(M2446,\"*\"&PROFILE!$C$72&\"*\")","v":1},null,null,null,null,null,null,null,null,null,{"$f":"CONCATENATE(\" \",PROFILE!C72,\" Leaders Voluntary Separations\")","v":"  Leaders Voluntary Separations"},"",null,null,null,null,null,null,null,null,0]
[null,null,null,null,null,null,null,null,null,null,null,null,null,null,null,null,null,null,null,null,null,null,{"$f":"IF(AND($N$66=\"enabled\",$P$66=\"enabled\"),1,0)","v":0}]
[null,null,{"$f":"COUNTIF(M2448,\"*\"&PROFILE!$C$58&\"*\")","v":1},null,null,null,null,null,null,null,null,null,{"$f":"CONCATENATE(\" \",PROFILE!C58,\" Executives Voluntary Separations\")","v":"  Executives Voluntary Separations"},"",null,null,null,null,null,null,null,null,{"$f":"IF(AND($N$66=\"enabled\",$Q$66=\"enabled\",C2448=1),1,0)","v":0}]
[null,null,{"$f":"COUNTIF(M2449,\"*\"&PROFILE!$C$59&\"*\")","v":1},null,null,null,null,null,null,null,null,null,{"$f":"CONCATENATE(\" \",PROFILE!C59,\" Executives Voluntary Separations\")","v":"  Executives Voluntary Separations"},"",null,null,null,null,null,null,null,null,{"$f":"IF(AND($N$66=\"enabled\",$Q$66=\"enabled\",C2449=1),1,0)","v":0}]
[null,null,{"$f":"COUNTIF(M2450,\"*\"&PROFILE!$C$60&\"*\")","v":1},null,null,null,null,null,null,null,null,null,{"$f":"CONCATENATE(\" \",PROFILE!C60,\" Executives Voluntary Separations\")","v":"  Executives Voluntary Separations"},"",null,null,null,null,null,null,null,null,0]
[null,null,{"$f":"COUNTIF(M2451,\"*\"&PROFILE!$C$61&\"*\")","v":1},null,null,null,null,null,null,null,null,null,{"$f":"CONCATENATE(\" \",PROFILE!C61,\" Executives Voluntary Separations\")","v":"  Executives Voluntary Separations"},"",null,null,null,null,null,null,null,null,0]
[null,null,{"$f":"COUNTIF(M2452,\"*\"&PROFILE!$C$62&\"*\")","v":1},null,null,null,null,null,null,null,null,null,{"$f":"CONCATENATE(\" \",PROFILE!C62,\" Executives Voluntary Separations\")","v":"  Executives Voluntary Separations"},"",null,null,null,null,null,null,null,null,0]
[null,null,{"$f":"COUNTIF(M2453,\"*\"&PROFILE!$C$63&\"*\")","v":1},null,null,null,null,null,null,null,null,null,{"$f":"CONCATENATE(\" \",PROFILE!C63,\" Executives Voluntary Separations\")","v":"  Executives Voluntary Separations"},"",null,null,null,null,null,null,null,null,0]
[null,null,{"$f":"COUNTIF(M2454,\"*\"&PROFILE!$C$64&\"*\")","v":1},null,null,null,null,null,null,null,null,null,{"$f":"CONCATENATE(\" \",PROFILE!C64,\" Executives Voluntary Separations\")","v":"  Executives Voluntary Separations"},"",null,null,null,null,null,null,null,null,0]
[null,null,{"$f":"COUNTIF(M2455,\"*\"&PROFILE!$C$65&\"*\")","v":1},null,null,null,null,null,null,null,null,null,{"$f":"CONCATENATE(\" \",PROFILE!C65,\" Executives Voluntary Separations\")","v":"  Executives Voluntary Separations"},"",null,null,null,null,null,null,null,null,0]
[null,null,{"$f":"COUNTIF(M2456,\"*\"&PROFILE!$C$66&\"*\")","v":1},null,null,null,null,null,null,null,null,null,{"$f":"CONCATENATE(\" \",PROFILE!C66,\" Executives Voluntary Separations\")","v":"  Executives Voluntary Separations"},"",null,null,null,null,null,null,null,null,0]
[null,null,{"$f":"COUNTIF(M2457,\"*\"&PROFILE!$C$67&\"*\")","v":1},null,null,null,null,null,null,null,null,null,{"$f":"CONCATENATE(\" \",PROFILE!C67,\" Executives Voluntary Separations\")","v":"  Executives Voluntary Separations"},"",null,null,null,null,null,null,null,null,0]
[null,null,{"$f":"COUNTIF(M2458,\"*\"&PROFILE!$C$68&\"*\")","v":1},null,null,null,null,null,null,null,null,null,{"$f":"CONCATENATE(\" \",PROFILE!C68,\" Executives Voluntary Separations\")","v":"  Executives Voluntary Separations"},"",null,null,null,null,null,null,null,null,0]
[null,null,{"$f":"COUNTIF(M2459,\"*\"&PROFILE!$C$69&\"*\")","v":1},null,null,null,null,null,null,null,null,null,{"$f":"CONCATENATE(\" \",PROFILE!C69,\" Executives Voluntary Separations\")","v":"  Executives Voluntary Separations"},"",null,null,null,null,null,null,null,null,0]
[null,null,{"$f":"COUNTIF(M2460,\"*\"&PROFILE!$C$70&\"*\")","v":1},null,null,null,null,null,null,null,null,null,{"$f":"CONCATENATE(\" \",PROFILE!C70,\" Executives Voluntary Separations\")","v":"  Executives Voluntary Separations"},"",null,null,null,null,null,null,null,null,0]
[null,null,{"$f":"COUNTIF(M2461,\"*\"&PROFILE!$C$71&\"*\")","v":1},null,null,null,null,null,null,null,null,null,{"$f":"CONCATENATE(\" \",PROFILE!C71,\" Executives Voluntary Separations\")","v":"  Executives Voluntary Separations"},"",null,null,null,null,null,null,null,null,0]
[null,null,{"$f":"COUNTIF(M2462,\"*\"&PROFILE!$C$72&\"*\")","v":1},null,null,null,null,null,null,null,null,null,{"$f":"CONCATENATE(\" \",PROFILE!C72,\" Executives Voluntary Separations\")","v":"  Executives Voluntary Separations"},"",null,null,null,null,null,null,null,null,0]
[null,null,null,null,null,null,null,null,null,null,null,null,null,null,null,null,null,null,null,null,null,null,{"$f":"IF(AND($N$66=\"enabled\",$Q$66=\"enabled\"),1,0)","v":0}]
[null,null,null,null,null,null,null,null,null,null,null,null,null,null,null,"Employees in their First Five Years Voluntary Separations by Sex",null,null,null,null,null,null,{"$f":"IF(OR($N$67=\"enabled\",$P$67=\"enabled\",$Q$67=\"enabled\"),1,0)","v":0}]
[null,null,null,null,null,null,null,null,null,null,null,null,null,{"$f":"'CENTRAL DATA'!$H$12","v":"FY-2"},{"$f":"'CENTRAL DATA'!$H$13","v":"FY-1"},{"$f":"IF(PROFILE!$L$43=\"Fiscal Year WFP\",'CENTRAL DATA'!$H$14,IF(PROFILE!$L$43=\"Snapshot\",CONCATENATE(\"As of \",TEXT(PROFILE!$N$44,\"mm/dd/yy\"),\"\")))","v":false},null,null,null,null,null,null,{"$f":"IF(OR($N$67=\"enabled\",$P$67=\"enabled\",$Q$67=\"enabled\"),1,0)","v":0}]
[null,null,null,null,null,null,null,null,null,null,null,null,null,null,null,null,null,null,null,null,null,null,{"$f":"IF(OR($N$67=\"enabled\",$P$67=\"enabled\",$Q$67=\"enabled\"),1,0)","v":0}]
[null,null,null,null,null,null,null,null,null,null,null,null,"Male Voluntary Separations","",null,null,null,null,null,null,null,null,{"$f":"IF(OR($N$67=\"enabled\"),1,0)","v":0}]
[null,null,null,null,null,null,null,null,null,null,null,null,"Female Voluntary Separations","",null,null,null,null,null,null,null,null,{"$f":"IF(OR($N$67=\"enabled\"),1,0)","v":0}]
[null,null,null,null,null,null,null,null,null,null,null,null,null,null,null,null,null,null,null,null,null,null,{"$f":"IF(OR($N$67=\"enabled\"),1,0)","v":0}]
[null,null,null,null,null,null,null,null,null,null,null,null,"Male Leader Voluntary Separations","",null,null,null,null,null,null,null,null,{"$f":"IF(AND($N$67=\"enabled\",$P$67=\"enabled\"),1,0)","v":0}]
[null,null,null,null,null,null,null,null,null,null,null,null,"Female Leader Voluntary Separations","",null,null,null,null,null,null,null,null,{"$f":"IF(AND($N$67=\"enabled\",$P$67=\"enabled\"),1,0)","v":0}]
[null,null,null,null,null,null,null,null,null,null,null,null,null,null,null,null,null,null,null,null,null,null,{"$f":"IF(AND($N$67=\"enabled\",$P$67=\"enabled\"),1,0)","v":0}]
[null,null,null,null,null,null,null,null,null,null,null,null,"Male Executive Voluntary Separations","",null,null,null,null,null,null,null,null,{"$f":"IF(AND($N$67=\"enabled\",$Q$67=\"enabled\"),1,0)","v":0}]
[null,null,null,null,null,null,null,null,null,null,null,null,"Female Executive Voluntary Separations","",null,null,null,null,null,null,null,null,{"$f":"IF(AND($N$67=\"enabled\",$Q$67=\"enabled\"),1,0)","v":0}]
[null,null,null,null,null,null,null,null,null,null,null,null,null,null,null,null,null,null,null,null,null,null,{"$f":"IF(AND($N$67=\"enabled\",$Q$67=\"enabled\"),1,0)","v":0}]
[null,null,null,null,null,null,null,null,null,null,null,null,null,null,null,"Employees in their First Five Years Voluntary Separations by Race",null,null,null,null,null,null,{"$f":"IF(OR($N$68=\"enabled\",$P$68=\"enabled\",$Q$68=\"enabled\"),1,0)","v":0}]
[null,null,null,null,null,null,null,null,null,null,null,null,null,{"$f":"'CENTRAL DATA'!$H$12","v":"FY-2"},{"$f":"'CENTRAL DATA'!$H$13","v":"FY-1"},{"$f":"IF(PROFILE!$L$43=\"Fiscal Year WFP\",'CENTRAL DATA'!$H$14,IF(PROFILE!$L$43=\"Snapshot\",CONCATENATE(\"As of \",TEXT(PROFILE!$N$44,\"mm/dd/yy\"),\"\")))","v":false},null,null,null,null,null,null,{"$f":"IF(OR($N$68=\"enabled\",$P$68=\"enabled\",$Q$68=\"enabled\"),1,0)","v":0}]
[null,null,null,null,null,null,null,null,null,null,null,null,null,null,null,null,null,null,null,null,null,null,{"$f":"IF(OR($N$68=\"enabled\",$P$68=\"enabled\",$Q$68=\"enabled\"),1,0)","v":0}]
[null,null,null,null,null,null,null,null,null,null,null,null,"Minority Voluntary Separations","",null,null,null,null,null,null,null,null,{"$f":"IF(OR($N$68=\"enabled\"),1,0)","v":0}]
[null,null,null,null,null,null,null,null,null,null,null,null,"Non-Minority Voluntary Separations","",null,null,null,null,null,null,null,null,0]
[null,null,null,null,null,null,null,null,null,null,null,null,null,null,null,null,null,null,null,null,null,null,0]
[null,null,null,null,null,null,null,null,null,null,null,null,"Minority Leader Voluntary Separations","",null,null,null,null,null,null,null,null,{"$f":"IF(AND($N$68=\"enabled\",$P$68=\"enabled\"),1,0)","v":0}]
[null,null,null,null,null,null,null,null,null,null,null,null,"Non-Minority Leader Voluntary Separations","",null,null,null,null,null,null,null,null,0]
[null,null,null,null,null,null,null,null,null,null,null,null,null,null,null,null,null,null,null,null,null,null,0]
[null,null,null,null,null,null,null,null,null,null,null,null,"Minority Executive Voluntary Separations","",null,null,null,null,null,null,null,null,{"$f":"IF(AND($N$68=\"enabled\",$Q$68=\"enabled\"),1,0)","v":0}]
[null,null,null,null,null,null,null,null,null,null,null,null,"Non-Minority Executive Voluntary Separations","",null,null,null,null,null,null,null,null,0]
[null,null,null,null,null,null,null,null,null,null,null,null,null,null,null,null,null,null,null,null,null,null,0]
[null,null,null,null,null,null,null,null,null,null,null,null,null,null,null,"Employees in their First Five Years Voluntary Separations by Other Demographics",null,null,null,null,null,null,{"$f":"IF(OR($N$69=\"enabled\",$P$69=\"enabled\",$Q$69=\"enabled\"),1,0)","v":0}]
[null,null,null,null,null,null,null,null,null,null,null,null,null,{"$f":"'CENTRAL DATA'!$H$12","v":"FY-2"},{"$f":"'CENTRAL DATA'!$H$13","v":"FY-1"},{"$f":"IF(PROFILE!$L$43=\"Fiscal Year WFP\",'CENTRAL DATA'!$H$14,IF(PROFILE!$L$43=\"Snapshot\",CONCATENATE(\"As of \",TEXT(PROFILE!$N$44,\"mm/dd/yy\"),\"\")))","v":false},null,null,null,null,null,null,{"$f":"IF(OR($N$69=\"enabled\",$P$69=\"enabled\",$Q$69=\"enabled\"),1,0)","v":0}]
[null,null,null,null,null,null,null,null,null,null,null,null,null,null,null,null,null,null,null,null,null,null,{"$f":"IF(OR($N$69=\"enabled\",$P$69=\"enabled\",$Q$69=\"enabled\"),1,0)","v":0}]
[null,null,null,null,null,null,null,null,null,null,null,null,"Employees with Disabilities Voluntary Separations","",null,null,null,null,null,null,null,null,{"$f":"IF(OR($N$69=\"enabled\"),1,0)","v":0}]
[null,null,null,null,null,null,null,null,null,null,null,null,"Voluntary Separations of Veterans","",null,null,null,null,null,null,null,null,{"$f":"IF(OR($N$69=\"enabled\"),1,0)","v":0}]
[null,null,null,null,null,null,null,null,null,null,null,null,null,null,null,null,null,null,null,null,null,null,{"$f":"IF(OR($N$69=\"enabled\"),1,0)","v":0}]
[null,null,null,null,null,null,null,null,null,null,null,null,"Leaders with Disabilities Voluntary Separations","",null,null,null,null,null,null,null,null,{"$f":"IF(AND($N$69=\"enabled\",$P$69=\"enabled\"),1,0)","v":0}]
[null,null,null,null,null,null,null,null,null,null,null,null,"Leaders who are Veterans Voluntary Separations","",null,null,null,null,null,null,null,null,{"$f":"IF(AND($N$69=\"enabled\",$P$69=\"enabled\"),1,0)","v":0}]
[null,null,null,null,null,null,null,null,null,null,null,null,null,null,null,null,null,null,null,null,null,null,{"$f":"IF(AND($N$69=\"enabled\",$P$69=\"enabled\"),1,0)","v":0}]
[null,null,null,null,null,null,null,null,null,null,null,null,"Executives with Disabilities Voluntary Separations","",null,null,null,null,null,null,null,null,{"$f":"IF(AND($N$69=\"enabled\",$Q$69=\"enabled\"),1,0)","v":0}]
[null,null,null,null,null,null,null,null,null,null,null,null,"Executives who are Veterans Voluntary Separations","",null,null,null,null,null,null,null,null,{"$f":"IF(AND($N$69=\"enabled\",$Q$69=\"enabled\"),1,0)","v":0}]
[null,null,null,null,null,null,null,null,null,null,null,null,null,null,null,null,null,null,null,null,null,null,{"$f":"IF(AND($N$69=\"enabled\",$Q$69=\"enabled\"),1,0)","v":0}]
[null,null,null,null,null,null,null,null,null,null,null,null,null,null,null,"Employees in their First Year Avg. Years of Service by EEO Code",null,null,null,null,null,null,{"$f":"IF(OR($O$33=\"enabled\",$P$33=\"enabled\",$Q$33=\"enabled\"),1,0)","v":0}]
[null,null,null,null,null,null,null,null,null,null,null,null,null,{"$f":"'CENTRAL DATA'!$H$12","v":"FY-2"},{"$f":"'CENTRAL DATA'!$H$13","v":"FY-1"},{"$f":"IF(PROFILE!$L$43=\"Fiscal Year WFP\",'CENTRAL DATA'!$H$14,IF(PROFILE!$L$43=\"Snapshot\",CONCATENATE(\"As of \",TEXT(PROFILE!$N$44,\"mm/dd/yy\"),\"\")))","v":false},null,null,null,null,null,null,{"$f":"IF(OR($O$33=\"enabled\",$P$33=\"enabled\",$Q$33=\"enabled\"),1,0)","v":0}]
[null,null,null,null,null,null,null,null,null,null,null,null,null,null,null,null,null,null,null,null,null,null,{"$f":"IF(OR($O$33=\"enabled\",$P$33=\"enabled\",$Q$33=\"enabled\"),1,0)","v":0}]
[null,null,null,null,null,null,null,null,null,null,null,null,"EEO Code \"Officials and Administrators\" Average Years of Service","",null,null,null,null,null,null,null,null,{"$f":"IF(OR($O$33=\"enabled\"),1,0)","v":0}]
[null,null,null,null,null,null,null,null,null,null,null,null," EEO Code \"Professionals\" Average Years of Service","",null,null,null,null,null,null,null,null,0]
[null,null,null,null,null,null,null,null,null,null,null,null," EEO Code \"Technicians\" Average Years of Service","",null,null,null,null,null,null,null,null,0]
[null,null,null,null,null,null,null,null,null,null,null,null," EEO Code \"Protective Service Workers\" Average Years of Service","",null,null,null,null,null,null,null,null,0]
[null,null,null,null,null,null,null,null,null,null,null,null," EEO Code \"Paraprofessionals\" Average Years of Service","",null,null,null,null,null,null,null,null,0]
[null,null,null,null,null,null,null,null,null,null,null,null," EEO Code \"Administrative Support\" Average Years of Service","",null,null,null,null,null,null,null,null,0]
[null,null,null,null,null,null,null,null,null,null,null,null," EEO Code \"Skilled Craft Workers\" Average Years of Service","",null,null,null,null,null,null,null,null,0]
[null,null,null,null,null,null,null,null,null,null,null,null," EEO Code \"Service/Maintenance\" Average Years of Service","",null,null,null,null,null,null,null,null,0]
[null,null,null,null,null,null,null,null,null,null,null,null," EEO Code \"Faculty\" Average Years of Service","",null,null,null,null,null,null,null,null,0]
[null,null,null,null,null,null,null,null,null,null,null,null," EEO Code \"Other\" Average Years of Service","",null,null,null,null,null,null,null,null,0]
[null,null,null,null,null,null,null,null,null,null,null,null,null,null,null,null,null,null,null,null,null,null,0]
[null,null,null,null,null,null,null,null,null,null,null,null,"EEO Code \"Officials and Administrators\" Leaders Average Years of Service","",null,null,null,null,null,null,null,null,{"$f":"IF(AND($O$33=\"enabled\",$P$33=\"enabled\"),1,0)","v":0}]
[null,null,null,null,null,null,null,null,null,null,null,null," EEO Code \"Professionals\" Leaders  Average Years of Service","",null,null,null,null,null,null,null,null,0]
[null,null,null,null,null,null,null,null,null,null,null,null," EEO Code \"Technicians\" Leaders  Average Years of Service","",null,null,null,null,null,null,null,null,0]
[null,null,null,null,null,null,null,null,null,null,null,null," EEO Code \"Protective Service Workers\" Leaders  Average Years of Service","",null,null,null,null,null,null,null,null,0]
[null,null,null,null,null,null,null,null,null,null,null,null," EEO Code \"Paraprofessionals\" Leaders  Average Years of Service","",null,null,null,null,null,null,null,null,0]
[null,null,null,null,null,null,null,null,null,null,null,null," EEO Code \"Administrative Support\" Leaders  Average Years of Service","",null,null,null,null,null,null,null,null,0]
[null,null,null,null,null,null,null,null,null,null,null,null," EEO Code \"Skilled Craft Workers\" Leaders  Average Years of Service","",null,null,null,null,null,null,null,null,0]
[null,null,null,null,null,null,null,null,null,null,null,null," EEO Code \"Service/Maintenance\" Leaders  Average Years of Service","",null,null,null,null,null,null,null,null,0]
[null,null,null,null,null,null,null,null,null,null,null,null," EEO Code \"Faculty\" Leaders  Average Years of Service","",null,null,null,null,null,null,null,null,0]
[null,null,null,null,null,null,null,null,null,null,null,null," EEO Code \"Other\" Leaders  Average Years of Service","",null,null,null,null,null,null,null,null,0]
[null,null,null,null,null,null,null,null,null,null,null,null,null,null,null,null,null,null,null,null,null,null,0]
[null,null,null,null,null,null,null,null,null,null,null,null,"EEO Code \"Officials and Administrators\" Executives Average Years of Service","",null,null,null,null,null,null,null,null,{"$f":"IF(AND($O$33=\"enabled\",$Q$33=\"enabled\"),1,0)","v":0}]
[null,null,null,null,null,null,null,null,null,null,null,null," EEO Code \"Professionals\" Executives  Average Years of Service","",null,null,null,null,null,null,null,null,0]
[null,null,null,null,null,null,null,null,null,null,null,null," EEO Code \"Technicians\" Executives  Average Years of Service","",null,null,null,null,null,null,null,null,0]
[null,null,null,null,null,null,null,null,null,null,null,null," EEO Code \"Protective Service Workers\" Executives  Average Years of Service","",null,null,null,null,null,null,null,null,0]
[null,null,null,null,null,null,null,null,null,null,null,null," EEO Code \"Paraprofessionals\" Executives  Average Years of Service","",null,null,null,null,null,null,null,null,0]
[null,null,null,null,null,null,null,null,null,null,null,null," EEO Code \"Administrative Support\" Executives  Average Years of Service","",null,null,null,null,null,null,null,null,0]
[null,null,null,null,null,null,null,null,null,null,null,null," EEO Code \"Skilled Craft Workers\" Executives  Average Years of Service","",null,null,null,null,null,null,null,null,0]
[null,null,null,null,null,null,null,null,null,null,null,null," EEO Code \"Service/Maintenance\" Executives  Average Years of Service","",null,null,null,null,null,null,null,null,0]
[null,null,null,null,null,null,null,null,null,null,null,null," EEO Code \"Faculty\" Executives  Average Years of Service","",null,null,null,null,null,null,null,null,0]
[null,null,null,null,null,null,null,null,null,null,null,null," EEO Code \"Other\" Executives  Average Years of Service","",null,null,null,null,null,null,null,null,0]
[null,null,null,null,null,null,null,null,null,null,null,null,null,null,null,null,null,null,null,null,null,null,0]
[null,null,null,null,null,null,null,null,null,null,null,null,null,null,null,"Employees in their First Year Avg. Years of Service by Classification",null,null,null,null,null,null,{"$f":"IF(OR($O$34=\"enabled\",$P$34=\"enabled\",$Q$34=\"enabled\"),1,0)","v":0}]
[null,null,null,null,null,null,null,null,null,null,null,null,null,{"$f":"'CENTRAL DATA'!$H$12","v":"FY-2"},{"$f":"'CENTRAL DATA'!$H$13","v":"FY-1"},{"$f":"IF(PROFILE!$L$43=\"Fiscal Year WFP\",'CENTRAL DATA'!$H$14,IF(PROFILE!$L$43=\"Snapshot\",CONCATENATE(\"As of \",TEXT(PROFILE!$N$44,\"mm/dd/yy\"),\"\")))","v":false},null,null,null,null,null,null,{"$f":"IF(OR($O$34=\"enabled\",$P$34=\"enabled\",$Q$34=\"enabled\"),1,0)","v":0}]
[null,null,null,null,null,null,null,null,null,null,null,null,null,null,null,null,null,null,null,null,null,null,{"$f":"IF(OR($O$34=\"enabled\",$P$34=\"enabled\",$Q$34=\"enabled\"),1,0)","v":0}]
[null,null,{"$f":"COUNTIF(M2539,\"*\"&PROFILE!$C$58&\"*\")","v":1},null,null,null,null,null,null,null,null,null,{"$f":"CONCATENATE(\" \",PROFILE!C58,\" Average Years of Service\")","v":"  Average Years of Service"},"",null,null,null,null,null,null,null,null,{"$f":"IF(AND(OR($O$34=\"enabled\"),C2539=1),1,0)","v":0}]
[null,null,{"$f":"COUNTIF(M2540,\"*\"&PROFILE!$C$59&\"*\")","v":1},null,null,null,null,null,null,null,null,null,{"$f":"CONCATENATE(\" \",PROFILE!C59,\" Average Years of Service\")","v":"  Average Years of Service"},"",null,null,null,null,null,null,null,null,{"$f":"IF(AND(OR($O$34=\"enabled\"),C2540=1),1,0)","v":0}]
[null,null,{"$f":"COUNTIF(M2541,\"*\"&PROFILE!$C$60&\"*\")","v":1},null,null,null,null,null,null,null,null,null,{"$f":"CONCATENATE(\" \",PROFILE!C60,\" Average Years of Service\")","v":"  Average Years of Service"},"",null,null,null,null,null,null,null,null,0]
[null,null,{"$f":"COUNTIF(M2542,\"*\"&PROFILE!$C$61&\"*\")","v":1},null,null,null,null,null,null,null,null,null,{"$f":"CONCATENATE(\" \",PROFILE!C61,\" Average Years of Service\")","v":"  Average Years of Service"},"",null,null,null,null,null,null,null,null,0]
[null,null,{"$f":"COUNTIF(M2543,\"*\"&PROFILE!$C$62&\"*\")","v":1},null,null,null,null,null,null,null,null,null,{"$f":"CONCATENATE(\" \",PROFILE!C62,\" Average Years of Service\")","v":"  Average Years of Service"},"",null,null,null,null,null,null,null,null,0]
[null,null,{"$f":"COUNTIF(M2544,\"*\"&PROFILE!$C$63&\"*\")","v":1},null,null,null,null,null,null,null,null,null,{"$f":"CONCATENATE(\" \",PROFILE!C63,\" Average Years of Service\")","v":"  Average Years of Service"},"",null,null,null,null,null,null,null,null,0]
[null,null,{"$f":"COUNTIF(M2545,\"*\"&PROFILE!$C$64&\"*\")","v":1},null,null,null,null,null,null,null,null,null,{"$f":"CONCATENATE(\" \",PROFILE!C64,\" Average Years of Service\")","v":"  Average Years of Service"},"",null,null,null,null,null,null,null,null,0]
[null,null,{"$f":"COUNTIF(M2546,\"*\"&PROFILE!$C$65&\"*\")","v":1},null,null,null,null,null,null,null,null,null,{"$f":"CONCATENATE(\" \",PROFILE!C65,\" Average Years of Service\")","v":"  Average Years of Service"},"",null,null,null,null,null,null,null,null,0]
[null,null,{"$f":"COUNTIF(M2547,\"*\"&PROFILE!$C$66&\"*\")","v":1},null,null,null,null,null,null,null,null,null,{"$f":"CONCATENATE(\" \",PROFILE!C66,\" Average Years of Service\")","v":"  Average Years of Service"},"",null,null,null,null,null,null,null,null,0]
[null,null,{"$f":"COUNTIF(M2548,\"*\"&PROFILE!$C$67&\"*\")","v":1},null,null,null,null,null,null,null,null,null,{"$f":"CONCATENATE(\" \",PROFILE!C67,\" Average Years of Service\")","v":"  Average Years of Service"},"",null,null,null,null,null,null,null,null,0]
[null,null,{"$f":"COUNTIF(M2549,\"*\"&PROFILE!$C$68&\"*\")","v":1},null,null,null,null,null,null,null,null,null,{"$f":"CONCATENATE(\" \",PROFILE!C68,\" Average Years of Service\")","v":"  Average Years of Service"},"",null,null,null,null,null,null,null,null,0]
[null,null,{"$f":"COUNTIF(M2550,\"*\"&PROFILE!$C$69&\"*\")","v":1},null,null,null,null,null,null,null,null,null,{"$f":"CONCATENATE(\" \",PROFILE!C69,\" Average Years of Service\")","v":"  Average Years of Service"},"",null,null,null,null,null,null,null,null,0]
[null,null,{"$f":"COUNTIF(M2551,\"*\"&PROFILE!$C$70&\"*\")","v":1},null,null,null,null,null,null,null,null,null,{"$f":"CONCATENATE(\" \",PROFILE!C70,\" Average Years of Service\")","v":"  Average Years of Service"},"",null,null,null,null,null,null,null,null,0]
[null,null,{"$f":"COUNTIF(M2552,\"*\"&PROFILE!$C$71&\"*\")","v":1},null,null,null,null,null,null,null,null,null,{"$f":"CONCATENATE(\" \",PROFILE!C71,\" Average Years of Service\")","v":"  Average Years of Service"},"",null,null,null,null,null,null,null,null,0]
[null,null,{"$f":"COUNTIF(M2553,\"*\"&PROFILE!$C$72&\"*\")","v":1},null,null,null,null,null,null,null,null,null,{"$f":"CONCATENATE(\" \",PROFILE!C72,\" Average Years of Service\")","v":"  Average Years of Service"},"",null,null,null,null,null,null,null,null,0]
[null,null,null,null,null,null,null,null,null,null,null,null,null,null,null,null,null,null,null,null,null,null,{"$f":"IF(OR($O$34=\"enabled\"),1,0)","v":0}]
[null,null,{"$f":"COUNTIF(M2555,\"*\"&PROFILE!$C$58&\"*\")","v":1},null,null,null,null,null,null,null,null,null,{"$f":"CONCATENATE(\" \",PROFILE!C58,\" Leaders Average Years of Service\")","v":"  Leaders Average Years of Service"},"",null,null,null,null,null,null,null,null,{"$f":"IF(AND($O$34=\"enabled\",$P$34=\"enabled\",C2555=1),1,0)","v":0}]
[null,null,{"$f":"COUNTIF(M2556,\"*\"&PROFILE!$C$59&\"*\")","v":1},null,null,null,null,null,null,null,null,null,{"$f":"CONCATENATE(\" \",PROFILE!C59,\" Leaders Average Years of Service\")","v":"  Leaders Average Years of Service"},"",null,null,null,null,null,null,null,null,{"$f":"IF(AND($O$34=\"enabled\",$P$34=\"enabled\",C2556=1),1,0)","v":0}]
[null,null,{"$f":"COUNTIF(M2557,\"*\"&PROFILE!$C$60&\"*\")","v":1},null,null,null,null,null,null,null,null,null,{"$f":"CONCATENATE(\" \",PROFILE!C60,\" Leaders Average Years of Service\")","v":"  Leaders Average Years of Service"},"",null,null,null,null,null,null,null,null,0]
[null,null,{"$f":"COUNTIF(M2558,\"*\"&PROFILE!$C$61&\"*\")","v":1},null,null,null,null,null,null,null,null,null,{"$f":"CONCATENATE(\" \",PROFILE!C61,\" Leaders Average Years of Service\")","v":"  Leaders Average Years of Service"},"",null,null,null,null,null,null,null,null,0]
[null,null,{"$f":"COUNTIF(M2559,\"*\"&PROFILE!$C$62&\"*\")","v":1},null,null,null,null,null,null,null,null,null,{"$f":"CONCATENATE(\" \",PROFILE!C62,\" Leaders Average Years of Service\")","v":"  Leaders Average Years of Service"},"",null,null,null,null,null,null,null,null,0]
[null,null,{"$f":"COUNTIF(M2560,\"*\"&PROFILE!$C$63&\"*\")","v":1},null,null,null,null,null,null,null,null,null,{"$f":"CONCATENATE(\" \",PROFILE!C63,\" Leaders Average Years of Service\")","v":"  Leaders Average Years of Service"},"",null,null,null,null,null,null,null,null,0]
[null,null,{"$f":"COUNTIF(M2561,\"*\"&PROFILE!$C$64&\"*\")","v":1},null,null,null,null,null,null,null,null,null,{"$f":"CONCATENATE(\" \",PROFILE!C64,\" Leaders Average Years of Service\")","v":"  Leaders Average Years of Service"},"",null,null,null,null,null,null,null,null,0]
[null,null,{"$f":"COUNTIF(M2562,\"*\"&PROFILE!$C$65&\"*\")","v":1},null,null,null,null,null,null,null,null,null,{"$f":"CONCATENATE(\" \",PROFILE!C65,\" Leaders Average Years of Service\")","v":"  Leaders Average Years of Service"},"",null,null,null,null,null,null,null,null,0]
[null,null,{"$f":"COUNTIF(M2563,\"*\"&PROFILE!$C$66&\"*\")","v":1},null,null,null,null,null,null,null,null,null,{"$f":"CONCATENATE(\" \",PROFILE!C66,\" Leaders Average Years of Service\")","v":"  Leaders Average Years of Service"},"",null,null,null,null,null,null,null,null,0]
[null,null,{"$f":"COUNTIF(M2564,\"*\"&PROFILE!$C$67&\"*\")","v":1},null,null,null,null,null,null,null,null,null,{"$f":"CONCATENATE(\" \",PROFILE!C67,\" Leaders Average Years of Service\")","v":"  Leaders Average Years of Service"},"",null,null,null,null,null,null,null,null,0]
[null,null,{"$f":"COUNTIF(M2565,\"*\"&PROFILE!$C$68&\"*\")","v":1},null,null,null,null,null,null,null,null,null,{"$f":"CONCATENATE(\" \",PROFILE!C68,\" Leaders Average Years of Service\")","v":"  Leaders Average Years of Service"},"",null,null,null,null,null,null,null,null,0]
[null,null,{"$f":"COUNTIF(M2566,\"*\"&PROFILE!$C$69&\"*\")","v":1},null,null,null,null,null,null,null,null,null,{"$f":"CONCATENATE(\" \",PROFILE!C69,\" Leaders Average Years of Service\")","v":"  Leaders Average Years of Service"},"",null,null,null,null,null,null,null,null,0]
[null,null,{"$f":"COUNTIF(M2567,\"*\"&PROFILE!$C$70&\"*\")","v":1},null,null,null,null,null,null,null,null,null,{"$f":"CONCATENATE(\" \",PROFILE!C70,\" Leaders Average Years of Service\")","v":"  Leaders Average Years of Service"},"",null,null,null,null,null,null,null,null,0]
[null,null,{"$f":"COUNTIF(M2568,\"*\"&PROFILE!$C$71&\"*\")","v":1},null,null,null,null,null,null,null,null,null,{"$f":"CONCATENATE(\" \",PROFILE!C71,\" Leaders Average Years of Service\")","v":"  Leaders Average Years of Service"},"",null,null,null,null,null,null,null,null,0]
[null,null,{"$f":"COUNTIF(M2569,\"*\"&PROFILE!$C$72&\"*\")","v":1},null,null,null,null,null,null,null,null,null,{"$f":"CONCATENATE(\" \",PROFILE!C72,\" Leaders Average Years of Service\")","v":"  Leaders Average Years of Service"},"",null,null,null,null,null,null,null,null,0]
[null,null,null,null,null,null,null,null,null,null,null,null,null,null,null,null,null,null,null,null,null,null,{"$f":"IF(AND($O$34=\"enabled\",$P$34=\"enabled\"),1,0)","v":0}]
[null,null,{"$f":"COUNTIF(M2571,\"*\"&PROFILE!$C$58&\"*\")","v":1},null,null,null,null,null,null,null,null,null,{"$f":"CONCATENATE(\" \",PROFILE!C58,\" Executives Average Years of Service\")","v":"  Executives Average Years of Service"},"",null,null,null,null,null,null,null,null,{"$f":"IF(AND($O$34=\"enabled\",$Q$34=\"enabled\",C2571=1),1,0)","v":0}]
[null,null,{"$f":"COUNTIF(M2572,\"*\"&PROFILE!$C$59&\"*\")","v":1},null,null,null,null,null,null,null,null,null,{"$f":"CONCATENATE(\" \",PROFILE!C59,\" Executives Average Years of Service\")","v":"  Executives Average Years of Service"},"",null,null,null,null,null,null,null,null,{"$f":"IF(AND($O$34=\"enabled\",$Q$34=\"enabled\",C2572=1),1,0)","v":0}]
[null,null,{"$f":"COUNTIF(M2573,\"*\"&PROFILE!$C$60&\"*\")","v":1},null,null,null,null,null,null,null,null,null,{"$f":"CONCATENATE(\" \",PROFILE!C60,\" Executives Average Years of Service\")","v":"  Executives Average Years of Service"},"",null,null,null,null,null,null,null,null,0]
[null,null,{"$f":"COUNTIF(M2574,\"*\"&PROFILE!$C$61&\"*\")","v":1},null,null,null,null,null,null,null,null,null,{"$f":"CONCATENATE(\" \",PROFILE!C61,\" Executives Average Years of Service\")","v":"  Executives Average Years of Service"},"",null,null,null,null,null,null,null,null,0]
[null,null,{"$f":"COUNTIF(M2575,\"*\"&PROFILE!$C$62&\"*\")","v":1},null,null,null,null,null,null,null,null,null,{"$f":"CONCATENATE(\" \",PROFILE!C62,\" Executives Average Years of Service\")","v":"  Executives Average Years of Service"},"",null,null,null,null,null,null,null,null,0]
[null,null,{"$f":"COUNTIF(M2576,\"*\"&PROFILE!$C$63&\"*\")","v":1},null,null,null,null,null,null,null,null,null,{"$f":"CONCATENATE(\" \",PROFILE!C63,\" Executives Average Years of Service\")","v":"  Executives Average Years of Service"},"",null,null,null,null,null,null,null,null,0]
[null,null,{"$f":"COUNTIF(M2577,\"*\"&PROFILE!$C$64&\"*\")","v":1},null,null,null,null,null,null,null,null,null,{"$f":"CONCATENATE(\" \",PROFILE!C64,\" Executives Average Years of Service\")","v":"  Executives Average Years of Service"},"",null,null,null,null,null,null,null,null,0]
[null,null,{"$f":"COUNTIF(M2578,\"*\"&PROFILE!$C$65&\"*\")","v":1},null,null,null,null,null,null,null,null,null,{"$f":"CONCATENATE(\" \",PROFILE!C65,\" Executives Average Years of Service\")","v":"  Executives Average Years of Service"},"",null,null,null,null,null,null,null,null,0]
[null,null,{"$f":"COUNTIF(M2579,\"*\"&PROFILE!$C$66&\"*\")","v":1},null,null,null,null,null,null,null,null,null,{"$f":"CONCATENATE(\" \",PROFILE!C66,\" Executives Average Years of Service\")","v":"  Executives Average Years of Service"},"",null,null,null,null,null,null,null,null,0]
[null,null,{"$f":"COUNTIF(M2580,\"*\"&PROFILE!$C$67&\"*\")","v":1},null,null,null,null,null,null,null,null,null,{"$f":"CONCATENATE(\" \",PROFILE!C67,\" Executives Average Years of Service\")","v":"  Executives Average Years of Service"},"",null,null,null,null,null,null,null,null,0]
[null,null,{"$f":"COUNTIF(M2581,\"*\"&PROFILE!$C$68&\"*\")","v":1},null,null,null,null,null,null,null,null,null,{"$f":"CONCATENATE(\" \",PROFILE!C68,\" Executives Average Years of Service\")","v":"  Executives Average Years of Service"},"",null,null,null,null,null,null,null,null,0]
[null,null,{"$f":"COUNTIF(M2582,\"*\"&PROFILE!$C$69&\"*\")","v":1},null,null,null,null,null,null,null,null,null,{"$f":"CONCATENATE(\" \",PROFILE!C69,\" Executives Average Years of Service\")","v":"  Executives Average Years of Service"},"",null,null,null,null,null,null,null,null,0]
[null,null,{"$f":"COUNTIF(M2583,\"*\"&PROFILE!$C$70&\"*\")","v":1},null,null,null,null,null,null,null,null,null,{"$f":"CONCATENATE(\" \",PROFILE!C70,\" Executives Average Years of Service\")","v":"  Executives Average Years of Service"},"",null,null,null,null,null,null,null,null,0]
[null,null,{"$f":"COUNTIF(M2584,\"*\"&PROFILE!$C$71&\"*\")","v":1},null,null,null,null,null,null,null,null,null,{"$f":"CONCATENATE(\" \",PROFILE!C71,\" Executives Average Years of Service\")","v":"  Executives Average Years of Service"},"",null,null,null,null,null,null,null,null,0]
[null,null,{"$f":"COUNTIF(M2585,\"*\"&PROFILE!$C$72&\"*\")","v":1},null,null,null,null,null,null,null,null,null,{"$f":"CONCATENATE(\" \",PROFILE!C72,\" Executives Average Years of Service\")","v":"  Executives Average Years of Service"},"",null,null,null,null,null,null,null,null,0]
[null,null,null,null,null,null,null,null,null,null,null,null,null,null,null,null,null,null,null,null,null,null,{"$f":"IF(AND($O$34=\"enabled\",$Q$34=\"enabled\"),1,0)","v":0}]
[null,null,null,null,null,null,null,null,null,null,null,null,null,null,null,"Employees in their First Year Avg. Years of Service by Sex",null,null,null,null,null,null,{"$f":"IF(OR($O$35=\"enabled\",$P$35=\"enabled\",$Q$35=\"enabled\"),1,0)","v":0}]
[null,null,null,null,null,null,null,null,null,null,null,null,null,{"$f":"'CENTRAL DATA'!$H$12","v":"FY-2"},{"$f":"'CENTRAL DATA'!$H$13","v":"FY-1"},{"$f":"IF(PROFILE!$L$43=\"Fiscal Year WFP\",'CENTRAL DATA'!$H$14,IF(PROFILE!$L$43=\"Snapshot\",CONCATENATE(\"As of \",TEXT(PROFILE!$N$44,\"mm/dd/yy\"),\"\")))","v":false},null,null,null,null,null,null,{"$f":"IF(OR($O$35=\"enabled\",$P$35=\"enabled\",$Q$35=\"enabled\"),1,0)","v":0}]
[null,null,null,null,null,null,null,null,null,null,null,null,null,null,null,null,null,null,null,null,null,null,{"$f":"IF(OR($O$35=\"enabled\",$P$35=\"enabled\",$Q$35=\"enabled\"),1,0)","v":0}]
[null,null,null,null,null,null,null,null,null,null,null,null,"Male Average Years of Service","",null,null,null,null,null,null,null,null,{"$f":"IF(OR($O$35=\"enabled\"),1,0)","v":0}]
[null,null,null,null,null,null,null,null,null,null,null,null,"Female Average Years of Service","",null,null,null,null,null,null,null,null,{"$f":"IF(OR($O$35=\"enabled\"),1,0)","v":0}]
[null,null,null,null,null,null,null,null,null,null,null,null,null,null,null,null,null,null,null,null,null,null,{"$f":"IF(OR($O$35=\"enabled\"),1,0)","v":0}]
[null,null,null,null,null,null,null,null,null,null,null,null,"Male Leader Average Years of Service","",null,null,null,null,null,null,null,null,{"$f":"IF(AND($O$35=\"enabled\",$P$35=\"enabled\"),1,0)","v":0}]
[null,null,null,null,null,null,null,null,null,null,null,null,"Female Leader Average Years of Service","",null,null,null,null,null,null,null,null,{"$f":"IF(AND($O$35=\"enabled\",$P$35=\"enabled\"),1,0)","v":0}]
[null,null,null,null,null,null,null,null,null,null,null,null,null,null,null,null,null,null,null,null,null,null,{"$f":"IF(AND($O$35=\"enabled\",$P$35=\"enabled\"),1,0)","v":0}]
[null,null,null,null,null,null,null,null,null,null,null,null,"Male Executive Average Years of Service","",null,null,null,null,null,null,null,null,{"$f":"IF(AND($O$35=\"enabled\",$Q$35=\"enabled\"),1,0)","v":0}]
[null,null,null,null,null,null,null,null,null,null,null,null,"Female Executive Average Years of Service","",null,null,null,null,null,null,null,null,{"$f":"IF(AND($O$35=\"enabled\",$Q$35=\"enabled\"),1,0)","v":0}]
[null,null,null,null,null,null,null,null,null,null,null,null,null,null,null,null,null,null,null,null,null,null,{"$f":"IF(AND($O$35=\"enabled\",$Q$35=\"enabled\"),1,0)","v":0}]
[null,null,null,null,null,null,null,null,null,null,null,null,null,null,null,"Employees in their First Year Avg. Years of Service by Race",null,null,null,null,null,null,{"$f":"IF(OR($O$36=\"enabled\",$P$36=\"enabled\",$Q$36=\"enabled\"),1,0)","v":0}]
[null,null,null,null,null,null,null,null,null,null,null,null,null,{"$f":"'CENTRAL DATA'!$H$12","v":"FY-2"},{"$f":"'CENTRAL DATA'!$H$13","v":"FY-1"},{"$f":"IF(PROFILE!$L$43=\"Fiscal Year WFP\",'CENTRAL DATA'!$H$14,IF(PROFILE!$L$43=\"Snapshot\",CONCATENATE(\"As of \",TEXT(PROFILE!$N$44,\"mm/dd/yy\"),\"\")))","v":false},null,null,null,null,null,null,{"$f":"IF(OR($O$36=\"enabled\",$P$36=\"enabled\",$Q$36=\"enabled\"),1,0)","v":0}]
[null,null,null,null,null,null,null,null,null,null,null,null,null,null,null,null,null,null,null,null,null,null,{"$f":"IF(OR($O$36=\"enabled\",$P$36=\"enabled\",$Q$36=\"enabled\"),1,0)","v":0}]
[null,null,null,null,null,null,null,null,null,null,null,null,"Minority Average Years of Service","",null,null,null,null,null,null,null,null,{"$f":"IF(OR($O$36=\"enabled\"),1,0)","v":0}]
[null,null,null,null,null,null,null,null,null,null,null,null,"Non-Minority Average Years of Service","",null,null,null,null,null,null,null,null,0]
[null,null,null,null,null,null,null,null,null,null,null,null,null,null,null,null,null,null,null,null,null,null,0]
[null,null,null,null,null,null,null,null,null,null,null,null,"Minority Leader Average Years of Service","",null,null,null,null,null,null,null,null,{"$f":"IF(AND($O$36=\"enabled\",$P$36=\"enabled\"),1,0)","v":0}]
[null,null,null,null,null,null,null,null,null,null,null,null,"Non-Minority Leader Average Years of Service","",null,null,null,null,null,null,null,null,0]
[null,null,null,null,null,null,null,null,null,null,null,null,null,null,null,null,null,null,null,null,null,null,0]
[null,null,null,null,null,null,null,null,null,null,null,null,"Minority Executive Average Years of Service","",null,null,null,null,null,null,null,null,{"$f":"IF(AND($O$36=\"enabled\",$Q$36=\"enabled\"),1,0)","v":0}]
[null,null,null,null,null,null,null,null,null,null,null,null,"Non-Minority Executive Average Years of Service","",null,null,null,null,null,null,null,null,0]
[null,null,null,null,null,null,null,null,null,null,null,null,null,null,null,null,null,null,null,null,null,null,0]
[null,null,null,null,null,null,null,null,null,null,null,null,null,null,null,"All Employees Avg. Years of Service by Other Demographics",null,null,null,null,null,null,{"$f":"IF(OR($O$37=\"enabled\",$P$37=\"enabled\",$Q$37=\"enabled\"),1,0)","v":0}]
[null,null,null,null,null,null,null,null,null,null,null,null,null,{"$f":"'CENTRAL DATA'!$H$12","v":"FY-2"},{"$f":"'CENTRAL DATA'!$H$13","v":"FY-1"},{"$f":"IF(PROFILE!$L$43=\"Fiscal Year WFP\",'CENTRAL DATA'!$H$14,IF(PROFILE!$L$43=\"Snapshot\",CONCATENATE(\"As of \",TEXT(PROFILE!$N$44,\"mm/dd/yy\"),\"\")))","v":false},null,null,null,null,null,null,{"$f":"IF(OR($O$37=\"enabled\",$P$37=\"enabled\",$Q$37=\"enabled\"),1,0)","v":0}]
[null,null,null,null,null,null,null,null,null,null,null,null,null,null,null,null,null,null,null,null,null,null,{"$f":"IF(OR($O$37=\"enabled\",$P$37=\"enabled\",$Q$37=\"enabled\"),1,0)","v":0}]
[null,null,null,null,null,null,null,null,null,null,null,null,"Employees with Disabilities Average Years of Service","",null,null,null,null,null,null,null,null,{"$f":"IF(OR($O$37=\"enabled\"),1,0)","v":0}]
[null,null,null,null,null,null,null,null,null,null,null,null,"Average Years of Service who are Veterans","",null,null,null,null,null,null,null,null,{"$f":"IF(OR($O$37=\"enabled\"),1,0)","v":0}]
[null,null,null,null,null,null,null,null,null,null,null,null,null,null,null,null,null,null,null,null,null,null,{"$f":"IF(OR($O$37=\"enabled\"),1,0)","v":0}]
[null,null,null,null,null,null,null,null,null,null,null,null,"Leaders with Disabilities Average Years of Service","",null,null,null,null,null,null,null,null,{"$f":"IF(AND($O$37=\"enabled\",$P$37=\"enabled\"),1,0)","v":0}]
[null,null,null,null,null,null,null,null,null,null,null,null,"Leaders who are Veterans Average Years of Service","",null,null,null,null,null,null,null,null,{"$f":"IF(AND($O$37=\"enabled\",$P$37=\"enabled\"),1,0)","v":0}]
[null,null,null,null,null,null,null,null,null,null,null,null,null,null,null,null,null,null,null,null,null,null,{"$f":"IF(AND($O$37=\"enabled\",$P$37=\"enabled\"),1,0)","v":0}]
[null,null,null,null,null,null,null,null,null,null,null,null,"Executives with Disabilities Average Years of Service","",null,null,null,null,null,null,null,null,{"$f":"IF(AND($O$37=\"enabled\",$Q$37=\"enabled\"),1,0)","v":0}]
[null,null,null,null,null,null,null,null,null,null,null,null,"Executives who are Veterans Average Years of Service","",null,null,null,null,null,null,null,null,{"$f":"IF(AND($O$37=\"enabled\",$Q$37=\"enabled\"),1,0)","v":0}]
[null,null,null,null,null,null,null,null,null,null,null,null,null,null,null,null,null,null,null,null,null,null,{"$f":"IF(AND($O$37=\"enabled\",$Q$37=\"enabled\"),1,0)","v":0}]
[null,null,null,null,null,null,null,null,null,null,null,null,null,null,null,"Employees in their First Year Internal Promotions by EEO Code",null,null,null,null,null,null,{"$f":"IF(OR($O$41=\"enabled\",$P$41=\"enabled\",$Q$41=\"enabled\"),1,0)","v":0}]
[null,null,null,null,null,null,null,null,null,null,null,null,null,{"$f":"'CENTRAL DATA'!$H$12","v":"FY-2"},{"$f":"'CENTRAL DATA'!$H$13","v":"FY-1"},{"$f":"IF(PROFILE!$L$43=\"Fiscal Year WFP\",'CENTRAL DATA'!$H$14,IF(PROFILE!$L$43=\"Snapshot\",CONCATENATE(\"As of \",TEXT(PROFILE!$N$44,\"mm/dd/yy\"),\"\")))","v":false},null,null,null,null,null,null,{"$f":"IF(OR($O$41=\"enabled\",$P$41=\"enabled\",$Q$41=\"enabled\"),1,0)","v":0}]
[null,null,null,null,null,null,null,null,null,null,null,null,null,null,null,null,null,null,null,null,null,null,{"$f":"IF(OR($O$41=\"enabled\",$P$41=\"enabled\",$Q$41=\"enabled\"),1,0)","v":0}]
[null,null,null,null,null,null,null,null,null,null,null,null,"EEO Code \"Officials and Administrators\" Internal Promotions","",null,null,null,null,null,null,null,null,{"$f":"IF(OR($O$41=\"enabled\"),1,0)","v":0}]
[null,null,null,null,null,null,null,null,null,null,null,null," EEO Code \"Professionals\" Internal Promotions","",null,null,null,null,null,null,null,null,0]
[null,null,null,null,null,null,null,null,null,null,null,null," EEO Code \"Technicians\" Internal Promotions","",null,null,null,null,null,null,null,null,0]
[null,null,null,null,null,null,null,null,null,null,null,null," EEO Code \"Protective Service Workers\" Internal Promotions","",null,null,null,null,null,null,null,null,0]
[null,null,null,null,null,null,null,null,null,null,null,null," EEO Code \"Paraprofessionals\" Internal Promotions","",null,null,null,null,null,null,null,null,0]
[null,null,null,null,null,null,null,null,null,null,null,null," EEO Code \"Administrative Support\" Internal Promotions","",null,null,null,null,null,null,null,null,0]
[null,null,null,null,null,null,null,null,null,null,null,null," EEO Code \"Skilled Craft Workers\" Internal Promotions","",null,null,null,null,null,null,null,null,0]
[null,null,null,null,null,null,null,null,null,null,null,null," EEO Code \"Service/Maintenance\" Internal Promotions","",null,null,null,null,null,null,null,null,0]
[null,null,null,null,null,null,null,null,null,null,null,null," EEO Code \"Faculty\" Internal Promotions","",null,null,null,null,null,null,null,null,0]
[null,null,null,null,null,null,null,null,null,null,null,null," EEO Code \"Other\" Internal Promotions","",null,null,null,null,null,null,null,null,0]
[null,null,null,null,null,null,null,null,null,null,null,null,null,null,null,null,null,null,null,null,null,null,0]
[null,null,null,null,null,null,null,null,null,null,null,null,"EEO Code \"Officials and Administrators\" Leaders Internal Promotions","",null,null,null,null,null,null,null,null,{"$f":"IF(AND($O$41=\"enabled\",$P$41=\"enabled\"),1,0)","v":0}]
[null,null,null,null,null,null,null,null,null,null,null,null," EEO Code \"Professionals\" Leaders  Internal Promotions","",null,null,null,null,null,null,null,null,0]
[null,null,null,null,null,null,null,null,null,null,null,null," EEO Code \"Technicians\" Leaders  Internal Promotions","",null,null,null,null,null,null,null,null,0]
[null,null,null,null,null,null,null,null,null,null,null,null," EEO Code \"Protective Service Workers\" Leaders  Internal Promotions","",null,null,null,null,null,null,null,null,0]
[null,null,null,null,null,null,null,null,null,null,null,null," EEO Code \"Paraprofessionals\" Leaders  Internal Promotions","",null,null,null,null,null,null,null,null,0]
[null,null,null,null,null,null,null,null,null,null,null,null," EEO Code \"Administrative Support\" Leaders  Internal Promotions","",null,null,null,null,null,null,null,null,0]
[null,null,null,null,null,null,null,null,null,null,null,null," EEO Code \"Skilled Craft Workers\" Leaders  Internal Promotions","",null,null,null,null,null,null,null,null,0]
[null,null,null,null,null,null,null,null,null,null,null,null," EEO Code \"Service/Maintenance\" Leaders  Internal Promotions","",null,null,null,null,null,null,null,null,0]
[null,null,null,null,null,null,null,null,null,null,null,null," EEO Code \"Faculty\" Leaders  Internal Promotions","",null,null,null,null,null,null,null,null,0]
[null,null,null,null,null,null,null,null,null,null,null,null," EEO Code \"Other\" Leaders  Internal Promotions","",null,null,null,null,null,null,null,null,0]
[null,null,null,null,null,null,null,null,null,null,null,null,null,null,null,null,null,null,null,null,null,null,0]
[null,null,null,null,null,null,null,null,null,null,null,null,"EEO Code \"Officials and Administrators\" Executives Internal Promotions","",null,null,null,null,null,null,null,null,{"$f":"IF(AND($O$41=\"enabled\",$Q$41=\"enabled\"),1,0)","v":0}]
[null,null,null,null,null,null,null,null,null,null,null,null," EEO Code \"Professionals\" Executives  Internal Promotions","",null,null,null,null,null,null,null,null,0]
[null,null,null,null,null,null,null,null,null,null,null,null," EEO Code \"Technicians\" Executives  Internal Promotions","",null,null,null,null,null,null,null,null,0]
[null,null,null,null,null,null,null,null,null,null,null,null," EEO Code \"Protective Service Workers\" Executives  Internal Promotions","",null,null,null,null,null,null,null,null,0]
[null,null,null,null,null,null,null,null,null,null,null,null," EEO Code \"Paraprofessionals\" Executives  Internal Promotions","",null,null,null,null,null,null,null,null,0]
[null,null,null,null,null,null,null,null,null,null,null,null," EEO Code \"Administrative Support\" Executives  Internal Promotions","",null,null,null,null,null,null,null,null,0]
[null,null,null,null,null,null,null,null,null,null,null,null," EEO Code \"Skilled Craft Workers\" Executives  Internal Promotions","",null,null,null,null,null,null,null,null,0]
[null,null,null,null,null,null,null,null,null,null,null,null," EEO Code \"Service/Maintenance\" Executives  Internal Promotions","",null,null,null,null,null,null,null,null,0]
[null,null,null,null,null,null,null,null,null,null,null,null," EEO Code \"Faculty\" Executives  Internal Promotions","",null,null,null,null,null,null,null,null,0]
[null,null,null,null,null,null,null,null,null,null,null,null," EEO Code \"Other\" Executives  Internal Promotions","",null,null,null,null,null,null,null,null,0]
[null,null,null,null,null,null,null,null,null,null,null,null,null,null,null,null,null,null,null,null,null,null,0]
[null,null,null,null,null,null,null,null,null,null,null,null,null,null,null,"Employees in their First Year Internal Promotions by Classification",null,null,null,null,null,null,{"$f":"IF(OR($O$42=\"enabled\",$P$42=\"enabled\",$Q$42=\"enabled\"),1,0)","v":0}]
[null,null,null,null,null,null,null,null,null,null,null,null,null,{"$f":"'CENTRAL DATA'!$H$12","v":"FY-2"},{"$f":"'CENTRAL DATA'!$H$13","v":"FY-1"},{"$f":"IF(PROFILE!$L$43=\"Fiscal Year WFP\",'CENTRAL DATA'!$H$14,IF(PROFILE!$L$43=\"Snapshot\",CONCATENATE(\"As of \",TEXT(PROFILE!$N$44,\"mm/dd/yy\"),\"\")))","v":false},null,null,null,null,null,null,{"$f":"IF(OR($O$42=\"enabled\",$P$42=\"enabled\",$Q$42=\"enabled\"),1,0)","v":0}]
[null,null,null,null,null,null,null,null,null,null,null,null,null,null,null,null,null,null,null,null,null,null,{"$f":"IF(OR($O$42=\"enabled\",$P$42=\"enabled\",$Q$42=\"enabled\"),1,0)","v":0}]
[null,null,{"$f":"COUNTIF(M2662,\"*\"&PROFILE!$C$58&\"*\")","v":1},null,null,null,null,null,null,null,null,null,{"$f":"CONCATENATE(\" \",PROFILE!C58,\" Internal Promotions\")","v":"  Internal Promotions"},"",null,null,null,null,null,null,null,null,{"$f":"IF(AND(OR($O$42=\"enabled\"),C2662=1),1,0)","v":0}]
[null,null,{"$f":"COUNTIF(M2663,\"*\"&PROFILE!$C$59&\"*\")","v":1},null,null,null,null,null,null,null,null,null,{"$f":"CONCATENATE(\" \",PROFILE!C59,\" Internal Promotions\")","v":"  Internal Promotions"},"",null,null,null,null,null,null,null,null,{"$f":"IF(AND(OR($O$42=\"enabled\"),C2663=1),1,0)","v":0}]
[null,null,{"$f":"COUNTIF(M2664,\"*\"&PROFILE!$C$60&\"*\")","v":1},null,null,null,null,null,null,null,null,null,{"$f":"CONCATENATE(\" \",PROFILE!C60,\" Internal Promotions\")","v":"  Internal Promotions"},"",null,null,null,null,null,null,null,null,0]
[null,null,{"$f":"COUNTIF(M2665,\"*\"&PROFILE!$C$61&\"*\")","v":1},null,null,null,null,null,null,null,null,null,{"$f":"CONCATENATE(\" \",PROFILE!C61,\" Internal Promotions\")","v":"  Internal Promotions"},"",null,null,null,null,null,null,null,null,0]
[null,null,{"$f":"COUNTIF(M2666,\"*\"&PROFILE!$C$62&\"*\")","v":1},null,null,null,null,null,null,null,null,null,{"$f":"CONCATENATE(\" \",PROFILE!C62,\" Internal Promotions\")","v":"  Internal Promotions"},"",null,null,null,null,null,null,null,null,0]
[null,null,{"$f":"COUNTIF(M2667,\"*\"&PROFILE!$C$63&\"*\")","v":1},null,null,null,null,null,null,null,null,null,{"$f":"CONCATENATE(\" \",PROFILE!C63,\" Internal Promotions\")","v":"  Internal Promotions"},"",null,null,null,null,null,null,null,null,0]
[null,null,{"$f":"COUNTIF(M2668,\"*\"&PROFILE!$C$64&\"*\")","v":1},null,null,null,null,null,null,null,null,null,{"$f":"CONCATENATE(\" \",PROFILE!C64,\" Internal Promotions\")","v":"  Internal Promotions"},"",null,null,null,null,null,null,null,null,0]
[null,null,{"$f":"COUNTIF(M2669,\"*\"&PROFILE!$C$65&\"*\")","v":1},null,null,null,null,null,null,null,null,null,{"$f":"CONCATENATE(\" \",PROFILE!C65,\" Internal Promotions\")","v":"  Internal Promotions"},"",null,null,null,null,null,null,null,null,0]
[null,null,{"$f":"COUNTIF(M2670,\"*\"&PROFILE!$C$66&\"*\")","v":1},null,null,null,null,null,null,null,null,null,{"$f":"CONCATENATE(\" \",PROFILE!C66,\" Internal Promotions\")","v":"  Internal Promotions"},"",null,null,null,null,null,null,null,null,0]
[null,null,{"$f":"COUNTIF(M2671,\"*\"&PROFILE!$C$67&\"*\")","v":1},null,null,null,null,null,null,null,null,null,{"$f":"CONCATENATE(\" \",PROFILE!C67,\" Internal Promotions\")","v":"  Internal Promotions"},"",null,null,null,null,null,null,null,null,0]
[null,null,{"$f":"COUNTIF(M2672,\"*\"&PROFILE!$C$68&\"*\")","v":1},null,null,null,null,null,null,null,null,null,{"$f":"CONCATENATE(\" \",PROFILE!C68,\" Internal Promotions\")","v":"  Internal Promotions"},"",null,null,null,null,null,null,null,null,0]
[null,null,{"$f":"COUNTIF(M2673,\"*\"&PROFILE!$C$69&\"*\")","v":1},null,null,null,null,null,null,null,null,null,{"$f":"CONCATENATE(\" \",PROFILE!C69,\" Internal Promotions\")","v":"  Internal Promotions"},"",null,null,null,null,null,null,null,null,0]
[null,null,{"$f":"COUNTIF(M2674,\"*\"&PROFILE!$C$70&\"*\")","v":1},null,null,null,null,null,null,null,null,null,{"$f":"CONCATENATE(\" \",PROFILE!C70,\" Internal Promotions\")","v":"  Internal Promotions"},"",null,null,null,null,null,null,null,null,0]
[null,null,{"$f":"COUNTIF(M2675,\"*\"&PROFILE!$C$71&\"*\")","v":1},null,null,null,null,null,null,null,null,null,{"$f":"CONCATENATE(\" \",PROFILE!C71,\" Internal Promotions\")","v":"  Internal Promotions"},"",null,null,null,null,null,null,null,null,0]
[null,null,{"$f":"COUNTIF(M2676,\"*\"&PROFILE!$C$72&\"*\")","v":1},null,null,null,null,null,null,null,null,null,{"$f":"CONCATENATE(\" \",PROFILE!C72,\" Internal Promotions\")","v":"  Internal Promotions"},"",null,null,null,null,null,null,null,null,0]
[null,null,null,null,null,null,null,null,null,null,null,null,null,null,null,null,null,null,null,null,null,null,{"$f":"IF(OR($O$42=\"enabled\"),1,0)","v":0}]
[null,null,{"$f":"COUNTIF(M2678,\"*\"&PROFILE!$C$58&\"*\")","v":1},null,null,null,null,null,null,null,null,null,{"$f":"CONCATENATE(\" \",PROFILE!C58,\" Leaders Internal Promotions\")","v":"  Leaders Internal Promotions"},"",null,null,null,null,null,null,null,null,{"$f":"IF(AND($O$42=\"enabled\",$P$42=\"enabled\",C2678=1),1,0)","v":0}]
[null,null,{"$f":"COUNTIF(M2679,\"*\"&PROFILE!$C$59&\"*\")","v":1},null,null,null,null,null,null,null,null,null,{"$f":"CONCATENATE(\" \",PROFILE!C59,\" Leaders Internal Promotions\")","v":"  Leaders Internal Promotions"},"",null,null,null,null,null,null,null,null,{"$f":"IF(AND($O$42=\"enabled\",$P$42=\"enabled\",C2679=1),1,0)","v":0}]
[null,null,{"$f":"COUNTIF(M2680,\"*\"&PROFILE!$C$60&\"*\")","v":1},null,null,null,null,null,null,null,null,null,{"$f":"CONCATENATE(\" \",PROFILE!C60,\" Leaders Internal Promotions\")","v":"  Leaders Internal Promotions"},"",null,null,null,null,null,null,null,null,0]
[null,null,{"$f":"COUNTIF(M2681,\"*\"&PROFILE!$C$61&\"*\")","v":1},null,null,null,null,null,null,null,null,null,{"$f":"CONCATENATE(\" \",PROFILE!C61,\" Leaders Internal Promotions\")","v":"  Leaders Internal Promotions"},"",null,null,null,null,null,null,null,null,0]
[null,null,{"$f":"COUNTIF(M2682,\"*\"&PROFILE!$C$62&\"*\")","v":1},null,null,null,null,null,null,null,null,null,{"$f":"CONCATENATE(\" \",PROFILE!C62,\" Leaders Internal Promotions\")","v":"  Leaders Internal Promotions"},"",null,null,null,null,null,null,null,null,0]
[null,null,{"$f":"COUNTIF(M2683,\"*\"&PROFILE!$C$63&\"*\")","v":1},null,null,null,null,null,null,null,null,null,{"$f":"CONCATENATE(\" \",PROFILE!C63,\" Leaders Internal Promotions\")","v":"  Leaders Internal Promotions"},"",null,null,null,null,null,null,null,null,0]
[null,null,{"$f":"COUNTIF(M2684,\"*\"&PROFILE!$C$64&\"*\")","v":1},null,null,null,null,null,null,null,null,null,{"$f":"CONCATENATE(\" \",PROFILE!C64,\" Leaders Internal Promotions\")","v":"  Leaders Internal Promotions"},"",null,null,null,null,null,null,null,null,0]
[null,null,{"$f":"COUNTIF(M2685,\"*\"&PROFILE!$C$65&\"*\")","v":1},null,null,null,null,null,null,null,null,null,{"$f":"CONCATENATE(\" \",PROFILE!C65,\" Leaders Internal Promotions\")","v":"  Leaders Internal Promotions"},"",null,null,null,null,null,null,null,null,0]
[null,null,{"$f":"COUNTIF(M2686,\"*\"&PROFILE!$C$66&\"*\")","v":1},null,null,null,null,null,null,null,null,null,{"$f":"CONCATENATE(\" \",PROFILE!C66,\" Leaders Internal Promotions\")","v":"  Leaders Internal Promotions"},"",null,null,null,null,null,null,null,null,0]
[null,null,{"$f":"COUNTIF(M2687,\"*\"&PROFILE!$C$67&\"*\")","v":1},null,null,null,null,null,null,null,null,null,{"$f":"CONCATENATE(\" \",PROFILE!C67,\" Leaders Internal Promotions\")","v":"  Leaders Internal Promotions"},"",null,null,null,null,null,null,null,null,0]
[null,null,{"$f":"COUNTIF(M2688,\"*\"&PROFILE!$C$68&\"*\")","v":1},null,null,null,null,null,null,null,null,null,{"$f":"CONCATENATE(\" \",PROFILE!C68,\" Leaders Internal Promotions\")","v":"  Leaders Internal Promotions"},"",null,null,null,null,null,null,null,null,0]
[null,null,{"$f":"COUNTIF(M2689,\"*\"&PROFILE!$C$69&\"*\")","v":1},null,null,null,null,null,null,null,null,null,{"$f":"CONCATENATE(\" \",PROFILE!C69,\" Leaders Internal Promotions\")","v":"  Leaders Internal Promotions"},"",null,null,null,null,null,null,null,null,0]
[null,null,{"$f":"COUNTIF(M2690,\"*\"&PROFILE!$C$70&\"*\")","v":1},null,null,null,null,null,null,null,null,null,{"$f":"CONCATENATE(\" \",PROFILE!C70,\" Leaders Internal Promotions\")","v":"  Leaders Internal Promotions"},"",null,null,null,null,null,null,null,null,0]
[null,null,{"$f":"COUNTIF(M2691,\"*\"&PROFILE!$C$71&\"*\")","v":1},null,null,null,null,null,null,null,null,null,{"$f":"CONCATENATE(\" \",PROFILE!C71,\" Leaders Internal Promotions\")","v":"  Leaders Internal Promotions"},"",null,null,null,null,null,null,null,null,0]
[null,null,{"$f":"COUNTIF(M2692,\"*\"&PROFILE!$C$72&\"*\")","v":1},null,null,null,null,null,null,null,null,null,{"$f":"CONCATENATE(\" \",PROFILE!C72,\" Leaders Internal Promotions\")","v":"  Leaders Internal Promotions"},"",null,null,null,null,null,null,null,null,0]
[null,null,null,null,null,null,null,null,null,null,null,null,null,null,null,null,null,null,null,null,null,null,{"$f":"IF(AND($O$42=\"enabled\",$P$42=\"enabled\"),1,0)","v":0}]
[null,null,{"$f":"COUNTIF(M2694,\"*\"&PROFILE!$C$58&\"*\")","v":1},null,null,null,null,null,null,null,null,null,{"$f":"CONCATENATE(\" \",PROFILE!C58,\" Executives Internal Promotions\")","v":"  Executives Internal Promotions"},"",null,null,null,null,null,null,null,null,{"$f":"IF(AND($O$42=\"enabled\",$Q$42=\"enabled\",C2694=1),1,0)","v":0}]
[null,null,{"$f":"COUNTIF(M2695,\"*\"&PROFILE!$C$59&\"*\")","v":1},null,null,null,null,null,null,null,null,null,{"$f":"CONCATENATE(\" \",PROFILE!C59,\" Executives Internal Promotions\")","v":"  Executives Internal Promotions"},"",null,null,null,null,null,null,null,null,{"$f":"IF(AND($O$42=\"enabled\",$Q$42=\"enabled\",C2695=1),1,0)","v":0}]
[null,null,{"$f":"COUNTIF(M2696,\"*\"&PROFILE!$C$60&\"*\")","v":1},null,null,null,null,null,null,null,null,null,{"$f":"CONCATENATE(\" \",PROFILE!C60,\" Executives Internal Promotions\")","v":"  Executives Internal Promotions"},"",null,null,null,null,null,null,null,null,0]
[null,null,{"$f":"COUNTIF(M2697,\"*\"&PROFILE!$C$61&\"*\")","v":1},null,null,null,null,null,null,null,null,null,{"$f":"CONCATENATE(\" \",PROFILE!C61,\" Executives Internal Promotions\")","v":"  Executives Internal Promotions"},"",null,null,null,null,null,null,null,null,0]
[null,null,{"$f":"COUNTIF(M2698,\"*\"&PROFILE!$C$62&\"*\")","v":1},null,null,null,null,null,null,null,null,null,{"$f":"CONCATENATE(\" \",PROFILE!C62,\" Executives Internal Promotions\")","v":"  Executives Internal Promotions"},"",null,null,null,null,null,null,null,null,0]
[null,null,{"$f":"COUNTIF(M2699,\"*\"&PROFILE!$C$63&\"*\")","v":1},null,null,null,null,null,null,null,null,null,{"$f":"CONCATENATE(\" \",PROFILE!C63,\" Executives Internal Promotions\")","v":"  Executives Internal Promotions"},"",null,null,null,null,null,null,null,null,0]
[null,null,{"$f":"COUNTIF(M2700,\"*\"&PROFILE!$C$64&\"*\")","v":1},null,null,null,null,null,null,null,null,null,{"$f":"CONCATENATE(\" \",PROFILE!C64,\" Executives Internal Promotions\")","v":"  Executives Internal Promotions"},"",null,null,null,null,null,null,null,null,0]
[null,null,{"$f":"COUNTIF(M2701,\"*\"&PROFILE!$C$65&\"*\")","v":1},null,null,null,null,null,null,null,null,null,{"$f":"CONCATENATE(\" \",PROFILE!C65,\" Executives Internal Promotions\")","v":"  Executives Internal Promotions"},"",null,null,null,null,null,null,null,null,0]
[null,null,{"$f":"COUNTIF(M2702,\"*\"&PROFILE!$C$66&\"*\")","v":1},null,null,null,null,null,null,null,null,null,{"$f":"CONCATENATE(\" \",PROFILE!C66,\" Executives Internal Promotions\")","v":"  Executives Internal Promotions"},"",null,null,null,null,null,null,null,null,0]
[null,null,{"$f":"COUNTIF(M2703,\"*\"&PROFILE!$C$67&\"*\")","v":1},null,null,null,null,null,null,null,null,null,{"$f":"CONCATENATE(\" \",PROFILE!C67,\" Executives Internal Promotions\")","v":"  Executives Internal Promotions"},"",null,null,null,null,null,null,null,null,0]
[null,null,{"$f":"COUNTIF(M2704,\"*\"&PROFILE!$C$68&\"*\")","v":1},null,null,null,null,null,null,null,null,null,{"$f":"CONCATENATE(\" \",PROFILE!C68,\" Executives Internal Promotions\")","v":"  Executives Internal Promotions"},"",null,null,null,null,null,null,null,null,0]
[null,null,{"$f":"COUNTIF(M2705,\"*\"&PROFILE!$C$69&\"*\")","v":1},null,null,null,null,null,null,null,null,null,{"$f":"CONCATENATE(\" \",PROFILE!C69,\" Executives Internal Promotions\")","v":"  Executives Internal Promotions"},"",null,null,null,null,null,null,null,null,0]
[null,null,{"$f":"COUNTIF(M2706,\"*\"&PROFILE!$C$70&\"*\")","v":1},null,null,null,null,null,null,null,null,null,{"$f":"CONCATENATE(\" \",PROFILE!C70,\" Executives Internal Promotions\")","v":"  Executives Internal Promotions"},"",null,null,null,null,null,null,null,null,0]
[null,null,{"$f":"COUNTIF(M2707,\"*\"&PROFILE!$C$71&\"*\")","v":1},null,null,null,null,null,null,null,null,null,{"$f":"CONCATENATE(\" \",PROFILE!C71,\" Executives Internal Promotions\")","v":"  Executives Internal Promotions"},"",null,null,null,null,null,null,null,null,0]
[null,null,{"$f":"COUNTIF(M2708,\"*\"&PROFILE!$C$72&\"*\")","v":1},null,null,null,null,null,null,null,null,null,{"$f":"CONCATENATE(\" \",PROFILE!C72,\" Executives Internal Promotions\")","v":"  Executives Internal Promotions"},"",null,null,null,null,null,null,null,null,0]
[null,null,null,null,null,null,null,null,null,null,null,null,null,null,null,null,null,null,null,null,null,null,{"$f":"IF(AND($O$42=\"enabled\",$Q$42=\"enabled\"),1,0)","v":0}]
[null,null,null,null,null,null,null,null,null,null,null,null,null,null,null,"Employees in their First Year Internal Promotions by Sex",null,null,null,null,null,null,{"$f":"IF(OR($O$43=\"enabled\",$P$43=\"enabled\",$Q$43=\"enabled\"),1,0)","v":0}]
[null,null,null,null,null,null,null,null,null,null,null,null,null,{"$f":"'CENTRAL DATA'!$H$12","v":"FY-2"},{"$f":"'CENTRAL DATA'!$H$13","v":"FY-1"},{"$f":"IF(PROFILE!$L$43=\"Fiscal Year WFP\",'CENTRAL DATA'!$H$14,IF(PROFILE!$L$43=\"Snapshot\",CONCATENATE(\"As of \",TEXT(PROFILE!$N$44,\"mm/dd/yy\"),\"\")))","v":false},null,null,null,null,null,null,{"$f":"IF(OR($O$43=\"enabled\",$P$43=\"enabled\",$Q$43=\"enabled\"),1,0)","v":0}]
[null,null,null,null,null,null,null,null,null,null,null,null,null,null,null,null,null,null,null,null,null,null,{"$f":"IF(OR($O$43=\"enabled\",$P$43=\"enabled\",$Q$43=\"enabled\"),1,0)","v":0}]
[null,null,null,null,null,null,null,null,null,null,null,null,"Male Internal Promotions","",null,null,null,null,null,null,null,null,{"$f":"IF(OR($O$43=\"enabled\"),1,0)","v":0}]
[null,null,null,null,null,null,null,null,null,null,null,null,"Female Internal Promotions","",null,null,null,null,null,null,null,null,{"$f":"IF(OR($O$43=\"enabled\"),1,0)","v":0}]
[null,null,null,null,null,null,null,null,null,null,null,null,null,null,null,null,null,null,null,null,null,null,{"$f":"IF(OR($O$43=\"enabled\"),1,0)","v":0}]
[null,null,null,null,null,null,null,null,null,null,null,null,"Male Leader Internal Promotions","",null,null,null,null,null,null,null,null,{"$f":"IF(AND($O$43=\"enabled\",$P$43=\"enabled\"),1,0)","v":0}]
[null,null,null,null,null,null,null,null,null,null,null,null,"Female Leader Internal Promotions","",null,null,null,null,null,null,null,null,{"$f":"IF(AND($O$43=\"enabled\",$P$43=\"enabled\"),1,0)","v":0}]
[null,null,null,null,null,null,null,null,null,null,null,null,null,null,null,null,null,null,null,null,null,null,{"$f":"IF(AND($O$43=\"enabled\",$P$43=\"enabled\"),1,0)","v":0}]
[null,null,null,null,null,null,null,null,null,null,null,null,"Male Executive Internal Promotions","",null,null,null,null,null,null,null,null,{"$f":"IF(AND($O$43=\"enabled\",$Q$43=\"enabled\"),1,0)","v":0}]
[null,null,null,null,null,null,null,null,null,null,null,null,"Female Executive Internal Promotions","",null,null,null,null,null,null,null,null,{"$f":"IF(AND($O$43=\"enabled\",$Q$43=\"enabled\"),1,0)","v":0}]
[null,null,null,null,null,null,null,null,null,null,null,null,null,null,null,null,null,null,null,null,null,null,{"$f":"IF(AND($O$43=\"enabled\",$Q$43=\"enabled\"),1,0)","v":0}]
[null,null,null,null,null,null,null,null,null,null,null,null,null,null,null,"Employees in their First Year Internal Promotions by Race",null,null,null,null,null,null,{"$f":"IF(OR($O$44=\"enabled\",$P$44=\"enabled\",$Q$44=\"enabled\"),1,0)","v":0}]
[null,null,null,null,null,null,null,null,null,null,null,null,null,{"$f":"'CENTRAL DATA'!$H$12","v":"FY-2"},{"$f":"'CENTRAL DATA'!$H$13","v":"FY-1"},{"$f":"IF(PROFILE!$L$43=\"Fiscal Year WFP\",'CENTRAL DATA'!$H$14,IF(PROFILE!$L$43=\"Snapshot\",CONCATENATE(\"As of \",TEXT(PROFILE!$N$44,\"mm/dd/yy\"),\"\")))","v":false},null,null,null,null,null,null,{"$f":"IF(OR($O$44=\"enabled\",$P$44=\"enabled\",$Q$44=\"enabled\"),1,0)","v":0}]
[null,null,null,null,null,null,null,null,null,null,null,null,null,null,null,null,null,null,null,null,null,null,{"$f":"IF(OR($O$44=\"enabled\",$P$44=\"enabled\",$Q$44=\"enabled\"),1,0)","v":0}]
[null,null,null,null,null,null,null,null,null,null,null,null,"Minority Internal Promotions","",null,null,null,null,null,null,null,null,{"$f":"IF(OR($O$44=\"enabled\"),1,0)","v":0}]
[null,null,null,null,null,null,null,null,null,null,null,null,"Non-Minority Internal Promotions","",null,null,null,null,null,null,null,null,0]
[null,null,null,null,null,null,null,null,null,null,null,null,null,null,null,null,null,null,null,null,null,null,0]
[null,null,null,null,null,null,null,null,null,null,null,null,"Minority Leader Internal Promotions","",null,null,null,null,null,null,null,null,{"$f":"IF(AND($O$44=\"enabled\",$P$44=\"enabled\"),1,0)","v":0}]
[null,null,null,null,null,null,null,null,null,null,null,null,"Non-Minority Leader Internal Promotions","",null,null,null,null,null,null,null,null,0]
[null,null,null,null,null,null,null,null,null,null,null,null,null,null,null,null,null,null,null,null,null,null,0]
[null,null,null,null,null,null,null,null,null,null,null,null,"Minority Internal Promotions","",null,null,null,null,null,null,null,null,{"$f":"IF(AND($O$44=\"enabled\",$Q$44=\"enabled\"),1,0)","v":0}]
[null,null,null,null,null,null,null,null,null,null,null,null,"Non-Minority Internal Promotions","",null,null,null,null,null,null,null,null,0]
[null,null,null,null,null,null,null,null,null,null,null,null,null,null,null,null,null,null,null,null,null,null,0]
[null,null,null,null,null,null,null,null,null,null,null,null,null,null,null,"Employees in their First Year Internal Promotions by Other Demographics",null,null,null,null,null,null,{"$f":"IF(OR($O$45=\"enabled\",$P$45=\"enabled\",$Q$45=\"enabled\"),1,0)","v":0}]
[null,null,null,null,null,null,null,null,null,null,null,null,null,{"$f":"'CENTRAL DATA'!$H$12","v":"FY-2"},{"$f":"'CENTRAL DATA'!$H$13","v":"FY-1"},{"$f":"IF(PROFILE!$L$43=\"Fiscal Year WFP\",'CENTRAL DATA'!$H$14,IF(PROFILE!$L$43=\"Snapshot\",CONCATENATE(\"As of \",TEXT(PROFILE!$N$44,\"mm/dd/yy\"),\"\")))","v":false},null,null,null,null,null,null,{"$f":"IF(OR($O$45=\"enabled\",$P$45=\"enabled\",$Q$45=\"enabled\"),1,0)","v":0}]
[null,null,null,null,null,null,null,null,null,null,null,null,null,null,null,null,null,null,null,null,null,null,{"$f":"IF(OR($O$45=\"enabled\",$P$45=\"enabled\",$Q$45=\"enabled\"),1,0)","v":0}]
[null,null,null,null,null,null,null,null,null,null,null,null,"Employees with Disabilities Internal Promotions","",null,null,null,null,null,null,null,null,{"$f":"IF(OR($O$45=\"enabled\"),1,0)","v":0}]
[null,null,null,null,null,null,null,null,null,null,null,null,"Internal Promotions who are Veterans","",null,null,null,null,null,null,null,null,{"$f":"IF(OR($O$45=\"enabled\"),1,0)","v":0}]
[null,null,null,null,null,null,null,null,null,null,null,null,null,null,null,null,null,null,null,null,null,null,{"$f":"IF(OR($O$45=\"enabled\"),1,0)","v":0}]
[null,null,null,null,null,null,null,null,null,null,null,null,"Leaders with Disabilities Internal Promotions","",null,null,null,null,null,null,null,null,{"$f":"IF(AND($O$45=\"enabled\",$P$45=\"enabled\"),1,0)","v":0}]
[null,null,null,null,null,null,null,null,null,null,null,null,"Leaders who are Veterans Internal Promotions","",null,null,null,null,null,null,null,null,{"$f":"IF(AND($O$45=\"enabled\",$P$45=\"enabled\"),1,0)","v":0}]
[null,null,null,null,null,null,null,null,null,null,null,null,null,null,null,null,null,null,null,null,null,null,{"$f":"IF(AND($O$45=\"enabled\",$P$45=\"enabled\"),1,0)","v":0}]
[null,null,null,null,null,null,null,null,null,null,null,null,"Executives with Disabilities Internal Promotions","",null,null,null,null,null,null,null,null,{"$f":"IF(AND($O$45=\"enabled\",$Q$45=\"enabled\"),1,0)","v":0}]
[null,null,null,null,null,null,null,null,null,null,null,null,"Executives who are Veterans Internal Promotions","",null,null,null,null,null,null,null,null,{"$f":"IF(AND($O$45=\"enabled\",$Q$45=\"enabled\"),1,0)","v":0}]
[null,null,null,null,null,null,null,null,null,null,null,null,null,null,null,null,null,null,null,null,null,null,{"$f":"IF(AND($O$45=\"enabled\",$Q$45=\"enabled\"),1,0)","v":0}]
[null,null,null,null,null,null,null,null,null,null,null,null,null,null,null,"Employees in their First Year Internal Transfers by EEO Code",null,null,null,null,null,null,{"$f":"IF(OR($O$49=\"enabled\",$P$49=\"enabled\",$Q$49=\"enabled\"),1,0)","v":0}]
[null,null,null,null,null,null,null,null,null,null,null,null,null,{"$f":"'CENTRAL DATA'!$H$12","v":"FY-2"},{"$f":"'CENTRAL DATA'!$H$13","v":"FY-1"},{"$f":"IF(PROFILE!$L$43=\"Fiscal Year WFP\",'CENTRAL DATA'!$H$14,IF(PROFILE!$L$43=\"Snapshot\",CONCATENATE(\"As of \",TEXT(PROFILE!$N$44,\"mm/dd/yy\"),\"\")))","v":false},null,null,null,null,null,null,{"$f":"IF(OR($O$49=\"enabled\",$P$49=\"enabled\",$Q$49=\"enabled\"),1,0)","v":0}]
[null,null,null,null,null,null,null,null,null,null,null,null,null,null,null,null,null,null,null,null,null,null,{"$f":"IF(OR($O$49=\"enabled\",$P$49=\"enabled\",$Q$49=\"enabled\"),1,0)","v":0}]
[null,null,null,null,null,null,null,null,null,null,null,null,"EEO Code \"Officials and Administrators\" Internal Transfers","",null,null,null,null,null,null,null,null,{"$f":"IF(OR($O$49=\"enabled\"),1,0)","v":0}]
[null,null,null,null,null,null,null,null,null,null,null,null," EEO Code \"Professionals\" Internal Transfers","",null,null,null,null,null,null,null,null,0]
[null,null,null,null,null,null,null,null,null,null,null,null," EEO Code \"Technicians\" Internal Transfers","",null,null,null,null,null,null,null,null,0]
[null,null,null,null,null,null,null,null,null,null,null,null," EEO Code \"Protective Service Workers\" Internal Transfers","",null,null,null,null,null,null,null,null,0]
[null,null,null,null,null,null,null,null,null,null,null,null," EEO Code \"Paraprofessionals\" Internal Transfers","",null,null,null,null,null,null,null,null,0]
[null,null,null,null,null,null,null,null,null,null,null,null," EEO Code \"Administrative Support\" Internal Transfers","",null,null,null,null,null,null,null,null,0]
[null,null,null,null,null,null,null,null,null,null,null,null," EEO Code \"Skilled Craft Workers\" Internal Transfers","",null,null,null,null,null,null,null,null,0]
[null,null,null,null,null,null,null,null,null,null,null,null," EEO Code \"Service/Maintenance\" Internal Transfers","",null,null,null,null,null,null,null,null,0]
[null,null,null,null,null,null,null,null,null,null,null,null," EEO Code \"Faculty\" Internal Transfers","",null,null,null,null,null,null,null,null,0]
[null,null,null,null,null,null,null,null,null,null,null,null," EEO Code \"Other\" Internal Transfers","",null,null,null,null,null,null,null,null,0]
[null,null,null,null,null,null,null,null,null,null,null,null,null,null,null,null,null,null,null,null,null,null,0]
[null,null,null,null,null,null,null,null,null,null,null,null,"EEO Code \"Officials and Administrators\" Leaders Internal Transfers","",null,null,null,null,null,null,null,null,{"$f":"IF(AND($O$49=\"enabled\",$P$49=\"enabled\"),1,0)","v":0}]
[null,null,null,null,null,null,null,null,null,null,null,null," EEO Code \"Professionals\" Leaders  Internal Transfers","",null,null,null,null,null,null,null,null,0]
[null,null,null,null,null,null,null,null,null,null,null,null," EEO Code \"Technicians\" Leaders  Internal Transfers","",null,null,null,null,null,null,null,null,0]
[null,null,null,null,null,null,null,null,null,null,null,null," EEO Code \"Protective Service Workers\" Leaders  Internal Transfers","",null,null,null,null,null,null,null,null,0]
[null,null,null,null,null,null,null,null,null,null,null,null," EEO Code \"Paraprofessionals\" Leaders  Internal Transfers","",null,null,null,null,null,null,null,null,0]
[null,null,null,null,null,null,null,null,null,null,null,null," EEO Code \"Administrative Support\" Leaders  Internal Transfers","",null,null,null,null,null,null,null,null,0]
[null,null,null,null,null,null,null,null,null,null,null,null," EEO Code \"Skilled Craft Workers\" Leaders  Internal Transfers","",null,null,null,null,null,null,null,null,0]
[null,null,null,null,null,null,null,null,null,null,null,null," EEO Code \"Service/Maintenance\" Leaders  Internal Transfers","",null,null,null,null,null,null,null,null,0]
[null,null,null,null,null,null,null,null,null,null,null,null," EEO Code \"Faculty\" Leaders  Internal Transfers","",null,null,null,null,null,null,null,null,0]
[null,null,null,null,null,null,null,null,null,null,null,null," EEO Code \"Other\" Leaders  Internal Transfers","",null,null,null,null,null,null,null,null,0]
[null,null,null,null,null,null,null,null,null,null,null,null,null,null,null,null,null,null,null,null,null,null,0]
[null,null,null,null,null,null,null,null,null,null,null,null,"EEO Code \"Officials and Administrators\" Executives Internal Transfers","",null,null,null,null,null,null,null,null,{"$f":"IF(AND($O$49=\"enabled\",$Q$49=\"enabled\"),1,0)","v":0}]
[null,null,null,null,null,null,null,null,null,null,null,null," EEO Code \"Professionals\" Executives  Internal Transfers","",null,null,null,null,null,null,null,null,0]
[null,null,null,null,null,null,null,null,null,null,null,null," EEO Code \"Technicians\" Executives  Internal Transfers","",null,null,null,null,null,null,null,null,0]
[null,null,null,null,null,null,null,null,null,null,null,null," EEO Code \"Protective Service Workers\" Executives  Internal Transfers","",null,null,null,null,null,null,null,null,0]
[null,null,null,null,null,null,null,null,null,null,null,null," EEO Code \"Paraprofessionals\" Executives  Internal Transfers","",null,null,null,null,null,null,null,null,0]
[null,null,null,null,null,null,null,null,null,null,null,null," EEO Code \"Administrative Support\" Executives  Internal Transfers","",null,null,null,null,null,null,null,null,0]
[null,null,null,null,null,null,null,null,null,null,null,null," EEO Code \"Skilled Craft Workers\" Executives  Internal Transfers","",null,null,null,null,null,null,null,null,0]
[null,null,null,null,null,null,null,null,null,null,null,null," EEO Code \"Service/Maintenance\" Executives  Internal Transfers","",null,null,null,null,null,null,null,null,0]
[null,null,null,null,null,null,null,null,null,null,null,null," EEO Code \"Faculty\" Executives  Internal Transfers","",null,null,null,null,null,null,null,null,0]
[null,null,null,null,null,null,null,null,null,null,null,null," EEO Code \"Other\" Executives  Internal Transfers","",null,null,null,null,null,null,null,null,0]
[null,null,null,null,null,null,null,null,null,null,null,null,null,null,null,null,null,null,null,null,null,null,0]
[null,null,null,null,null,null,null,null,null,null,null,null,null,null,null,"Employees in their First Year Internal Transfers by Classification",null,null,null,null,null,null,{"$f":"IF(OR($O$50=\"enabled\",$P$50=\"enabled\",$Q$50=\"enabled\"),1,0)","v":0}]
[null,null,null,null,null,null,null,null,null,null,null,null,null,{"$f":"'CENTRAL DATA'!$H$12","v":"FY-2"},{"$f":"'CENTRAL DATA'!$H$13","v":"FY-1"},{"$f":"IF(PROFILE!$L$43=\"Fiscal Year WFP\",'CENTRAL DATA'!$H$14,IF(PROFILE!$L$43=\"Snapshot\",CONCATENATE(\"As of \",TEXT(PROFILE!$N$44,\"mm/dd/yy\"),\"\")))","v":false},null,null,null,null,null,null,{"$f":"IF(OR($O$50=\"enabled\",$P$50=\"enabled\",$Q$50=\"enabled\"),1,0)","v":0}]
[null,null,null,null,null,null,null,null,null,null,null,null,null,null,null,null,null,null,null,null,null,null,{"$f":"IF(OR($O$50=\"enabled\",$P$50=\"enabled\",$Q$50=\"enabled\"),1,0)","v":0}]
[null,null,{"$f":"COUNTIF(M2785,\"*\"&PROFILE!$C$58&\"*\")","v":1},null,null,null,null,null,null,null,null,null,{"$f":"CONCATENATE(\" \",PROFILE!C58,\" Internal Transfers\")","v":"  Internal Transfers"},"",null,null,null,null,null,null,null,null,{"$f":"IF(AND(OR($O$50=\"enabled\"),C2785=1),1,0)","v":0}]
[null,null,{"$f":"COUNTIF(M2786,\"*\"&PROFILE!$C$59&\"*\")","v":1},null,null,null,null,null,null,null,null,null,{"$f":"CONCATENATE(\" \",PROFILE!C59,\" Internal Transfers\")","v":"  Internal Transfers"},"",null,null,null,null,null,null,null,null,{"$f":"IF(AND(OR($O$50=\"enabled\"),C2786=1),1,0)","v":0}]
[null,null,{"$f":"COUNTIF(M2787,\"*\"&PROFILE!$C$60&\"*\")","v":1},null,null,null,null,null,null,null,null,null,{"$f":"CONCATENATE(\" \",PROFILE!C60,\" Internal Transfers\")","v":"  Internal Transfers"},"",null,null,null,null,null,null,null,null,0]
[null,null,{"$f":"COUNTIF(M2788,\"*\"&PROFILE!$C$61&\"*\")","v":1},null,null,null,null,null,null,null,null,null,{"$f":"CONCATENATE(\" \",PROFILE!C61,\" Internal Transfers\")","v":"  Internal Transfers"},"",null,null,null,null,null,null,null,null,0]
[null,null,{"$f":"COUNTIF(M2789,\"*\"&PROFILE!$C$62&\"*\")","v":1},null,null,null,null,null,null,null,null,null,{"$f":"CONCATENATE(\" \",PROFILE!C62,\" Internal Transfers\")","v":"  Internal Transfers"},"",null,null,null,null,null,null,null,null,0]
[null,null,{"$f":"COUNTIF(M2790,\"*\"&PROFILE!$C$63&\"*\")","v":1},null,null,null,null,null,null,null,null,null,{"$f":"CONCATENATE(\" \",PROFILE!C63,\" Internal Transfers\")","v":"  Internal Transfers"},"",null,null,null,null,null,null,null,null,0]
[null,null,{"$f":"COUNTIF(M2791,\"*\"&PROFILE!$C$64&\"*\")","v":1},null,null,null,null,null,null,null,null,null,{"$f":"CONCATENATE(\" \",PROFILE!C64,\" Internal Transfers\")","v":"  Internal Transfers"},"",null,null,null,null,null,null,null,null,0]
[null,null,{"$f":"COUNTIF(M2792,\"*\"&PROFILE!$C$65&\"*\")","v":1},null,null,null,null,null,null,null,null,null,{"$f":"CONCATENATE(\" \",PROFILE!C65,\" Internal Transfers\")","v":"  Internal Transfers"},"",null,null,null,null,null,null,null,null,0]
[null,null,{"$f":"COUNTIF(M2793,\"*\"&PROFILE!$C$66&\"*\")","v":1},null,null,null,null,null,null,null,null,null,{"$f":"CONCATENATE(\" \",PROFILE!C66,\" Internal Transfers\")","v":"  Internal Transfers"},"",null,null,null,null,null,null,null,null,0]
[null,null,{"$f":"COUNTIF(M2794,\"*\"&PROFILE!$C$67&\"*\")","v":1},null,null,null,null,null,null,null,null,null,{"$f":"CONCATENATE(\" \",PROFILE!C67,\" Internal Transfers\")","v":"  Internal Transfers"},"",null,null,null,null,null,null,null,null,0]
[null,null,{"$f":"COUNTIF(M2795,\"*\"&PROFILE!$C$68&\"*\")","v":1},null,null,null,null,null,null,null,null,null,{"$f":"CONCATENATE(\" \",PROFILE!C68,\" Internal Transfers\")","v":"  Internal Transfers"},"",null,null,null,null,null,null,null,null,0]
[null,null,{"$f":"COUNTIF(M2796,\"*\"&PROFILE!$C$69&\"*\")","v":1},null,null,null,null,null,null,null,null,null,{"$f":"CONCATENATE(\" \",PROFILE!C69,\" Internal Transfers\")","v":"  Internal Transfers"},"",null,null,null,null,null,null,null,null,0]
[null,null,{"$f":"COUNTIF(M2797,\"*\"&PROFILE!$C$70&\"*\")","v":1},null,null,null,null,null,null,null,null,null,{"$f":"CONCATENATE(\" \",PROFILE!C70,\" Internal Transfers\")","v":"  Internal Transfers"},"",null,null,null,null,null,null,null,null,0]
[null,null,{"$f":"COUNTIF(M2798,\"*\"&PROFILE!$C$71&\"*\")","v":1},null,null,null,null,null,null,null,null,null,{"$f":"CONCATENATE(\" \",PROFILE!C71,\" Internal Transfers\")","v":"  Internal Transfers"},"",null,null,null,null,null,null,null,null,0]
[null,null,{"$f":"COUNTIF(M2799,\"*\"&PROFILE!$C$72&\"*\")","v":1},null,null,null,null,null,null,null,null,null,{"$f":"CONCATENATE(\" \",PROFILE!C72,\" Internal Transfers\")","v":"  Internal Transfers"},"",null,null,null,null,null,null,null,null,0]
[null,null,null,null,null,null,null,null,null,null,null,null,null,null,null,null,null,null,null,null,null,null,{"$f":"IF(OR($O$50=\"enabled\"),1,0)","v":0}]
[null,null,{"$f":"COUNTIF(M2801,\"*\"&PROFILE!$C$58&\"*\")","v":1},null,null,null,null,null,null,null,null,null,{"$f":"CONCATENATE(\" \",PROFILE!C58,\" Leaders Internal Transfers\")","v":"  Leaders Internal Transfers"},"",null,null,null,null,null,null,null,null,{"$f":"IF(AND($O$50=\"enabled\",$P$50=\"enabled\",C2801=1),1,0)","v":0}]
[null,null,{"$f":"COUNTIF(M2802,\"*\"&PROFILE!$C$59&\"*\")","v":1},null,null,null,null,null,null,null,null,null,{"$f":"CONCATENATE(\" \",PROFILE!C59,\" Leaders Internal Transfers\")","v":"  Leaders Internal Transfers"},"",null,null,null,null,null,null,null,null,{"$f":"IF(AND($O$50=\"enabled\",$P$50=\"enabled\",C2802=1),1,0)","v":0}]
[null,null,{"$f":"COUNTIF(M2803,\"*\"&PROFILE!$C$60&\"*\")","v":1},null,null,null,null,null,null,null,null,null,{"$f":"CONCATENATE(\" \",PROFILE!C60,\" Leaders Internal Transfers\")","v":"  Leaders Internal Transfers"},"",null,null,null,null,null,null,null,null,0]
[null,null,{"$f":"COUNTIF(M2804,\"*\"&PROFILE!$C$61&\"*\")","v":1},null,null,null,null,null,null,null,null,null,{"$f":"CONCATENATE(\" \",PROFILE!C61,\" Leaders Internal Transfers\")","v":"  Leaders Internal Transfers"},"",null,null,null,null,null,null,null,null,0]
[null,null,{"$f":"COUNTIF(M2805,\"*\"&PROFILE!$C$62&\"*\")","v":1},null,null,null,null,null,null,null,null,null,{"$f":"CONCATENATE(\" \",PROFILE!C62,\" Leaders Internal Transfers\")","v":"  Leaders Internal Transfers"},"",null,null,null,null,null,null,null,null,0]
[null,null,{"$f":"COUNTIF(M2806,\"*\"&PROFILE!$C$63&\"*\")","v":1},null,null,null,null,null,null,null,null,null,{"$f":"CONCATENATE(\" \",PROFILE!C63,\" Leaders Internal Transfers\")","v":"  Leaders Internal Transfers"},"",null,null,null,null,null,null,null,null,0]
[null,null,{"$f":"COUNTIF(M2807,\"*\"&PROFILE!$C$64&\"*\")","v":1},null,null,null,null,null,null,null,null,null,{"$f":"CONCATENATE(\" \",PROFILE!C64,\" Leaders Internal Transfers\")","v":"  Leaders Internal Transfers"},"",null,null,null,null,null,null,null,null,0]
[null,null,{"$f":"COUNTIF(M2808,\"*\"&PROFILE!$C$65&\"*\")","v":1},null,null,null,null,null,null,null,null,null,{"$f":"CONCATENATE(\" \",PROFILE!C65,\" Leaders Internal Transfers\")","v":"  Leaders Internal Transfers"},"",null,null,null,null,null,null,null,null,0]
[null,null,{"$f":"COUNTIF(M2809,\"*\"&PROFILE!$C$66&\"*\")","v":1},null,null,null,null,null,null,null,null,null,{"$f":"CONCATENATE(\" \",PROFILE!C66,\" Leaders Internal Transfers\")","v":"  Leaders Internal Transfers"},"",null,null,null,null,null,null,null,null,0]
[null,null,{"$f":"COUNTIF(M2810,\"*\"&PROFILE!$C$67&\"*\")","v":1},null,null,null,null,null,null,null,null,null,{"$f":"CONCATENATE(\" \",PROFILE!C67,\" Leaders Internal Transfers\")","v":"  Leaders Internal Transfers"},"",null,null,null,null,null,null,null,null,0]
[null,null,{"$f":"COUNTIF(M2811,\"*\"&PROFILE!$C$68&\"*\")","v":1},null,null,null,null,null,null,null,null,null,{"$f":"CONCATENATE(\" \",PROFILE!C68,\" Leaders Internal Transfers\")","v":"  Leaders Internal Transfers"},"",null,null,null,null,null,null,null,null,0]
[null,null,{"$f":"COUNTIF(M2812,\"*\"&PROFILE!$C$69&\"*\")","v":1},null,null,null,null,null,null,null,null,null,{"$f":"CONCATENATE(\" \",PROFILE!C69,\" Leaders Internal Transfers\")","v":"  Leaders Internal Transfers"},"",null,null,null,null,null,null,null,null,0]
[null,null,{"$f":"COUNTIF(M2813,\"*\"&PROFILE!$C$70&\"*\")","v":1},null,null,null,null,null,null,null,null,null,{"$f":"CONCATENATE(\" \",PROFILE!C70,\" Leaders Internal Transfers\")","v":"  Leaders Internal Transfers"},"",null,null,null,null,null,null,null,null,0]
[null,null,{"$f":"COUNTIF(M2814,\"*\"&PROFILE!$C$71&\"*\")","v":1},null,null,null,null,null,null,null,null,null,{"$f":"CONCATENATE(\" \",PROFILE!C71,\" Leaders Internal Transfers\")","v":"  Leaders Internal Transfers"},"",null,null,null,null,null,null,null,null,0]
[null,null,{"$f":"COUNTIF(M2815,\"*\"&PROFILE!$C$72&\"*\")","v":1},null,null,null,null,null,null,null,null,null,{"$f":"CONCATENATE(\" \",PROFILE!C72,\" Leaders Internal Transfers\")","v":"  Leaders Internal Transfers"},"",null,null,null,null,null,null,null,null,0]
[null,null,null,null,null,null,null,null,null,null,null,null,null,null,null,null,null,null,null,null,null,null,{"$f":"IF(AND($O$50=\"enabled\",$P$50=\"enabled\"),1,0)","v":0}]
[null,null,{"$f":"COUNTIF(M2817,\"*\"&PROFILE!$C$58&\"*\")","v":1},null,null,null,null,null,null,null,null,null,{"$f":"CONCATENATE(\" \",PROFILE!C58,\" Executives Internal Transfers\")","v":"  Executives Internal Transfers"},"",null,null,null,null,null,null,null,null,{"$f":"IF(AND($O$50=\"enabled\",$Q$50=\"enabled\",C2817=1),1,0)","v":0}]
[null,null,{"$f":"COUNTIF(M2818,\"*\"&PROFILE!$C$59&\"*\")","v":1},null,null,null,null,null,null,null,null,null,{"$f":"CONCATENATE(\" \",PROFILE!C59,\" Executives Internal Transfers\")","v":"  Executives Internal Transfers"},"",null,null,null,null,null,null,null,null,{"$f":"IF(AND($O$50=\"enabled\",$Q$50=\"enabled\",C2818=1),1,0)","v":0}]
[null,null,{"$f":"COUNTIF(M2819,\"*\"&PROFILE!$C$60&\"*\")","v":1},null,null,null,null,null,null,null,null,null,{"$f":"CONCATENATE(\" \",PROFILE!C60,\" Executives Internal Transfers\")","v":"  Executives Internal Transfers"},"",null,null,null,null,null,null,null,null,0]
[null,null,{"$f":"COUNTIF(M2820,\"*\"&PROFILE!$C$61&\"*\")","v":1},null,null,null,null,null,null,null,null,null,{"$f":"CONCATENATE(\" \",PROFILE!C61,\" Executives Internal Transfers\")","v":"  Executives Internal Transfers"},"",null,null,null,null,null,null,null,null,0]
[null,null,{"$f":"COUNTIF(M2821,\"*\"&PROFILE!$C$62&\"*\")","v":1},null,null,null,null,null,null,null,null,null,{"$f":"CONCATENATE(\" \",PROFILE!C62,\" Executives Internal Transfers\")","v":"  Executives Internal Transfers"},"",null,null,null,null,null,null,null,null,0]
[null,null,{"$f":"COUNTIF(M2822,\"*\"&PROFILE!$C$63&\"*\")","v":1},null,null,null,null,null,null,null,null,null,{"$f":"CONCATENATE(\" \",PROFILE!C63,\" Executives Internal Transfers\")","v":"  Executives Internal Transfers"},"",null,null,null,null,null,null,null,null,0]
[null,null,{"$f":"COUNTIF(M2823,\"*\"&PROFILE!$C$64&\"*\")","v":1},null,null,null,null,null,null,null,null,null,{"$f":"CONCATENATE(\" \",PROFILE!C64,\" Executives Internal Transfers\")","v":"  Executives Internal Transfers"},"",null,null,null,null,null,null,null,null,0]
[null,null,{"$f":"COUNTIF(M2824,\"*\"&PROFILE!$C$65&\"*\")","v":1},null,null,null,null,null,null,null,null,null,{"$f":"CONCATENATE(\" \",PROFILE!C65,\" Executives Internal Transfers\")","v":"  Executives Internal Transfers"},"",null,null,null,null,null,null,null,null,0]
[null,null,{"$f":"COUNTIF(M2825,\"*\"&PROFILE!$C$66&\"*\")","v":1},null,null,null,null,null,null,null,null,null,{"$f":"CONCATENATE(\" \",PROFILE!C66,\" Executives Internal Transfers\")","v":"  Executives Internal Transfers"},"",null,null,null,null,null,null,null,null,0]
[null,null,{"$f":"COUNTIF(M2826,\"*\"&PROFILE!$C$67&\"*\")","v":1},null,null,null,null,null,null,null,null,null,{"$f":"CONCATENATE(\" \",PROFILE!C67,\" Executives Internal Transfers\")","v":"  Executives Internal Transfers"},"",null,null,null,null,null,null,null,null,0]
[null,null,{"$f":"COUNTIF(M2827,\"*\"&PROFILE!$C$68&\"*\")","v":1},null,null,null,null,null,null,null,null,null,{"$f":"CONCATENATE(\" \",PROFILE!C68,\" Executives Internal Transfers\")","v":"  Executives Internal Transfers"},"",null,null,null,null,null,null,null,null,0]
[null,null,{"$f":"COUNTIF(M2828,\"*\"&PROFILE!$C$69&\"*\")","v":1},null,null,null,null,null,null,null,null,null,{"$f":"CONCATENATE(\" \",PROFILE!C69,\" Executives Internal Transfers\")","v":"  Executives Internal Transfers"},"",null,null,null,null,null,null,null,null,0]
[null,null,{"$f":"COUNTIF(M2829,\"*\"&PROFILE!$C$70&\"*\")","v":1},null,null,null,null,null,null,null,null,null,{"$f":"CONCATENATE(\" \",PROFILE!C70,\" Executives Internal Transfers\")","v":"  Executives Internal Transfers"},"",null,null,null,null,null,null,null,null,0]
[null,null,{"$f":"COUNTIF(M2830,\"*\"&PROFILE!$C$71&\"*\")","v":1},null,null,null,null,null,null,null,null,null,{"$f":"CONCATENATE(\" \",PROFILE!C71,\" Executives Internal Transfers\")","v":"  Executives Internal Transfers"},"",null,null,null,null,null,null,null,null,0]
[null,null,{"$f":"COUNTIF(M2831,\"*\"&PROFILE!$C$72&\"*\")","v":1},null,null,null,null,null,null,null,null,null,{"$f":"CONCATENATE(\" \",PROFILE!C72,\" Executives Internal Transfers\")","v":"  Executives Internal Transfers"},"",null,null,null,null,null,null,null,null,0]
[null,null,null,null,null,null,null,null,null,null,null,null,null,null,null,null,null,null,null,null,null,null,{"$f":"IF(AND($O$50=\"enabled\",$Q$50=\"enabled\"),1,0)","v":0}]
[null,null,null,null,null,null,null,null,null,null,null,null,null,null,null,"Employees in their First Year Internal Transfers by Sex",null,null,null,null,null,null,{"$f":"IF(OR($O$51=\"enabled\",$P$51=\"enabled\",$Q$51=\"enabled\"),1,0)","v":0}]
[null,null,null,null,null,null,null,null,null,null,null,null,null,{"$f":"'CENTRAL DATA'!$H$12","v":"FY-2"},{"$f":"'CENTRAL DATA'!$H$13","v":"FY-1"},{"$f":"IF(PROFILE!$L$43=\"Fiscal Year WFP\",'CENTRAL DATA'!$H$14,IF(PROFILE!$L$43=\"Snapshot\",CONCATENATE(\"As of \",TEXT(PROFILE!$N$44,\"mm/dd/yy\"),\"\")))","v":false},null,null,null,null,null,null,{"$f":"IF(OR($O$51=\"enabled\",$P$51=\"enabled\",$Q$51=\"enabled\"),1,0)","v":0}]
[null,null,null,null,null,null,null,null,null,null,null,null,null,null,null,null,null,null,null,null,null,null,{"$f":"IF(OR($O$51=\"enabled\",$P$51=\"enabled\",$Q$51=\"enabled\"),1,0)","v":0}]
[null,null,null,null,null,null,null,null,null,null,null,null,"Male Internal Transfers","",null,null,null,null,null,null,null,null,{"$f":"IF(OR($O$51=\"enabled\"),1,0)","v":0}]
[null,null,null,null,null,null,null,null,null,null,null,null,"Female Internal Transfers","",null,null,null,null,null,null,null,null,{"$f":"IF(OR($O$51=\"enabled\"),1,0)","v":0}]
[null,null,null,null,null,null,null,null,null,null,null,null,null,null,null,null,null,null,null,null,null,null,{"$f":"IF(OR($O$51=\"enabled\"),1,0)","v":0}]
[null,null,null,null,null,null,null,null,null,null,null,null,"Male Leader Internal Transfers","",null,null,null,null,null,null,null,null,{"$f":"IF(AND($O$51=\"enabled\",$P$51=\"enabled\"),1,0)","v":0}]
[null,null,null,null,null,null,null,null,null,null,null,null,"Female Leader Internal Transfers","",null,null,null,null,null,null,null,null,{"$f":"IF(AND($O$51=\"enabled\",$P$51=\"enabled\"),1,0)","v":0}]
[null,null,null,null,null,null,null,null,null,null,null,null,null,null,null,null,null,null,null,null,null,null,{"$f":"IF(AND($O$51=\"enabled\",$P$51=\"enabled\"),1,0)","v":0}]
[null,null,null,null,null,null,null,null,null,null,null,null,"Male Executive Internal Transfers","",null,null,null,null,null,null,null,null,{"$f":"IF(AND($O$51=\"enabled\",$Q$51=\"enabled\"),1,0)","v":0}]
[null,null,null,null,null,null,null,null,null,null,null,null,"Female Executive Internal Transfers","",null,null,null,null,null,null,null,null,{"$f":"IF(AND($O$51=\"enabled\",$Q$51=\"enabled\"),1,0)","v":0}]
[null,null,null,null,null,null,null,null,null,null,null,null,null,null,null,null,null,null,null,null,null,null,{"$f":"IF(AND($O$51=\"enabled\",$Q$51=\"enabled\"),1,0)","v":0}]
[null,null,null,null,null,null,null,null,null,null,null,null,null,null,null,"Employees in their First Year Internal Transfers by Race",null,null,null,null,null,null,{"$f":"IF(OR($O$52=\"enabled\",$P$52=\"enabled\",$Q$52=\"enabled\"),1,0)","v":0}]
[null,null,null,null,null,null,null,null,null,null,null,null,null,{"$f":"'CENTRAL DATA'!$H$12","v":"FY-2"},{"$f":"'CENTRAL DATA'!$H$13","v":"FY-1"},{"$f":"IF(PROFILE!$L$43=\"Fiscal Year WFP\",'CENTRAL DATA'!$H$14,IF(PROFILE!$L$43=\"Snapshot\",CONCATENATE(\"As of \",TEXT(PROFILE!$N$44,\"mm/dd/yy\"),\"\")))","v":false},null,null,null,null,null,null,{"$f":"IF(OR($O$52=\"enabled\",$P$52=\"enabled\",$Q$52=\"enabled\"),1,0)","v":0}]
[null,null,null,null,null,null,null,null,null,null,null,null,null,null,null,null,null,null,null,null,null,null,{"$f":"IF(OR($O$52=\"enabled\",$P$52=\"enabled\",$Q$52=\"enabled\"),1,0)","v":0}]
[null,null,null,null,null,null,null,null,null,null,null,null,"Minority Internal Transfers","",null,null,null,null,null,null,null,null,{"$f":"IF(OR($O$52=\"enabled\"),1,0)","v":0}]
[null,null,null,null,null,null,null,null,null,null,null,null,"Non-Minority Internal Transfers","",null,null,null,null,null,null,null,null,0]
[null,null,null,null,null,null,null,null,null,null,null,null,null,null,null,null,null,null,null,null,null,null,0]
[null,null,null,null,null,null,null,null,null,null,null,null,"Minority Leader Internal Transfers","",null,null,null,null,null,null,null,null,{"$f":"IF(AND($O$52=\"enabled\",$P$52=\"enabled\"),1,0)","v":0}]
[null,null,null,null,null,null,null,null,null,null,null,null,"Non-Minority Leader Internal Transfers","",null,null,null,null,null,null,null,null,0]
[null,null,null,null,null,null,null,null,null,null,null,null,null,null,null,null,null,null,null,null,null,null,0]
[null,null,null,null,null,null,null,null,null,null,null,null,"Minority Executive Internal Transfers","",null,null,null,null,null,null,null,null,{"$f":"IF(AND($O$52=\"enabled\",$Q$52=\"enabled\"),1,0)","v":0}]
[null,null,null,null,null,null,null,null,null,null,null,null,"Non-Minority Executive Internal Transfers","",null,null,null,null,null,null,null,null,0]
[null,null,null,null,null,null,null,null,null,null,null,null,null,null,null,null,null,null,null,null,null,null,0]
[null,null,null,null,null,null,null,null,null,null,null,null,null,null,null,"Employees in their First Year Internal Transfers by Other Demographics",null,null,null,null,null,null,{"$f":"IF(OR($O$53=\"enabled\",$P$53=\"enabled\",$Q$53=\"enabled\"),1,0)","v":0}]
[null,null,null,null,null,null,null,null,null,null,null,null,null,{"$f":"'CENTRAL DATA'!$H$12","v":"FY-2"},{"$f":"'CENTRAL DATA'!$H$13","v":"FY-1"},{"$f":"IF(PROFILE!$L$43=\"Fiscal Year WFP\",'CENTRAL DATA'!$H$14,IF(PROFILE!$L$43=\"Snapshot\",CONCATENATE(\"As of \",TEXT(PROFILE!$N$44,\"mm/dd/yy\"),\"\")))","v":false},null,null,null,null,null,null,{"$f":"IF(OR($O$53=\"enabled\",$P$53=\"enabled\",$Q$53=\"enabled\"),1,0)","v":0}]
[null,null,null,null,null,null,null,null,null,null,null,null,null,null,null,null,null,null,null,null,null,null,{"$f":"IF(OR($O$53=\"enabled\",$P$53=\"enabled\",$Q$53=\"enabled\"),1,0)","v":0}]
[null,null,null,null,null,null,null,null,null,null,null,null,"Employees with Disabilities Internal Transfers","",null,null,null,null,null,null,null,null,{"$f":"IF(OR($O$53=\"enabled\"),1,0)","v":0}]
[null,null,null,null,null,null,null,null,null,null,null,null,"Internal Transfers who are Veterans","",null,null,null,null,null,null,null,null,{"$f":"IF(OR($O$53=\"enabled\"),1,0)","v":0}]
[null,null,null,null,null,null,null,null,null,null,null,null,null,null,null,null,null,null,null,null,null,null,{"$f":"IF(OR($O$53=\"enabled\"),1,0)","v":0}]
[null,null,null,null,null,null,null,null,null,null,null,null,"Leaders with Disabilities Internal Transfers","",null,null,null,null,null,null,null,null,{"$f":"IF(AND($O$53=\"enabled\",$P$53=\"enabled\"),1,0)","v":0}]
[null,null,null,null,null,null,null,null,null,null,null,null,"Leaders who are Veterans Internal Transfers","",null,null,null,null,null,null,null,null,{"$f":"IF(AND($O$53=\"enabled\",$P$53=\"enabled\"),1,0)","v":0}]
[null,null,null,null,null,null,null,null,null,null,null,null,null,null,null,null,null,null,null,null,null,null,{"$f":"IF(AND($O$53=\"enabled\",$P$53=\"enabled\"),1,0)","v":0}]
[null,null,null,null,null,null,null,null,null,null,null,null,"Executives with Disabilities Internal Transfers","",null,null,null,null,null,null,null,null,{"$f":"IF(AND($O$53=\"enabled\",$Q$53=\"enabled\"),1,0)","v":0}]
[null,null,null,null,null,null,null,null,null,null,null,null,"Executives who are Veterans Internal Transfers","",null,null,null,null,null,null,null,null,{"$f":"IF(AND($O$53=\"enabled\",$Q$53=\"enabled\"),1,0)","v":0}]
[null,null,null,null,null,null,null,null,null,null,null,null,null,null,null,null,null,null,null,null,null,null,{"$f":"IF(AND($O$53=\"enabled\",$Q$53=\"enabled\"),1,0)","v":0}]
[null,null,null,null,null,null,null,null,null,null,null,null,null,null,null,"Employees in their First Year External Transfers by EEO Code",null,null,null,null,null,null,{"$f":"IF(OR($O$57=\"enabled\",$P$57=\"enabled\",$Q$57=\"enabled\"),1,0)","v":0}]
[null,null,null,null,null,null,null,null,null,null,null,null,null,{"$f":"'CENTRAL DATA'!$H$12","v":"FY-2"},{"$f":"'CENTRAL DATA'!$H$13","v":"FY-1"},{"$f":"IF(PROFILE!$L$43=\"Fiscal Year WFP\",'CENTRAL DATA'!$H$14,IF(PROFILE!$L$43=\"Snapshot\",CONCATENATE(\"As of \",TEXT(PROFILE!$N$44,\"mm/dd/yy\"),\"\")))","v":false},null,null,null,null,null,null,{"$f":"IF(OR($O$57=\"enabled\",$P$57=\"enabled\",$Q$57=\"enabled\"),1,0)","v":0}]
[null,null,null,null,null,null,null,null,null,null,null,null,null,null,null,null,null,null,null,null,null,null,{"$f":"IF(OR($O$57=\"enabled\",$P$57=\"enabled\",$Q$57=\"enabled\"),1,0)","v":0}]
[null,null,null,null,null,null,null,null,null,null,null,null,"EEO Code \"Officials and Administrators\" External Transfers","",null,null,null,null,null,null,null,null,{"$f":"IF(OR($O$57=\"enabled\"),1,0)","v":0}]
[null,null,null,null,null,null,null,null,null,null,null,null," EEO Code \"Professionals\" External Transfers","",null,null,null,null,null,null,null,null,0]
[null,null,null,null,null,null,null,null,null,null,null,null," EEO Code \"Technicians\" External Transfers","",null,null,null,null,null,null,null,null,0]
[null,null,null,null,null,null,null,null,null,null,null,null," EEO Code \"Protective Service Workers\" External Transfers","",null,null,null,null,null,null,null,null,0]
[null,null,null,null,null,null,null,null,null,null,null,null," EEO Code \"Paraprofessionals\" External Transfers","",null,null,null,null,null,null,null,null,0]
[null,null,null,null,null,null,null,null,null,null,null,null," EEO Code \"Administrative Support\" External Transfers","",null,null,null,null,null,null,null,null,0]
[null,null,null,null,null,null,null,null,null,null,null,null," EEO Code \"Skilled Craft Workers\" External Transfers","",null,null,null,null,null,null,null,null,0]
[null,null,null,null,null,null,null,null,null,null,null,null," EEO Code \"Service/Maintenance\" External Transfers","",null,null,null,null,null,null,null,null,0]
[null,null,null,null,null,null,null,null,null,null,null,null," EEO Code \"Faculty\" External Transfers","",null,null,null,null,null,null,null,null,0]
[null,null,null,null,null,null,null,null,null,null,null,null," EEO Code \"Other\" External Transfers","",null,null,null,null,null,null,null,null,0]
[null,null,null,null,null,null,null,null,null,null,null,null,null,null,null,null,null,null,null,null,null,null,0]
[null,null,null,null,null,null,null,null,null,null,null,null,"EEO Code \"Officials and Administrators\" Leaders External Transfers","",null,null,null,null,null,null,null,null,{"$f":"IF(AND($O$57=\"enabled\",$P$57=\"enabled\"),1,0)","v":0}]
[null,null,null,null,null,null,null,null,null,null,null,null," EEO Code \"Professionals\" Leaders  External Transfers","",null,null,null,null,null,null,null,null,0]
[null,null,null,null,null,null,null,null,null,null,null,null," EEO Code \"Technicians\" Leaders  External Transfers","",null,null,null,null,null,null,null,null,0]
[null,null,null,null,null,null,null,null,null,null,null,null," EEO Code \"Protective Service Workers\" Leaders  External Transfers","",null,null,null,null,null,null,null,null,0]
[null,null,null,null,null,null,null,null,null,null,null,null," EEO Code \"Paraprofessionals\" Leaders  External Transfers","",null,null,null,null,null,null,null,null,0]
[null,null,null,null,null,null,null,null,null,null,null,null," EEO Code \"Administrative Support\" Leaders  External Transfers","",null,null,null,null,null,null,null,null,0]
[null,null,null,null,null,null,null,null,null,null,null,null," EEO Code \"Skilled Craft Workers\" Leaders  External Transfers","",null,null,null,null,null,null,null,null,0]
[null,null,null,null,null,null,null,null,null,null,null,null," EEO Code \"Service/Maintenance\" Leaders  External Transfers","",null,null,null,null,null,null,null,null,0]
[null,null,null,null,null,null,null,null,null,null,null,null," EEO Code \"Faculty\" Leaders  External Transfers","",null,null,null,null,null,null,null,null,0]
[null,null,null,null,null,null,null,null,null,null,null,null," EEO Code \"Other\" Leaders  External Transfers","",null,null,null,null,null,null,null,null,0]
[null,null,null,null,null,null,null,null,null,null,null,null,null,null,null,null,null,null,null,null,null,null,0]
[null,null,null,null,null,null,null,null,null,null,null,null,"EEO Code \"Officials and Administrators\" Executives External Transfers","",null,null,null,null,null,null,null,null,{"$f":"IF(AND($O$57=\"enabled\",$Q$57=\"enabled\"),1,0)","v":0}]
[null,null,null,null,null,null,null,null,null,null,null,null," EEO Code \"Professionals\" Executives  External Transfers","",null,null,null,null,null,null,null,null,0]
[null,null,null,null,null,null,null,null,null,null,null,null," EEO Code \"Technicians\" Executives  External Transfers","",null,null,null,null,null,null,null,null,0]
[null,null,null,null,null,null,null,null,null,null,null,null," EEO Code \"Protective Service Workers\" Executives  External Transfers","",null,null,null,null,null,null,null,null,0]
[null,null,null,null,null,null,null,null,null,null,null,null," EEO Code \"Paraprofessionals\" Executives  External Transfers","",null,null,null,null,null,null,null,null,0]
[null,null,null,null,null,null,null,null,null,null,null,null," EEO Code \"Administrative Support\" Executives  External Transfers","",null,null,null,null,null,null,null,null,0]
[null,null,null,null,null,null,null,null,null,null,null,null," EEO Code \"Skilled Craft Workers\" Executives  External Transfers","",null,null,null,null,null,null,null,null,0]
[null,null,null,null,null,null,null,null,null,null,null,null," EEO Code \"Service/Maintenance\" Executives  External Transfers","",null,null,null,null,null,null,null,null,0]
[null,null,null,null,null,null,null,null,null,null,null,null," EEO Code \"Faculty\" Executives  External Transfers","",null,null,null,null,null,null,null,null,0]
[null,null,null,null,null,null,null,null,null,null,null,null," EEO Code \"Other\" Executives  External Transfers","",null,null,null,null,null,null,null,null,0]
[null,null,null,null,null,null,null,null,null,null,null,null,null,null,null,null,null,null,null,null,null,null,0]
[null,null,null,null,null,null,null,null,null,null,null,null,null,null,null,"Employees in their First Year External Transfers by Classification",null,null,null,null,null,null,{"$f":"IF(OR($O$58=\"enabled\",$P$58=\"enabled\",$Q$58=\"enabled\"),1,0)","v":0}]
[null,null,null,null,null,null,null,null,null,null,null,null,null,{"$f":"'CENTRAL DATA'!$H$12","v":"FY-2"},{"$f":"'CENTRAL DATA'!$H$13","v":"FY-1"},{"$f":"IF(PROFILE!$L$43=\"Fiscal Year WFP\",'CENTRAL DATA'!$H$14,IF(PROFILE!$L$43=\"Snapshot\",CONCATENATE(\"As of \",TEXT(PROFILE!$N$44,\"mm/dd/yy\"),\"\")))","v":false},null,null,null,null,null,null,{"$f":"IF(OR($O$58=\"enabled\",$P$58=\"enabled\",$Q$58=\"enabled\"),1,0)","v":0}]
[null,null,null,null,null,null,null,null,null,null,null,null,null,null,null,null,null,null,null,null,null,null,{"$f":"IF(OR($O$58=\"enabled\",$P$58=\"enabled\",$Q$58=\"enabled\"),1,0)","v":0}]
[null,null,{"$f":"COUNTIF(M2908,\"*\"&PROFILE!$C$58&\"*\")","v":1},null,null,null,null,null,null,null,null,null,{"$f":"CONCATENATE(\" \",PROFILE!C58,\" External Transfers\")","v":"  External Transfers"},"",null,null,null,null,null,null,null,null,{"$f":"IF(AND(OR($O$58=\"enabled\"),C2908=1),1,0)","v":0}]
[null,null,{"$f":"COUNTIF(M2909,\"*\"&PROFILE!$C$59&\"*\")","v":1},null,null,null,null,null,null,null,null,null,{"$f":"CONCATENATE(\" \",PROFILE!C59,\" External Transfers\")","v":"  External Transfers"},"",null,null,null,null,null,null,null,null,{"$f":"IF(AND(OR($O$58=\"enabled\"),C2909=1),1,0)","v":0}]
[null,null,{"$f":"COUNTIF(M2910,\"*\"&PROFILE!$C$60&\"*\")","v":1},null,null,null,null,null,null,null,null,null,{"$f":"CONCATENATE(\" \",PROFILE!C60,\" External Transfers\")","v":"  External Transfers"},"",null,null,null,null,null,null,null,null,0]
[null,null,{"$f":"COUNTIF(M2911,\"*\"&PROFILE!$C$61&\"*\")","v":1},null,null,null,null,null,null,null,null,null,{"$f":"CONCATENATE(\" \",PROFILE!C61,\" External Transfers\")","v":"  External Transfers"},"",null,null,null,null,null,null,null,null,0]
[null,null,{"$f":"COUNTIF(M2912,\"*\"&PROFILE!$C$62&\"*\")","v":1},null,null,null,null,null,null,null,null,null,{"$f":"CONCATENATE(\" \",PROFILE!C62,\" External Transfers\")","v":"  External Transfers"},"",null,null,null,null,null,null,null,null,0]
[null,null,{"$f":"COUNTIF(M2913,\"*\"&PROFILE!$C$63&\"*\")","v":1},null,null,null,null,null,null,null,null,null,{"$f":"CONCATENATE(\" \",PROFILE!C63,\" External Transfers\")","v":"  External Transfers"},"",null,null,null,null,null,null,null,null,0]
[null,null,{"$f":"COUNTIF(M2914,\"*\"&PROFILE!$C$64&\"*\")","v":1},null,null,null,null,null,null,null,null,null,{"$f":"CONCATENATE(\" \",PROFILE!C64,\" External Transfers\")","v":"  External Transfers"},"",null,null,null,null,null,null,null,null,0]
[null,null,{"$f":"COUNTIF(M2915,\"*\"&PROFILE!$C$65&\"*\")","v":1},null,null,null,null,null,null,null,null,null,{"$f":"CONCATENATE(\" \",PROFILE!C65,\" External Transfers\")","v":"  External Transfers"},"",null,null,null,null,null,null,null,null,0]
[null,null,{"$f":"COUNTIF(M2916,\"*\"&PROFILE!$C$66&\"*\")","v":1},null,null,null,null,null,null,null,null,null,{"$f":"CONCATENATE(\" \",PROFILE!C66,\" External Transfers\")","v":"  External Transfers"},"",null,null,null,null,null,null,null,null,0]
[null,null,{"$f":"COUNTIF(M2917,\"*\"&PROFILE!$C$67&\"*\")","v":1},null,null,null,null,null,null,null,null,null,{"$f":"CONCATENATE(\" \",PROFILE!C67,\" External Transfers\")","v":"  External Transfers"},"",null,null,null,null,null,null,null,null,0]
[null,null,{"$f":"COUNTIF(M2918,\"*\"&PROFILE!$C$68&\"*\")","v":1},null,null,null,null,null,null,null,null,null,{"$f":"CONCATENATE(\" \",PROFILE!C68,\" External Transfers\")","v":"  External Transfers"},"",null,null,null,null,null,null,null,null,0]
[null,null,{"$f":"COUNTIF(M2919,\"*\"&PROFILE!$C$69&\"*\")","v":1},null,null,null,null,null,null,null,null,null,{"$f":"CONCATENATE(\" \",PROFILE!C69,\" External Transfers\")","v":"  External Transfers"},"",null,null,null,null,null,null,null,null,0]
[null,null,{"$f":"COUNTIF(M2920,\"*\"&PROFILE!$C$70&\"*\")","v":1},null,null,null,null,null,null,null,null,null,{"$f":"CONCATENATE(\" \",PROFILE!C70,\" External Transfers\")","v":"  External Transfers"},"",null,null,null,null,null,null,null,null,0]
[null,null,{"$f":"COUNTIF(M2921,\"*\"&PROFILE!$C$71&\"*\")","v":1},null,null,null,null,null,null,null,null,null,{"$f":"CONCATENATE(\" \",PROFILE!C71,\" External Transfers\")","v":"  External Transfers"},"",null,null,null,null,null,null,null,null,0]
[null,null,{"$f":"COUNTIF(M2922,\"*\"&PROFILE!$C$72&\"*\")","v":1},null,null,null,null,null,null,null,null,null,{"$f":"CONCATENATE(\" \",PROFILE!C72,\" External Transfers\")","v":"  External Transfers"},"",null,null,null,null,null,null,null,null,0]
[null,null,null,null,null,null,null,null,null,null,null,null,null,null,null,null,null,null,null,null,null,null,{"$f":"IF(OR($O$58=\"enabled\"),1,0)","v":0}]
[null,null,{"$f":"COUNTIF(M2924,\"*\"&PROFILE!$C$58&\"*\")","v":1},null,null,null,null,null,null,null,null,null,{"$f":"CONCATENATE(\" \",PROFILE!C58,\" Leaders External Transfers\")","v":"  Leaders External Transfers"},"",null,null,null,null,null,null,null,null,{"$f":"IF(AND($O$58=\"enabled\",$P$58=\"enabled\",C2924=1),1,0)","v":0}]
[null,null,{"$f":"COUNTIF(M2925,\"*\"&PROFILE!$C$59&\"*\")","v":1},null,null,null,null,null,null,null,null,null,{"$f":"CONCATENATE(\" \",PROFILE!C59,\" Leaders External Transfers\")","v":"  Leaders External Transfers"},"",null,null,null,null,null,null,null,null,{"$f":"IF(AND($O$58=\"enabled\",$P$58=\"enabled\",C2925=1),1,0)","v":0}]
[null,null,{"$f":"COUNTIF(M2926,\"*\"&PROFILE!$C$60&\"*\")","v":1},null,null,null,null,null,null,null,null,null,{"$f":"CONCATENATE(\" \",PROFILE!C60,\" Leaders External Transfers\")","v":"  Leaders External Transfers"},"",null,null,null,null,null,null,null,null,0]
[null,null,{"$f":"COUNTIF(M2927,\"*\"&PROFILE!$C$61&\"*\")","v":1},null,null,null,null,null,null,null,null,null,{"$f":"CONCATENATE(\" \",PROFILE!C61,\" Leaders External Transfers\")","v":"  Leaders External Transfers"},"",null,null,null,null,null,null,null,null,0]
[null,null,{"$f":"COUNTIF(M2928,\"*\"&PROFILE!$C$62&\"*\")","v":1},null,null,null,null,null,null,null,null,null,{"$f":"CONCATENATE(\" \",PROFILE!C62,\" Leaders External Transfers\")","v":"  Leaders External Transfers"},"",null,null,null,null,null,null,null,null,0]
[null,null,{"$f":"COUNTIF(M2929,\"*\"&PROFILE!$C$63&\"*\")","v":1},null,null,null,null,null,null,null,null,null,{"$f":"CONCATENATE(\" \",PROFILE!C63,\" Leaders External Transfers\")","v":"  Leaders External Transfers"},"",null,null,null,null,null,null,null,null,0]
[null,null,{"$f":"COUNTIF(M2930,\"*\"&PROFILE!$C$64&\"*\")","v":1},null,null,null,null,null,null,null,null,null,{"$f":"CONCATENATE(\" \",PROFILE!C64,\" Leaders External Transfers\")","v":"  Leaders External Transfers"},"",null,null,null,null,null,null,null,null,0]
[null,null,{"$f":"COUNTIF(M2931,\"*\"&PROFILE!$C$65&\"*\")","v":1},null,null,null,null,null,null,null,null,null,{"$f":"CONCATENATE(\" \",PROFILE!C65,\" Leaders External Transfers\")","v":"  Leaders External Transfers"},"",null,null,null,null,null,null,null,null,0]
[null,null,{"$f":"COUNTIF(M2932,\"*\"&PROFILE!$C$66&\"*\")","v":1},null,null,null,null,null,null,null,null,null,{"$f":"CONCATENATE(\" \",PROFILE!C66,\" Leaders External Transfers\")","v":"  Leaders External Transfers"},"",null,null,null,null,null,null,null,null,0]
[null,null,{"$f":"COUNTIF(M2933,\"*\"&PROFILE!$C$67&\"*\")","v":1},null,null,null,null,null,null,null,null,null,{"$f":"CONCATENATE(\" \",PROFILE!C67,\" Leaders External Transfers\")","v":"  Leaders External Transfers"},"",null,null,null,null,null,null,null,null,0]
[null,null,{"$f":"COUNTIF(M2934,\"*\"&PROFILE!$C$68&\"*\")","v":1},null,null,null,null,null,null,null,null,null,{"$f":"CONCATENATE(\" \",PROFILE!C68,\" Leaders External Transfers\")","v":"  Leaders External Transfers"},"",null,null,null,null,null,null,null,null,0]
[null,null,{"$f":"COUNTIF(M2935,\"*\"&PROFILE!$C$69&\"*\")","v":1},null,null,null,null,null,null,null,null,null,{"$f":"CONCATENATE(\" \",PROFILE!C69,\" Leaders External Transfers\")","v":"  Leaders External Transfers"},"",null,null,null,null,null,null,null,null,0]
[null,null,{"$f":"COUNTIF(M2936,\"*\"&PROFILE!$C$70&\"*\")","v":1},null,null,null,null,null,null,null,null,null,{"$f":"CONCATENATE(\" \",PROFILE!C70,\" Leaders External Transfers\")","v":"  Leaders External Transfers"},"",null,null,null,null,null,null,null,null,0]
[null,null,{"$f":"COUNTIF(M2937,\"*\"&PROFILE!$C$71&\"*\")","v":1},null,null,null,null,null,null,null,null,null,{"$f":"CONCATENATE(\" \",PROFILE!C71,\" Leaders External Transfers\")","v":"  Leaders External Transfers"},"",null,null,null,null,null,null,null,null,0]
[null,null,{"$f":"COUNTIF(M2938,\"*\"&PROFILE!$C$72&\"*\")","v":1},null,null,null,null,null,null,null,null,null,{"$f":"CONCATENATE(\" \",PROFILE!C72,\" Leaders External Transfers\")","v":"  Leaders External Transfers"},"",null,null,null,null,null,null,null,null,0]
[null,null,null,null,null,null,null,null,null,null,null,null,null,null,null,null,null,null,null,null,null,null,{"$f":"IF(AND($O$58=\"enabled\",$P$58=\"enabled\"),1,0)","v":0}]
[null,null,{"$f":"COUNTIF(M2940,\"*\"&PROFILE!$C$58&\"*\")","v":1},null,null,null,null,null,null,null,null,null,{"$f":"CONCATENATE(\" \",PROFILE!C58,\" Executives External Transfers\")","v":"  Executives External Transfers"},"",null,null,null,null,null,null,null,null,{"$f":"IF(AND($O$58=\"enabled\",$Q$58=\"enabled\",C2940=1),1,0)","v":0}]
[null,null,{"$f":"COUNTIF(M2941,\"*\"&PROFILE!$C$59&\"*\")","v":1},null,null,null,null,null,null,null,null,null,{"$f":"CONCATENATE(\" \",PROFILE!C59,\" Executives External Transfers\")","v":"  Executives External Transfers"},"",null,null,null,null,null,null,null,null,{"$f":"IF(AND($O$58=\"enabled\",$Q$58=\"enabled\",C2941=1),1,0)","v":0}]
[null,null,{"$f":"COUNTIF(M2942,\"*\"&PROFILE!$C$60&\"*\")","v":1},null,null,null,null,null,null,null,null,null,{"$f":"CONCATENATE(\" \",PROFILE!C60,\" Executives External Transfers\")","v":"  Executives External Transfers"},"",null,null,null,null,null,null,null,null,0]
[null,null,{"$f":"COUNTIF(M2943,\"*\"&PROFILE!$C$61&\"*\")","v":1},null,null,null,null,null,null,null,null,null,{"$f":"CONCATENATE(\" \",PROFILE!C61,\" Executives External Transfers\")","v":"  Executives External Transfers"},"",null,null,null,null,null,null,null,null,0]
[null,null,{"$f":"COUNTIF(M2944,\"*\"&PROFILE!$C$62&\"*\")","v":1},null,null,null,null,null,null,null,null,null,{"$f":"CONCATENATE(\" \",PROFILE!C62,\" Executives External Transfers\")","v":"  Executives External Transfers"},"",null,null,null,null,null,null,null,null,0]
[null,null,{"$f":"COUNTIF(M2945,\"*\"&PROFILE!$C$63&\"*\")","v":1},null,null,null,null,null,null,null,null,null,{"$f":"CONCATENATE(\" \",PROFILE!C63,\" Executives External Transfers\")","v":"  Executives External Transfers"},"",null,null,null,null,null,null,null,null,0]
[null,null,{"$f":"COUNTIF(M2946,\"*\"&PROFILE!$C$64&\"*\")","v":1},null,null,null,null,null,null,null,null,null,{"$f":"CONCATENATE(\" \",PROFILE!C64,\" Executives External Transfers\")","v":"  Executives External Transfers"},"",null,null,null,null,null,null,null,null,0]
[null,null,{"$f":"COUNTIF(M2947,\"*\"&PROFILE!$C$65&\"*\")","v":1},null,null,null,null,null,null,null,null,null,{"$f":"CONCATENATE(\" \",PROFILE!C65,\" Executives External Transfers\")","v":"  Executives External Transfers"},"",null,null,null,null,null,null,null,null,0]
[null,null,{"$f":"COUNTIF(M2948,\"*\"&PROFILE!$C$66&\"*\")","v":1},null,null,null,null,null,null,null,null,null,{"$f":"CONCATENATE(\" \",PROFILE!C66,\" Executives External Transfers\")","v":"  Executives External Transfers"},"",null,null,null,null,null,null,null,null,0]
[null,null,{"$f":"COUNTIF(M2949,\"*\"&PROFILE!$C$67&\"*\")","v":1},null,null,null,null,null,null,null,null,null,{"$f":"CONCATENATE(\" \",PROFILE!C67,\" Executives External Transfers\")","v":"  Executives External Transfers"},"",null,null,null,null,null,null,null,null,0]
[null,null,{"$f":"COUNTIF(M2950,\"*\"&PROFILE!$C$68&\"*\")","v":1},null,null,null,null,null,null,null,null,null,{"$f":"CONCATENATE(\" \",PROFILE!C68,\" Executives External Transfers\")","v":"  Executives External Transfers"},"",null,null,null,null,null,null,null,null,0]
[null,null,{"$f":"COUNTIF(M2951,\"*\"&PROFILE!$C$69&\"*\")","v":1},null,null,null,null,null,null,null,null,null,{"$f":"CONCATENATE(\" \",PROFILE!C69,\" Executives External Transfers\")","v":"  Executives External Transfers"},"",null,null,null,null,null,null,null,null,0]
[null,null,{"$f":"COUNTIF(M2952,\"*\"&PROFILE!$C$70&\"*\")","v":1},null,null,null,null,null,null,null,null,null,{"$f":"CONCATENATE(\" \",PROFILE!C70,\" Executives External Transfers\")","v":"  Executives External Transfers"},"",null,null,null,null,null,null,null,null,0]
[null,null,{"$f":"COUNTIF(M2953,\"*\"&PROFILE!$C$71&\"*\")","v":1},null,null,null,null,null,null,null,null,null,{"$f":"CONCATENATE(\" \",PROFILE!C71,\" Executives External Transfers\")","v":"  Executives External Transfers"},"",null,null,null,null,null,null,null,null,0]
[null,null,{"$f":"COUNTIF(M2954,\"*\"&PROFILE!$C$72&\"*\")","v":1},null,null,null,null,null,null,null,null,null,{"$f":"CONCATENATE(\" \",PROFILE!C72,\" Executives External Transfers\")","v":"  Executives External Transfers"},"",null,null,null,null,null,null,null,null,0]
[null,null,null,null,null,null,null,null,null,null,null,null,null,null,null,null,null,null,null,null,null,null,{"$f":"IF(AND($O$58=\"enabled\",$Q$58=\"enabled\"),1,0)","v":0}]
[null,null,null,null,null,null,null,null,null,null,null,null,null,null,null,"Employees in their First Year External Transfers by Sex",null,null,null,null,null,null,{"$f":"IF(OR($O$59=\"enabled\",$P$59=\"enabled\",$Q$59=\"enabled\"),1,0)","v":0}]
[null,null,null,null,null,null,null,null,null,null,null,null,null,{"$f":"'CENTRAL DATA'!$H$12","v":"FY-2"},{"$f":"'CENTRAL DATA'!$H$13","v":"FY-1"},{"$f":"IF(PROFILE!$L$43=\"Fiscal Year WFP\",'CENTRAL DATA'!$H$14,IF(PROFILE!$L$43=\"Snapshot\",CONCATENATE(\"As of \",TEXT(PROFILE!$N$44,\"mm/dd/yy\"),\"\")))","v":false},null,null,null,null,null,null,{"$f":"IF(OR($O$59=\"enabled\",$P$59=\"enabled\",$Q$59=\"enabled\"),1,0)","v":0}]
[null,null,null,null,null,null,null,null,null,null,null,null,null,null,null,null,null,null,null,null,null,null,{"$f":"IF(OR($O$59=\"enabled\",$P$59=\"enabled\",$Q$59=\"enabled\"),1,0)","v":0}]
[null,null,null,null,null,null,null,null,null,null,null,null,"Male External Transfers","",null,null,null,null,null,null,null,null,{"$f":"IF(OR($O$59=\"enabled\"),1,0)","v":0}]
[null,null,null,null,null,null,null,null,null,null,null,null,"Female External Transfers","",null,null,null,null,null,null,null,null,{"$f":"IF(OR($O$59=\"enabled\"),1,0)","v":0}]
[null,null,null,null,null,null,null,null,null,null,null,null,null,null,null,null,null,null,null,null,null,null,{"$f":"IF(OR($O$59=\"enabled\"),1,0)","v":0}]
[null,null,null,null,null,null,null,null,null,null,null,null,"Male Leader External Transfers","",null,null,null,null,null,null,null,null,{"$f":"IF(AND($O$59=\"enabled\",$P$59=\"enabled\"),1,0)","v":0}]
[null,null,null,null,null,null,null,null,null,null,null,null,"Female Leader External Transfers","",null,null,null,null,null,null,null,null,{"$f":"IF(AND($O$59=\"enabled\",$P$59=\"enabled\"),1,0)","v":0}]
[null,null,null,null,null,null,null,null,null,null,null,null,null,null,null,null,null,null,null,null,null,null,{"$f":"IF(AND($O$59=\"enabled\",$P$59=\"enabled\"),1,0)","v":0}]
[null,null,null,null,null,null,null,null,null,null,null,null,"Male Executive External Transfers","",null,null,null,null,null,null,null,null,{"$f":"IF(AND($O$59=\"enabled\",$Q$59=\"enabled\"),1,0)","v":0}]
[null,null,null,null,null,null,null,null,null,null,null,null,"Female Executive External Transfers","",null,null,null,null,null,null,null,null,{"$f":"IF(AND($O$59=\"enabled\",$Q$59=\"enabled\"),1,0)","v":0}]
[null,null,null,null,null,null,null,null,null,null,null,null,null,null,null,null,null,null,null,null,null,null,{"$f":"IF(AND($O$59=\"enabled\",$Q$59=\"enabled\"),1,0)","v":0}]
[null,null,null,null,null,null,null,null,null,null,null,null,null,null,null,"Employees in their First Year External Transfers by Race",null,null,null,null,null,null,{"$f":"IF(OR($O$60=\"enabled\",$P$60=\"enabled\",$Q$60=\"enabled\"),1,0)","v":0}]
[null,null,null,null,null,null,null,null,null,null,null,null,null,{"$f":"'CENTRAL DATA'!$H$12","v":"FY-2"},{"$f":"'CENTRAL DATA'!$H$13","v":"FY-1"},{"$f":"IF(PROFILE!$L$43=\"Fiscal Year WFP\",'CENTRAL DATA'!$H$14,IF(PROFILE!$L$43=\"Snapshot\",CONCATENATE(\"As of \",TEXT(PROFILE!$N$44,\"mm/dd/yy\"),\"\")))","v":false},null,null,null,null,null,null,{"$f":"IF(OR($O$60=\"enabled\",$P$60=\"enabled\",$Q$60=\"enabled\"),1,0)","v":0}]
[null,null,null,null,null,null,null,null,null,null,null,null,null,null,null,null,null,null,null,null,null,null,{"$f":"IF(OR($O$60=\"enabled\",$P$60=\"enabled\",$Q$60=\"enabled\"),1,0)","v":0}]
[null,null,null,null,null,null,null,null,null,null,null,null,"Minority External Transfers","",null,null,null,null,null,null,null,null,{"$f":"IF(OR($O$60=\"enabled\"),1,0)","v":0}]
[null,null,null,null,null,null,null,null,null,null,null,null,"Non-Minority External Transfers","",null,null,null,null,null,null,null,null,0]
[null,null,null,null,null,null,null,null,null,null,null,null,null,null,null,null,null,null,null,null,null,null,0]
[null,null,null,null,null,null,null,null,null,null,null,null,"Minority Leader External Transfers","",null,null,null,null,null,null,null,null,{"$f":"IF(AND($O$60=\"enabled\",$P$60=\"enabled\"),1,0)","v":0}]
[null,null,null,null,null,null,null,null,null,null,null,null,"Non-Minority Leader External Transfers","",null,null,null,null,null,null,null,null,0]
[null,null,null,null,null,null,null,null,null,null,null,null,null,null,null,null,null,null,null,null,null,null,0]
[null,null,null,null,null,null,null,null,null,null,null,null,"Minority Executive External Transfers","",null,null,null,null,null,null,null,null,{"$f":"IF(AND($O$60=\"enabled\",$Q$60=\"enabled\"),1,0)","v":0}]
[null,null,null,null,null,null,null,null,null,null,null,null,"Non-Minority Executive External Transfers","",null,null,null,null,null,null,null,null,0]
[null,null,null,null,null,null,null,null,null,null,null,null,null,null,null,null,null,null,null,null,null,null,0]
[null,null,null,null,null,null,null,null,null,null,null,null,null,null,null,"Employees in their First Year External Transfers by Other Demographics",null,null,null,null,null,null,{"$f":"IF(OR($O$61=\"enabled\",$P$61=\"enabled\",$Q$61=\"enabled\"),1,0)","v":0}]
[null,null,null,null,null,null,null,null,null,null,null,null,null,{"$f":"'CENTRAL DATA'!$H$12","v":"FY-2"},{"$f":"'CENTRAL DATA'!$H$13","v":"FY-1"},{"$f":"IF(PROFILE!$L$43=\"Fiscal Year WFP\",'CENTRAL DATA'!$H$14,IF(PROFILE!$L$43=\"Snapshot\",CONCATENATE(\"As of \",TEXT(PROFILE!$N$44,\"mm/dd/yy\"),\"\")))","v":false},null,null,null,null,null,null,{"$f":"IF(OR($O$61=\"enabled\",$P$61=\"enabled\",$Q$61=\"enabled\"),1,0)","v":0}]
[null,null,null,null,null,null,null,null,null,null,null,null,null,null,null,null,null,null,null,null,null,null,{"$f":"IF(OR($O$61=\"enabled\",$P$61=\"enabled\",$Q$61=\"enabled\"),1,0)","v":0}]
[null,null,null,null,null,null,null,null,null,null,null,null,"Employees with Disabilities External Transfers","",null,null,null,null,null,null,null,null,{"$f":"IF(OR($O$61=\"enabled\"),1,0)","v":0}]
[null,null,null,null,null,null,null,null,null,null,null,null,"External Transfers who are Veterans","",null,null,null,null,null,null,null,null,{"$f":"IF(OR($O$61=\"enabled\"),1,0)","v":0}]
[null,null,null,null,null,null,null,null,null,null,null,null,null,null,null,null,null,null,null,null,null,null,{"$f":"IF(OR($O$61=\"enabled\"),1,0)","v":0}]
[null,null,null,null,null,null,null,null,null,null,null,null,"Leaders with Disabilities External Transfers","",null,null,null,null,null,null,null,null,{"$f":"IF(AND($O$61=\"enabled\",$P$61=\"enabled\"),1,0)","v":0}]
[null,null,null,null,null,null,null,null,null,null,null,null,"Leaders who are Veterans External Transfers","",null,null,null,null,null,null,null,null,{"$f":"IF(AND($O$61=\"enabled\",$P$61=\"enabled\"),1,0)","v":0}]
[null,null,null,null,null,null,null,null,null,null,null,null,null,null,null,null,null,null,null,null,null,null,{"$f":"IF(AND($O$61=\"enabled\",$P$61=\"enabled\"),1,0)","v":0}]
[null,null,null,null,null,null,null,null,null,null,null,null,"Executives with Disabilities External Transfers","",null,null,null,null,null,null,null,null,{"$f":"IF(AND($O$61=\"enabled\",$Q$61=\"enabled\"),1,0)","v":0}]
[null,null,null,null,null,null,null,null,null,null,null,null,"Executives who are Veterans External Transfers","",null,null,null,null,null,null,null,null,{"$f":"IF(AND($O$61=\"enabled\",$Q$61=\"enabled\"),1,0)","v":0}]
[null,null,null,null,null,null,null,null,null,null,null,null,null,null,null,null,null,null,null,null,null,null,{"$f":"IF(AND($O$61=\"enabled\",$Q$61=\"enabled\"),1,0)","v":0}]
[null,null,null,null,null,null,null,null,null,null,null,null,null,null,null,"Employees in their First Year Voluntary Separations by EEO Code",null,null,null,null,null,null,{"$f":"IF(OR($O$65=\"enabled\",$P$65=\"enabled\",$Q$65=\"enabled\"),1,0)","v":0}]
[null,null,null,null,null,null,null,null,null,null,null,null,null,{"$f":"'CENTRAL DATA'!$H$12","v":"FY-2"},{"$f":"'CENTRAL DATA'!$H$13","v":"FY-1"},{"$f":"IF(PROFILE!$L$43=\"Fiscal Year WFP\",'CENTRAL DATA'!$H$14,IF(PROFILE!$L$43=\"Snapshot\",CONCATENATE(\"As of \",TEXT(PROFILE!$N$44,\"mm/dd/yy\"),\"\")))","v":false},null,null,null,null,null,null,{"$f":"IF(OR($O$65=\"enabled\",$P$65=\"enabled\",$Q$65=\"enabled\"),1,0)","v":0}]
[null,null,null,null,null,null,null,null,null,null,null,null,null,null,null,null,null,null,null,null,null,null,{"$f":"IF(OR($O$65=\"enabled\",$P$65=\"enabled\",$Q$65=\"enabled\"),1,0)","v":0}]
[null,null,null,null,null,null,null,null,null,null,null,null,"EEO Code \"Officials and Administrators\" Voluntary Separations","",null,null,null,null,null,null,null,null,{"$f":"IF(OR($O$65=\"enabled\"),1,0)","v":0}]
[null,null,null,null,null,null,null,null,null,null,null,null," EEO Code \"Professionals\" Voluntary Separations","",null,null,null,null,null,null,null,null,0]
[null,null,null,null,null,null,null,null,null,null,null,null," EEO Code \"Technicians\" Voluntary Separations","",null,null,null,null,null,null,null,null,0]
[null,null,null,null,null,null,null,null,null,null,null,null," EEO Code \"Protective Service Workers\" Voluntary Separations","",null,null,null,null,null,null,null,null,0]
[null,null,null,null,null,null,null,null,null,null,null,null," EEO Code \"Paraprofessionals\" Voluntary Separations","",null,null,null,null,null,null,null,null,0]
[null,null,null,null,null,null,null,null,null,null,null,null," EEO Code \"Administrative Support\" Voluntary Separations","",null,null,null,null,null,null,null,null,0]
[null,null,null,null,null,null,null,null,null,null,null,null," EEO Code \"Skilled Craft Workers\" Voluntary Separations","",null,null,null,null,null,null,null,null,0]
[null,null,null,null,null,null,null,null,null,null,null,null," EEO Code \"Service/Maintenance\" Voluntary Separations","",null,null,null,null,null,null,null,null,0]
[null,null,null,null,null,null,null,null,null,null,null,null," EEO Code \"Faculty\" Voluntary Separations","",null,null,null,null,null,null,null,null,0]
[null,null,null,null,null,null,null,null,null,null,null,null," EEO Code \"Other\" Voluntary Separations","",null,null,null,null,null,null,null,null,0]
[null,null,null,null,null,null,null,null,null,null,null,null,null,null,null,null,null,null,null,null,null,null,0]
[null,null,null,null,null,null,null,null,null,null,null,null,"EEO Code \"Officials and Administrators\" Leaders Voluntary Separations","",null,null,null,null,null,null,null,null,{"$f":"IF(AND($O$65=\"enabled\",$P$65=\"enabled\"),1,0)","v":0}]
[null,null,null,null,null,null,null,null,null,null,null,null," EEO Code \"Professionals\" Leaders  Voluntary Separations","",null,null,null,null,null,null,null,null,0]
[null,null,null,null,null,null,null,null,null,null,null,null," EEO Code \"Technicians\" Leaders  Voluntary Separations","",null,null,null,null,null,null,null,null,0]
[null,null,null,null,null,null,null,null,null,null,null,null," EEO Code \"Protective Service Workers\" Leaders  Voluntary Separations","",null,null,null,null,null,null,null,null,0]
[null,null,null,null,null,null,null,null,null,null,null,null," EEO Code \"Paraprofessionals\" Leaders  Voluntary Separations","",null,null,null,null,null,null,null,null,0]
[null,null,null,null,null,null,null,null,null,null,null,null," EEO Code \"Administrative Support\" Leaders  Voluntary Separations","",null,null,null,null,null,null,null,null,0]
[null,null,null,null,null,null,null,null,null,null,null,null," EEO Code \"Skilled Craft Workers\" Leaders  Voluntary Separations","",null,null,null,null,null,null,null,null,0]
[null,null,null,null,null,null,null,null,null,null,null,null," EEO Code \"Service/Maintenance\" Leaders  Voluntary Separations","",null,null,null,null,null,null,null,null,0]
[null,null,null,null,null,null,null,null,null,null,null,null," EEO Code \"Faculty\" Leaders  Voluntary Separations","",null,null,null,null,null,null,null,null,0]
[null,null,null,null,null,null,null,null,null,null,null,null," EEO Code \"Other\" Leaders  Voluntary Separations","",null,null,null,null,null,null,null,null,0]
[null,null,null,null,null,null,null,null,null,null,null,null,null,null,null,null,null,null,null,null,null,null,0]
[null,null,null,null,null,null,null,null,null,null,null,null,"EEO Code \"Officials and Administrators\" Executives Voluntary Separations","",null,null,null,null,null,null,null,null,{"$f":"IF(AND($O$65=\"enabled\",$Q$65=\"enabled\"),1,0)","v":0}]
[null,null,null,null,null,null,null,null,null,null,null,null," EEO Code \"Professionals\" Executives  Voluntary Separations","",null,null,null,null,null,null,null,null,0]
[null,null,null,null,null,null,null,null,null,null,null,null," EEO Code \"Technicians\" Executives  Voluntary Separations","",null,null,null,null,null,null,null,null,0]
[null,null,null,null,null,null,null,null,null,null,null,null," EEO Code \"Protective Service Workers\" Executives  Voluntary Separations","",null,null,null,null,null,null,null,null,0]
[null,null,null,null,null,null,null,null,null,null,null,null," EEO Code \"Paraprofessionals\" Executives  Voluntary Separations","",null,null,null,null,null,null,null,null,0]
[null,null,null,null,null,null,null,null,null,null,null,null," EEO Code \"Administrative Support\" Executives  Voluntary Separations","",null,null,null,null,null,null,null,null,0]
[null,null,null,null,null,null,null,null,null,null,null,null," EEO Code \"Skilled Craft Workers\" Executives  Voluntary Separations","",null,null,null,null,null,null,null,null,0]
[null,null,null,null,null,null,null,null,null,null,null,null," EEO Code \"Service/Maintenance\" Executives  Voluntary Separations","",null,null,null,null,null,null,null,null,0]
[null,null,null,null,null,null,null,null,null,null,null,null," EEO Code \"Faculty\" Executives  Voluntary Separations","",null,null,null,null,null,null,null,null,0]
[null,null,null,null,null,null,null,null,null,null,null,null," EEO Code \"Other\" Executives  Voluntary Separations","",null,null,null,null,null,null,null,null,0]
[null,null,null,null,null,null,null,null,null,null,null,null,null,null,null,null,null,null,null,null,null,null,0]
[null,null,null,null,null,null,null,null,null,null,null,null,null,null,null,"Employees in their First Year Voluntary Separations by Classification",null,null,null,null,null,null,{"$f":"IF(OR($O$66=\"enabled\",$P$66=\"enabled\",$Q$66=\"enabled\"),1,0)","v":0}]
[null,null,null,null,null,null,null,null,null,null,null,null,null,{"$f":"'CENTRAL DATA'!$H$12","v":"FY-2"},{"$f":"'CENTRAL DATA'!$H$13","v":"FY-1"},{"$f":"IF(PROFILE!$L$43=\"Fiscal Year WFP\",'CENTRAL DATA'!$H$14,IF(PROFILE!$L$43=\"Snapshot\",CONCATENATE(\"As of \",TEXT(PROFILE!$N$44,\"mm/dd/yy\"),\"\")))","v":false},null,null,null,null,null,null,{"$f":"IF(OR($O$66=\"enabled\",$P$66=\"enabled\",$Q$66=\"enabled\"),1,0)","v":0}]
[null,null,null,null,null,null,null,null,null,null,null,null,null,null,null,null,null,null,null,null,null,null,{"$f":"IF(OR($O$66=\"enabled\",$P$66=\"enabled\",$Q$66=\"enabled\"),1,0)","v":0}]
[null,null,{"$f":"COUNTIF(M3031,\"*\"&PROFILE!$C$58&\"*\")","v":1},null,null,null,null,null,null,null,null,null,{"$f":"CONCATENATE(\" \",PROFILE!C58,\" Voluntary Separations\")","v":"  Voluntary Separations"},"",null,null,null,null,null,null,null,null,{"$f":"IF(AND(OR($O$66=\"enabled\"),C3031=1),1,0)","v":0}]
[null,null,{"$f":"COUNTIF(M3032,\"*\"&PROFILE!$C$59&\"*\")","v":1},null,null,null,null,null,null,null,null,null,{"$f":"CONCATENATE(\" \",PROFILE!C59,\" Voluntary Separations\")","v":"  Voluntary Separations"},"",null,null,null,null,null,null,null,null,{"$f":"IF(AND(OR($O$66=\"enabled\"),C3032=1),1,0)","v":0}]
[null,null,{"$f":"COUNTIF(M3033,\"*\"&PROFILE!$C$60&\"*\")","v":1},null,null,null,null,null,null,null,null,null,{"$f":"CONCATENATE(\" \",PROFILE!C60,\" Voluntary Separations\")","v":"  Voluntary Separations"},"",null,null,null,null,null,null,null,null,0]
[null,null,{"$f":"COUNTIF(M3034,\"*\"&PROFILE!$C$61&\"*\")","v":1},null,null,null,null,null,null,null,null,null,{"$f":"CONCATENATE(\" \",PROFILE!C61,\" Voluntary Separations\")","v":"  Voluntary Separations"},"",null,null,null,null,null,null,null,null,0]
[null,null,{"$f":"COUNTIF(M3035,\"*\"&PROFILE!$C$62&\"*\")","v":1},null,null,null,null,null,null,null,null,null,{"$f":"CONCATENATE(\" \",PROFILE!C62,\" Voluntary Separations\")","v":"  Voluntary Separations"},"",null,null,null,null,null,null,null,null,0]
[null,null,{"$f":"COUNTIF(M3036,\"*\"&PROFILE!$C$63&\"*\")","v":1},null,null,null,null,null,null,null,null,null,{"$f":"CONCATENATE(\" \",PROFILE!C63,\" Voluntary Separations\")","v":"  Voluntary Separations"},"",null,null,null,null,null,null,null,null,0]
[null,null,{"$f":"COUNTIF(M3037,\"*\"&PROFILE!$C$64&\"*\")","v":1},null,null,null,null,null,null,null,null,null,{"$f":"CONCATENATE(\" \",PROFILE!C64,\" Voluntary Separations\")","v":"  Voluntary Separations"},"",null,null,null,null,null,null,null,null,0]
[null,null,{"$f":"COUNTIF(M3038,\"*\"&PROFILE!$C$65&\"*\")","v":1},null,null,null,null,null,null,null,null,null,{"$f":"CONCATENATE(\" \",PROFILE!C65,\" Voluntary Separations\")","v":"  Voluntary Separations"},"",null,null,null,null,null,null,null,null,0]
[null,null,{"$f":"COUNTIF(M3039,\"*\"&PROFILE!$C$66&\"*\")","v":1},null,null,null,null,null,null,null,null,null,{"$f":"CONCATENATE(\" \",PROFILE!C66,\" Voluntary Separations\")","v":"  Voluntary Separations"},"",null,null,null,null,null,null,null,null,0]
[null,null,{"$f":"COUNTIF(M3040,\"*\"&PROFILE!$C$67&\"*\")","v":1},null,null,null,null,null,null,null,null,null,{"$f":"CONCATENATE(\" \",PROFILE!C67,\" Voluntary Separations\")","v":"  Voluntary Separations"},"",null,null,null,null,null,null,null,null,0]
[null,null,{"$f":"COUNTIF(M3041,\"*\"&PROFILE!$C$68&\"*\")","v":1},null,null,null,null,null,null,null,null,null,{"$f":"CONCATENATE(\" \",PROFILE!C68,\" Voluntary Separations\")","v":"  Voluntary Separations"},"",null,null,null,null,null,null,null,null,0]
[null,null,{"$f":"COUNTIF(M3042,\"*\"&PROFILE!$C$69&\"*\")","v":1},null,null,null,null,null,null,null,null,null,{"$f":"CONCATENATE(\" \",PROFILE!C69,\" Voluntary Separations\")","v":"  Voluntary Separations"},"",null,null,null,null,null,null,null,null,0]
[null,null,{"$f":"COUNTIF(M3043,\"*\"&PROFILE!$C$70&\"*\")","v":1},null,null,null,null,null,null,null,null,null,{"$f":"CONCATENATE(\" \",PROFILE!C70,\" Voluntary Separations\")","v":"  Voluntary Separations"},"",null,null,null,null,null,null,null,null,0]
[null,null,{"$f":"COUNTIF(M3044,\"*\"&PROFILE!$C$71&\"*\")","v":1},null,null,null,null,null,null,null,null,null,{"$f":"CONCATENATE(\" \",PROFILE!C71,\" Voluntary Separations\")","v":"  Voluntary Separations"},"",null,null,null,null,null,null,null,null,0]
[null,null,{"$f":"COUNTIF(M3045,\"*\"&PROFILE!$C$72&\"*\")","v":1},null,null,null,null,null,null,null,null,null,{"$f":"CONCATENATE(\" \",PROFILE!C72,\" Voluntary Separations\")","v":"  Voluntary Separations"},"",null,null,null,null,null,null,null,null,0]
[null,null,null,null,null,null,null,null,null,null,null,null,null,null,null,null,null,null,null,null,null,null,{"$f":"IF(OR($O$66=\"enabled\"),1,0)","v":0}]
[null,null,{"$f":"COUNTIF(M3047,\"*\"&PROFILE!$C$58&\"*\")","v":1},null,null,null,null,null,null,null,null,null,{"$f":"CONCATENATE(\" \",PROFILE!C58,\" Leaders Voluntary Separations\")","v":"  Leaders Voluntary Separations"},"",null,null,null,null,null,null,null,null,{"$f":"IF(AND($O$66=\"enabled\",$P$66=\"enabled\",C3047=1),1,0)","v":0}]
[null,null,{"$f":"COUNTIF(M3048,\"*\"&PROFILE!$C$59&\"*\")","v":1},null,null,null,null,null,null,null,null,null,{"$f":"CONCATENATE(\" \",PROFILE!C59,\" Leaders Voluntary Separations\")","v":"  Leaders Voluntary Separations"},"",null,null,null,null,null,null,null,null,{"$f":"IF(AND($O$66=\"enabled\",$P$66=\"enabled\",C3048=1),1,0)","v":0}]
[null,null,{"$f":"COUNTIF(M3049,\"*\"&PROFILE!$C$60&\"*\")","v":1},null,null,null,null,null,null,null,null,null,{"$f":"CONCATENATE(\" \",PROFILE!C60,\" Leaders Voluntary Separations\")","v":"  Leaders Voluntary Separations"},"",null,null,null,null,null,null,null,null,0]
[null,null,{"$f":"COUNTIF(M3050,\"*\"&PROFILE!$C$61&\"*\")","v":1},null,null,null,null,null,null,null,null,null,{"$f":"CONCATENATE(\" \",PROFILE!C61,\" Leaders Voluntary Separations\")","v":"  Leaders Voluntary Separations"},"",null,null,null,null,null,null,null,null,0]
[null,null,{"$f":"COUNTIF(M3051,\"*\"&PROFILE!$C$62&\"*\")","v":1},null,null,null,null,null,null,null,null,null,{"$f":"CONCATENATE(\" \",PROFILE!C62,\" Leaders Voluntary Separations\")","v":"  Leaders Voluntary Separations"},"",null,null,null,null,null,null,null,null,0]
[null,null,{"$f":"COUNTIF(M3052,\"*\"&PROFILE!$C$63&\"*\")","v":1},null,null,null,null,null,null,null,null,null,{"$f":"CONCATENATE(\" \",PROFILE!C63,\" Leaders Voluntary Separations\")","v":"  Leaders Voluntary Separations"},"",null,null,null,null,null,null,null,null,0]
[null,null,{"$f":"COUNTIF(M3053,\"*\"&PROFILE!$C$64&\"*\")","v":1},null,null,null,null,null,null,null,null,null,{"$f":"CONCATENATE(\" \",PROFILE!C64,\" Leaders Voluntary Separations\")","v":"  Leaders Voluntary Separations"},"",null,null,null,null,null,null,null,null,0]
[null,null,{"$f":"COUNTIF(M3054,\"*\"&PROFILE!$C$65&\"*\")","v":1},null,null,null,null,null,null,null,null,null,{"$f":"CONCATENATE(\" \",PROFILE!C65,\" Leaders Voluntary Separations\")","v":"  Leaders Voluntary Separations"},"",null,null,null,null,null,null,null,null,0]
[null,null,{"$f":"COUNTIF(M3055,\"*\"&PROFILE!$C$66&\"*\")","v":1},null,null,null,null,null,null,null,null,null,{"$f":"CONCATENATE(\" \",PROFILE!C66,\" Leaders Voluntary Separations\")","v":"  Leaders Voluntary Separations"},"",null,null,null,null,null,null,null,null,0]
[null,null,{"$f":"COUNTIF(M3056,\"*\"&PROFILE!$C$67&\"*\")","v":1},null,null,null,null,null,null,null,null,null,{"$f":"CONCATENATE(\" \",PROFILE!C67,\" Leaders Voluntary Separations\")","v":"  Leaders Voluntary Separations"},"",null,null,null,null,null,null,null,null,0]
[null,null,{"$f":"COUNTIF(M3057,\"*\"&PROFILE!$C$68&\"*\")","v":1},null,null,null,null,null,null,null,null,null,{"$f":"CONCATENATE(\" \",PROFILE!C68,\" Leaders Voluntary Separations\")","v":"  Leaders Voluntary Separations"},"",null,null,null,null,null,null,null,null,0]
[null,null,{"$f":"COUNTIF(M3058,\"*\"&PROFILE!$C$69&\"*\")","v":1},null,null,null,null,null,null,null,null,null,{"$f":"CONCATENATE(\" \",PROFILE!C69,\" Leaders Voluntary Separations\")","v":"  Leaders Voluntary Separations"},"",null,null,null,null,null,null,null,null,0]
[null,null,{"$f":"COUNTIF(M3059,\"*\"&PROFILE!$C$70&\"*\")","v":1},null,null,null,null,null,null,null,null,null,{"$f":"CONCATENATE(\" \",PROFILE!C70,\" Leaders Voluntary Separations\")","v":"  Leaders Voluntary Separations"},"",null,null,null,null,null,null,null,null,0]
[null,null,{"$f":"COUNTIF(M3060,\"*\"&PROFILE!$C$71&\"*\")","v":1},null,null,null,null,null,null,null,null,null,{"$f":"CONCATENATE(\" \",PROFILE!C71,\" Leaders Voluntary Separations\")","v":"  Leaders Voluntary Separations"},"",null,null,null,null,null,null,null,null,0]
[null,null,{"$f":"COUNTIF(M3061,\"*\"&PROFILE!$C$72&\"*\")","v":1},null,null,null,null,null,null,null,null,null,{"$f":"CONCATENATE(\" \",PROFILE!C72,\" Leaders Voluntary Separations\")","v":"  Leaders Voluntary Separations"},"",null,null,null,null,null,null,null,null,0]
[null,null,null,null,null,null,null,null,null,null,null,null,null,null,null,null,null,null,null,null,null,null,{"$f":"IF(AND($O$66=\"enabled\",$P$66=\"enabled\"),1,0)","v":0}]
[null,null,{"$f":"COUNTIF(M3063,\"*\"&PROFILE!$C$58&\"*\")","v":1},null,null,null,null,null,null,null,null,null,{"$f":"CONCATENATE(\" \",PROFILE!C58,\" Executives Voluntary Separations\")","v":"  Executives Voluntary Separations"},"",null,null,null,null,null,null,null,null,{"$f":"IF(AND($O$66=\"enabled\",$Q$66=\"enabled\",C3063=1),1,0)","v":0}]
[null,null,{"$f":"COUNTIF(M3064,\"*\"&PROFILE!$C$59&\"*\")","v":1},null,null,null,null,null,null,null,null,null,{"$f":"CONCATENATE(\" \",PROFILE!C59,\" Executives Voluntary Separations\")","v":"  Executives Voluntary Separations"},"",null,null,null,null,null,null,null,null,{"$f":"IF(AND($O$66=\"enabled\",$Q$66=\"enabled\",C3064=1),1,0)","v":0}]
[null,null,{"$f":"COUNTIF(M3065,\"*\"&PROFILE!$C$60&\"*\")","v":1},null,null,null,null,null,null,null,null,null,{"$f":"CONCATENATE(\" \",PROFILE!C60,\" Executives Voluntary Separations\")","v":"  Executives Voluntary Separations"},"",null,null,null,null,null,null,null,null,0]
[null,null,{"$f":"COUNTIF(M3066,\"*\"&PROFILE!$C$61&\"*\")","v":1},null,null,null,null,null,null,null,null,null,{"$f":"CONCATENATE(\" \",PROFILE!C61,\" Executives Voluntary Separations\")","v":"  Executives Voluntary Separations"},"",null,null,null,null,null,null,null,null,0]
[null,null,{"$f":"COUNTIF(M3067,\"*\"&PROFILE!$C$62&\"*\")","v":1},null,null,null,null,null,null,null,null,null,{"$f":"CONCATENATE(\" \",PROFILE!C62,\" Executives Voluntary Separations\")","v":"  Executives Voluntary Separations"},"",null,null,null,null,null,null,null,null,0]
[null,null,{"$f":"COUNTIF(M3068,\"*\"&PROFILE!$C$63&\"*\")","v":1},null,null,null,null,null,null,null,null,null,{"$f":"CONCATENATE(\" \",PROFILE!C63,\" Executives Voluntary Separations\")","v":"  Executives Voluntary Separations"},"",null,null,null,null,null,null,null,null,0]
[null,null,{"$f":"COUNTIF(M3069,\"*\"&PROFILE!$C$64&\"*\")","v":1},null,null,null,null,null,null,null,null,null,{"$f":"CONCATENATE(\" \",PROFILE!C64,\" Executives Voluntary Separations\")","v":"  Executives Voluntary Separations"},"",null,null,null,null,null,null,null,null,0]
[null,null,{"$f":"COUNTIF(M3070,\"*\"&PROFILE!$C$65&\"*\")","v":1},null,null,null,null,null,null,null,null,null,{"$f":"CONCATENATE(\" \",PROFILE!C65,\" Executives Voluntary Separations\")","v":"  Executives Voluntary Separations"},"",null,null,null,null,null,null,null,null,0]
[null,null,{"$f":"COUNTIF(M3071,\"*\"&PROFILE!$C$66&\"*\")","v":1},null,null,null,null,null,null,null,null,null,{"$f":"CONCATENATE(\" \",PROFILE!C66,\" Executives Voluntary Separations\")","v":"  Executives Voluntary Separations"},"",null,null,null,null,null,null,null,null,0]
[null,null,{"$f":"COUNTIF(M3072,\"*\"&PROFILE!$C$67&\"*\")","v":1},null,null,null,null,null,null,null,null,null,{"$f":"CONCATENATE(\" \",PROFILE!C67,\" Executives Voluntary Separations\")","v":"  Executives Voluntary Separations"},"",null,null,null,null,null,null,null,null,0]
[null,null,{"$f":"COUNTIF(M3073,\"*\"&PROFILE!$C$68&\"*\")","v":1},null,null,null,null,null,null,null,null,null,{"$f":"CONCATENATE(\" \",PROFILE!C68,\" Executives Voluntary Separations\")","v":"  Executives Voluntary Separations"},"",null,null,null,null,null,null,null,null,0]
[null,null,{"$f":"COUNTIF(M3074,\"*\"&PROFILE!$C$69&\"*\")","v":1},null,null,null,null,null,null,null,null,null,{"$f":"CONCATENATE(\" \",PROFILE!C69,\" Executives Voluntary Separations\")","v":"  Executives Voluntary Separations"},"",null,null,null,null,null,null,null,null,0]
[null,null,{"$f":"COUNTIF(M3075,\"*\"&PROFILE!$C$70&\"*\")","v":1},null,null,null,null,null,null,null,null,null,{"$f":"CONCATENATE(\" \",PROFILE!C70,\" Executives Voluntary Separations\")","v":"  Executives Voluntary Separations"},"",null,null,null,null,null,null,null,null,0]
[null,null,{"$f":"COUNTIF(M3076,\"*\"&PROFILE!$C$71&\"*\")","v":1},null,null,null,null,null,null,null,null,null,{"$f":"CONCATENATE(\" \",PROFILE!C71,\" Executives Voluntary Separations\")","v":"  Executives Voluntary Separations"},"",null,null,null,null,null,null,null,null,0]
[null,null,{"$f":"COUNTIF(M3077,\"*\"&PROFILE!$C$72&\"*\")","v":1},null,null,null,null,null,null,null,null,null,{"$f":"CONCATENATE(\" \",PROFILE!C72,\" Executives Voluntary Separations\")","v":"  Executives Voluntary Separations"},"",null,null,null,null,null,null,null,null,0]
[null,null,null,null,null,null,null,null,null,null,null,null,null,null,null,null,null,null,null,null,null,null,{"$f":"IF(AND($O$66=\"enabled\",$Q$66=\"enabled\"),1,0)","v":0}]
[null,null,null,null,null,null,null,null,null,null,null,null,null,null,null,"Employees in their First Year Voluntary Separations by Sex",null,null,null,null,null,null,{"$f":"IF(OR($O$67=\"enabled\",$P$67=\"enabled\",$Q$67=\"enabled\"),1,0)","v":0}]
[null,null,null,null,null,null,null,null,null,null,null,null,null,{"$f":"'CENTRAL DATA'!$H$12","v":"FY-2"},{"$f":"'CENTRAL DATA'!$H$13","v":"FY-1"},{"$f":"IF(PROFILE!$L$43=\"Fiscal Year WFP\",'CENTRAL DATA'!$H$14,IF(PROFILE!$L$43=\"Snapshot\",CONCATENATE(\"As of \",TEXT(PROFILE!$N$44,\"mm/dd/yy\"),\"\")))","v":false},null,null,null,null,null,null,{"$f":"IF(OR($O$67=\"enabled\",$P$67=\"enabled\",$Q$67=\"enabled\"),1,0)","v":0}]
[null,null,null,null,null,null,null,null,null,null,null,null,null,null,null,null,null,null,null,null,null,null,{"$f":"IF(OR($O$67=\"enabled\",$P$67=\"enabled\",$Q$67=\"enabled\"),1,0)","v":0}]
[null,null,null,null,null,null,null,null,null,null,null,null,"Male Voluntary Separations","",null,null,null,null,null,null,null,null,{"$f":"IF(OR($O$67=\"enabled\"),1,0)","v":0}]
[null,null,null,null,null,null,null,null,null,null,null,null,"Female Voluntary Separations","",null,null,null,null,null,null,null,null,{"$f":"IF(OR($O$67=\"enabled\"),1,0)","v":0}]
[null,null,null,null,null,null,null,null,null,null,null,null,null,null,null,null,null,null,null,null,null,null,{"$f":"IF(OR($O$67=\"enabled\"),1,0)","v":0}]
[null,null,null,null,null,null,null,null,null,null,null,null,"Male Leader Voluntary Separations","",null,null,null,null,null,null,null,null,{"$f":"IF(AND($O$67=\"enabled\",$P$67=\"enabled\"),1,0)","v":0}]
[null,null,null,null,null,null,null,null,null,null,null,null,"Female Leader Voluntary Separations","",null,null,null,null,null,null,null,null,{"$f":"IF(AND($O$67=\"enabled\",$P$67=\"enabled\"),1,0)","v":0}]
[null,null,null,null,null,null,null,null,null,null,null,null,null,null,null,null,null,null,null,null,null,null,{"$f":"IF(AND($O$67=\"enabled\",$P$67=\"enabled\"),1,0)","v":0}]
[null,null,null,null,null,null,null,null,null,null,null,null,"Male Executive Voluntary Separations","",null,null,null,null,null,null,null,null,{"$f":"IF(AND($O$67=\"enabled\",$Q$67=\"enabled\"),1,0)","v":0}]
[null,null,null,null,null,null,null,null,null,null,null,null,"Female Executive Voluntary Separations","",null,null,null,null,null,null,null,null,{"$f":"IF(AND($O$67=\"enabled\",$Q$67=\"enabled\"),1,0)","v":0}]
[null,null,null,null,null,null,null,null,null,null,null,null,null,null,null,null,null,null,null,null,null,null,{"$f":"IF(AND($O$67=\"enabled\",$Q$67=\"enabled\"),1,0)","v":0}]
[null,null,null,null,null,null,null,null,null,null,null,null,null,null,null,"Employees in their First Year Voluntary Separations by Race",null,null,null,null,null,null,{"$f":"IF(OR($O$68=\"enabled\",$P$68=\"enabled\",$Q$68=\"enabled\"),1,0)","v":0}]
[null,null,null,null,null,null,null,null,null,null,null,null,null,{"$f":"'CENTRAL DATA'!$H$12","v":"FY-2"},{"$f":"'CENTRAL DATA'!$H$13","v":"FY-1"},{"$f":"IF(PROFILE!$L$43=\"Fiscal Year WFP\",'CENTRAL DATA'!$H$14,IF(PROFILE!$L$43=\"Snapshot\",CONCATENATE(\"As of \",TEXT(PROFILE!$N$44,\"mm/dd/yy\"),\"\")))","v":false},null,null,null,null,null,null,{"$f":"IF(OR($O$68=\"enabled\",$P$68=\"enabled\",$Q$68=\"enabled\"),1,0)","v":0}]
[null,null,null,null,null,null,null,null,null,null,null,null,null,null,null,null,null,null,null,null,null,null,{"$f":"IF(OR($O$68=\"enabled\",$P$68=\"enabled\",$Q$68=\"enabled\"),1,0)","v":0}]
[null,null,null,null,null,null,null,null,null,null,null,null,"Minority Voluntary Separations","",null,null,null,null,null,null,null,null,{"$f":"IF(OR($O$68=\"enabled\"),1,0)","v":0}]
[null,null,null,null,null,null,null,null,null,null,null,null,"Non-Minority Voluntary Separations","",null,null,null,null,null,null,null,null,0]
[null,null,null,null,null,null,null,null,null,null,null,null,null,null,null,null,null,null,null,null,null,null,0]
[null,null,null,null,null,null,null,null,null,null,null,null,"Minority Leader Voluntary Separations","",null,null,null,null,null,null,null,null,{"$f":"IF(AND($O$68=\"enabled\",$P$68=\"enabled\"),1,0)","v":0}]
[null,null,null,null,null,null,null,null,null,null,null,null,"Non-Minority Leader Voluntary Separations","",null,null,null,null,null,null,null,null,0]
[null,null,null,null,null,null,null,null,null,null,null,null,null,null,null,null,null,null,null,null,null,null,0]
[null,null,null,null,null,null,null,null,null,null,null,null,"Minority Executive Voluntary Separations","",null,null,null,null,null,null,null,null,{"$f":"IF(AND($O$68=\"enabled\",$Q$68=\"enabled\"),1,0)","v":0}]
[null,null,null,null,null,null,null,null,null,null,null,null,"Non-Minority Executive Voluntary Separations","",null,null,null,null,null,null,null,null,0]
[null,null,null,null,null,null,null,null,null,null,null,null,null,null,null,null,null,null,null,null,null,null,0]
[null,null,null,null,null,null,null,null,null,null,null,null,null,null,null,"Employees in their First Year Voluntary Separations by Other Demographics",null,null,null,null,null,null,{"$f":"IF(OR($O$69=\"enabled\",$P$69=\"enabled\",$Q$69=\"enabled\"),1,0)","v":0}]
[null,null,null,null,null,null,null,null,null,null,null,null,null,{"$f":"'CENTRAL DATA'!$H$12","v":"FY-2"},{"$f":"'CENTRAL DATA'!$H$13","v":"FY-1"},{"$f":"IF(PROFILE!$L$43=\"Fiscal Year WFP\",'CENTRAL DATA'!$H$14,IF(PROFILE!$L$43=\"Snapshot\",CONCATENATE(\"As of \",TEXT(PROFILE!$N$44,\"mm/dd/yy\"),\"\")))","v":false},null,null,null,null,null,null,{"$f":"IF(OR($O$69=\"enabled\",$P$69=\"enabled\",$Q$69=\"enabled\"),1,0)","v":0}]
[null,null,null,null,null,null,null,null,null,null,null,null,null,null,null,null,null,null,null,null,null,null,{"$f":"IF(OR($O$69=\"enabled\",$P$69=\"enabled\",$Q$69=\"enabled\"),1,0)","v":0}]
[null,null,null,null,null,null,null,null,null,null,null,null,"Employees with Disabilities Voluntary Separations","",null,null,null,null,null,null,null,null,{"$f":"IF(OR($O$69=\"enabled\"),1,0)","v":0}]
[null,null,null,null,null,null,null,null,null,null,null,null,"Voluntary Separations of Veterans","",null,null,null,null,null,null,null,null,{"$f":"IF(OR($O$69=\"enabled\"),1,0)","v":0}]
[null,null,null,null,null,null,null,null,null,null,null,null,null,null,null,null,null,null,null,null,null,null,{"$f":"IF(OR($O$69=\"enabled\"),1,0)","v":0}]
[null,null,null,null,null,null,null,null,null,null,null,null,"Leaders with Disabilities Voluntary Separations","",null,null,null,null,null,null,null,null,{"$f":"IF(AND($O$69=\"enabled\",$P$69=\"enabled\"),1,0)","v":0}]
[null,null,null,null,null,null,null,null,null,null,null,null,"Leaders who are Veterans Voluntary Separations","",null,null,null,null,null,null,null,null,{"$f":"IF(AND($O$69=\"enabled\",$P$69=\"enabled\"),1,0)","v":0}]
[null,null,null,null,null,null,null,null,null,null,null,null,null,null,null,null,null,null,null,null,null,null,{"$f":"IF(AND($O$69=\"enabled\",$P$69=\"enabled\"),1,0)","v":0}]
[null,null,null,null,null,null,null,null,null,null,null,null,"Executives with Disabilities Voluntary Separations","",null,null,null,null,null,null,null,null,{"$f":"IF(AND($O$69=\"enabled\",$Q$69=\"enabled\"),1,0)","v":0}]
[null,null,null,null,null,null,null,null,null,null,null,null,"Executives who are Veterans Voluntary Separations","",null,null,null,null,null,null,null,null,{"$f":"IF(AND($O$69=\"enabled\",$Q$69=\"enabled\"),1,0)","v":0}]
[null,null,null,null,null,null,null,null,null,null,null,null,null,null,null,null,null,null,null,null,null,null,{"$f":"IF(AND($O$69=\"enabled\",$Q$69=\"enabled\"),1,0)","v":0}]
[null,null,null,null,null,null,null,null,null,null,null,null,null,null,null,null,null,null,null,null,null,null,{"$f":"IF(AND($O$69=\"enabled\",$Q$69=\"enabled\"),1,0)","v":0}]
[null,null,null,null,null,null,null,null,null,null,null,null,null,null,null,null,null,null,null,null,null,null,{"$f":"IF(OR(COUNTIF($M$73:$O$77,\"enabled\")>0,COUNTIF($M$81:$O$85,\"enabled\")>0),1,0)","v":0}]
[null,"Step 5: Enter Workforce Development Information",null,null,null,null,null,null,null,null,null,null,null,null,null,null,null,null,null,null,null,null,{"$f":"IF(OR(COUNTIF($M$73:$O$77,\"enabled\")>0,COUNTIF($M$81:$O$85,\"enabled\")>0),1,0)","v":0}]
[null,null,null,null,null,null,null,null,null,null,null,null,null,null,null,null,null,null,null,null,null,null,0]
[null,"INSTRUCTIONS: Please enter the total number of employees in the  boxes below for the respective data fields related to workforce development to include internal and external workforce development.",null,null,null,null,null,null,null,null,null,null,null,null,null,null,null,null,null,null,null,null,0]
[null,null,null,null,null,null,null,null,null,null,null,null,null,null,null,null,null,null,null,null,null,null,0]
[null,null,null,null,null,null,null,null,null,null,null,null,null,null,null,null,null,null,null,null,null,null,0]
[null,null,null,null,null,null,null,null,null,null,null,null,null,null,null,null,null,null,null,null,null,null,0]
[null,null,null,null,null,null,null,null,null,null,null,null,null,null,null,"Agency Internal Workforce Development by EEO Code",null,null,null,null,null,null,{"$f":"IF(OR($O$73=\"enabled\",$P$73=\"enabled\",$Q$73=\"enabled\"),1,0)","v":0}]
[null,null,null,null,null,null,null,null,null,null,null,null,null,{"$f":"'CENTRAL DATA'!$H$12","v":"FY-2"},{"$f":"'CENTRAL DATA'!$H$13","v":"FY-1"},{"$f":"IF(PROFILE!$L$43=\"Fiscal Year WFP\",'CENTRAL DATA'!$H$14,IF(PROFILE!$L$43=\"Snapshot\",CONCATENATE(\"As of \",TEXT(PROFILE!$N$44,\"mm/dd/yy\"),\"\")))","v":false},null,null,null,null,null,null,{"$f":"IF(OR($O$73=\"enabled\",$P$73=\"enabled\",$Q$73=\"enabled\"),1,0)","v":0}]
[null,null,null,null,null,null,null,null,null,null,null,null,null,null,null,null,null,null,null,null,null,null,0]
[null,null,null,null,null,null,null,null,null,null,null,null,"Total EEO Code \"Officials and Administrators\" Employees","",null,null,null,null,null,null,null,null,{"$f":"IF(OR($O$73=\"enabled\"),1,0)","v":0}]
[null,null,null,null,null,null,null,null,null,null,null,null,"Total EEO Code \"Professionals\" Employees","",null,null,null,null,null,null,null,null,{"$f":"IF(OR($O$73=\"enabled\"),1,0)","v":0}]
[null,null,null,null,null,null,null,null,null,null,null,null,"Total EEO Code \"Technicians\" Employees","",null,null,null,null,null,null,null,null,0]
[null,null,null,null,null,null,null,null,null,null,null,null,"Total EEO Code \"Protective Service Workers\" Employees","",null,null,null,null,null,null,null,null,0]
[null,null,null,null,null,null,null,null,null,null,null,null,"Total EEO Code \"Paraprofessionals\" Employees","",null,null,null,null,null,null,null,null,0]
[null,null,null,null,null,null,null,null,null,null,null,null,"Total EEO Code \"Administrative Support\" Employees","",null,null,null,null,null,null,null,null,0]
[null,null,null,null,null,null,null,null,null,null,null,null,"Total EEO Code \"Skilled Craft Workers\" Employees","",null,null,null,null,null,null,null,null,0]
[null,null,null,null,null,null,null,null,null,null,null,null,"Total EEO Code \"Service/Maintenance\" Employees","",null,null,null,null,null,null,null,null,0]
[null,null,null,null,null,null,null,null,null,null,null,null,"Total EEO Code \"Faculty\" Employees","",null,null,null,null,null,null,null,null,0]
[null,null,null,null,null,null,null,null,null,null,null,null,"Total EEO Code \"Other\" Employees","",null,null,null,null,null,null,null,null,0]
[null,null,null,null,null,null,null,null,null,null,null,null,null,null,null,null,null,null,null,null,null,null,0]
[null,null,null,null,null,null,null,null,null,null,null,null,"Total EEO Code \"Officials and Administrators\" Leaders","",null,null,null,null,null,null,null,null,{"$f":"IF(OR($P$73=\"enabled\"),1,0)","v":0}]
[null,null,null,null,null,null,null,null,null,null,null,null,"Total EEO Code \"Professionals\" Leaders","",null,null,null,null,null,null,null,null,{"$f":"IF(OR($P$73=\"enabled\"),1,0)","v":0}]
[null,null,null,null,null,null,null,null,null,null,null,null,"Total EEO Code \"Technicians\" Leaders","",null,null,null,null,null,null,null,null,0]
[null,null,null,null,null,null,null,null,null,null,null,null,"Total EEO Code \"Protective Service Workers\" Leaders","",null,null,null,null,null,null,null,null,0]
[null,null,null,null,null,null,null,null,null,null,null,null,"Total EEO Code \"Paraprofessionals\" Leaders","",null,null,null,null,null,null,null,null,0]
[null,null,null,null,null,null,null,null,null,null,null,null,"Total EEO Code \"Administrative Support\" Leaders","",null,null,null,null,null,null,null,null,0]
[null,null,null,null,null,null,null,null,null,null,null,null,"Total EEO Code \"Skilled Craft Workers\" Leaders","",null,null,null,null,null,null,null,null,0]
[null,null,null,null,null,null,null,null,null,null,null,null,"Total EEO Code \"Service/Maintenance\" Leaders","",null,null,null,null,null,null,null,null,0]
[null,null,null,null,null,null,null,null,null,null,null,null,"Total EEO Code \"Faculty\" Leaders","",null,null,null,null,null,null,null,null,0]
[null,null,null,null,null,null,null,null,null,null,null,null,"Total EEO Code \"Other\" Leaders","",null,null,null,null,null,null,null,null,0]
[null,null,null,null,null,null,null,null,null,null,null,null,null,null,null,null,null,null,null,null,null,null,0]
[null,null,null,null,null,null,null,null,null,null,null,null,"Total EEO Code \"Officials and Administrators\" Executives","",null,null,null,null,null,null,null,null,{"$f":"IF(OR($Q$73=\"enabled\"),1,0)","v":0}]
[null,null,null,null,null,null,null,null,null,null,null,null,"Total EEO Code \"Professionals\" Executives","",null,null,null,null,null,null,null,null,{"$f":"IF(OR($Q$73=\"enabled\"),1,0)","v":0}]
[null,null,null,null,null,null,null,null,null,null,null,null,"Total EEO Code \"Technicians\" Executives","",null,null,null,null,null,null,null,null,0]
[null,null,null,null,null,null,null,null,null,null,null,null,"Total EEO Code \"Protective Service Workers\" Executives","",null,null,null,null,null,null,null,null,0]
[null,null,null,null,null,null,null,null,null,null,null,null,"Total EEO Code \"Paraprofessionals\" Executives","",null,null,null,null,null,null,null,null,0]
[null,null,null,null,null,null,null,null,null,null,null,null,"Total EEO Code \"Administrative Support\" Executives","",null,null,null,null,null,null,null,null,0]
[null,null,null,null,null,null,null,null,null,null,null,null,"Total EEO Code \"Skilled Craft Workers\" Executives","",null,null,null,null,null,null,null,null,0]
[null,null,null,null,null,null,null,null,null,null,null,null,"Total EEO Code \"Service/Maintenance\" Executives","",null,null,null,null,null,null,null,null,0]
[null,null,null,null,null,null,null,null,null,null,null,null,"Total EEO Code \"Faculty\" Executives","",null,null,null,null,null,null,null,null,0]
[null,null,null,null,null,null,null,null,null,null,null,null,"Total EEO Code \"Other\" Executives","",null,null,null,null,null,null,null,null,0]
[null,null,null,null,null,null,null,null,null,null,null,null,null,null,null,null,null,null,null,null,null,null,0]
[null,null,null,null,null,null,null,null,null,null,null,null,null,null,null,"Agency Internal Workforce Development by Classification",null,null,null,null,null,null,{"$f":"IF(OR($O$74=\"enabled\",$P$74=\"enabled\",$Q$74=\"enabled\"),1,0)","v":0}]
[null,null,null,null,null,null,null,null,null,null,null,null,null,{"$f":"'CENTRAL DATA'!$H$12","v":"FY-2"},{"$f":"'CENTRAL DATA'!$H$13","v":"FY-1"},{"$f":"IF(PROFILE!$L$43=\"Fiscal Year WFP\",'CENTRAL DATA'!$H$14,IF(PROFILE!$L$43=\"Snapshot\",CONCATENATE(\"As of \",TEXT(PROFILE!$N$44,\"mm/dd/yy\"),\"\")))","v":false},null,null,null,null,null,null,{"$f":"IF(OR($O$74=\"enabled\",$P$74=\"enabled\",$Q$74=\"enabled\"),1,0)","v":0}]
[null,null,null,null,null,null,null,null,null,null,null,null,null,null,null,null,null,null,null,null,null,null,0]
[null,null,{"$f":"COUNTIF(M3162,\"*\"&PROFILE!$C$58&\"*\")","v":1},null,null,null,null,null,null,null,null,null,{"$f":"CONCATENATE(\"Total \",PROFILE!C58,\" Employees\")","v":"Total  Employees"},"",null,null,null,null,null,null,null,null,{"$f":"IF(AND(OR($O$74=\"enabled\"),C3162=1),1,0)","v":0}]
[null,null,{"$f":"COUNTIF(M3163,\"*\"&PROFILE!$C$59&\"*\")","v":1},null,null,null,null,null,null,null,null,null,{"$f":"CONCATENATE(\"Total \",PROFILE!C59,\" Employees\")","v":"Total  Employees"},"",null,null,null,null,null,null,null,null,{"$f":"IF(AND(OR($O$74=\"enabled\"),C3163=1),1,0)","v":0}]
[null,null,{"$f":"COUNTIF(M3164,\"*\"&PROFILE!$C$60&\"*\")","v":1},null,null,null,null,null,null,null,null,null,{"$f":"CONCATENATE(\"Total \",PROFILE!C60,\" Employees\")","v":"Total  Employees"},"",null,null,null,null,null,null,null,null,0]
[null,null,{"$f":"COUNTIF(M3165,\"*\"&PROFILE!$C$61&\"*\")","v":1},null,null,null,null,null,null,null,null,null,{"$f":"CONCATENATE(\"Total \",PROFILE!C61,\" Employees\")","v":"Total  Employees"},"",null,null,null,null,null,null,null,null,0]
[null,null,{"$f":"COUNTIF(M3166,\"*\"&PROFILE!$C$62&\"*\")","v":1},null,null,null,null,null,null,null,null,null,{"$f":"CONCATENATE(\"Total \",PROFILE!C62,\" Employees\")","v":"Total  Employees"},"",null,null,null,null,null,null,null,null,0]
[null,null,{"$f":"COUNTIF(M3167,\"*\"&PROFILE!$C$63&\"*\")","v":1},null,null,null,null,null,null,null,null,null,{"$f":"CONCATENATE(\"Total \",PROFILE!C63,\" Employees\")","v":"Total  Employees"},"",null,null,null,null,null,null,null,null,0]
[null,null,{"$f":"COUNTIF(M3168,\"*\"&PROFILE!$C$64&\"*\")","v":1},null,null,null,null,null,null,null,null,null,{"$f":"CONCATENATE(\"Total \",PROFILE!C64,\" Employees\")","v":"Total  Employees"},"",null,null,null,null,null,null,null,null,0]
[null,null,{"$f":"COUNTIF(M3169,\"*\"&PROFILE!$C$65&\"*\")","v":1},null,null,null,null,null,null,null,null,null,{"$f":"CONCATENATE(\"Total \",PROFILE!C65,\" Employees\")","v":"Total  Employees"},"",null,null,null,null,null,null,null,null,0]
[null,null,{"$f":"COUNTIF(M3170,\"*\"&PROFILE!$C$66&\"*\")","v":1},null,null,null,null,null,null,null,null,null,{"$f":"CONCATENATE(\"Total \",PROFILE!C66,\" Employees\")","v":"Total  Employees"},"",null,null,null,null,null,null,null,null,0]
[null,null,{"$f":"COUNTIF(M3171,\"*\"&PROFILE!$C$67&\"*\")","v":1},null,null,null,null,null,null,null,null,null,{"$f":"CONCATENATE(\"Total \",PROFILE!C67,\" Employees\")","v":"Total  Employees"},"",null,null,null,null,null,null,null,null,0]
[null,null,{"$f":"COUNTIF(M3172,\"*\"&PROFILE!$C$68&\"*\")","v":1},null,null,null,null,null,null,null,null,null,{"$f":"CONCATENATE(\"Total \",PROFILE!C68,\" Employees\")","v":"Total  Employees"},"",null,null,null,null,null,null,null,null,0]
[null,null,{"$f":"COUNTIF(M3173,\"*\"&PROFILE!$C$69&\"*\")","v":1},null,null,null,null,null,null,null,null,null,{"$f":"CONCATENATE(\"Total \",PROFILE!C69,\" Employees\")","v":"Total  Employees"},"",null,null,null,null,null,null,null,null,0]
[null,null,{"$f":"COUNTIF(M3174,\"*\"&PROFILE!$C$70&\"*\")","v":1},null,null,null,null,null,null,null,null,null,{"$f":"CONCATENATE(\"Total \",PROFILE!C70,\" Employees\")","v":"Total  Employees"},"",null,null,null,null,null,null,null,null,0]
[null,null,{"$f":"COUNTIF(M3175,\"*\"&PROFILE!$C$71&\"*\")","v":1},null,null,null,null,null,null,null,null,null,{"$f":"CONCATENATE(\"Total \",PROFILE!C71,\" Employees\")","v":"Total  Employees"},"",null,null,null,null,null,null,null,null,0]
[null,null,{"$f":"COUNTIF(M3176,\"*\"&PROFILE!$C$72&\"*\")","v":1},null,null,null,null,null,null,null,null,null,{"$f":"CONCATENATE(\"Total \",PROFILE!C72,\" Employees\")","v":"Total  Employees"},"",null,null,null,null,null,null,null,null,0]
[null,null,null,null,null,null,null,null,null,null,null,null,null,null,null,null,null,null,null,null,null,null,{"$f":"IF(OR($O$74=\"enabled\"),1,0)","v":0}]
[null,null,{"$f":"COUNTIF(M3178,\"*\"&PROFILE!$C$58&\"*\")","v":1},null,null,null,null,null,null,null,null,null,{"$f":"CONCATENATE(\"Total \",PROFILE!C58,\" Leaders\")","v":"Total  Leaders"},"",null,null,null,null,null,null,null,null,{"$f":"IF(AND(OR($P$74=\"enabled\"),C3178=1),1,0)","v":0}]
[null,null,{"$f":"COUNTIF(M3179,\"*\"&PROFILE!$C$59&\"*\")","v":1},null,null,null,null,null,null,null,null,null,{"$f":"CONCATENATE(\"Total \",PROFILE!C59,\" Leaders\")","v":"Total  Leaders"},"",null,null,null,null,null,null,null,null,{"$f":"IF(AND(OR($P$74=\"enabled\"),C3179=1),1,0)","v":0}]
[null,null,{"$f":"COUNTIF(M3180,\"*\"&PROFILE!$C$60&\"*\")","v":1},null,null,null,null,null,null,null,null,null,{"$f":"CONCATENATE(\"Total \",PROFILE!C60,\" Leaders\")","v":"Total  Leaders"},"",null,null,null,null,null,null,null,null,0]
[null,null,{"$f":"COUNTIF(M3181,\"*\"&PROFILE!$C$61&\"*\")","v":1},null,null,null,null,null,null,null,null,null,{"$f":"CONCATENATE(\"Total \",PROFILE!C61,\" Leaders\")","v":"Total  Leaders"},"",null,null,null,null,null,null,null,null,0]
[null,null,{"$f":"COUNTIF(M3182,\"*\"&PROFILE!$C$62&\"*\")","v":1},null,null,null,null,null,null,null,null,null,{"$f":"CONCATENATE(\"Total \",PROFILE!C62,\" Leaders\")","v":"Total  Leaders"},"",null,null,null,null,null,null,null,null,0]
[null,null,{"$f":"COUNTIF(M3183,\"*\"&PROFILE!$C$63&\"*\")","v":1},null,null,null,null,null,null,null,null,null,{"$f":"CONCATENATE(\"Total \",PROFILE!C63,\" Leaders\")","v":"Total  Leaders"},"",null,null,null,null,null,null,null,null,0]
[null,null,{"$f":"COUNTIF(M3184,\"*\"&PROFILE!$C$64&\"*\")","v":1},null,null,null,null,null,null,null,null,null,{"$f":"CONCATENATE(\"Total \",PROFILE!C64,\" Leaders\")","v":"Total  Leaders"},"",null,null,null,null,null,null,null,null,0]
[null,null,{"$f":"COUNTIF(M3185,\"*\"&PROFILE!$C$65&\"*\")","v":1},null,null,null,null,null,null,null,null,null,{"$f":"CONCATENATE(\"Total \",PROFILE!C65,\" Leaders\")","v":"Total  Leaders"},"",null,null,null,null,null,null,null,null,0]
[null,null,{"$f":"COUNTIF(M3186,\"*\"&PROFILE!$C$66&\"*\")","v":1},null,null,null,null,null,null,null,null,null,{"$f":"CONCATENATE(\"Total \",PROFILE!C66,\" Leaders\")","v":"Total  Leaders"},"",null,null,null,null,null,null,null,null,0]
[null,null,{"$f":"COUNTIF(M3187,\"*\"&PROFILE!$C$67&\"*\")","v":1},null,null,null,null,null,null,null,null,null,{"$f":"CONCATENATE(\"Total \",PROFILE!C67,\" Leaders\")","v":"Total  Leaders"},"",null,null,null,null,null,null,null,null,0]
[null,null,{"$f":"COUNTIF(M3188,\"*\"&PROFILE!$C$68&\"*\")","v":1},null,null,null,null,null,null,null,null,null,{"$f":"CONCATENATE(\"Total \",PROFILE!C68,\" Leaders\")","v":"Total  Leaders"},"",null,null,null,null,null,null,null,null,0]
[null,null,{"$f":"COUNTIF(M3189,\"*\"&PROFILE!$C$69&\"*\")","v":1},null,null,null,null,null,null,null,null,null,{"$f":"CONCATENATE(\"Total \",PROFILE!C69,\" Leaders\")","v":"Total  Leaders"},"",null,null,null,null,null,null,null,null,0]
[null,null,{"$f":"COUNTIF(M3190,\"*\"&PROFILE!$C$70&\"*\")","v":1},null,null,null,null,null,null,null,null,null,{"$f":"CONCATENATE(\"Total \",PROFILE!C70,\" Leaders\")","v":"Total  Leaders"},"",null,null,null,null,null,null,null,null,0]
[null,null,{"$f":"COUNTIF(M3191,\"*\"&PROFILE!$C$71&\"*\")","v":1},null,null,null,null,null,null,null,null,null,{"$f":"CONCATENATE(\"Total \",PROFILE!C71,\" Leaders\")","v":"Total  Leaders"},"",null,null,null,null,null,null,null,null,0]
[null,null,{"$f":"COUNTIF(M3192,\"*\"&PROFILE!$C$72&\"*\")","v":1},null,null,null,null,null,null,null,null,null,{"$f":"CONCATENATE(\"Total \",PROFILE!C72,\" Leaders\")","v":"Total  Leaders"},"",null,null,null,null,null,null,null,null,0]
[null,null,null,null,null,null,null,null,null,null,null,null,null,null,null,null,null,null,null,null,null,null,{"$f":"IF(OR($P$74=\"enabled\"),1,0)","v":0}]
[null,null,{"$f":"COUNTIF(M3194,\"*\"&PROFILE!$C$58&\"*\")","v":1},null,null,null,null,null,null,null,null,null,{"$f":"CONCATENATE(\"Total \",PROFILE!C58,\" Executives\")","v":"Total  Executives"},"",null,null,null,null,null,null,null,null,{"$f":"IF(AND(OR($Q$74=\"enabled\"),C3194=1),1,0)","v":0}]
[null,null,{"$f":"COUNTIF(M3195,\"*\"&PROFILE!$C$59&\"*\")","v":1},null,null,null,null,null,null,null,null,null,{"$f":"CONCATENATE(\"Total \",PROFILE!C59,\" Executives\")","v":"Total  Executives"},"",null,null,null,null,null,null,null,null,{"$f":"IF(AND(OR($Q$74=\"enabled\"),C3195=1),1,0)","v":0}]
[null,null,{"$f":"COUNTIF(M3196,\"*\"&PROFILE!$C$60&\"*\")","v":1},null,null,null,null,null,null,null,null,null,{"$f":"CONCATENATE(\"Total \",PROFILE!C60,\" Executives\")","v":"Total  Executives"},"",null,null,null,null,null,null,null,null,0]
[null,null,{"$f":"COUNTIF(M3197,\"*\"&PROFILE!$C$61&\"*\")","v":1},null,null,null,null,null,null,null,null,null,{"$f":"CONCATENATE(\"Total \",PROFILE!C61,\" Executives\")","v":"Total  Executives"},"",null,null,null,null,null,null,null,null,0]
[null,null,{"$f":"COUNTIF(M3198,\"*\"&PROFILE!$C$62&\"*\")","v":1},null,null,null,null,null,null,null,null,null,{"$f":"CONCATENATE(\"Total \",PROFILE!C62,\" Executives\")","v":"Total  Executives"},"",null,null,null,null,null,null,null,null,0]
[null,null,{"$f":"COUNTIF(M3199,\"*\"&PROFILE!$C$63&\"*\")","v":1},null,null,null,null,null,null,null,null,null,{"$f":"CONCATENATE(\"Total \",PROFILE!C63,\" Executives\")","v":"Total  Executives"},"",null,null,null,null,null,null,null,null,0]
[null,null,{"$f":"COUNTIF(M3200,\"*\"&PROFILE!$C$64&\"*\")","v":1},null,null,null,null,null,null,null,null,null,{"$f":"CONCATENATE(\"Total \",PROFILE!C64,\" Executives\")","v":"Total  Executives"},"",null,null,null,null,null,null,null,null,0]
[null,null,{"$f":"COUNTIF(M3201,\"*\"&PROFILE!$C$65&\"*\")","v":1},null,null,null,null,null,null,null,null,null,{"$f":"CONCATENATE(\"Total \",PROFILE!C65,\" Executives\")","v":"Total  Executives"},"",null,null,null,null,null,null,null,null,0]
[null,null,{"$f":"COUNTIF(M3202,\"*\"&PROFILE!$C$66&\"*\")","v":1},null,null,null,null,null,null,null,null,null,{"$f":"CONCATENATE(\"Total \",PROFILE!C66,\" Executives\")","v":"Total  Executives"},"",null,null,null,null,null,null,null,null,0]
[null,null,{"$f":"COUNTIF(M3203,\"*\"&PROFILE!$C$67&\"*\")","v":1},null,null,null,null,null,null,null,null,null,{"$f":"CONCATENATE(\"Total \",PROFILE!C67,\" Executives\")","v":"Total  Executives"},"",null,null,null,null,null,null,null,null,0]
[null,null,{"$f":"COUNTIF(M3204,\"*\"&PROFILE!$C$68&\"*\")","v":1},null,null,null,null,null,null,null,null,null,{"$f":"CONCATENATE(\"Total \",PROFILE!C68,\" Executives\")","v":"Total  Executives"},"",null,null,null,null,null,null,null,null,0]
[null,null,{"$f":"COUNTIF(M3205,\"*\"&PROFILE!$C$69&\"*\")","v":1},null,null,null,null,null,null,null,null,null,{"$f":"CONCATENATE(\"Total \",PROFILE!C69,\" Executives\")","v":"Total  Executives"},"",null,null,null,null,null,null,null,null,0]
[null,null,{"$f":"COUNTIF(M3206,\"*\"&PROFILE!$C$70&\"*\")","v":1},null,null,null,null,null,null,null,null,null,{"$f":"CONCATENATE(\"Total \",PROFILE!C70,\" Executives\")","v":"Total  Executives"},"",null,null,null,null,null,null,null,null,0]
[null,null,{"$f":"COUNTIF(M3207,\"*\"&PROFILE!$C$71&\"*\")","v":1},null,null,null,null,null,null,null,null,null,{"$f":"CONCATENATE(\"Total \",PROFILE!C71,\" Executives\")","v":"Total  Executives"},"",null,null,null,null,null,null,null,null,0]
[null,null,{"$f":"COUNTIF(M3208,\"*\"&PROFILE!$C$72&\"*\")","v":1},null,null,null,null,null,null,null,null,null,{"$f":"CONCATENATE(\"Total \",PROFILE!C72,\" Executives\")","v":"Total  Executives"},"",null,null,null,null,null,null,null,null,0]
[null,null,null,null,null,null,null,null,null,null,null,null,null,null,null,null,null,null,null,null,null,null,{"$f":"IF(OR($Q$74=\"enabled\"),1,0)","v":0}]
[null,null,null,null,null,null,null,null,null,null,null,null,null,null,null,"Agency Internal Workforce Development by Sex",null,null,null,null,null,null,{"$f":"IF(OR($O$75=\"enabled\",$P$75=\"enabled\",$Q$75=\"enabled\"),1,0)","v":0}]
[null,null,null,null,null,null,null,null,null,null,null,null,null,{"$f":"'CENTRAL DATA'!$H$12","v":"FY-2"},{"$f":"'CENTRAL DATA'!$H$13","v":"FY-1"},{"$f":"IF(PROFILE!$L$43=\"Fiscal Year WFP\",'CENTRAL DATA'!$H$14,IF(PROFILE!$L$43=\"Snapshot\",CONCATENATE(\"As of \",TEXT(PROFILE!$N$44,\"mm/dd/yy\"),\"\")))","v":false},null,null,null,null,null,null,{"$f":"IF(OR($O$75=\"enabled\",$P$75=\"enabled\",$Q$75=\"enabled\"),1,0)","v":0}]
[null,null,null,null,null,null,null,null,null,null,null,null,null,null,null,null,null,null,null,null,null,null,0]
[null,null,null,null,null,null,null,null,null,null,null,null,"Male","",null,null,null,null,null,null,null,null,{"$f":"IF(OR($O$75=\"enabled\"),1,0)","v":0}]
[null,null,null,null,null,null,null,null,null,null,null,null,"Female","",null,null,null,null,null,null,null,null,{"$f":"IF(OR($O$75=\"enabled\"),1,0)","v":0}]
[null,null,null,null,null,null,null,null,null,null,null,null,null,null,null,null,null,null,null,null,null,null,0]
[null,null,null,null,null,null,null,null,null,null,null,null,"Male Leaders","",null,null,null,null,null,null,null,null,{"$f":"IF(OR($P$75=\"enabled\"),1,0)","v":0}]
[null,null,null,null,null,null,null,null,null,null,null,null,"Female Leaders","",null,null,null,null,null,null,null,null,{"$f":"IF(OR($P$75=\"enabled\"),1,0)","v":0}]
[null,null,null,null,null,null,null,null,null,null,null,null,null,null,null,null,null,null,null,null,null,null,0]
[null,null,null,null,null,null,null,null,null,null,null,null,"Male Executives","",null,null,null,null,null,null,null,null,{"$f":"IF(OR($Q$75=\"enabled\"),1,0)","v":0}]
[null,null,null,null,null,null,null,null,null,null,null,null,"Female Executives","",null,null,null,null,null,null,null,null,{"$f":"IF(OR($Q$75=\"enabled\"),1,0)","v":0}]
[null,null,null,null,null,null,null,null,null,null,null,null,null,null,null,null,null,null,null,null,null,null,0]
[null,null,null,null,null,null,null,null,null,null,null,null,null,null,null,"Agency Internal Workforce Development by Race",null,null,null,null,null,null,{"$f":"IF(OR($O$76=\"enabled\",$P$76=\"enabled\",$Q$76=\"enabled\"),1,0)","v":0}]
[null,null,null,null,null,null,null,null,null,null,null,null,null,{"$f":"'CENTRAL DATA'!$H$12","v":"FY-2"},{"$f":"'CENTRAL DATA'!$H$13","v":"FY-1"},{"$f":"IF(PROFILE!$L$43=\"Fiscal Year WFP\",'CENTRAL DATA'!$H$14,IF(PROFILE!$L$43=\"Snapshot\",CONCATENATE(\"As of \",TEXT(PROFILE!$N$44,\"mm/dd/yy\"),\"\")))","v":false},null,null,null,null,null,null,{"$f":"IF(OR($O$76=\"enabled\",$P$76=\"enabled\",$Q$76=\"enabled\"),1,0)","v":0}]
[null,null,null,null,null,null,null,null,null,null,null,null,null,null,null,null,null,null,null,null,null,null,0]
[null,null,null,null,null,null,null,null,null,null,null,null,"Minority Employees","",null,null,null,null,null,null,null,null,{"$f":"IF(OR($O$76=\"enabled\"),1,0)","v":0}]
[null,null,null,null,null,null,null,null,null,null,null,null,"Non-Minority Employees","",null,null,null,null,null,null,null,null,{"$f":"IF(OR($O$76=\"enabled\"),1,0)","v":0}]
[null,null,null,null,null,null,null,null,null,null,null,null,null,null,null,null,null,null,null,null,null,null,0]
[null,null,null,null,null,null,null,null,null,null,null,null,"Minority Leaders","",null,null,null,null,null,null,null,null,{"$f":"IF(OR($P$76=\"enabled\"),1,0)","v":0}]
[null,null,null,null,null,null,null,null,null,null,null,null,"Non-Minority Leaders","",null,null,null,null,null,null,null,null,{"$f":"IF(OR($P$76=\"enabled\"),1,0)","v":0}]
[null,null,null,null,null,null,null,null,null,null,null,null,null,null,null,null,null,null,null,null,null,null,0]
[null,null,null,null,null,null,null,null,null,null,null,null,"Minority Executives","",null,null,null,null,null,null,null,null,{"$f":"IF(OR($Q$76=\"enabled\"),1,0)","v":0}]
[null,null,null,null,null,null,null,null,null,null,null,null,"Non-Minority Executives","",null,null,null,null,null,null,null,null,{"$f":"IF(OR($Q$76=\"enabled\"),1,0)","v":0}]
[null,null,null,null,null,null,null,null,null,null,null,null,null,null,null,null,null,null,null,null,null,null,0]
[null,null,null,null,null,null,null,null,null,null,null,null,null,null,null,"Agency Internal Workforce Development by Additional Demographics",null,null,null,null,null,null,{"$f":"IF(OR($O$77=\"enabled\",$P$77=\"enabled\",$Q$77=\"enabled\"),1,0)","v":0}]
[null,null,null,null,null,null,null,null,null,null,null,null,null,{"$f":"'CENTRAL DATA'!$H$12","v":"FY-2"},{"$f":"'CENTRAL DATA'!$H$13","v":"FY-1"},{"$f":"IF(PROFILE!$L$43=\"Fiscal Year WFP\",'CENTRAL DATA'!$H$14,IF(PROFILE!$L$43=\"Snapshot\",CONCATENATE(\"As of \",TEXT(PROFILE!$N$44,\"mm/dd/yy\"),\"\")))","v":false},null,null,null,null,null,null,{"$f":"IF(OR($O$77=\"enabled\",$P$77=\"enabled\",$Q$77=\"enabled\"),1,0)","v":0}]
[null,null,null,null,null,null,null,null,null,null,null,null,null,null,null,null,null,null,null,null,null,null,0]
[null,null,null,null,null,null,null,null,null,null,null,null,"Employees with Disabilities","",null,null,null,null,null,null,null,null,{"$f":"IF(OR($O$77=\"enabled\"),1,0)","v":0}]
[null,null,null,null,null,null,null,null,null,null,null,null,"Employees who are Veterans","",null,null,null,null,null,null,null,null,{"$f":"IF(OR($O$77=\"enabled\"),1,0)","v":0}]
[null,null,null,null,null,null,null,null,null,null,null,null,null,null,null,null,null,null,null,null,null,null,0]
[null,null,null,null,null,null,null,null,null,null,null,null,"Leaders with Disabilities","",null,null,null,null,null,null,null,null,{"$f":"IF(OR($P$77=\"enabled\"),1,0)","v":0}]
[null,null,null,null,null,null,null,null,null,null,null,null,"Leaders who are Veterans","",null,null,null,null,null,null,null,null,{"$f":"IF(OR($P$77=\"enabled\"),1,0)","v":0}]
[null,null,null,null,null,null,null,null,null,null,null,null,null,null,null,null,null,null,null,null,null,null,0]
[null,null,null,null,null,null,null,null,null,null,null,null,"Executives with Disabilities","",null,null,null,null,null,null,null,null,{"$f":"IF(OR($Q$77=\"enabled\"),1,0)","v":0}]
[null,null,null,null,null,null,null,null,null,null,null,null,"Executives who are Veterans","",null,null,null,null,null,null,null,null,{"$f":"IF(OR($Q$77=\"enabled\"),1,0)","v":0}]
[null,null,null,null,null,null,null,null,null,null,null,null,null,null,null,null,null,null,null,null,null,null,0]
[null,null,null,null,null,null,null,null,null,null,null,null,null,null,null,"Agency External Workforce Development by EEO Code",null,null,null,null,null,null,{"$f":"IF(OR($O$81=\"enabled\",$P$81=\"enabled\",$Q$81=\"enabled\"),1,0)","v":0}]
[null,null,null,null,null,null,null,null,null,null,null,null,null,{"$f":"'CENTRAL DATA'!$H$12","v":"FY-2"},{"$f":"'CENTRAL DATA'!$H$13","v":"FY-1"},{"$f":"IF(PROFILE!$L$43=\"Fiscal Year WFP\",'CENTRAL DATA'!$H$14,IF(PROFILE!$L$43=\"Snapshot\",CONCATENATE(\"As of \",TEXT(PROFILE!$N$44,\"mm/dd/yy\"),\"\")))","v":false},null,null,null,null,null,null,{"$f":"IF(OR($O$81=\"enabled\",$P$81=\"enabled\",$Q$81=\"enabled\"),1,0)","v":0}]
[null,null,null,null,null,null,null,null,null,null,null,null,null,null,null,null,null,null,null,null,null,null,0]
[null,null,null,null,null,null,null,null,null,null,null,null,"Total EEO Code \"Officials and Administrators\" Employees","",null,null,null,null,null,null,null,null,{"$f":"IF(OR($O$81=\"enabled\"),1,0)","v":0}]
[null,null,null,null,null,null,null,null,null,null,null,null,"Total EEO Code \"Professionals\" Employees","",null,null,null,null,null,null,null,null,{"$f":"IF(OR($O$81=\"enabled\"),1,0)","v":0}]
[null,null,null,null,null,null,null,null,null,null,null,null,"Total EEO Code \"Technicians\" Employees","",null,null,null,null,null,null,null,null,0]
[null,null,null,null,null,null,null,null,null,null,null,null,"Total EEO Code \"Protective Service Workers\" Employees","",null,null,null,null,null,null,null,null,0]
[null,null,null,null,null,null,null,null,null,null,null,null,"Total EEO Code \"Paraprofessionals\" Employees","",null,null,null,null,null,null,null,null,0]
[null,null,null,null,null,null,null,null,null,null,null,null,"Total EEO Code \"Administrative Support\" Employees","",null,null,null,null,null,null,null,null,0]
[null,null,null,null,null,null,null,null,null,null,null,null,"Total EEO Code \"Skilled Craft Workers\" Employees","",null,null,null,null,null,null,null,null,0]
[null,null,null,null,null,null,null,null,null,null,null,null,"Total EEO Code \"Service/Maintenance\" Employees","",null,null,null,null,null,null,null,null,0]
[null,null,null,null,null,null,null,null,null,null,null,null,"Total EEO Code \"Faculty\" Employees","",null,null,null,null,null,null,null,null,0]
[null,null,null,null,null,null,null,null,null,null,null,null,"Total EEO Code \"Other\" Employees","",null,null,null,null,null,null,null,null,0]
[null,null,null,null,null,null,null,null,null,null,null,null,null,null,null,null,null,null,null,null,null,null,0]
[null,null,null,null,null,null,null,null,null,null,null,null,"Total EEO Code \"Officials and Administrators\" Leaders","",null,null,null,null,null,null,null,null,{"$f":"IF(OR($P$81=\"enabled\"),1,0)","v":0}]
[null,null,null,null,null,null,null,null,null,null,null,null,"Total EEO Code \"Professionals\" Leaders","",null,null,null,null,null,null,null,null,{"$f":"IF(OR($P$81=\"enabled\"),1,0)","v":0}]
[null,null,null,null,null,null,null,null,null,null,null,null,"Total EEO Code \"Technicians\" Leaders","",null,null,null,null,null,null,null,null,0]
[null,null,null,null,null,null,null,null,null,null,null,null,"Total EEO Code \"Protective Service Workers\" Leaders","",null,null,null,null,null,null,null,null,0]
[null,null,null,null,null,null,null,null,null,null,null,null,"Total EEO Code \"Paraprofessionals\" Leaders","",null,null,null,null,null,null,null,null,0]
[null,null,null,null,null,null,null,null,null,null,null,null,"Total EEO Code \"Administrative Support\" Leaders","",null,null,null,null,null,null,null,null,0]
[null,null,null,null,null,null,null,null,null,null,null,null,"Total EEO Code \"Skilled Craft Workers\" Leaders","",null,null,null,null,null,null,null,null,0]
[null,null,null,null,null,null,null,null,null,null,null,null,"Total EEO Code \"Service/Maintenance\" Leaders","",null,null,null,null,null,null,null,null,0]
[null,null,null,null,null,null,null,null,null,null,null,null,"Total EEO Code \"Faculty\" Leaders","",null,null,null,null,null,null,null,null,0]
[null,null,null,null,null,null,null,null,null,null,null,null,"Total EEO Code \"Other\" Leaders","",null,null,null,null,null,null,null,null,0]
[null,null,null,null,null,null,null,null,null,null,null,null,null,null,null,null,null,null,null,null,null,null,0]
[null,null,null,null,null,null,null,null,null,null,null,null,"Total EEO Code \"Officials and Administrators\" Executives","",null,null,null,null,null,null,null,null,{"$f":"IF(OR($Q$81=\"enabled\"),1,0)","v":0}]
[null,null,null,null,null,null,null,null,null,null,null,null,"Total EEO Code \"Professionals\" Executives","",null,null,null,null,null,null,null,null,{"$f":"IF(OR($Q$81=\"enabled\"),1,0)","v":0}]
[null,null,null,null,null,null,null,null,null,null,null,null,"Total EEO Code \"Technicians\" Executives","",null,null,null,null,null,null,null,null,0]
[null,null,null,null,null,null,null,null,null,null,null,null,"Total EEO Code \"Protective Service Workers\" Executives","",null,null,null,null,null,null,null,null,0]
[null,null,null,null,null,null,null,null,null,null,null,null,"Total EEO Code \"Paraprofessionals\" Executives","",null,null,null,null,null,null,null,null,0]
[null,null,null,null,null,null,null,null,null,null,null,null,"Total EEO Code \"Administrative Support\" Executives","",null,null,null,null,null,null,null,null,0]
[null,null,null,null,null,null,null,null,null,null,null,null,"Total EEO Code \"Skilled Craft Workers\" Executives","",null,null,null,null,null,null,null,null,0]
[null,null,null,null,null,null,null,null,null,null,null,null,"Total EEO Code \"Service/Maintenance\" Executives","",null,null,null,null,null,null,null,null,0]
[null,null,null,null,null,null,null,null,null,null,null,null,"Total EEO Code \"Faculty\" Executives","",null,null,null,null,null,null,null,null,0]
[null,null,null,null,null,null,null,null,null,null,null,null,"Total EEO Code \"Other\" Executives","",null,null,null,null,null,null,null,null,0]
[null,null,null,null,null,null,null,null,null,null,null,null,null,null,null,null,null,null,null,null,null,null,0]
[null,null,null,null,null,null,null,null,null,null,null,null,null,null,null,"Agency External Workforce Development by Classification",null,null,null,null,null,null,{"$f":"IF(OR($O$82=\"enabled\",$P$82=\"enabled\",$Q$82=\"enabled\"),1,0)","v":0}]
[null,null,null,null,null,null,null,null,null,null,null,null,null,{"$f":"'CENTRAL DATA'!$H$12","v":"FY-2"},{"$f":"'CENTRAL DATA'!$H$13","v":"FY-1"},{"$f":"IF(PROFILE!$L$43=\"Fiscal Year WFP\",'CENTRAL DATA'!$H$14,IF(PROFILE!$L$43=\"Snapshot\",CONCATENATE(\"As of \",TEXT(PROFILE!$N$44,\"mm/dd/yy\"),\"\")))","v":false},null,null,null,null,null,null,{"$f":"IF(OR($O$82=\"enabled\",$P$82=\"enabled\",$Q$82=\"enabled\"),1,0)","v":0}]
[null,null,null,null,null,null,null,null,null,null,null,null,null,null,null,null,null,null,null,null,null,null,0]
[null,null,{"$f":"COUNTIF(M3285,\"*\"&PROFILE!$C$58&\"*\")","v":1},null,null,null,null,null,null,null,null,null,{"$f":"CONCATENATE(\"Total \",PROFILE!C58,\" Employees\")","v":"Total  Employees"},"",null,null,null,null,null,null,null,null,{"$f":"IF(AND(OR($O$82=\"enabled\"),C3285=1),1,0)","v":0}]
[null,null,{"$f":"COUNTIF(M3286,\"*\"&PROFILE!$C$59&\"*\")","v":1},null,null,null,null,null,null,null,null,null,{"$f":"CONCATENATE(\"Total \",PROFILE!C59,\" Employees\")","v":"Total  Employees"},"",null,null,null,null,null,null,null,null,{"$f":"IF(AND(OR($O$82=\"enabled\"),C3286=1),1,0)","v":0}]
[null,null,{"$f":"COUNTIF(M3287,\"*\"&PROFILE!$C$60&\"*\")","v":1},null,null,null,null,null,null,null,null,null,{"$f":"CONCATENATE(\"Total \",PROFILE!C60,\" Employees\")","v":"Total  Employees"},"",null,null,null,null,null,null,null,null,0]
[null,null,{"$f":"COUNTIF(M3288,\"*\"&PROFILE!$C$61&\"*\")","v":1},null,null,null,null,null,null,null,null,null,{"$f":"CONCATENATE(\"Total \",PROFILE!C61,\" Employees\")","v":"Total  Employees"},"",null,null,null,null,null,null,null,null,0]
[null,null,{"$f":"COUNTIF(M3289,\"*\"&PROFILE!$C$62&\"*\")","v":1},null,null,null,null,null,null,null,null,null,{"$f":"CONCATENATE(\"Total \",PROFILE!C62,\" Employees\")","v":"Total  Employees"},"",null,null,null,null,null,null,null,null,0]
[null,null,{"$f":"COUNTIF(M3290,\"*\"&PROFILE!$C$63&\"*\")","v":1},null,null,null,null,null,null,null,null,null,{"$f":"CONCATENATE(\"Total \",PROFILE!C63,\" Employees\")","v":"Total  Employees"},"",null,null,null,null,null,null,null,null,0]
[null,null,{"$f":"COUNTIF(M3291,\"*\"&PROFILE!$C$64&\"*\")","v":1},null,null,null,null,null,null,null,null,null,{"$f":"CONCATENATE(\"Total \",PROFILE!C64,\" Employees\")","v":"Total  Employees"},"",null,null,null,null,null,null,null,null,0]
[null,null,{"$f":"COUNTIF(M3292,\"*\"&PROFILE!$C$65&\"*\")","v":1},null,null,null,null,null,null,null,null,null,{"$f":"CONCATENATE(\"Total \",PROFILE!C65,\" Employees\")","v":"Total  Employees"},"",null,null,null,null,null,null,null,null,0]
[null,null,{"$f":"COUNTIF(M3293,\"*\"&PROFILE!$C$66&\"*\")","v":1},null,null,null,null,null,null,null,null,null,{"$f":"CONCATENATE(\"Total \",PROFILE!C66,\" Employees\")","v":"Total  Employees"},"",null,null,null,null,null,null,null,null,0]
[null,null,{"$f":"COUNTIF(M3294,\"*\"&PROFILE!$C$67&\"*\")","v":1},null,null,null,null,null,null,null,null,null,{"$f":"CONCATENATE(\"Total \",PROFILE!C67,\" Employees\")","v":"Total  Employees"},"",null,null,null,null,null,null,null,null,0]
[null,null,{"$f":"COUNTIF(M3295,\"*\"&PROFILE!$C$68&\"*\")","v":1},null,null,null,null,null,null,null,null,null,{"$f":"CONCATENATE(\"Total \",PROFILE!C68,\" Employees\")","v":"Total  Employees"},"",null,null,null,null,null,null,null,null,0]
[null,null,{"$f":"COUNTIF(M3296,\"*\"&PROFILE!$C$69&\"*\")","v":1},null,null,null,null,null,null,null,null,null,{"$f":"CONCATENATE(\"Total \",PROFILE!C69,\" Employees\")","v":"Total  Employees"},"",null,null,null,null,null,null,null,null,0]
[null,null,{"$f":"COUNTIF(M3297,\"*\"&PROFILE!$C$70&\"*\")","v":1},null,null,null,null,null,null,null,null,null,{"$f":"CONCATENATE(\"Total \",PROFILE!C70,\" Employees\")","v":"Total  Employees"},"",null,null,null,null,null,null,null,null,0]
[null,null,{"$f":"COUNTIF(M3298,\"*\"&PROFILE!$C$71&\"*\")","v":1},null,null,null,null,null,null,null,null,null,{"$f":"CONCATENATE(\"Total \",PROFILE!C71,\" Employees\")","v":"Total  Employees"},"",null,null,null,null,null,null,null,null,0]
[null,null,{"$f":"COUNTIF(M3299,\"*\"&PROFILE!$C$72&\"*\")","v":1},null,null,null,null,null,null,null,null,null,{"$f":"CONCATENATE(\"Total \",PROFILE!C72,\" Employees\")","v":"Total  Employees"},"",null,null,null,null,null,null,null,null,0]
[null,null,null,null,null,null,null,null,null,null,null,null,null,null,null,null,null,null,null,null,null,null,{"$f":"IF(OR($O$82=\"enabled\"),1,0)","v":0}]
[null,null,{"$f":"COUNTIF(M3301,\"*\"&PROFILE!$C$58&\"*\")","v":1},null,null,null,null,null,null,null,null,null,{"$f":"CONCATENATE(\"Total \",PROFILE!C58,\" Leaders\")","v":"Total  Leaders"},"",null,null,null,null,null,null,null,null,{"$f":"IF(AND(OR($P$82=\"enabled\"),C3301=1),1,0)","v":0}]
[null,null,{"$f":"COUNTIF(M3302,\"*\"&PROFILE!$C$59&\"*\")","v":1},null,null,null,null,null,null,null,null,null,{"$f":"CONCATENATE(\"Total \",PROFILE!C59,\" Leaders\")","v":"Total  Leaders"},"",null,null,null,null,null,null,null,null,{"$f":"IF(AND(OR($P$82=\"enabled\"),C3302=1),1,0)","v":0}]
[null,null,{"$f":"COUNTIF(M3303,\"*\"&PROFILE!$C$60&\"*\")","v":1},null,null,null,null,null,null,null,null,null,{"$f":"CONCATENATE(\"Total \",PROFILE!C60,\" Leaders\")","v":"Total  Leaders"},"",null,null,null,null,null,null,null,null,0]
[null,null,{"$f":"COUNTIF(M3304,\"*\"&PROFILE!$C$61&\"*\")","v":1},null,null,null,null,null,null,null,null,null,{"$f":"CONCATENATE(\"Total \",PROFILE!C61,\" Leaders\")","v":"Total  Leaders"},"",null,null,null,null,null,null,null,null,0]
[null,null,{"$f":"COUNTIF(M3305,\"*\"&PROFILE!$C$62&\"*\")","v":1},null,null,null,null,null,null,null,null,null,{"$f":"CONCATENATE(\"Total \",PROFILE!C62,\" Leaders\")","v":"Total  Leaders"},"",null,null,null,null,null,null,null,null,0]
[null,null,{"$f":"COUNTIF(M3306,\"*\"&PROFILE!$C$63&\"*\")","v":1},null,null,null,null,null,null,null,null,null,{"$f":"CONCATENATE(\"Total \",PROFILE!C63,\" Leaders\")","v":"Total  Leaders"},"",null,null,null,null,null,null,null,null,0]
[null,null,{"$f":"COUNTIF(M3307,\"*\"&PROFILE!$C$64&\"*\")","v":1},null,null,null,null,null,null,null,null,null,{"$f":"CONCATENATE(\"Total \",PROFILE!C64,\" Leaders\")","v":"Total  Leaders"},"",null,null,null,null,null,null,null,null,0]
[null,null,{"$f":"COUNTIF(M3308,\"*\"&PROFILE!$C$65&\"*\")","v":1},null,null,null,null,null,null,null,null,null,{"$f":"CONCATENATE(\"Total \",PROFILE!C65,\" Leaders\")","v":"Total  Leaders"},"",null,null,null,null,null,null,null,null,0]
[null,null,{"$f":"COUNTIF(M3309,\"*\"&PROFILE!$C$66&\"*\")","v":1},null,null,null,null,null,null,null,null,null,{"$f":"CONCATENATE(\"Total \",PROFILE!C66,\" Leaders\")","v":"Total  Leaders"},"",null,null,null,null,null,null,null,null,0]
[null,null,{"$f":"COUNTIF(M3310,\"*\"&PROFILE!$C$67&\"*\")","v":1},null,null,null,null,null,null,null,null,null,{"$f":"CONCATENATE(\"Total \",PROFILE!C67,\" Leaders\")","v":"Total  Leaders"},"",null,null,null,null,null,null,null,null,0]
[null,null,{"$f":"COUNTIF(M3311,\"*\"&PROFILE!$C$68&\"*\")","v":1},null,null,null,null,null,null,null,null,null,{"$f":"CONCATENATE(\"Total \",PROFILE!C68,\" Leaders\")","v":"Total  Leaders"},"",null,null,null,null,null,null,null,null,0]
[null,null,{"$f":"COUNTIF(M3312,\"*\"&PROFILE!$C$69&\"*\")","v":1},null,null,null,null,null,null,null,null,null,{"$f":"CONCATENATE(\"Total \",PROFILE!C69,\" Leaders\")","v":"Total  Leaders"},"",null,null,null,null,null,null,null,null,0]
[null,null,{"$f":"COUNTIF(M3313,\"*\"&PROFILE!$C$70&\"*\")","v":1},null,null,null,null,null,null,null,null,null,{"$f":"CONCATENATE(\"Total \",PROFILE!C70,\" Leaders\")","v":"Total  Leaders"},"",null,null,null,null,null,null,null,null,0]
[null,null,{"$f":"COUNTIF(M3314,\"*\"&PROFILE!$C$71&\"*\")","v":1},null,null,null,null,null,null,null,null,null,{"$f":"CONCATENATE(\"Total \",PROFILE!C71,\" Leaders\")","v":"Total  Leaders"},"",null,null,null,null,null,null,null,null,0]
[null,null,{"$f":"COUNTIF(M3315,\"*\"&PROFILE!$C$72&\"*\")","v":1},null,null,null,null,null,null,null,null,null,{"$f":"CONCATENATE(\"Total \",PROFILE!C72,\" Leaders\")","v":"Total  Leaders"},"",null,null,null,null,null,null,null,null,0]
[null,null,null,null,null,null,null,null,null,null,null,null,null,null,null,null,null,null,null,null,null,null,{"$f":"IF(OR($P$82=\"enabled\"),1,0)","v":0}]
[null,null,{"$f":"COUNTIF(M3317,\"*\"&PROFILE!$C$58&\"*\")","v":1},null,null,null,null,null,null,null,null,null,{"$f":"CONCATENATE(\"Total \",PROFILE!C58,\" Executives\")","v":"Total  Executives"},"",null,null,null,null,null,null,null,null,{"$f":"IF(AND(OR($Q$82=\"enabled\"),C3317=1),1,0)","v":0}]
[null,null,{"$f":"COUNTIF(M3318,\"*\"&PROFILE!$C$59&\"*\")","v":1},null,null,null,null,null,null,null,null,null,{"$f":"CONCATENATE(\"Total \",PROFILE!C59,\" Executives\")","v":"Total  Executives"},"",null,null,null,null,null,null,null,null,{"$f":"IF(AND(OR($Q$82=\"enabled\"),C3318=1),1,0)","v":0}]
[null,null,{"$f":"COUNTIF(M3319,\"*\"&PROFILE!$C$60&\"*\")","v":1},null,null,null,null,null,null,null,null,null,{"$f":"CONCATENATE(\"Total \",PROFILE!C60,\" Executives\")","v":"Total  Executives"},"",null,null,null,null,null,null,null,null,0]
[null,null,{"$f":"COUNTIF(M3320,\"*\"&PROFILE!$C$61&\"*\")","v":1},null,null,null,null,null,null,null,null,null,{"$f":"CONCATENATE(\"Total \",PROFILE!C61,\" Executives\")","v":"Total  Executives"},"",null,null,null,null,null,null,null,null,0]
[null,null,{"$f":"COUNTIF(M3321,\"*\"&PROFILE!$C$62&\"*\")","v":1},null,null,null,null,null,null,null,null,null,{"$f":"CONCATENATE(\"Total \",PROFILE!C62,\" Executives\")","v":"Total  Executives"},"",null,null,null,null,null,null,null,null,0]
[null,null,{"$f":"COUNTIF(M3322,\"*\"&PROFILE!$C$63&\"*\")","v":1},null,null,null,null,null,null,null,null,null,{"$f":"CONCATENATE(\"Total \",PROFILE!C63,\" Executives\")","v":"Total  Executives"},"",null,null,null,null,null,null,null,null,0]
[null,null,{"$f":"COUNTIF(M3323,\"*\"&PROFILE!$C$64&\"*\")","v":1},null,null,null,null,null,null,null,null,null,{"$f":"CONCATENATE(\"Total \",PROFILE!C64,\" Executives\")","v":"Total  Executives"},"",null,null,null,null,null,null,null,null,0]
[null,null,{"$f":"COUNTIF(M3324,\"*\"&PROFILE!$C$65&\"*\")","v":1},null,null,null,null,null,null,null,null,null,{"$f":"CONCATENATE(\"Total \",PROFILE!C65,\" Executives\")","v":"Total  Executives"},"",null,null,null,null,null,null,null,null,0]
[null,null,{"$f":"COUNTIF(M3325,\"*\"&PROFILE!$C$66&\"*\")","v":1},null,null,null,null,null,null,null,null,null,{"$f":"CONCATENATE(\"Total \",PROFILE!C66,\" Executives\")","v":"Total  Executives"},"",null,null,null,null,null,null,null,null,0]
[null,null,{"$f":"COUNTIF(M3326,\"*\"&PROFILE!$C$67&\"*\")","v":1},null,null,null,null,null,null,null,null,null,{"$f":"CONCATENATE(\"Total \",PROFILE!C67,\" Executives\")","v":"Total  Executives"},"",null,null,null,null,null,null,null,null,0]
[null,null,{"$f":"COUNTIF(M3327,\"*\"&PROFILE!$C$68&\"*\")","v":1},null,null,null,null,null,null,null,null,null,{"$f":"CONCATENATE(\"Total \",PROFILE!C68,\" Executives\")","v":"Total  Executives"},"",null,null,null,null,null,null,null,null,0]
[null,null,{"$f":"COUNTIF(M3328,\"*\"&PROFILE!$C$69&\"*\")","v":1},null,null,null,null,null,null,null,null,null,{"$f":"CONCATENATE(\"Total \",PROFILE!C69,\" Executives\")","v":"Total  Executives"},"",null,null,null,null,null,null,null,null,0]
[null,null,{"$f":"COUNTIF(M3329,\"*\"&PROFILE!$C$70&\"*\")","v":1},null,null,null,null,null,null,null,null,null,{"$f":"CONCATENATE(\"Total \",PROFILE!C70,\" Executives\")","v":"Total  Executives"},"",null,null,null,null,null,null,null,null,0]
[null,null,{"$f":"COUNTIF(M3330,\"*\"&PROFILE!$C$71&\"*\")","v":1},null,null,null,null,null,null,null,null,null,{"$f":"CONCATENATE(\"Total \",PROFILE!C71,\" Executives\")","v":"Total  Executives"},"",null,null,null,null,null,null,null,null,0]
[null,null,{"$f":"COUNTIF(M3331,\"*\"&PROFILE!$C$72&\"*\")","v":1},null,null,null,null,null,null,null,null,null,{"$f":"CONCATENATE(\"Total \",PROFILE!C72,\" Executives\")","v":"Total  Executives"},"",null,null,null,null,null,null,null,null,0]
[null,null,null,null,null,null,null,null,null,null,null,null,null,null,null,null,null,null,null,null,null,null,{"$f":"IF(OR($Q$82=\"enabled\"),1,0)","v":0}]
[null,null,null,null,null,null,null,null,null,null,null,null,null,null,null,"Agency External Workforce Development by Sex",null,null,null,null,null,null,{"$f":"IF(OR($O$83=\"enabled\",$P$83=\"enabled\",$Q$83=\"enabled\"),1,0)","v":0}]
[null,null,null,null,null,null,null,null,null,null,null,null,null,{"$f":"'CENTRAL DATA'!$H$12","v":"FY-2"},{"$f":"'CENTRAL DATA'!$H$13","v":"FY-1"},{"$f":"IF(PROFILE!$L$43=\"Fiscal Year WFP\",'CENTRAL DATA'!$H$14,IF(PROFILE!$L$43=\"Snapshot\",CONCATENATE(\"As of \",TEXT(PROFILE!$N$44,\"mm/dd/yy\"),\"\")))","v":false},null,null,null,null,null,null,{"$f":"IF(OR($O$83=\"enabled\",$P$83=\"enabled\",$Q$83=\"enabled\"),1,0)","v":0}]
[null,null,null,null,null,null,null,null,null,null,null,null,null,null,null,null,null,null,null,null,null,null,0]
[null,null,null,null,null,null,null,null,null,null,null,null,"Male","",null,null,null,null,null,null,null,null,{"$f":"IF(OR($O$83=\"enabled\"),1,0)","v":0}]
[null,null,null,null,null,null,null,null,null,null,null,null,"Female","",null,null,null,null,null,null,null,null,{"$f":"IF(OR($O$83=\"enabled\"),1,0)","v":0}]
[null,null,null,null,null,null,null,null,null,null,null,null,null,null,null,null,null,null,null,null,null,null,0]
[null,null,null,null,null,null,null,null,null,null,null,null,"Male Leaders","",null,null,null,null,null,null,null,null,{"$f":"IF(OR($P$83=\"enabled\"),1,0)","v":0}]
[null,null,null,null,null,null,null,null,null,null,null,null,"Female Leaders","",null,null,null,null,null,null,null,null,{"$f":"IF(OR($P$83=\"enabled\"),1,0)","v":0}]
[null,null,null,null,null,null,null,null,null,null,null,null,null,null,null,null,null,null,null,null,null,null,0]
[null,null,null,null,null,null,null,null,null,null,null,null,"Male Executives","",null,null,null,null,null,null,null,null,{"$f":"IF(OR($Q$83=\"enabled\"),1,0)","v":0}]
[null,null,null,null,null,null,null,null,null,null,null,null,"Female Executives","",null,null,null,null,null,null,null,null,{"$f":"IF(OR($Q$83=\"enabled\"),1,0)","v":0}]
[null,null,null,null,null,null,null,null,null,null,null,null,null,null,null,null,null,null,null,null,null,null,0]
[null,null,null,null,null,null,null,null,null,null,null,null,null,null,null,"Agency External Workforce Development by Race",null,null,null,null,null,null,{"$f":"IF(OR($O$84=\"enabled\",$P$84=\"enabled\",$Q$84=\"enabled\"),1,0)","v":0}]
[null,null,null,null,null,null,null,null,null,null,null,null,null,{"$f":"'CENTRAL DATA'!$H$12","v":"FY-2"},{"$f":"'CENTRAL DATA'!$H$13","v":"FY-1"},{"$f":"IF(PROFILE!$L$43=\"Fiscal Year WFP\",'CENTRAL DATA'!$H$14,IF(PROFILE!$L$43=\"Snapshot\",CONCATENATE(\"As of \",TEXT(PROFILE!$N$44,\"mm/dd/yy\"),\"\")))","v":false},null,null,null,null,null,null,{"$f":"IF(OR($O$84=\"enabled\",$P$84=\"enabled\",$Q$84=\"enabled\"),1,0)","v":0}]
[null,null,null,null,null,null,null,null,null,null,null,null,null,null,null,null,null,null,null,null,null,null,0]
[null,null,null,null,null,null,null,null,null,null,null,null,"Minority Employees","",null,null,null,null,null,null,null,null,{"$f":"IF(OR($O$84=\"enabled\"),1,0)","v":0}]
[null,null,null,null,null,null,null,null,null,null,null,null,"Non-Minority Employees","",null,null,null,null,null,null,null,null,{"$f":"IF(OR($O$84=\"enabled\"),1,0)","v":0}]
[null,null,null,null,null,null,null,null,null,null,null,null,null,null,null,null,null,null,null,null,null,null,0]
[null,null,null,null,null,null,null,null,null,null,null,null,"Minority Leaders","",null,null,null,null,null,null,null,null,{"$f":"IF(OR($P$84=\"enabled\"),1,0)","v":0}]
[null,null,null,null,null,null,null,null,null,null,null,null,"Non-Minority Leaders","",null,null,null,null,null,null,null,null,{"$f":"IF(OR($P$84=\"enabled\"),1,0)","v":0}]
[null,null,null,null,null,null,null,null,null,null,null,null,null,null,null,null,null,null,null,null,null,null,0]
[null,null,null,null,null,null,null,null,null,null,null,null,"Minority Executives","",null,null,null,null,null,null,null,null,{"$f":"IF(OR($Q$84=\"enabled\"),1,0)","v":0}]
[null,null,null,null,null,null,null,null,null,null,null,null,"Non-Minority Executives","",null,null,null,null,null,null,null,null,{"$f":"IF(OR($Q$84=\"enabled\"),1,0)","v":0}]
[null,null,null,null,null,null,null,null,null,null,null,null,null,null,null,null,null,null,null,null,null,null,0]
[null,null,null,null,null,null,null,null,null,null,null,null,null,null,null,"Agency External Workforce Development by Additional Demographics",null,null,null,null,null,null,{"$f":"IF(OR($O$85=\"enabled\",$P$85=\"enabled\",$Q$85=\"enabled\"),1,0)","v":0}]
[null,null,null,null,null,null,null,null,null,null,null,null,null,{"$f":"'CENTRAL DATA'!$H$12","v":"FY-2"},{"$f":"'CENTRAL DATA'!$H$13","v":"FY-1"},{"$f":"IF(PROFILE!$L$43=\"Fiscal Year WFP\",'CENTRAL DATA'!$H$14,IF(PROFILE!$L$43=\"Snapshot\",CONCATENATE(\"As of \",TEXT(PROFILE!$N$44,\"mm/dd/yy\"),\"\")))","v":false},null,null,null,null,null,null,{"$f":"IF(OR($O$85=\"enabled\",$P$85=\"enabled\",$Q$85=\"enabled\"),1,0)","v":0}]
[null,null,null,null,null,null,null,null,null,null,null,null,null,null,null,null,null,null,null,null,null,null,0]
[null,null,null,null,null,null,null,null,null,null,null,null,"Employees with Disabilities","",null,null,null,null,null,null,null,null,{"$f":"IF(OR($O$85=\"enabled\"),1,0)","v":0}]
[null,null,null,null,null,null,null,null,null,null,null,null,"Employees who are Veterans","",null,null,null,null,null,null,null,null,{"$f":"IF(OR($O$85=\"enabled\"),1,0)","v":0}]
[null,null,null,null,null,null,null,null,null,null,null,null,null,null,null,null,null,null,null,null,null,null,0]
[null,null,null,null,null,null,null,null,null,null,null,null,"Leaders with Disabilities","",null,null,null,null,null,null,null,null,{"$f":"IF(OR($P$85=\"enabled\"),1,0)","v":0}]
[null,null,null,null,null,null,null,null,null,null,null,null,"Leaders who are Veterans","",null,null,null,null,null,null,null,null,{"$f":"IF(OR($P$85=\"enabled\"),1,0)","v":0}]
[null,null,null,null,null,null,null,null,null,null,null,null,null,null,null,null,null,null,null,null,null,null,0]
[null,null,null,null,null,null,null,null,null,null,null,null,"Executives with Disabilities","",null,null,null,null,null,null,null,null,{"$f":"IF(OR($Q$85=\"enabled\"),1,0)","v":0}]
[null,null,null,null,null,null,null,null,null,null,null,null,"Executives who are Veterans","",null,null,null,null,null,null,null,null,{"$f":"IF(OR($Q$85=\"enabled\"),1,0)","v":0}]
[null,null,null,null,null,null,null,null,null,null,null,null,null,null,null,null,null,null,null,null,null,null,0]
[null,null,null,null,null,null,null,null,null,null,null,null,null,null,null,null,null,null,null,null,null,null,1]
[null,null,null,null,null,null,null,null,null,null,null,null,null,null,null,null,null,null,null,null,null,null,0]

{"sheet":"SWOT","index":6,"n_rows":174,"n_cols":23,"rows_kept":174,"cut":false,"hidden":false,"merged":[[166,1,167,12],[166,13,167,15],[168,1,169,15],[19,2,20,12],[21,2,23,15],[60,2,60,3],[60,8,64,15],[65,2,65,3],[65,8,69,15],[70,2,70,3],[70,8,74,15],[60,4,61,7],[99,2,99,3],[99,8,103,15],[104,2,104,3],[104,8,108,15],[6,2,8,14],[9,2,11,14],[14,1,15,12],[14,13,15,15],[16,1,17,15],[109,2,109,3],[109,8,113,15],[99,4,100,7],[128,2,128,3],[128,8,132,15],[104,4,105,7],[109,4,110,7],[114,4,115,7],[128,4,129,7],[121,2,122,12],[123,2,125,15],[114,2,114,3],[114,8,118,15],[127,2,127,3],[127,4,127,7],[127,8,127,15],[157,2,160,15],[133,2,133,3],[133,8,137,15],[138,2,138,3],[138,8,142,15],[143,2,143,3],[143,8,147,15],[155,2,156,13],[133,4,134,7],[148,2,148,3],[148,8,152,15],[138,4,139,7],[143,4,144,7],[148,4,149,7],[26,4,27,7],[31,4,32,7],[25,2,25,3],[25,4,25,7],[25,8,25,15],[26,8,30,15],[31,8,35,15],[26,2,26,3],[31,2,31,3],[36,2,36,3],[41,2,41,3],[46,2,46,3],[59,2,59,3],[59,4,59,7],[41,4,42,7],[36,4,37,7],[46,4,47,7],[53,2,54,12],[55,2,57,15],[59,8,59,15],[36,8,40,15],[41,8,45,15],[46,8,50,15],[65,4,66,7],[70,4,71,7],[75,4,76,7],[80,4,81,7],[94,4,95,7],[89,2,91,15],[93,2,93,3],[93,4,93,7],[93,8,93,15],[94,2,94,3],[94,8,98,15],[87,2,88,12],[75,2,75,3],[75,8,79,15],[80,2,80,3],[80,8,84,15]]}
[null,null,null,null,null,null,null,null,null,null,null,null,null,null,null,null,null,null,null,null,null,null,1]
[null,null,null,null,null,null,null,null,null,null,null,null,null,null,null,null,null,null,null,null,null,null,1]
[null,null,null,null,null,null,null,null,null,null,null,null,null,null,null,null,null,null,null,null,null,null,1]
[null,null,null,null,null,null,null,null,null,null,null,null,null,null,null,null,null,null,null,null,null,null,1]
[null,null,null,null,null,null,null,null,null,null,null,null,null,null,null,null,null,null,null,null,null,null,1]
[null,null,null,null,null,null,null,null,null,null,null,null,null,null,null,null,null,null,null,null,null,null,1]
[null,null,"SWOT ANALYSIS",null,null,null,null,null,null,null,null,null,null,null,null,null,null,null,null,null,null,null,1]
[null,null,null,null,null,null,null,null,null,null,null,null,null,null,null,null,null,null,null,null,null,null,1]
[null,null,null,null,null,null,null,null,null,null,null,null,null,null,null,null,null,null,null,null,null,null,1]
[null,null,"A SWOT analysis (Strengths, Weaknesses, Opportunities, and Threats) is one of many tools organizations can utilize to reflect on their internal and external environments to provide a more holistic view of factors impacting the agency workforce.",null,null,null,null,null,null,null,null,null,null,null,null,null,null,null,null,null,null,null,1]
[null,null,null,null,null,null,null,null,null,null,null,null,null,null,null,null,null,null,null,null,null,null,1]
[null,null,null,null,null,null,null,null,null,null,null,null,null,null,null,null,null,null,null,null,null,null,1]
[null,null,null,null,null,null,null,null,null,null,null,null,null,null,null,null,null,null,null,null,null,null,1]
[null,null,null,null,null,null,null,null,null,null,null,null,null,null,null,null,null,null,null,null,null,null,1]
[null,"Step 1: Complete a SWOT Analysis",null,null,null,null,null,null,null,null,null,null,null,{"$f":"IF(AND(SUM(Q27:Q51)='CENTRAL ANALYSIS'!F19,SUM(SWOT!Q61:Q85)='CENTRAL ANALYSIS'!F20,SUM(SWOT!Q95:Q119)='CENTRAL ANALYSIS'!F21,SUM(SWOT!Q129:Q153)='CENTRAL ANALYSIS'!F22,AND(SUM(Q27:Q47)<>0,SUM(Q61:Q85)<>0,SUM(Q95:Q119)<>0,SUM(Q129:Q153)<>0)),\"Complete\",\"Incomplete\")","v":"Incomplete"},null,null,null,null,null,null,null,null,1]
[null,null,null,null,null,null,null,null,null,null,null,null,null,null,null,null,null,null,null,null,null,null,1]
[null,"INSTRUCTIONS:  See below for a description and instructions of each area of the SWOT analysis. At least one item must be added for each category for the step to be completed.",null,null,null,null,null,null,null,null,null,null,null,null,null,null,null,null,null,null,null,null,1]
[null,null,null,null,null,null,null,null,null,null,null,null,null,null,null,null,null,null,null,null,null,null,1]
[null,null,null,null,null,null,null,null,null,null,null,null,null,null,null,null,null,null,null,null,null,null,1]
[null,null,"Step 1(a): Enter Agency Strengths",null,null,null,null,null,null,null,null,null,null,null,null,null,null,null,null,null,null,null,1]
[null,null,null,null,null,null,null,null,null,null,null,null,null,null,null,null,null,null,null,null,null,null,1]
[null,null,"INSTRUCTIONS: Strengths are elements INTERNAL to the Agency (defined as being within the control of the Agency) that ENHANCE an Agency's ability to meet the agency's workforce needs. Click on the \"Add Strength\" button and then enter a title for the strength and a description that answers they question, \"why is it a strength?\". Up to 5 strengths can be added.",null,null,null,null,null,null,null,null,null,null,null,null,null,null,null,null,null,null,null,1]
[null,null,null,null,null,null,null,null,null,null,null,null,null,null,null,null,null,null,null,null,null,null,1]
[null,null,null,null,null,null,null,null,null,null,null,null,null,null,null,null,null,null,null,null,null,null,1]
[null,null,null,null,null,null,null,null,null,null,null,null,null,null,null,null,null,null,null,null,null,null,1]
[null,null,"Strength Title",null,"Strength Description",null,null,null,"Why is it a Strength?",null,null,null,null,null,null,null,null,null,null,null,null,null,{"$f":"IF('CENTRAL ANALYSIS'!$F$19>=1,1,0)","v":0}]
[null,null,null,null,null,null,null,null,null,null,null,null,null,null,null,null,{"$f":"IF(AND(C27<>\"\",E27<>\"\",I27<>\"\"),1,0)","v":0},null,null,null,null,null,{"$f":"IF('CENTRAL ANALYSIS'!$F$19>=1,1,0)","v":0}]
[null,null,null,null,null,null,null,null,null,null,null,null,null,null,null,null,null,null,null,null,null,null,{"$f":"IF('CENTRAL ANALYSIS'!$F$19>=1,1,0)","v":0}]
[null,null,null,null,null,null,null,null,null,null,null,null,null,null,null,null,null,null,null,null,null,null,{"$f":"IF('CENTRAL ANALYSIS'!$F$19>=1,1,0)","v":0}]
[null,null,null,null,null,null,null,null,null,null,null,null,null,null,null,null,null,null,null,null,null,null,{"$f":"IF('CENTRAL ANALYSIS'!$F$19>=1,1,0)","v":0}]
[null,null,null,null,null,null,null,null,null,null,null,null,null,null,null,null,null,null,null,null,null,null,{"$f":"IF('CENTRAL ANALYSIS'!$F$19>=1,1,0)","v":0}]
[null,null,null,null,null,null,null,null,null,null,null,null,null,null,null,null,{"$f":"IF(AND(C32<>\"\",E32<>\"\",I32<>\"\"),1,0)","v":0},null,null,null,null,null,{"$f":"IF('CENTRAL ANALYSIS'!$F$19>=2,1,0)","v":0}]
[null,null,null,null,null,null,null,null,null,null,null,null,null,null,null,null,null,null,null,null,null,null,{"$f":"IF('CENTRAL ANALYSIS'!$F$19>=2,1,0)","v":0}]
[null,null,null,null,null,null,null,null,null,null,null,null,null,null,null,null,null,null,null,null,null,null,{"$f":"IF('CENTRAL ANALYSIS'!$F$19>=2,1,0)","v":0}]
[null,null,null,null,null,null,null,null,null,null,null,null,null,null,null,null,null,null,null,null,null,null,{"$f":"IF('CENTRAL ANALYSIS'!$F$19>=2,1,0)","v":0}]
[null,null,null,null,null,null,null,null,null,null,null,null,null,null,null,null,null,null,null,null,null,null,{"$f":"IF('CENTRAL ANALYSIS'!$F$19>=2,1,0)","v":0}]
[null,null,null,null,null,null,null,null,null,null,null,null,null,null,null,null,{"$f":"IF(AND(C37<>\"\",E37<>\"\",I37<>\"\"),1,0)","v":0},null,null,null,null,null,{"$f":"IF('CENTRAL ANALYSIS'!$F$19>=3,1,0)","v":0}]
[null,null,null,null,null,null,null,null,null,null,null,null,null,null,null,null,null,null,null,null,null,null,{"$f":"IF('CENTRAL ANALYSIS'!$F$19>=3,1,0)","v":0}]
[null,null,null,null,null,null,null,null,null,null,null,null,null,null,null,null,null,null,null,null,null,null,{"$f":"IF('CENTRAL ANALYSIS'!$F$19>=3,1,0)","v":0}]
[null,null,null,null,null,null,null,null,null,null,null,null,null,null,null,null,null,null,null,null,null,null,{"$f":"IF('CENTRAL ANALYSIS'!$F$19>=3,1,0)","v":0}]
[null,null,null,null,null,null,null,null,null,null,null,null,null,null,null,null,null,null,null,null,null,null,{"$f":"IF('CENTRAL ANALYSIS'!$F$19>=3,1,0)","v":0}]
[null,null,null,null,null,null,null,null,null,null,null,null,null,null,null,null,{"$f":"IF(AND(C42<>\"\",E42<>\"\",I42<>\"\"),1,0)","v":0},null,null,null,null,null,{"$f":"IF('CENTRAL ANALYSIS'!$F$19>=4,1,0)","v":0}]
[null,null,null,null,null,null,null,null,null,null,null,null,null,null,null,null,null,null,null,null,null,null,{"$f":"IF('CENTRAL ANALYSIS'!$F$19>=4,1,0)","v":0}]
[null,null,null,null,null,null,null,null,null,null,null,null,null,null,null,null,null,null,null,null,null,null,{"$f":"IF('CENTRAL ANALYSIS'!$F$19>=4,1,0)","v":0}]
[null,null,null,null,null,null,null,null,null,null,null,null,null,null,null,null,null,null,null,null,null,null,{"$f":"IF('CENTRAL ANALYSIS'!$F$19>=4,1,0)","v":0}]
[null,null,null,null,null,null,null,null,null,null,null,null,null,null,null,null,null,null,null,null,null,null,{"$f":"IF('CENTRAL ANALYSIS'!$F$19>=4,1,0)","v":0}]
[null,null,null,null,null,null,null,null,null,null,null,null,null,null,null,null,{"$f":"IF(AND(C47<>\"\",E47<>\"\",I47<>\"\"),1,0)","v":0},null,null,null,null,null,{"$f":"IF('CENTRAL ANALYSIS'!$F$19>=5,1,0)","v":0}]
[null,null,null,null,null,null,null,null,null,null,null,null,null,null,null,null,null,null,null,null,null,null,{"$f":"IF('CENTRAL ANALYSIS'!$F$19>=5,1,0)","v":0}]
[null,null,null,null,null,null,null,null,null,null,null,null,null,null,null,null,null,null,null,null,null,null,{"$f":"IF('CENTRAL ANALYSIS'!$F$19>=5,1,0)","v":0}]
[null,null,null,null,null,null,null,null,null,null,null,null,null,null,null,null,null,null,null,null,null,null,{"$f":"IF('CENTRAL ANALYSIS'!$F$19>=5,1,0)","v":0}]
[null,null,null,null,null,null,null,null,null,null,null,null,null,null,null,null,null,null,null,null,null,null,{"$f":"IF('CENTRAL ANALYSIS'!$F$19>=5,1,0)","v":0}]
[null,null,null,null,null,null,null,null,null,null,null,null,null,null,null,null,null,null,null,null,null,null,{"$f":"IF('CENTRAL ANALYSIS'!$F$19>=5,1,0)","v":0}]
[null,null,null,null,null,null,null,null,null,null,null,null,null,null,null,null,null,null,null,null,null,null,1]
[null,null,"Step 1(b): Enter Agency Weaknesses",null,null,null,null,null,null,null,null,null,null,null,null,null,null,null,null,null,null,null,1]
[null,null,null,null,null,null,null,null,null,null,null,null,null,null,null,null,null,null,null,null,null,null,1]
[null,null,"INSTRUCTIONS: Weaknesses are elements INTERNAL to the Agency (defined as being within the control of the Agency) that INHIBIT an Agency's ability to meet the agency's workforce needs. Click on the \"Add Weakness\" button and then enter a title for the strength and a description that answers they question, \"why is it a weakness?\". Up to 5 weaknesses can be added.",null,null,null,null,null,null,null,null,null,null,null,null,null,null,null,null,null,null,null,1]
[null,null,null,null,null,null,null,null,null,null,null,null,null,null,null,null,null,null,null,null,null,null,1]
[null,null,null,null,null,null,null,null,null,null,null,null,null,null,null,null,null,null,null,null,null,null,1]
[null,null,null,null,null,null,null,null,null,null,null,null,null,null,null,null,null,null,null,null,null,null,1]
[null,null,"Weakness Title",null,"Weakness Description",null,null,null,"Why is it a Weakness?",null,null,null,null,null,null,null,null,null,null,null,null,null,{"$f":"IF('CENTRAL ANALYSIS'!$F$20>=1,1,0)","v":0}]
[null,null,null,null,null,null,null,null,null,null,null,null,null,null,null,null,{"$f":"IF(AND(C61<>\"\",E61<>\"\",I61<>\"\"),1,0)","v":0},null,null,null,null,null,{"$f":"IF('CENTRAL ANALYSIS'!$F$20>=1,1,0)","v":0}]
[null,null,null,null,null,null,null,null,null,null,null,null,null,null,null,null,null,null,null,null,null,null,{"$f":"IF('CENTRAL ANALYSIS'!$F$20>=1,1,0)","v":0}]
[null,null,null,null,null,null,null,null,null,null,null,null,null,null,null,null,null,null,null,null,null,null,{"$f":"IF('CENTRAL ANALYSIS'!$F$20>=1,1,0)","v":0}]
[null,null,null,null,null,null,null,null,null,null,null,null,null,null,null,null,null,null,null,null,null,null,{"$f":"IF('CENTRAL ANALYSIS'!$F$20>=1,1,0)","v":0}]
[null,null,null,null,null,null,null,null,null,null,null,null,null,null,null,null,null,null,null,null,null,null,{"$f":"IF('CENTRAL ANALYSIS'!$F$20>=1,1,0)","v":0}]
[null,null,null,null,null,null,null,null,null,null,null,null,null,null,null,null,{"$f":"IF(AND(C66<>\"\",E66<>\"\",I66<>\"\"),1,0)","v":0},null,null,null,null,null,{"$f":"IF('CENTRAL ANALYSIS'!$F$20>=2,1,0)","v":0}]
[null,null,null,null,null,null,null,null,null,null,null,null,null,null,null,null,null,null,null,null,null,null,{"$f":"IF('CENTRAL ANALYSIS'!$F$20>=2,1,0)","v":0}]
[null,null,null,null,null,null,null,null,null,null,null,null,null,null,null,null,null,null,null,null,null,null,{"$f":"IF('CENTRAL ANALYSIS'!$F$20>=2,1,0)","v":0}]
[null,null,null,null,null,null,null,null,null,null,null,null,null,null,null,null,null,null,null,null,null,null,{"$f":"IF('CENTRAL ANALYSIS'!$F$20>=2,1,0)","v":0}]
[null,null,null,null,null,null,null,null,null,null,null,null,null,null,null,null,null,null,null,null,null,null,{"$f":"IF('CENTRAL ANALYSIS'!$F$20>=2,1,0)","v":0}]
[null,null,null,null,null,null,null,null,null,null,null,null,null,null,null,null,{"$f":"IF(AND(C71<>\"\",E71<>\"\",I71<>\"\"),1,0)","v":0},null,null,null,null,null,{"$f":"IF('CENTRAL ANALYSIS'!$F$20>=3,1,0)","v":0}]
[null,null,null,null,null,null,null,null,null,null,null,null,null,null,null,null,null,null,null,null,null,null,{"$f":"IF('CENTRAL ANALYSIS'!$F$20>=3,1,0)","v":0}]
[null,null,null,null,null,null,null,null,null,null,null,null,null,null,null,null,null,null,null,null,null,null,{"$f":"IF('CENTRAL ANALYSIS'!$F$20>=3,1,0)","v":0}]
[null,null,null,null,null,null,null,null,null,null,null,null,null,null,null,null,null,null,null,null,null,null,{"$f":"IF('CENTRAL ANALYSIS'!$F$20>=3,1,0)","v":0}]
[null,null,null,null,null,null,null,null,null,null,null,null,null,null,null,null,null,null,null,null,null,null,{"$f":"IF('CENTRAL ANALYSIS'!$F$20>=3,1,0)","v":0}]
[null,null,null,null,null,null,null,null,null,null,null,null,null,null,null,null,{"$f":"IF(AND(C76<>\"\",E76<>\"\",I76<>\"\"),1,0)","v":0},null,null,null,null,null,{"$f":"IF('CENTRAL ANALYSIS'!$F$20>=4,1,0)","v":0}]
[null,null,null,null,null,null,null,null,null,null,null,null,null,null,null,null,null,null,null,null,null,null,{"$f":"IF('CENTRAL ANALYSIS'!$F$20>=4,1,0)","v":0}]
[null,null,null,null,null,null,null,null,null,null,null,null,null,null,null,null,null,null,null,null,null,null,{"$f":"IF('CENTRAL ANALYSIS'!$F$20>=4,1,0)","v":0}]
[null,null,null,null,null,null,null,null,null,null,null,null,null,null,null,null,null,null,null,null,null,null,{"$f":"IF('CENTRAL ANALYSIS'!$F$20>=4,1,0)","v":0}]
[null,null,null,null,null,null,null,null,null,null,null,null,null,null,null,null,null,null,null,null,null,null,{"$f":"IF('CENTRAL ANALYSIS'!$F$20>=4,1,0)","v":0}]
[null,null,null,null,null,null,null,null,null,null,null,null,null,null,null,null,{"$f":"IF(AND(C81<>\"\",E81<>\"\",I81<>\"\"),1,0)","v":0},null,null,null,null,null,{"$f":"IF('CENTRAL ANALYSIS'!$F$20>=5,1,0)","v":0}]
[null,null,null,null,null,null,null,null,null,null,null,null,null,null,null,null,null,null,null,null,null,null,{"$f":"IF('CENTRAL ANALYSIS'!$F$20>=5,1,0)","v":0}]
[null,null,null,null,null,null,null,null,null,null,null,null,null,null,null,null,null,null,null,null,null,null,{"$f":"IF('CENTRAL ANALYSIS'!$F$20>=5,1,0)","v":0}]
[null,null,null,null,null,null,null,null,null,null,null,null,null,null,null,null,null,null,null,null,null,null,{"$f":"IF('CENTRAL ANALYSIS'!$F$20>=5,1,0)","v":0}]
[null,null,null,null,null,null,null,null,null,null,null,null,null,null,null,null,null,null,null,null,null,null,{"$f":"IF('CENTRAL ANALYSIS'!$F$20>=5,1,0)","v":0}]
[null,null,null,null,null,null,null,null,null,null,null,null,null,null,null,null,null,null,null,null,null,null,{"$f":"IF('CENTRAL ANALYSIS'!$F$20>=5,1,0)","v":0}]
[null,null,null,null,null,null,null,null,null,null,null,null,null,null,null,null,null,null,null,null,null,null,1]
[null,null,"Step 1(c): Enter Agency Opportunities",null,null,null,null,null,null,null,null,null,null,null,null,null,null,null,null,null,null,null,1]
[null,null,null,null,null,null,null,null,null,null,null,null,null,null,null,null,null,null,null,null,null,null,1]
[null,null,"INSTRUCTIONS: Opportunities are elements EXTERNAL to the Agency (defined as being within the control of the Agency) that ENHANCE an Agency's ability to meet the agency's workforce needs. Click on the \"Add Opportunity\" button and then enter a title for the strength and a description that answers they question, \"why is it an opportunity?\". Up to 5 opportunities can be added.",null,null,null,null,null,null,null,null,null,null,null,null,null,null,null,null,null,null,null,1]
[null,null,null,null,null,null,null,null,null,null,null,null,null,null,null,null,null,null,null,null,null,null,1]
[null,null,null,null,null,null,null,null,null,null,null,null,null,null,null,null,null,null,null,null,null,null,1]
[null,null,null,null,null,null,null,null,null,null,null,null,null,null,null,null,null,null,null,null,null,null,1]
[null,null,"Opportunity Title",null,"Opportunity Description",null,null,null,"Why is it an Opportunity?",null,null,null,null,null,null,null,null,null,null,null,null,null,{"$f":"IF('CENTRAL ANALYSIS'!$F$21>=1,1,0)","v":0}]
[null,null,null,null,null,null,null,null,null,null,null,null,null,null,null,null,{"$f":"IF(AND(C95<>\"\",E95<>\"\",I95<>\"\"),1,0)","v":0},null,null,null,null,null,{"$f":"IF('CENTRAL ANALYSIS'!$F$21>=1,1,0)","v":0}]
[null,null,null,null,null,null,null,null,null,null,null,null,null,null,null,null,null,null,null,null,null,null,{"$f":"IF('CENTRAL ANALYSIS'!$F$21>=1,1,0)","v":0}]
[null,null,null,null,null,null,null,null,null,null,null,null,null,null,null,null,null,null,null,null,null,null,{"$f":"IF('CENTRAL ANALYSIS'!$F$21>=1,1,0)","v":0}]
[null,null,null,null,null,null,null,null,null,null,null,null,null,null,null,null,null,null,null,null,null,null,{"$f":"IF('CENTRAL ANALYSIS'!$F$21>=1,1,0)","v":0}]
[null,null,null,null,null,null,null,null,null,null,null,null,null,null,null,null,null,null,null,null,null,null,{"$f":"IF('CENTRAL ANALYSIS'!$F$21>=1,1,0)","v":0}]
[null,null,null,null,null,null,null,null,null,null,null,null,null,null,null,null,{"$f":"IF(AND(C100<>\"\",E100<>\"\",I100<>\"\"),1,0)","v":0},null,null,null,null,null,{"$f":"IF('CENTRAL ANALYSIS'!$F$21>=2,1,0)","v":0}]
[null,null,null,null,null,null,null,null,null,null,null,null,null,null,null,null,null,null,null,null,null,null,{"$f":"IF('CENTRAL ANALYSIS'!$F$21>=2,1,0)","v":0}]
[null,null,null,null,null,null,null,null,null,null,null,null,null,null,null,null,null,null,null,null,null,null,{"$f":"IF('CENTRAL ANALYSIS'!$F$21>=2,1,0)","v":0}]
[null,null,null,null,null,null,null,null,null,null,null,null,null,null,null,null,null,null,null,null,null,null,{"$f":"IF('CENTRAL ANALYSIS'!$F$21>=2,1,0)","v":0}]
[null,null,null,null,null,null,null,null,null,null,null,null,null,null,null,null,null,null,null,null,null,null,{"$f":"IF('CENTRAL ANALYSIS'!$F$21>=2,1,0)","v":0}]
[null,null,null,null,null,null,null,null,null,null,null,null,null,null,null,null,{"$f":"IF(AND(C105<>\"\",E105<>\"\",I105<>\"\"),1,0)","v":0},null,null,null,null,null,{"$f":"IF('CENTRAL ANALYSIS'!$F$21>=3,1,0)","v":0}]
[null,null,null,null,null,null,null,null,null,null,null,null,null,null,null,null,null,null,null,null,null,null,{"$f":"IF('CENTRAL ANALYSIS'!$F$21>=3,1,0)","v":0}]
[null,null,null,null,null,null,null,null,null,null,null,null,null,null,null,null,null,null,null,null,null,null,{"$f":"IF('CENTRAL ANALYSIS'!$F$21>=3,1,0)","v":0}]
[null,null,null,null,null,null,null,null,null,null,null,null,null,null,null,null,null,null,null,null,null,null,{"$f":"IF('CENTRAL ANALYSIS'!$F$21>=3,1,0)","v":0}]
[null,null,null,null,null,null,null,null,null,null,null,null,null,null,null,null,null,null,null,null,null,null,{"$f":"IF('CENTRAL ANALYSIS'!$F$21>=3,1,0)","v":0}]
[null,null,null,null,null,null,null,null,null,null,null,null,null,null,null,null,{"$f":"IF(AND(C110<>\"\",E110<>\"\",I110<>\"\"),1,0)","v":0},null,null,null,null,null,{"$f":"IF('CENTRAL ANALYSIS'!$F$21>=4,1,0)","v":0}]
[null,null,null,null,null,null,null,null,null,null,null,null,null,null,null,null,null,null,null,null,null,null,{"$f":"IF('CENTRAL ANALYSIS'!$F$21>=4,1,0)","v":0}]
[null,null,null,null,null,null,null,null,null,null,null,null,null,null,null,null,null,null,null,null,null,null,{"$f":"IF('CENTRAL ANALYSIS'!$F$21>=4,1,0)","v":0}]
[null,null,null,null,null,null,null,null,null,null,null,null,null,null,null,null,null,null,null,null,null,null,{"$f":"IF('CENTRAL ANALYSIS'!$F$21>=4,1,0)","v":0}]
[null,null,null,null,null,null,null,null,null,null,null,null,null,null,null,null,null,null,null,null,null,null,{"$f":"IF('CENTRAL ANALYSIS'!$F$21>=4,1,0)","v":0}]
[null,null,null,null,null,null,null,null,null,null,null,null,null,null,null,null,{"$f":"IF(AND(C115<>\"\",E115<>\"\",I115<>\"\"),1,0)","v":0},null,null,null,null,null,{"$f":"IF('CENTRAL ANALYSIS'!$F$21>=5,1,0)","v":0}]
[null,null,null,null,null,null,null,null,null,null,null,null,null,null,null,null,null,null,null,null,null,null,{"$f":"IF('CENTRAL ANALYSIS'!$F$21>=5,1,0)","v":0}]
[null,null,null,null,null,null,null,null,null,null,null,null,null,null,null,null,null,null,null,null,null,null,{"$f":"IF('CENTRAL ANALYSIS'!$F$21>=5,1,0)","v":0}]
[null,null,null,null,null,null,null,null,null,null,null,null,null,null,null,null,null,null,null,null,null,null,{"$f":"IF('CENTRAL ANALYSIS'!$F$21>=5,1,0)","v":0}]
[null,null,null,null,null,null,null,null,null,null,null,null,null,null,null,null,null,null,null,null,null,null,{"$f":"IF('CENTRAL ANALYSIS'!$F$21>=5,1,0)","v":0}]
[null,null,null,null,null,null,null,null,null,null,null,null,null,null,null,null,null,null,null,null,null,null,{"$f":"IF('CENTRAL ANALYSIS'!$F$21>=5,1,0)","v":0}]
[null,null,null,null,null,null,null,null,null,null,null,null,null,null,null,null,null,null,null,null,null,null,1]
[null,null,"Step 1(d): Enter Agency Threats",null,null,null,null,null,null,null,null,null,null,null,null,null,null,null,null,null,null,null,1]
[null,null,null,null,null,null,null,null,null,null,null,null,null,null,null,null,null,null,null,null,null,null,1]
[null,null,"INSTRUCTIONS: Threats are elements EXTERNAL to the Agency (defined as being within the control of the Agency) that INHIBIT an Agency's ability to meet the agency's workforce needs. Click on the \"Add Threat\" button and then enter a title for the strength and a description that answers they question, \"why is it a threat?\". Up to 5 threats can be added.",null,null,null,null,null,null,null,null,null,null,null,null,null,null,null,null,null,null,null,1]
[null,null,null,null,null,null,null,null,null,null,null,null,null,null,null,null,null,null,null,null,null,null,1]
[null,null,null,null,null,null,null,null,null,null,null,null,null,null,null,null,null,null,null,null,null,null,1]
[null,null,null,null,null,null,null,null,null,null,null,null,null,null,null,null,null,null,null,null,null,null,1]
[null,null,"Threat Title",null,"Threat Description",null,null,null,"Why is it a Threat?",null,null,null,null,null,null,null,null,null,null,null,null,null,{"$f":"IF('CENTRAL ANALYSIS'!$F$22>=1,1,0)","v":0}]
[null,null,null,null,null,null,null,null,null,null,null,null,null,null,null,null,{"$f":"IF(AND(C129<>\"\",E129<>\"\",I129<>\"\"),1,0)","v":0},null,null,null,null,null,{"$f":"IF('CENTRAL ANALYSIS'!$F$22>=1,1,0)","v":0}]
[null,null,null,null,null,null,null,null,null,null,null,null,null,null,null,null,null,null,null,null,null,null,{"$f":"IF('CENTRAL ANALYSIS'!$F$22>=1,1,0)","v":0}]
[null,null,null,null,null,null,null,null,null,null,null,null,null,null,null,null,null,null,null,null,null,null,{"$f":"IF('CENTRAL ANALYSIS'!$F$22>=1,1,0)","v":0}]
[null,null,null,null,null,null,null,null,null,null,null,null,null,null,null,null,null,null,null,null,null,null,{"$f":"IF('CENTRAL ANALYSIS'!$F$22>=1,1,0)","v":0}]
[null,null,null,null,null,null,null,null,null,null,null,null,null,null,null,null,null,null,null,null,null,null,{"$f":"IF('CENTRAL ANALYSIS'!$F$22>=1,1,0)","v":0}]
[null,null,null,null,null,null,null,null,null,null,null,null,null,null,null,null,{"$f":"IF(AND(C134<>\"\",E134<>\"\",I134<>\"\"),1,0)","v":0},null,null,null,null,null,{"$f":"IF('CENTRAL ANALYSIS'!$F$22>=2,1,0)","v":0}]
[null,null,null,null,null,null,null,null,null,null,null,null,null,null,null,null,null,null,null,null,null,null,{"$f":"IF('CENTRAL ANALYSIS'!$F$22>=2,1,0)","v":0}]
[null,null,null,null,null,null,null,null,null,null,null,null,null,null,null,null,null,null,null,null,null,null,{"$f":"IF('CENTRAL ANALYSIS'!$F$22>=2,1,0)","v":0}]
[null,null,null,null,null,null,null,null,null,null,null,null,null,null,null,null,null,null,null,null,null,null,{"$f":"IF('CENTRAL ANALYSIS'!$F$22>=2,1,0)","v":0}]
[null,null,null,null,null,null,null,null,null,null,null,null,null,null,null,null,null,null,null,null,null,null,{"$f":"IF('CENTRAL ANALYSIS'!$F$22>=2,1,0)","v":0}]
[null,null,null,null,null,null,null,null,null,null,null,null,null,null,null,null,{"$f":"IF(AND(C139<>\"\",E139<>\"\",I139<>\"\"),1,0)","v":0},null,null,null,null,null,{"$f":"IF('CENTRAL ANALYSIS'!$F$22>=3,1,0)","v":0}]
[null,null,null,null,null,null,null,null,null,null,null,null,null,null,null,null,null,null,null,null,null,null,{"$f":"IF('CENTRAL ANALYSIS'!$F$22>=3,1,0)","v":0}]
[null,null,null,null,null,null,null,null,null,null,null,null,null,null,null,null,null,null,null,null,null,null,{"$f":"IF('CENTRAL ANALYSIS'!$F$22>=3,1,0)","v":0}]
[null,null,null,null,null,null,null,null,null,null,null,null,null,null,null,null,null,null,null,null,null,null,{"$f":"IF('CENTRAL ANALYSIS'!$F$22>=3,1,0)","v":0}]
[null,null,null,null,null,null,null,null,null,null,null,null,null,null,null,null,null,null,null,null,null,null,{"$f":"IF('CENTRAL ANALYSIS'!$F$22>=3,1,0)","v":0}]
[null,null,null,null,null,null,null,null,null,null,null,null,null,null,null,null,{"$f":"IF(AND(C144<>\"\",E144<>\"\",I144<>\"\"),1,0)","v":0},null,null,null,null,null,{"$f":"IF('CENTRAL ANALYSIS'!$F$22>=4,1,0)","v":0}]
[null,null,null,null,null,null,null,null,null,null,null,null,null,null,null,null,null,null,null,null,null,null,{"$f":"IF('CENTRAL ANALYSIS'!$F$22>=4,1,0)","v":0}]
[null,null,null,null,null,null,null,null,null,null,null,null,null,null,null,null,null,null,null,null,null,null,{"$f":"IF('CENTRAL ANALYSIS'!$F$22>=4,1,0)","v":0}]
[null,null,null,null,null,null,null,null,null,null,null,null,null,null,null,null,null,null,null,null,null,null,{"$f":"IF('CENTRAL ANALYSIS'!$F$22>=4,1,0)","v":0}]
[null,null,null,null,null,null,null,null,null,null,null,null,null,null,null,null,null,null,null,null,null,null,{"$f":"IF('CENTRAL ANALYSIS'!$F$22>=4,1,0)","v":0}]
[null,null,null,null,null,null,null,null,null,null,null,null,null,null,null,null,{"$f":"IF(AND(C149<>\"\",E149<>\"\",I149<>\"\"),1,0)","v":0},null,null,null,null,null,{"$f":"IF('CENTRAL ANALYSIS'!$F$22>=5,1,0)","v":0}]
[null,null,null,null,null,null,null,null,null,null,null,null,null,null,null,null,null,null,null,null,null,null,{"$f":"IF('CENTRAL ANALYSIS'!$F$22>=5,1,0)","v":0}]
[null,null,null,null,null,null,null,null,null,null,null,null,null,null,null,null,null,null,null,null,null,null,{"$f":"IF('CENTRAL ANALYSIS'!$F$22>=5,1,0)","v":0}]
[null,null,null,null,null,null,null,null,null,null,null,null,null,null,null,null,null,null,null,null,null,null,{"$f":"IF('CENTRAL ANALYSIS'!$F$22>=5,1,0)","v":0}]
[null,null,null,null,null,null,null,null,null,null,null,null,null,null,null,null,null,null,null,null,null,null,{"$f":"IF('CENTRAL ANALYSIS'!$F$22>=5,1,0)","v":0}]
[null,null,null,null,null,null,null,null,null,null,null,null,null,null,null,null,null,null,null,null,null,null,{"$f":"IF('CENTRAL ANALYSIS'!$F$22>=5,1,0)","v":0}]
[null,null,null,null,null,null,null,null,null,null,null,null,null,null,null,null,null,null,null,null,null,null,1]
[null,null,"(Optional) Enter SWOT Analysis Items if Not Using Macros",null,null,null,null,null,null,null,null,null,null,null,null,null,null,null,null,null,null,null,1]
[null,null,null,null,null,null,null,null,null,null,null,null,null,null,null,null,null,null,null,null,null,null,1]
[null,null,"If chosen not to use Macros, please enter the total number of items to include for each area of the SWOT Analysis. The worksheet will then need to be filtered manually by going to cell \"W1\" and clicking the Filter Icon. This will display a menu where the checkbox next to \"0\" should be empty. If it is, click the \"OK\" button to display the objective and action item entry cells above. Enter the executive positions information in the cells above.",null,null,null,null,null,null,null,null,null,null,null,null,null,null,null,null,null,null,null,1]
[null,null,null,null,null,null,null,null,null,null,null,null,null,null,null,null,null,null,null,null,null,null,1]
[null,null,null,null,null,null,null,null,null,null,null,null,null,null,null,null,null,null,null,null,null,null,1]
[null,null,null,null,null,null,null,null,null,null,null,null,null,null,null,null,null,null,null,null,null,null,1]
[null,null,null,null,null,null,null,null,null,null,null,null,null,null,"Number of Strengths",null,null,null,null,null,null,null,1]
[null,null,null,null,null,null,null,null,null,null,null,null,null,null,"Number of Weaknesses",null,null,null,null,null,null,null,1]
[null,null,null,null,null,null,null,null,null,null,null,null,null,null,"Number of Opportunities",null,null,null,null,null,null,null,1]
[null,null,null,null,null,null,null,null,null,null,null,null,null,null,"Number of Threats",null,null,null,null,null,null,null,1]
[null,null,null,null,null,null,null,null,null,null,null,null,null,null,null,null,null,null,null,null,null,null,1]
[null,"(Optional) Step 2: Check Spelling",null,null,null,null,null,null,null,null,null,null,null,null,null,null,null,null,null,null,null,null,1]
[null,null,null,null,null,null,null,null,null,null,null,null,null,null,null,null,null,null,null,null,null,null,1]
[null,"INSTRUCTIONS: To check the spelling of items on this tab, please click the blue \"Spell Check This Tab\" button below. Correcting the spelling on this tab will ensure the report is correct as well. ",null,null,null,null,null,null,null,null,null,null,null,null,null,null,null,null,null,null,null,null,1]
[null,null,null,null,null,null,null,null,null,null,null,null,null,null,null,null,null,null,null,null,null,null,1]
[null,null,null,null,null,null,null,null,null,null,null,null,null,null,null,null,null,null,null,null,null,null,1]
[null,null,null,null,null,null,null,null,null,null,null,null,null,null,null,null,null,null,null,null,null,null,1]
[null,null,null,null,null,null,null,null,null,null,null,null,null,null,null,null,null,null,null,null,null,null,1]
[null,null,null,null,null,null,null,null,null,null,null,null,null,null,null,null,null,null,null,null,null,null,0]

{"sheet":"RISK & PREPARDNESS","index":7,"n_rows":414,"n_cols":23,"rows_kept":414,"cut":false,"hidden":false,"merged":[[406,1,407,12],[406,13,407,15],[408,1,409,15],[386,5,389,15],[394,9,394,15],[396,9,396,15],[399,1,400,4],[399,5,403,15],[366,5,369,15],[374,9,374,15],[376,9,376,15],[379,1,380,4],[379,5,383,15],[371,13,371,15],[391,13,391,15],[346,5,349,15],[354,9,354,15],[356,9,356,15],[359,1,360,4],[359,5,363,15],[326,5,329,15],[334,9,334,15],[336,9,336,15],[339,1,340,4],[339,5,343,15],[331,13,331,15],[351,13,351,15],[303,2,304,9],[306,5,309,15],[314,9,314,15],[316,9,316,15],[319,1,320,4],[319,5,323,15],[280,5,285,15],[290,9,290,15],[292,9,292,15],[295,1,296,4],[295,5,299,15],[287,13,287,15],[311,13,311,15],[258,5,263,15],[268,9,268,15],[270,9,270,15],[273,1,274,4],[273,5,277,15],[233,2,234,9],[236,5,241,15],[246,9,246,15],[248,9,248,15],[251,1,252,4],[251,5,255,15],[243,13,243,15],[265,13,265,15],[212,5,215,15],[220,9,220,15],[222,9,222,15],[225,1,226,4],[225,5,229,15],[192,5,195,15],[200,9,200,15],[202,9,202,15],[205,1,206,4],[205,5,209,15],[197,13,197,15],[217,13,217,15],[172,5,175,15],[180,9,180,15],[182,9,182,15],[185,1,186,4],[185,5,189,15],[152,5,155,15],[160,9,160,15],[162,9,162,15],[165,1,166,4],[165,5,169,15],[157,13,157,15],[177,13,177,15],[129,2,130,9],[132,5,135,15],[140,9,140,15],[142,9,142,15],[145,1,146,4],[145,5,149,15],[109,5,111,15],[116,9,116,15],[118,9,118,15],[121,1,122,4],[121,5,125,15],[113,13,113,15],[137,13,137,15],[90,5,92,15],[97,9,97,15],[99,9,99,15],[102,1,103,4],[102,5,106,15],[71,5,73,15],[78,9,78,15],[80,9,80,15],[83,1,84,4],[83,5,87,15],[75,13,75,15],[94,13,94,15],[6,2,8,14],[9,2,12,14],[23,1,24,12],[23,13,24,15],[25,1,28,15],[52,5,54,15],[59,9,59,15],[61,9,61,15],[64,1,65,4],[64,5,68,15],[30,2,31,9],[33,5,35,15],[45,5,49,15],[45,1,46,4],[40,9,40,15],[42,9,42,15],[37,13,37,15],[56,13,56,15],[15,2,17,9]]}
[null,null,null,null,null,null,null,null,null,null,null,null,null,null,null,null,null,null,null,null,null,null,1]
[null,null,null,null,null,null,null,null,null,null,null,null,null,null,null,null,null,null,null,null,null,null,1]
[null,null,null,null,null,null,null,null,null,null,null,null,null,null,null,null,null,null,null,null,null,null,1]
[null,null,null,null,null,null,null,null,null,null,null,null,null,null,null,null,null,null,null,null,null,null,1]
[null,null,null,null,null,null,null,null,null,null,null,null,null,null,null,null,null,null,null,null,null,null,1]
[null,null,null,null,null,null,null,null,null,null,null,null,null,null,null,null,null,null,null,null,null,null,1]
[null,null,"RISK & PREPARDNESS",null,null,null,null,null,null,null,null,null,null,null,null,null,null,null,null,null,null,null,1]
[null,null,null,null,null,null,null,null,null,null,null,null,null,null,null,null,null,null,null,null,null,null,1]
[null,null,null,null,null,null,null,null,null,null,null,null,null,null,null,null,null,null,null,null,null,null,1]
[null,null,"This tab focuses on identifying the level of risk of not achieving an objective and the current level of preparation at the agency to meet the strategic priorities outlined on the Profile Tab to better support alignment between the agency workforce and agency strategic priorities.",null,null,null,null,null,null,null,null,null,null,null,null,null,null,null,null,null,null,null,1]
[null,null,null,null,null,null,null,null,null,null,null,null,null,null,null,null,null,null,null,null,null,null,1]
[null,null,null,null,null,null,null,null,null,null,null,null,null,null,null,null,null,null,null,null,null,null,1]
[null,null,null,null,null,null,null,null,null,null,null,null,null,null,null,null,null,null,null,null,null,null,1]
[null,null,null,null,null,null,null,null,null,null,null,null,null,null,null,null,null,null,null,null,null,null,1]
[null,null,null,null,null,null,null,null,null,null,null,null,null,null,null,null,null,null,null,null,null,null,1]
[null,null,{"$f":"IF(SUMIF($W$1:$W$450,1)<>SUBTOTAL(103,$W$1:$W$450),\"Objectives Needs to be Refreshed. Click the Refresh Button to the Right.\",\"Objectives Are Up to Date.\")","v":"Objectives Are Up to Date."},null,null,null,null,null,null,null,null,null,null,null,null,null,null,null,null,null,null,null,1]
[null,null,null,null,null,null,null,null,null,null,null,null,null,null,null,null,null,null,null,null,null,null,1]
[null,null,null,null,null,null,null,null,null,null,null,null,null,null,null,null,null,null,null,null,null,null,1]
[null,null,null,null,null,null,null,null,null,null,null,null,null,null,null,null,null,null,null,null,null,null,1]
[null,null,null,null,null,null,null,null,null,null,null,null,null,null,null,null,null,null,null,null,null,null,1]
[null,null,null,null,null,null,null,null,null,null,null,null,null,null,null,null,null,null,null,null,null,null,1]
[null,null,null,null,null,null,null,null,null,null,null,null,null,null,null,null,null,null,null,null,null,null,1]
[null,null,null,null,null,null,null,null,null,null,null,null,null,null,null,null,null,null,null,null,null,null,1]
[null,"Step 1: Risk & Preparedness to Meet Strategic Objectives",null,null,null,null,null,null,null,null,null,null,null,{"$f":"IF(AND(SUM(Q33:Q404)=SUM('CENTRAL ANALYSIS'!C21:C24),SUM('CENTRAL ANALYSIS'!C21:C24)<>0),\"Complete\",\"Incomplete\")","v":"Incomplete"},null,null,null,null,null,null,null,null,1]
[null,null,null,null,null,null,null,null,null,null,null,null,null,null,null,null,null,null,null,null,null,null,1]
[null,"INSTRUCTIONS:  For each strategic objective shown (entered on the Profile Tab), please identify the level of risk the agency currently has of not meeting the objective and the current level of preparedness to meet the objective. Next, identify what the agency workforce would need in order to meet the objective. NOTE: If not using macros, the worksheet will need to be manually filtered by going to cell \"W1\", clicking the filter icon, and then clicking \"Ok\".",null,null,null,null,null,null,null,null,null,null,null,null,null,null,null,null,null,null,null,null,1]
[null,null,null,null,null,null,null,null,null,null,null,null,null,null,null,null,null,null,null,null,null,null,1]
[null,null,null,null,null,null,null,null,null,null,null,null,null,null,null,null,null,null,null,null,null,null,1]
[null,null,null,null,null,null,null,null,null,null,null,null,null,null,null,null,null,null,null,null,null,null,1]
[null,null,null,null,null,null,null,null,null,null,null,null,null,null,null,null,null,null,null,null,null,null,1]
[null,null,"Employment Opportunities Plan Objectives",null,null,null,null,null,null,null,null,null,null,null,null,null,null,null,null,null,null,null,{"$f":"IF($F$34<>\"\",1,0)","v":0}]
[null,null,null,null,null,null,null,null,null,null,null,null,null,null,null,null,null,null,null,null,null,null,{"$f":"IF($F$34<>\"\",1,0)","v":0}]
[null,null,null,null,null,null,null,null,null,null,null,null,null,null,null,null,null,null,null,null,null,null,0]
[null,null,null,null,"Objective 1",{"$f":"IF(PROFILE!F148=\"\",\"\",PROFILE!F148)","v":""},null,null,null,null,null,null,null,null,null,null,{"$f":"IF(AND(F34<>\"\",N38<>\"\",I41<>\"\",I43<>\"\",F46<>\"\"),1,0)","v":0},null,null,null,null,null,0]
[null,null,null,null,null,null,null,null,null,null,null,null,null,null,null,null,null,null,null,null,null,null,0]
[null,null,null,null,null,null,null,null,null,null,null,null,null,null,null,null,null,null,null,null,null,null,0]
[null,null,null,null,null,null,null,null,null,null,null,null,null,null,null,null,null,null,null,null,null,null,0]
[null,null,null,null,null,null,null,null,null,null,null,null,"Is this one of the top 3 strategic priorities of the Agency?",null,null,null,null,null,null,null,null,null,0]
[null,null,null,null,null,null,null,null,null,null,null,null,null,null,null,null,null,null,null,null,null,null,0]
[null,null,null,null,null,null,null,null,null,"Low ",null,"Medium",null,"High ",null,"Significant",null,null,null,null,null,null,0]
[null,null,null,null,null,null,null,"Enter the level of risk the agency will NOT meet this objective (between 1 and 100)",null,{"$f":"REPT(\"█\",(I41/2.1))","v":""},null,null,null,null,null,null,null,null,null,null,null,null,0]
[null,null,null,null,null,null,null,null,null,null,null,null,null,null,null,null,null,null,null,null,null,null,0]
[null,null,null,null,null,null,null,"Enter the current preparedness of the Agency to meet this objective (between 1 and 100)",null,{"$f":"REPT(\"█\",(I43/2.1))","v":""},null,null,null,null,null,null,null,null,null,null,null,null,0]
[null,null,null,null,null,null,null,null,null,null,null,null,null,null,null,null,null,null,null,null,null,null,0]
[null,null,null,null,null,null,null,null,null,null,null,null,null,null,null,null,null,null,null,null,null,null,0]
[null,"What does the agency workforce need to meet this objective?",null,null,null,null,null,null,null,null,null,null,null,null,null,null,null,null,null,null,null,null,0]
[null,null,null,null,null,null,null,null,null,null,null,null,null,null,null,null,null,null,null,null,null,null,0]
[null,null,null,null,null,null,null,null,null,null,null,null,null,null,null,null,null,null,null,null,null,null,0]
[null,null,null,null,null,null,null,null,null,null,null,null,null,null,null,null,null,null,null,null,null,null,0]
[null,null,null,null,null,null,null,null,null,null,null,null,null,null,null,null,null,null,null,null,null,null,0]
[null,null,null,null,null,null,null,null,null,null,null,null,null,null,null,null,null,null,null,null,null,null,0]
[null,null,null,null,null,null,null,null,null,null,null,null,null,null,null,null,null,null,null,null,null,null,{"$f":"IF($F$53<>\"\",1,0)","v":0}]
[null,null,null,null,"Objective 2",{"$f":"IF(PROFILE!F151=\"\",\"\",PROFILE!F151)","v":""},null,null,null,null,null,null,null,null,null,null,{"$f":"IF(AND(F53<>\"\",N57<>\"\",I60<>\"\",I62<>\"\",F65<>\"\"),1,0)","v":0},null,null,null,null,null,{"$f":"IF($F$53<>\"\",1,0)","v":0}]
[null,null,null,null,null,null,null,null,null,null,null,null,null,null,null,null,null,null,null,null,null,null,0]
[null,null,null,null,null,null,null,null,null,null,null,null,null,null,null,null,null,null,null,null,null,null,0]
[null,null,null,null,null,null,null,null,null,null,null,null,null,null,null,null,null,null,null,null,null,null,0]
[null,null,null,null,null,null,null,null,null,null,null,null,"Is this one of the top 3 strategic priorities of the Agency?",null,null,null,null,null,null,null,null,null,0]
[null,null,null,null,null,null,null,null,null,null,null,null,null,null,null,null,null,null,null,null,null,null,0]
[null,null,null,null,null,null,null,null,null,"Low ",null,"Medium",null,"High ",null,"Significant",null,null,null,null,null,null,0]
[null,null,null,null,null,null,null,"Enter the level of risk the agency will NOT meet this objective (between 1 and 100)",null,{"$f":"REPT(\"█\",(I60/2.1))","v":""},null,null,null,null,null,null,null,null,null,null,null,null,0]
[null,null,null,null,null,null,null,null,null,null,null,null,null,null,null,null,null,null,null,null,null,null,0]
[null,null,null,null,null,null,null,"Enter the current preparedness of the Agency to meet this objective (between 1 and 100)",null,{"$f":"REPT(\"█\",(I62/2.1))","v":""},null,null,null,null,null,null,null,null,null,null,null,null,0]
[null,null,null,null,null,null,null,null,null,null,null,null,null,null,null,null,null,null,null,null,null,null,0]
[null,null,null,null,null,null,null,null,null,null,null,null,null,null,null,null,null,null,null,null,null,null,0]
[null,"What does the agency workforce need to meet this objective?",null,null,null,null,null,null,null,null,null,null,null,null,null,null,null,null,null,null,null,null,0]
[null,null,null,null,null,null,null,null,null,null,null,null,null,null,null,null,null,null,null,null,null,null,0]
[null,null,null,null,null,null,null,null,null,null,null,null,null,null,null,null,null,null,null,null,null,null,0]
[null,null,null,null,null,null,null,null,null,null,null,null,null,null,null,null,null,null,null,null,null,null,0]
[null,null,null,null,null,null,null,null,null,null,null,null,null,null,null,null,null,null,null,null,null,null,0]
[null,null,null,null,null,null,null,null,null,null,null,null,null,null,null,null,null,null,null,null,null,null,0]
[null,null,null,null,null,null,null,null,null,null,null,null,null,null,null,null,null,null,null,null,null,null,{"$f":"IF($F$72<>\"\",1,0)","v":0}]
[null,null,null,null,"Objective 3",{"$f":"IF(PROFILE!F154=\"\",\"\",PROFILE!F154)","v":""},null,null,null,null,null,null,null,null,null,null,{"$f":"IF(AND(F72<>\"\",N76<>\"\",I79<>\"\",I81<>\"\",F84<>\"\"),1,0)","v":0},null,null,null,null,null,{"$f":"IF($F$72<>\"\",1,0)","v":0}]
[null,null,null,null,null,null,null,null,null,null,null,null,null,null,null,null,null,null,null,null,null,null,0]
[null,null,null,null,null,null,null,null,null,null,null,null,null,null,null,null,null,null,null,null,null,null,0]
[null,null,null,null,null,null,null,null,null,null,null,null,null,null,null,null,null,null,null,null,null,null,0]
[null,null,null,null,null,null,null,null,null,null,null,null,"Is this one of the top 3 strategic priorities of the Agency?",null,null,null,null,null,null,null,null,null,0]
[null,null,null,null,null,null,null,null,null,null,null,null,null,null,null,null,null,null,null,null,null,null,0]
[null,null,null,null,null,null,null,null,null,"Low ",null,"Medium",null,"High ",null,"Significant",null,null,null,null,null,null,0]
[null,null,null,null,null,null,null,"Enter the level of risk the agency will NOT meet this objective (between 1 and 100)",null,{"$f":"REPT(\"█\",(I79/2.1))","v":""},null,null,null,null,null,null,null,null,null,null,null,null,0]
[null,null,null,null,null,null,null,null,null,null,null,null,null,null,null,null,null,null,null,null,null,null,0]
[null,null,null,null,null,null,null,"Enter the current preparedness of the Agency to meet this objective (between 1 and 100)",null,{"$f":"REPT(\"█\",(I81/2.1))","v":""},null,null,null,null,null,null,null,null,null,null,null,null,0]
[null,null,null,null,null,null,null,null,null,null,null,null,null,null,null,null,null,null,null,null,null,null,0]
[null,null,null,null,null,null,null,null,null,null,null,null,null,null,null,null,null,null,null,null,null,null,0]
[null,"What does the agency workforce need to meet this objective?",null,null,null,null,null,null,null,null,null,null,null,null,null,null,null,null,null,null,null,null,0]
[null,null,null,null,null,null,null,null,null,null,null,null,null,null,null,null,null,null,null,null,null,null,0]
[null,null,null,null,null,null,null,null,null,null,null,null,null,null,null,null,null,null,null,null,null,null,0]
[null,null,null,null,null,null,null,null,null,null,null,null,null,null,null,null,null,null,null,null,null,null,0]
[null,null,null,null,null,null,null,null,null,null,null,null,null,null,null,null,null,null,null,null,null,null,0]
[null,null,null,null,null,null,null,null,null,null,null,null,null,null,null,null,null,null,null,null,null,null,0]
[null,null,null,null,null,null,null,null,null,null,null,null,null,null,null,null,null,null,null,null,null,null,{"$f":"IF($F$91<>\"\",1,0)","v":0}]
[null,null,null,null,"Objective 4",{"$f":"IF(PROFILE!F157=\"\",\"\",PROFILE!F157)","v":""},null,null,null,null,null,null,null,null,null,null,{"$f":"IF(AND(F91<>\"\",N95<>\"\",I98<>\"\",I100<>\"\",F103<>\"\"),1,0)","v":0},null,null,null,null,null,{"$f":"IF($F$91<>\"\",1,0)","v":0}]
[null,null,null,null,null,null,null,null,null,null,null,null,null,null,null,null,null,null,null,null,null,null,0]
[null,null,null,null,null,null,null,null,null,null,null,null,null,null,null,null,null,null,null,null,null,null,0]
[null,null,null,null,null,null,null,null,null,null,null,null,null,null,null,null,null,null,null,null,null,null,0]
[null,null,null,null,null,null,null,null,null,null,null,null,"Is this one of the top 3 strategic priorities of the Agency?",null,null,null,null,null,null,null,null,null,0]
[null,null,null,null,null,null,null,null,null,null,null,null,null,null,null,null,null,null,null,null,null,null,0]
[null,null,null,null,null,null,null,null,null,"Low ",null,"Medium",null,"High ",null,"Significant",null,null,null,null,null,null,0]
[null,null,null,null,null,null,null,"Enter the level of risk the agency will NOT meet this objective (between 1 and 100)",null,{"$f":"REPT(\"█\",(I98/2.1))","v":""},null,null,null,null,null,null,null,null,null,null,null,null,0]
[null,null,null,null,null,null,null,null,null,null,null,null,null,null,null,null,null,null,null,null,null,null,0]
[null,null,null,null,null,null,null,"Enter the current preparedness of the Agency to meet this objective (between 1 and 100)",null,{"$f":"REPT(\"█\",(I100/2.1))","v":""},null,null,null,null,null,null,null,null,null,null,null,null,0]
[null,null,null,null,null,null,null,null,null,null,null,null,null,null,null,null,null,null,null,null,null,null,0]
[null,null,null,null,null,null,null,null,null,null,null,null,null,null,null,null,null,null,null,null,null,null,0]
[null,"What does the agency workforce need to meet this objective?",null,null,null,null,null,null,null,null,null,null,null,null,null,null,null,null,null,null,null,null,0]
[null,null,null,null,null,null,null,null,null,null,null,null,null,null,null,null,null,null,null,null,null,null,0]
[null,null,null,null,null,null,null,null,null,null,null,null,null,null,null,null,null,null,null,null,null,null,0]
[null,null,null,null,null,null,null,null,null,null,null,null,null,null,null,null,null,null,null,null,null,null,0]
[null,null,null,null,null,null,null,null,null,null,null,null,null,null,null,null,null,null,null,null,null,null,0]
[null,null,null,null,null,null,null,null,null,null,null,null,null,null,null,null,null,null,null,null,null,null,0]
[null,null,null,null,null,null,null,null,null,null,null,null,null,null,null,null,null,null,null,null,null,null,{"$f":"IF($F$110<>\"\",1,0)","v":0}]
[null,null,null,null,"Objective 5",{"$f":"IF(PROFILE!F160=\"\",\"\",PROFILE!F160)","v":""},null,null,null,null,null,null,null,null,null,null,{"$f":"IF(AND(F110<>\"\",N114<>\"\",I117<>\"\",I119<>\"\",F122<>\"\"),1,0)","v":0},null,null,null,null,null,{"$f":"IF($F$110<>\"\",1,0)","v":0}]
[null,null,null,null,null,null,null,null,null,null,null,null,null,null,null,null,null,null,null,null,null,null,0]
[null,null,null,null,null,null,null,null,null,null,null,null,null,null,null,null,null,null,null,null,null,null,0]
[null,null,null,null,null,null,null,null,null,null,null,null,null,null,null,null,null,null,null,null,null,null,0]
[null,null,null,null,null,null,null,null,null,null,null,null,"Is this one of the top 3 strategic priorities of the Agency?",null,null,null,null,null,null,null,null,null,0]
[null,null,null,null,null,null,null,null,null,null,null,null,null,null,null,null,null,null,null,null,null,null,0]
[null,null,null,null,null,null,null,null,null,"Low ",null,"Medium",null,"High ",null,"Significant",null,null,null,null,null,null,0]
[null,null,null,null,null,null,null,"Enter the level of risk the agency will NOT meet this objective (between 1 and 100)",null,{"$f":"REPT(\"█\",(I117/2.1))","v":""},null,null,null,null,null,null,null,null,null,null,null,null,0]
[null,null,null,null,null,null,null,null,null,null,null,null,null,null,null,null,null,null,null,null,null,null,0]
[null,null,null,null,null,null,null,"Enter the current preparedness of the Agency to meet this objective (between 1 and 100)",null,{"$f":"REPT(\"█\",(I119/2.1))","v":""},null,null,null,null,null,null,null,null,null,null,null,null,0]
[null,null,null,null,null,null,null,null,null,null,null,null,null,null,null,null,null,null,null,null,null,null,0]
[null,null,null,null,null,null,null,null,null,null,null,null,null,null,null,null,null,null,null,null,null,null,0]
[null,"What does the agency workforce need to meet this objective?",null,null,null,null,null,null,null,null,null,null,null,null,null,null,null,null,null,null,null,null,0]
[null,null,null,null,null,null,null,null,null,null,null,null,null,null,null,null,null,null,null,null,null,null,0]
[null,null,null,null,null,null,null,null,null,null,null,null,null,null,null,null,null,null,null,null,null,null,0]
[null,null,null,null,null,null,null,null,null,null,null,null,null,null,null,null,null,null,null,null,null,null,0]
[null,null,null,null,null,null,null,null,null,null,null,null,null,null,null,null,null,null,null,null,null,null,0]
[null,null,null,null,null,null,null,null,null,null,null,null,null,null,null,null,null,null,null,null,null,null,0]
[null,null,null,null,null,null,null,null,null,null,null,null,null,null,null,null,null,null,null,null,null,null,0]
[null,null,null,null,null,null,null,null,null,null,null,null,null,null,null,null,null,null,null,null,null,null,{"$f":"IF($F$133<>\"\",1,0)","v":0}]
[null,null,"Salary Administration Plan Key Notes",null,null,null,null,null,null,null,null,null,null,null,null,null,null,null,null,null,null,null,{"$f":"IF($F$133<>\"\",1,0)","v":0}]
[null,null,null,null,null,null,null,null,null,null,null,null,null,null,null,null,null,null,null,null,null,null,0]
[null,null,null,null,null,null,null,null,null,null,null,null,null,null,null,null,null,null,null,null,null,null,0]
[null,null,null,null,"Key Note 1",{"$f":"IF(PROFILE!F167=\"\",\"\",PROFILE!F167)","v":""},null,null,null,null,null,null,null,null,null,null,{"$f":"IF(AND(F133<>\"\",N137<>\"\",I140<>\"\",I142<>\"\",F145<>\"\"),1,0)","v":0},null,null,null,null,null,0]
[null,null,null,null,null,null,null,null,null,null,null,null,null,null,null,null,{"$f":"IF(AND(N138<>\"\",I141<>\"\",I143<>\"\",F146<>\"\"),1,0)","v":0},null,null,null,null,null,0]
[null,null,null,null,null,null,null,null,null,null,null,null,null,null,null,null,null,null,null,null,null,null,0]
[null,null,null,null,null,null,null,null,null,null,null,null,null,null,null,null,null,null,null,null,null,null,0]
[null,null,null,null,null,null,null,null,null,null,null,null,null,null,null,null,null,null,null,null,null,null,0]
[null,null,null,null,null,null,null,null,null,null,null,null,"Is this one of the top 3 strategic priorities of the Agency?",null,null,null,null,null,null,null,null,null,0]
[null,null,null,null,null,null,null,null,null,null,null,null,null,null,null,null,null,null,null,null,null,null,0]
[null,null,null,null,null,null,null,null,null,"Low ",null,"Medium",null,"High ",null,"Significant",null,null,null,null,null,null,0]
[null,null,null,null,null,null,null,"Enter the level of risk the agency will NOT meet this item (between 1 and 100)",null,{"$f":"REPT(\"█\",(I141/2.1))","v":""},null,null,null,null,null,null,null,null,null,null,null,null,0]
[null,null,null,null,null,null,null,null,null,null,null,null,null,null,null,null,null,null,null,null,null,null,0]
[null,null,null,null,null,null,null,"Enter the current preparedness of the Agency to meet this item (between 1 and 100)",null,{"$f":"REPT(\"█\",(I143/2.1))","v":""},null,null,null,null,null,null,null,null,null,null,null,null,0]
[null,null,null,null,null,null,null,null,null,null,null,null,null,null,null,null,null,null,null,null,null,null,0]
[null,null,null,null,null,null,null,null,null,null,null,null,null,null,null,null,null,null,null,null,null,null,0]
[null,"What does the agency workforce need to meet this item?",null,null,null,null,null,null,null,null,null,null,null,null,null,null,null,null,null,null,null,null,0]
[null,null,null,null,null,null,null,null,null,null,null,null,null,null,null,null,null,null,null,null,null,null,0]
[null,null,null,null,null,null,null,null,null,null,null,null,null,null,null,null,null,null,null,null,null,null,0]
[null,null,null,null,null,null,null,null,null,null,null,null,null,null,null,null,null,null,null,null,null,null,0]
[null,null,null,null,null,null,null,null,null,null,null,null,null,null,null,null,null,null,null,null,null,null,0]
[null,null,null,null,null,null,null,null,null,null,null,null,null,null,null,null,null,null,null,null,null,null,0]
[null,null,null,null,null,null,null,null,null,null,null,null,null,null,null,null,null,null,null,null,null,null,{"$f":"IF($F$153<>\"\",1,0)","v":0}]
[null,null,null,null,"Key Note 2",{"$f":"IF(PROFILE!F171=\"\",\"\",PROFILE!F171)","v":""},null,null,null,null,null,null,null,null,null,null,{"$f":"IF(AND(F153<>\"\",N157<>\"\",I160<>\"\",I162<>\"\",F165<>\"\"),1,0)","v":0},null,null,null,null,null,{"$f":"IF($F$153<>\"\",1,0)","v":0}]
[null,null,null,null,null,null,null,null,null,null,null,null,null,null,null,null,{"$f":"IF(AND(N158<>\"\",I161<>\"\",I163<>\"\",F166<>\"\"),1,0)","v":0},null,null,null,null,null,0]
[null,null,null,null,null,null,null,null,null,null,null,null,null,null,null,null,null,null,null,null,null,null,0]
[null,null,null,null,null,null,null,null,null,null,null,null,null,null,null,null,null,null,null,null,null,null,0]
[null,null,null,null,null,null,null,null,null,null,null,null,null,null,null,null,null,null,null,null,null,null,0]
[null,null,null,null,null,null,null,null,null,null,null,null,"Is this one of the top 3 strategic priorities of the Agency?",null,null,null,null,null,null,null,null,null,0]
[null,null,null,null,null,null,null,null,null,null,null,null,null,null,null,null,null,null,null,null,null,null,0]
[null,null,null,null,null,null,null,null,null,"Low ",null,"Medium",null,"High ",null,"Significant",null,null,null,null,null,null,0]
[null,null,null,null,null,null,null,"Enter the level of risk the agency will NOT meet this item (between 1 and 100)",null,{"$f":"REPT(\"█\",(I161/2.1))","v":""},null,null,null,null,null,null,null,null,null,null,null,null,0]
[null,null,null,null,null,null,null,null,null,null,null,null,null,null,null,null,null,null,null,null,null,null,0]
[null,null,null,null,null,null,null,"Enter the current preparedness of the Agency to meet this item (between 1 and 100)",null,{"$f":"REPT(\"█\",(I163/2.1))","v":""},null,null,null,null,null,null,null,null,null,null,null,null,0]
[null,null,null,null,null,null,null,null,null,null,null,null,null,null,null,null,null,null,null,null,null,null,0]
[null,null,null,null,null,null,null,null,null,null,null,null,null,null,null,null,null,null,null,null,null,null,0]
[null,"What does the agency workforce need to meet this item?",null,null,null,null,null,null,null,null,null,null,null,null,null,null,null,null,null,null,null,null,0]
[null,null,null,null,null,null,null,null,null,null,null,null,null,null,null,null,null,null,null,null,null,null,0]
[null,null,null,null,null,null,null,null,null,null,null,null,null,null,null,null,null,null,null,null,null,null,0]
[null,null,null,null,null,null,null,null,null,null,null,null,null,null,null,null,null,null,null,null,null,null,0]
[null,null,null,null,null,null,null,null,null,null,null,null,null,null,null,null,null,null,null,null,null,null,0]
[null,null,null,null,null,null,null,null,null,null,null,null,null,null,null,null,null,null,null,null,null,null,0]
[null,null,null,null,null,null,null,null,null,null,null,null,null,null,null,null,null,null,null,null,null,null,{"$f":"IF($F$173<>\"\",1,0)","v":0}]
[null,null,null,null,"Key Note 3",{"$f":"IF(PROFILE!F175=\"\",\"\",PROFILE!F175)","v":""},null,null,null,null,null,null,null,null,null,null,{"$f":"IF(AND(F173<>\"\",N177<>\"\",I180<>\"\",I182<>\"\",F185<>\"\"),1,0)","v":0},null,null,null,null,null,{"$f":"IF($F$173<>\"\",1,0)","v":0}]
[null,null,null,null,null,null,null,null,null,null,null,null,null,null,null,null,{"$f":"IF(AND(N178<>\"\",I181<>\"\",I183<>\"\",F186<>\"\"),1,0)","v":0},null,null,null,null,null,0]
[null,null,null,null,null,null,null,null,null,null,null,null,null,null,null,null,null,null,null,null,null,null,0]
[null,null,null,null,null,null,null,null,null,null,null,null,null,null,null,null,null,null,null,null,null,null,0]
[null,null,null,null,null,null,null,null,null,null,null,null,null,null,null,null,null,null,null,null,null,null,0]
[null,null,null,null,null,null,null,null,null,null,null,null,"Is this one of the top 3 strategic priorities of the Agency?",null,null,null,null,null,null,null,null,null,0]
[null,null,null,null,null,null,null,null,null,null,null,null,null,null,null,null,null,null,null,null,null,null,0]
[null,null,null,null,null,null,null,null,null,"Low ",null,"Medium",null,"High ",null,"Significant",null,null,null,null,null,null,0]
[null,null,null,null,null,null,null,"Enter the level of risk the agency will NOT meet this item (between 1 and 100)",null,{"$f":"REPT(\"█\",(I181/2.1))","v":""},null,null,null,null,null,null,null,null,null,null,null,null,0]
[null,null,null,null,null,null,null,null,null,null,null,null,null,null,null,null,null,null,null,null,null,null,0]
[null,null,null,null,null,null,null,"Enter the current preparedness of the Agency to meet this item (between 1 and 100)",null,{"$f":"REPT(\"█\",(I183/2.1))","v":""},null,null,null,null,null,null,null,null,null,null,null,null,0]
[null,null,null,null,null,null,null,null,null,null,null,null,null,null,null,null,null,null,null,null,null,null,0]
[null,null,null,null,null,null,null,null,null,null,null,null,null,null,null,null,null,null,null,null,null,null,0]
[null,"What does the agency workforce need to meet this item?",null,null,null,null,null,null,null,null,null,null,null,null,null,null,null,null,null,null,null,null,0]
[null,null,null,null,null,null,null,null,null,null,null,null,null,null,null,null,null,null,null,null,null,null,0]
[null,null,null,null,null,null,null,null,null,null,null,null,null,null,null,null,null,null,null,null,null,null,0]
[null,null,null,null,null,null,null,null,null,null,null,null,null,null,null,null,null,null,null,null,null,null,0]
[null,null,null,null,null,null,null,null,null,null,null,null,null,null,null,null,null,null,null,null,null,null,0]
[null,null,null,null,null,null,null,null,null,null,null,null,null,null,null,null,null,null,null,null,null,null,0]
[null,null,null,null,null,null,null,null,null,null,null,null,null,null,null,null,null,null,null,null,null,null,{"$f":"IF($F$193<>\"\",1,0)","v":0}]
[null,null,null,null,"Key Note 4",{"$f":"IF(PROFILE!F179=\"\",\"\",PROFILE!F179)","v":""},null,null,null,null,null,null,null,null,null,null,{"$f":"IF(AND(F193<>\"\",N197<>\"\",I200<>\"\",I202<>\"\",F205<>\"\"),1,0)","v":0},null,null,null,null,null,{"$f":"IF($F$193<>\"\",1,0)","v":0}]
[null,null,null,null,null,null,null,null,null,null,null,null,null,null,null,null,{"$f":"IF(AND(N198<>\"\",I201<>\"\",I203<>\"\",F206<>\"\"),1,0)","v":0},null,null,null,null,null,0]
[null,null,null,null,null,null,null,null,null,null,null,null,null,null,null,null,null,null,null,null,null,null,0]
[null,null,null,null,null,null,null,null,null,null,null,null,null,null,null,null,null,null,null,null,null,null,0]
[null,null,null,null,null,null,null,null,null,null,null,null,null,null,null,null,null,null,null,null,null,null,0]
[null,null,null,null,null,null,null,null,null,null,null,null,"Is this one of the top 3 strategic priorities of the Agency?",null,null,null,null,null,null,null,null,null,0]
[null,null,null,null,null,null,null,null,null,null,null,null,null,null,null,null,null,null,null,null,null,null,0]
[null,null,null,null,null,null,null,null,null,"Low ",null,"Medium",null,"High ",null,"Significant",null,null,null,null,null,null,0]
[null,null,null,null,null,null,null,"Enter the level of risk the agency will NOT meet this item (between 1 and 100)",null,{"$f":"REPT(\"█\",(I201/2.1))","v":""},null,null,null,null,null,null,null,null,null,null,null,null,0]
[null,null,null,null,null,null,null,null,null,null,null,null,null,null,null,null,null,null,null,null,null,null,0]
[null,null,null,null,null,null,null,"Enter the current preparedness of the Agency to meet this item (between 1 and 100)",null,{"$f":"REPT(\"█\",(I203/2.1))","v":""},null,null,null,null,null,null,null,null,null,null,null,null,0]
[null,null,null,null,null,null,null,null,null,null,null,null,null,null,null,null,null,null,null,null,null,null,0]
[null,null,null,null,null,null,null,null,null,null,null,null,null,null,null,null,null,null,null,null,null,null,0]
[null,"What does the agency workforce need to meet this item?",null,null,null,null,null,null,null,null,null,null,null,null,null,null,null,null,null,null,null,null,0]
[null,null,null,null,null,null,null,null,null,null,null,null,null,null,null,null,null,null,null,null,null,null,0]
[null,null,null,null,null,null,null,null,null,null,null,null,null,null,null,null,null,null,null,null,null,null,0]
[null,null,null,null,null,null,null,null,null,null,null,null,null,null,null,null,null,null,null,null,null,null,0]
[null,null,null,null,null,null,null,null,null,null,null,null,null,null,null,null,null,null,null,null,null,null,0]
[null,null,null,null,null,null,null,null,null,null,null,null,null,null,null,null,null,null,null,null,null,null,0]
[null,null,null,null,null,null,null,null,null,null,null,null,null,null,null,null,null,null,null,null,null,null,{"$f":"IF($F$213<>\"\",1,0)","v":0}]
[null,null,null,null,"Key Note 5",{"$f":"IF(PROFILE!F183=\"\",\"\",PROFILE!F183)","v":""},null,null,null,null,null,null,null,null,null,null,{"$f":"IF(AND(F213<>\"\",N217<>\"\",I220<>\"\",I222<>\"\",F225<>\"\"),1,0)","v":0},null,null,null,null,null,{"$f":"IF($F$213<>\"\",1,0)","v":0}]
[null,null,null,null,null,null,null,null,null,null,null,null,null,null,null,null,{"$f":"IF(AND(N218<>\"\",I221<>\"\",I223<>\"\",F226<>\"\"),1,0)","v":0},null,null,null,null,null,0]
[null,null,null,null,null,null,null,null,null,null,null,null,null,null,null,null,null,null,null,null,null,null,0]
[null,null,null,null,null,null,null,null,null,null,null,null,null,null,null,null,null,null,null,null,null,null,0]
[null,null,null,null,null,null,null,null,null,null,null,null,null,null,null,null,null,null,null,null,null,null,0]
[null,null,null,null,null,null,null,null,null,null,null,null,"Is this one of the top 3 strategic priorities of the Agency?",null,null,null,null,null,null,null,null,null,0]
[null,null,null,null,null,null,null,null,null,null,null,null,null,null,null,null,null,null,null,null,null,null,0]
[null,null,null,null,null,null,null,null,null,"Low ",null,"Medium",null,"High ",null,"Significant",null,null,null,null,null,null,0]
[null,null,null,null,null,null,null,"Enter the level of risk the agency will NOT meet this item (between 1 and 100)",null,{"$f":"REPT(\"█\",(I221/2.1))","v":""},null,null,null,null,null,null,null,null,null,null,null,null,0]
[null,null,null,null,null,null,null,null,null,null,null,null,null,null,null,null,null,null,null,null,null,null,0]
[null,null,null,null,null,null,null,"Enter the current preparedness of the Agency to meet this item (between 1 and 100)",null,{"$f":"REPT(\"█\",(I223/2.1))","v":""},null,null,null,null,null,null,null,null,null,null,null,null,0]
[null,null,null,null,null,null,null,null,null,null,null,null,null,null,null,null,null,null,null,null,null,null,0]
[null,null,null,null,null,null,null,null,null,null,null,null,null,null,null,null,null,null,null,null,null,null,0]
[null,"What does the agency workforce need to meet this item?",null,null,null,null,null,null,null,null,null,null,null,null,null,null,null,null,null,null,null,null,0]
[null,null,null,null,null,null,null,null,null,null,null,null,null,null,null,null,null,null,null,null,null,null,0]
[null,null,null,null,null,null,null,null,null,null,null,null,null,null,null,null,null,null,null,null,null,null,0]
[null,null,null,null,null,null,null,null,null,null,null,null,null,null,null,null,null,null,null,null,null,null,0]
[null,null,null,null,null,null,null,null,null,null,null,null,null,null,null,null,null,null,null,null,null,null,0]
[null,null,null,null,null,null,null,null,null,null,null,null,null,null,null,null,null,null,null,null,null,null,0]
[null,null,null,null,null,null,null,null,null,null,null,null,null,null,null,null,null,null,null,null,null,null,{"$f":"IF($F$237<>\"\",1,0)","v":0}]
[null,null,null,null,null,null,null,null,null,null,null,null,null,null,null,null,null,null,null,null,null,null,{"$f":"IF($F$237<>\"\",1,0)","v":0}]
[null,null,"Diversity, Opportunity, and Inclusion Plan Goals",null,null,null,null,null,null,null,null,null,null,null,null,null,null,null,null,null,null,null,0]
[null,null,null,null,null,null,null,null,null,null,null,null,null,null,null,null,null,null,null,null,null,null,0]
[null,null,null,null,null,null,null,null,null,null,null,null,null,null,null,null,null,null,null,null,null,null,0]
[null,null,null,null,"Goal 1",{"$f":"IF(PROFILE!F191=\"\",\"\",PROFILE!F191)","v":""},null,null,null,null,null,null,null,null,null,null,{"$f":"IF(AND(F237<>\"\",N241<>\"\",I244<>\"\",I246<>\"\",F249<>\"\"),1,0)","v":0},null,null,null,null,null,0]
[null,null,null,null,null,null,null,null,null,null,null,null,null,null,null,null,null,null,null,null,null,null,0]
[null,null,null,null,null,null,null,null,null,null,null,null,null,null,null,null,null,null,null,null,null,null,0]
[null,null,null,null,null,null,null,null,null,null,null,null,null,null,null,null,{"$f":"IF(AND(N244<>\"\",I247<>\"\",I249<>\"\",F252<>\"\"),1,0)","v":0},null,null,null,null,null,0]
[null,null,null,null,null,null,null,null,null,null,null,null,null,null,null,null,null,null,null,null,null,null,0]
[null,null,null,null,null,null,null,null,null,null,null,null,null,null,null,null,null,null,null,null,null,null,0]
[null,null,null,null,null,null,null,null,null,null,null,null,null,null,null,null,null,null,null,null,null,null,0]
[null,null,null,null,null,null,null,null,null,null,null,null,"Is this one of the top 3 strategic priorities of the Agency?",null,null,null,null,null,null,null,null,null,0]
[null,null,null,null,null,null,null,null,null,null,null,null,null,null,null,null,null,null,null,null,null,null,0]
[null,null,null,null,null,null,null,null,null,"Low ",null,"Medium",null,"High ",null,"Significant",null,null,null,null,null,null,0]
[null,null,null,null,null,null,null,"Enter the level of risk the agency will NOT meet this goal (between 1 and 100)",null,{"$f":"REPT(\"█\",(I247/2.1))","v":""},null,null,null,null,null,null,null,null,null,null,null,null,0]
[null,null,null,null,null,null,null,null,null,null,null,null,null,null,null,null,null,null,null,null,null,null,0]
[null,null,null,null,null,null,null,"Enter the current preparedness of the Agency to meet this goal (between 1 and 100)",null,{"$f":"REPT(\"█\",(I249/2.1))","v":""},null,null,null,null,null,null,null,null,null,null,null,null,0]
[null,null,null,null,null,null,null,null,null,null,null,null,null,null,null,null,null,null,null,null,null,null,0]
[null,null,null,null,null,null,null,null,null,null,null,null,null,null,null,null,null,null,null,null,null,null,0]
[null,"What does the agency workforce need to meet this goal?",null,null,null,null,null,null,null,null,null,null,null,null,null,null,null,null,null,null,null,null,0]
[null,null,null,null,null,null,null,null,null,null,null,null,null,null,null,null,null,null,null,null,null,null,0]
[null,null,null,null,null,null,null,null,null,null,null,null,null,null,null,null,null,null,null,null,null,null,0]
[null,null,null,null,null,null,null,null,null,null,null,null,null,null,null,null,null,null,null,null,null,null,0]
[null,null,null,null,null,null,null,null,null,null,null,null,null,null,null,null,null,null,null,null,null,null,0]
[null,null,null,null,null,null,null,null,null,null,null,null,null,null,null,null,null,null,null,null,null,null,0]
[null,null,null,null,null,null,null,null,null,null,null,null,null,null,null,null,null,null,null,null,null,null,{"$f":"IF($F$259<>\"\",1,0)","v":0}]
[null,null,null,null,"Goal 2",{"$f":"IF(PROFILE!F197=\"\",\"\",PROFILE!F197)","v":""},null,null,null,null,null,null,null,null,null,null,{"$f":"IF(AND(F259<>\"\",N263<>\"\",I266<>\"\",I268<>\"\",F271<>\"\"),1,0)","v":0},null,null,null,null,null,{"$f":"IF($F$259<>\"\",1,0)","v":0}]
[null,null,null,null,null,null,null,null,null,null,null,null,null,null,null,null,null,null,null,null,null,null,0]
[null,null,null,null,null,null,null,null,null,null,null,null,null,null,null,null,null,null,null,null,null,null,0]
[null,null,null,null,null,null,null,null,null,null,null,null,null,null,null,null,{"$f":"IF(AND(N266<>\"\",I269<>\"\",I271<>\"\",F274<>\"\"),1,0)","v":0},null,null,null,null,null,0]
[null,null,null,null,null,null,null,null,null,null,null,null,null,null,null,null,null,null,null,null,null,null,0]
[null,null,null,null,null,null,null,null,null,null,null,null,null,null,null,null,null,null,null,null,null,null,0]
[null,null,null,null,null,null,null,null,null,null,null,null,null,null,null,null,null,null,null,null,null,null,0]
[null,null,null,null,null,null,null,null,null,null,null,null,"Is this one of the top 3 strategic priorities of the Agency?",null,null,null,null,null,null,null,null,null,0]
[null,null,null,null,null,null,null,null,null,null,null,null,null,null,null,null,null,null,null,null,null,null,0]
[null,null,null,null,null,null,null,null,null,"Low ",null,"Medium",null,"High ",null,"Significant",null,null,null,null,null,null,0]
[null,null,null,null,null,null,null,"Enter the level of risk the agency will NOT meet this goal (between 1 and 100)",null,{"$f":"REPT(\"█\",(I269/2.1))","v":""},null,null,null,null,null,null,null,null,null,null,null,null,0]
[null,null,null,null,null,null,null,null,null,null,null,null,null,null,null,null,null,null,null,null,null,null,0]
[null,null,null,null,null,null,null,"Enter the current preparedness of the Agency to meet this goal (between 1 and 100)",null,{"$f":"REPT(\"█\",(I271/2.1))","v":""},null,null,null,null,null,null,null,null,null,null,null,null,0]
[null,null,null,null,null,null,null,null,null,null,null,null,null,null,null,null,null,null,null,null,null,null,0]
[null,null,null,null,null,null,null,null,null,null,null,null,null,null,null,null,null,null,null,null,null,null,0]
[null,"What does the agency workforce need to meet this goal?",null,null,null,null,null,null,null,null,null,null,null,null,null,null,null,null,null,null,null,null,0]
[null,null,null,null,null,null,null,null,null,null,null,null,null,null,null,null,null,null,null,null,null,null,0]
[null,null,null,null,null,null,null,null,null,null,null,null,null,null,null,null,null,null,null,null,null,null,0]
[null,null,null,null,null,null,null,null,null,null,null,null,null,null,null,null,null,null,null,null,null,null,0]
[null,null,null,null,null,null,null,null,null,null,null,null,null,null,null,null,null,null,null,null,null,null,0]
[null,null,null,null,null,null,null,null,null,null,null,null,null,null,null,null,null,null,null,null,null,null,0]
[null,null,null,null,null,null,null,null,null,null,null,null,null,null,null,null,null,null,null,null,null,null,{"$f":"IF($F$281<>\"\",1,0)","v":0}]
[null,null,null,null,"Goal 3",{"$f":"IF(PROFILE!F203=\"\",\"\",PROFILE!F203)","v":""},null,null,null,null,null,null,null,null,null,null,{"$f":"IF(AND(F281<>\"\",N285<>\"\",I288<>\"\",I290<>\"\",F293<>\"\"),1,0)","v":0},null,null,null,null,null,{"$f":"IF($F$281<>\"\",1,0)","v":0}]
[null,null,null,null,null,null,null,null,null,null,null,null,null,null,null,null,null,null,null,null,null,null,0]
[null,null,null,null,null,null,null,null,null,null,null,null,null,null,null,null,null,null,null,null,null,null,0]
[null,null,null,null,null,null,null,null,null,null,null,null,null,null,null,null,{"$f":"IF(AND(N288<>\"\",I291<>\"\",I293<>\"\",F296<>\"\"),1,0)","v":0},null,null,null,null,null,0]
[null,null,null,null,null,null,null,null,null,null,null,null,null,null,null,null,null,null,null,null,null,null,0]
[null,null,null,null,null,null,null,null,null,null,null,null,null,null,null,null,null,null,null,null,null,null,0]
[null,null,null,null,null,null,null,null,null,null,null,null,null,null,null,null,null,null,null,null,null,null,0]
[null,null,null,null,null,null,null,null,null,null,null,null,"Is this one of the top 3 strategic priorities of the Agency?",null,null,null,null,null,null,null,null,null,0]
[null,null,null,null,null,null,null,null,null,null,null,null,null,null,null,null,null,null,null,null,null,null,0]
[null,null,null,null,null,null,null,null,null,"Low ",null,"Medium",null,"High ",null,"Significant",null,null,null,null,null,null,0]
[null,null,null,null,null,null,null,"Enter the level of risk the agency will NOT meet this goal (between 1 and 100)",null,{"$f":"REPT(\"█\",(I291/2.1))","v":""},null,null,null,null,null,null,null,null,null,null,null,null,0]
[null,null,null,null,null,null,null,null,null,null,null,null,null,null,null,null,null,null,null,null,null,null,0]
[null,null,null,null,null,null,null,"Enter the current preparedness of the Agency to meet this goal (between 1 and 100)",null,{"$f":"REPT(\"█\",(I293/2.1))","v":""},null,null,null,null,null,null,null,null,null,null,null,null,0]
[null,null,null,null,null,null,null,null,null,null,null,null,null,null,null,null,null,null,null,null,null,null,0]
[null,null,null,null,null,null,null,null,null,null,null,null,null,null,null,null,null,null,null,null,null,null,0]
[null,"What does the agency workforce need to meet this goal?",null,null,null,null,null,null,null,null,null,null,null,null,null,null,null,null,null,null,null,null,0]
[null,null,null,null,null,null,null,null,null,null,null,null,null,null,null,null,null,null,null,null,null,null,0]
[null,null,null,null,null,null,null,null,null,null,null,null,null,null,null,null,null,null,null,null,null,null,0]
[null,null,null,null,null,null,null,null,null,null,null,null,null,null,null,null,null,null,null,null,null,null,0]
[null,null,null,null,null,null,null,null,null,null,null,null,null,null,null,null,null,null,null,null,null,null,0]
[null,null,null,null,null,null,null,null,null,null,null,null,null,null,null,null,null,null,null,null,null,null,0]
[null,null,null,null,null,null,null,null,null,null,null,null,null,null,null,null,null,null,null,null,null,null,{"$f":"IF($F$307<>\"\",1,0)","v":0}]
[null,null,null,null,null,null,null,null,null,null,null,null,null,null,null,null,null,null,null,null,null,null,{"$f":"IF($F$307<>\"\",1,0)","v":0}]
[null,null,"Other Agency Strategic Plans Key Notes",null,null,null,null,null,null,null,null,null,null,null,null,null,null,null,null,null,null,null,0]
[null,null,null,null,null,null,null,null,null,null,null,null,null,null,null,null,null,null,null,null,null,null,0]
[null,null,null,null,null,null,null,null,null,null,null,null,null,null,null,null,null,null,null,null,null,null,0]
[null,null,null,null,"Key Note 1",{"$f":"IF(PROFILE!F213=\"\",\"\",PROFILE!F213)","v":""},null,null,null,null,null,null,null,null,null,null,{"$f":"IF(AND(F307<>\"\",N311<>\"\",I314<>\"\",I316<>\"\",F319<>\"\"),1,0)","v":0},null,null,null,null,null,0]
[null,null,null,null,null,null,null,null,null,null,null,null,null,null,null,null,{"$f":"IF(AND(N312<>\"\",I315<>\"\",I317<>\"\",F320<>\"\"),1,0)","v":0},null,null,null,null,null,0]
[null,null,null,null,null,null,null,null,null,null,null,null,null,null,null,null,null,null,null,null,null,null,0]
[null,null,null,null,null,null,null,null,null,null,null,null,null,null,null,null,null,null,null,null,null,null,0]
[null,null,null,null,null,null,null,null,null,null,null,null,null,null,null,null,null,null,null,null,null,null,0]
[null,null,null,null,null,null,null,null,null,null,null,null,"Is this one of the top 3 strategic priorities of the Agency?",null,null,null,null,null,null,null,null,null,0]
[null,null,null,null,null,null,null,null,null,null,null,null,null,null,null,null,null,null,null,null,null,null,0]
[null,null,null,null,null,null,null,null,null,"Low ",null,"Medium",null,"High ",null,"Significant",null,null,null,null,null,null,0]
[null,null,null,null,null,null,null,"Enter the level of risk the agency will NOT meet this item (between 1 and 100)",null,{"$f":"REPT(\"█\",(I315/2.1))","v":""},null,null,null,null,null,null,null,null,null,null,null,null,0]
[null,null,null,null,null,null,null,null,null,null,null,null,null,null,null,null,null,null,null,null,null,null,0]
[null,null,null,null,null,null,null,"Enter the current preparedness of the Agency to meet this item (between 1 and 100)",null,{"$f":"REPT(\"█\",(I317/2.1))","v":""},null,null,null,null,null,null,null,null,null,null,null,null,0]
[null,null,null,null,null,null,null,null,null,null,null,null,null,null,null,null,null,null,null,null,null,null,0]
[null,null,null,null,null,null,null,null,null,null,null,null,null,null,null,null,null,null,null,null,null,null,0]
[null,"What does the agency workforce need to meet this item?",null,null,null,null,null,null,null,null,null,null,null,null,null,null,null,null,null,null,null,null,0]
[null,null,null,null,null,null,null,null,null,null,null,null,null,null,null,null,null,null,null,null,null,null,0]
[null,null,null,null,null,null,null,null,null,null,null,null,null,null,null,null,null,null,null,null,null,null,0]
[null,null,null,null,null,null,null,null,null,null,null,null,null,null,null,null,null,null,null,null,null,null,0]
[null,null,null,null,null,null,null,null,null,null,null,null,null,null,null,null,null,null,null,null,null,null,0]
[null,null,null,null,null,null,null,null,null,null,null,null,null,null,null,null,null,null,null,null,null,null,0]
[null,null,null,null,null,null,null,null,null,null,null,null,null,null,null,null,null,null,null,null,null,null,{"$f":"IF($F$327<>\"\",1,0)","v":0}]
[null,null,null,null,"Key Note 2",{"$f":"IF(PROFILE!F217=\"\",\"\",PROFILE!F217)","v":""},null,null,null,null,null,null,null,null,null,null,{"$f":"IF(AND(F327<>\"\",N331<>\"\",I334<>\"\",I336<>\"\",F339<>\"\"),1,0)","v":0},null,null,null,null,null,{"$f":"IF($F$327<>\"\",1,0)","v":0}]
[null,null,null,null,null,null,null,null,null,null,null,null,null,null,null,null,{"$f":"IF(AND(N332<>\"\",I335<>\"\",I337<>\"\",F340<>\"\"),1,0)","v":0},null,null,null,null,null,0]
[null,null,null,null,null,null,null,null,null,null,null,null,null,null,null,null,null,null,null,null,null,null,0]
[null,null,null,null,null,null,null,null,null,null,null,null,null,null,null,null,null,null,null,null,null,null,0]
[null,null,null,null,null,null,null,null,null,null,null,null,null,null,null,null,null,null,null,null,null,null,0]
[null,null,null,null,null,null,null,null,null,null,null,null,"Is this one of the top 3 strategic priorities of the Agency?",null,null,null,null,null,null,null,null,null,0]
[null,null,null,null,null,null,null,null,null,null,null,null,null,null,null,null,null,null,null,null,null,null,0]
[null,null,null,null,null,null,null,null,null,"Low ",null,"Medium",null,"High ",null,"Significant",null,null,null,null,null,null,0]
[null,null,null,null,null,null,null,"Enter the level of risk the agency will NOT meet this item (between 1 and 100)",null,{"$f":"REPT(\"█\",(I335/2.1))","v":""},null,null,null,null,null,null,null,null,null,null,null,null,0]
[null,null,null,null,null,null,null,null,null,null,null,null,null,null,null,null,null,null,null,null,null,null,0]
[null,null,null,null,null,null,null,"Enter the current preparedness of the Agency to meet this item (between 1 and 100)",null,{"$f":"REPT(\"█\",(I337/2.1))","v":""},null,null,null,null,null,null,null,null,null,null,null,null,0]
[null,null,null,null,null,null,null,null,null,null,null,null,null,null,null,null,null,null,null,null,null,null,0]
[null,null,null,null,null,null,null,null,null,null,null,null,null,null,null,null,null,null,null,null,null,null,0]
[null,"What does the agency workforce need to meet this item?",null,null,null,null,null,null,null,null,null,null,null,null,null,null,null,null,null,null,null,null,0]
[null,null,null,null,null,null,null,null,null,null,null,null,null,null,null,null,null,null,null,null,null,null,0]
[null,null,null,null,null,null,null,null,null,null,null,null,null,null,null,null,null,null,null,null,null,null,0]
[null,null,null,null,null,null,null,null,null,null,null,null,null,null,null,null,null,null,null,null,null,null,0]
[null,null,null,null,null,null,null,null,null,null,null,null,null,null,null,null,null,null,null,null,null,null,0]
[null,null,null,null,null,null,null,null,null,null,null,null,null,null,null,null,null,null,null,null,null,null,0]
[null,null,null,null,null,null,null,null,null,null,null,null,null,null,null,null,null,null,null,null,null,null,{"$f":"IF($F$347<>\"\",1,0)","v":0}]
[null,null,null,null,"Key Note 3",{"$f":"IF(PROFILE!F221=\"\",\"\",PROFILE!F221)","v":""},null,null,null,null,null,null,null,null,null,null,{"$f":"IF(AND(F347<>\"\",N351<>\"\",I354<>\"\",I356<>\"\",F359<>\"\"),1,0)","v":0},null,null,null,null,null,{"$f":"IF($F$347<>\"\",1,0)","v":0}]
[null,null,null,null,null,null,null,null,null,null,null,null,null,null,null,null,{"$f":"IF(AND(N352<>\"\",I355<>\"\",I357<>\"\",F360<>\"\"),1,0)","v":0},null,null,null,null,null,0]
[null,null,null,null,null,null,null,null,null,null,null,null,null,null,null,null,null,null,null,null,null,null,0]
[null,null,null,null,null,null,null,null,null,null,null,null,null,null,null,null,null,null,null,null,null,null,0]
[null,null,null,null,null,null,null,null,null,null,null,null,null,null,null,null,null,null,null,null,null,null,0]
[null,null,null,null,null,null,null,null,null,null,null,null,"Is this one of the top 3 strategic priorities of the Agency?",null,null,null,null,null,null,null,null,null,0]
[null,null,null,null,null,null,null,null,null,null,null,null,null,null,null,null,null,null,null,null,null,null,0]
[null,null,null,null,null,null,null,null,null,"Low ",null,"Medium",null,"High ",null,"Significant",null,null,null,null,null,null,0]
[null,null,null,null,null,null,null,"Enter the level of risk the agency will NOT meet this item (between 1 and 100)",null,{"$f":"REPT(\"█\",(I355/2.1))","v":""},null,null,null,null,null,null,null,null,null,null,null,null,0]
[null,null,null,null,null,null,null,null,null,null,null,null,null,null,null,null,null,null,null,null,null,null,0]
[null,null,null,null,null,null,null,"Enter the current preparedness of the Agency to meet this item (between 1 and 100)",null,{"$f":"REPT(\"█\",(I357/2.1))","v":""},null,null,null,null,null,null,null,null,null,null,null,null,0]
[null,null,null,null,null,null,null,null,null,null,null,null,null,null,null,null,null,null,null,null,null,null,0]
[null,null,null,null,null,null,null,null,null,null,null,null,null,null,null,null,null,null,null,null,null,null,0]
[null,"What does the agency workforce need to meet this item?",null,null,null,null,null,null,null,null,null,null,null,null,null,null,null,null,null,null,null,null,0]
[null,null,null,null,null,null,null,null,null,null,null,null,null,null,null,null,null,null,null,null,null,null,0]
[null,null,null,null,null,null,null,null,null,null,null,null,null,null,null,null,null,null,null,null,null,null,0]
[null,null,null,null,null,null,null,null,null,null,null,null,null,null,null,null,null,null,null,null,null,null,0]
[null,null,null,null,null,null,null,null,null,null,null,null,null,null,null,null,null,null,null,null,null,null,0]
[null,null,null,null,null,null,null,null,null,null,null,null,null,null,null,null,null,null,null,null,null,null,0]
[null,null,null,null,null,null,null,null,null,null,null,null,null,null,null,null,null,null,null,null,null,null,{"$f":"IF(F367<>\"\",1,0)","v":0}]
[null,null,null,null,"Key Note 4",{"$f":"IF(PROFILE!F225=\"\",\"\",PROFILE!F225)","v":""},null,null,null,null,null,null,null,null,null,null,{"$f":"IF(AND(F367<>\"\",N371<>\"\",I374<>\"\",I376<>\"\",F379<>\"\"),1,0)","v":0},null,null,null,null,null,{"$f":"IF(F368<>\"\",1,0)","v":0}]
[null,null,null,null,null,null,null,null,null,null,null,null,null,null,null,null,{"$f":"IF(AND(N372<>\"\",I375<>\"\",I377<>\"\",F380<>\"\"),1,0)","v":0},null,null,null,null,null,0]
[null,null,null,null,null,null,null,null,null,null,null,null,null,null,null,null,null,null,null,null,null,null,0]
[null,null,null,null,null,null,null,null,null,null,null,null,null,null,null,null,null,null,null,null,null,null,0]
[null,null,null,null,null,null,null,null,null,null,null,null,null,null,null,null,null,null,null,null,null,null,0]
[null,null,null,null,null,null,null,null,null,null,null,null,"Is this one of the top 3 strategic priorities of the Agency?",null,null,null,null,null,null,null,null,null,0]
[null,null,null,null,null,null,null,null,null,null,null,null,null,null,null,null,null,null,null,null,null,null,0]
[null,null,null,null,null,null,null,null,null,"Low ",null,"Medium",null,"High ",null,"Significant",null,null,null,null,null,null,0]
[null,null,null,null,null,null,null,"Enter the level of risk the agency will NOT meet this item (between 1 and 100)",null,{"$f":"REPT(\"█\",(I375/2.1))","v":""},null,null,null,null,null,null,null,null,null,null,null,null,0]
[null,null,null,null,null,null,null,null,null,null,null,null,null,null,null,null,null,null,null,null,null,null,0]
[null,null,null,null,null,null,null,"Enter the current preparedness of the Agency to meet this item (between 1 and 100)",null,{"$f":"REPT(\"█\",(I377/2.1))","v":""},null,null,null,null,null,null,null,null,null,null,null,null,0]
[null,null,null,null,null,null,null,null,null,null,null,null,null,null,null,null,null,null,null,null,null,null,0]
[null,null,null,null,null,null,null,null,null,null,null,null,null,null,null,null,null,null,null,null,null,null,0]
[null,"What does the agency workforce need to meet this item?",null,null,null,null,null,null,null,null,null,null,null,null,null,null,null,null,null,null,null,null,0]
[null,null,null,null,null,null,null,null,null,null,null,null,null,null,null,null,null,null,null,null,null,null,0]
[null,null,null,null,null,null,null,null,null,null,null,null,null,null,null,null,null,null,null,null,null,null,0]
[null,null,null,null,null,null,null,null,null,null,null,null,null,null,null,null,null,null,null,null,null,null,0]
[null,null,null,null,null,null,null,null,null,null,null,null,null,null,null,null,null,null,null,null,null,null,0]
[null,null,null,null,null,null,null,null,null,null,null,null,null,null,null,null,null,null,null,null,null,null,0]
[null,null,null,null,null,null,null,null,null,null,null,null,null,null,null,null,null,null,null,null,null,null,{"$f":"IF($F$387<>\"\",1,0)","v":0}]
[null,null,null,null,"Key Note 5",{"$f":"IF(PROFILE!F229=\"\",\"\",PROFILE!F229)","v":""},null,null,null,null,null,null,null,null,null,null,{"$f":"IF(AND(F387<>\"\",N391<>\"\",I394<>\"\",I396<>\"\",F399<>\"\"),1,0)","v":0},null,null,null,null,null,{"$f":"IF($F$387<>\"\",1,0)","v":0}]
[null,null,null,null,null,null,null,null,null,null,null,null,null,null,null,null,{"$f":"IF(AND(N392<>\"\",I395<>\"\",I397<>\"\",F400<>\"\"),1,0)","v":0},null,null,null,null,null,0]
[null,null,null,null,null,null,null,null,null,null,null,null,null,null,null,null,null,null,null,null,null,null,0]
[null,null,null,null,null,null,null,null,null,null,null,null,null,null,null,null,null,null,null,null,null,null,0]
[null,null,null,null,null,null,null,null,null,null,null,null,null,null,null,null,null,null,null,null,null,null,0]
[null,null,null,null,null,null,null,null,null,null,null,null,"Is this one of the top 3 strategic priorities of the Agency?",null,null,null,null,null,null,null,null,null,0]
[null,null,null,null,null,null,null,null,null,null,null,null,null,null,null,null,null,null,null,null,null,null,0]
[null,null,null,null,null,null,null,null,null,"Low ",null,"Medium",null,"High ",null,"Significant",null,null,null,null,null,null,0]
[null,null,null,null,null,null,null,"Enter the level of risk the agency will NOT meet this item (between 1 and 100)",null,{"$f":"REPT(\"█\",(I395/2.1))","v":""},null,null,null,null,null,null,null,null,null,null,null,null,0]
[null,null,null,null,null,null,null,null,null,null,null,null,null,null,null,null,null,null,null,null,null,null,0]
[null,null,null,null,null,null,null,"Enter the current preparedness of the Agency to meet this item (between 1 and 100)",null,{"$f":"REPT(\"█\",(I397/2.1))","v":""},null,null,null,null,null,null,null,null,null,null,null,null,0]
[null,null,null,null,null,null,null,null,null,null,null,null,null,null,null,null,null,null,null,null,null,null,0]
[null,null,null,null,null,null,null,null,null,null,null,null,null,null,null,null,null,null,null,null,null,null,0]
[null,"What does the agency workforce need to meet this item?",null,null,null,null,null,null,null,null,null,null,null,null,null,null,null,null,null,null,null,null,0]
[null,null,null,null,null,null,null,null,null,null,null,null,null,null,null,null,null,null,null,null,null,null,0]
[null,null,null,null,null,null,null,null,null,null,null,null,null,null,null,null,null,null,null,null,null,null,0]
[null,null,null,null,null,null,null,null,null,null,null,null,null,null,null,null,null,null,null,null,null,null,0]
[null,null,null,null,null,null,null,null,null,null,null,null,null,null,null,null,null,null,null,null,null,null,0]
[null,null,null,null,null,null,null,null,null,null,null,null,null,null,null,null,null,null,null,null,null,null,0]
[null,null,null,null,null,null,null,null,null,null,null,null,null,null,null,null,null,null,null,null,null,null,1]
[null,"(Optional) Step 2: Check Spelling",null,null,null,null,null,null,null,null,null,null,null,null,null,null,null,null,null,null,null,null,1]
[null,null,null,null,null,null,null,null,null,null,null,null,null,null,null,null,null,null,null,null,null,null,1]
[null,"INSTRUCTIONS: To check the spelling of items on this tab, please click the blue \"Spell Check This Tab\" button below. Correcting the spelling on this tab will ensure the report is correct as well. ",null,null,null,null,null,null,null,null,null,null,null,null,null,null,null,null,null,null,null,null,1]
[null,null,null,null,null,null,null,null,null,null,null,null,null,null,null,null,null,null,null,null,null,null,1]
[null,null,null,null,null,null,null,null,null,null,null,null,null,null,null,null,null,null,null,null,null,null,1]
[null,null,null,null,null,null,null,null,null,null,null,null,null,null,null,null,null,null,null,null,null,null,1]
[null,null,null,null,null,null,null,null,null,null,null,null,null,null,null,null,null,null,null,null,null,null,1]
[null,null,null,null,null,null,null,null,null,null,null,null,null,null,null,null,null,null,null,null,null,null,0]

{"sheet":"AGENCY STRATEGY","index":8,"n_rows":316,"n_cols":23,"rows_kept":316,"cut":false,"hidden":false,"merged":[[143,5,145,15],[144,3,145,4],[150,7,152,15],[151,5,152,6],[154,5,155,6],[157,5,158,6],[160,5,161,6],[193,3,194,4],[199,7,201,15],[200,5,201,6],[185,2,188,15],[190,11,190,15],[192,5,194,15],[153,7,155,15],[166,7,171,15],[172,7,172,15],[173,7,178,15],[183,2,184,12],[183,13,184,15],[163,5,164,6],[87,2,90,15],[92,11,92,15],[94,5,96,15],[95,3,96,4],[101,7,103,15],[117,7,122,15],[123,7,123,15],[124,7,129,15],[134,2,135,12],[134,13,135,15],[104,7,106,15],[107,7,109,15],[110,7,112,15],[113,7,115,15],[108,5,109,6],[111,5,112,6],[114,5,115,6],[102,5,103,6],[105,5,106,6],[270,7,270,15],[271,7,276,15],[251,7,253,15],[254,7,256,15],[257,7,259,15],[260,7,262,15],[234,2,237,15],[239,11,239,15],[241,5,243,15],[242,3,243,4],[248,7,250,15],[261,5,262,6],[255,5,256,6],[258,5,259,6],[249,5,250,6],[252,5,253,6],[264,7,269,15],[215,7,220,15],[221,7,221,15],[222,7,227,15],[232,2,233,12],[232,13,233,15],[202,7,204,15],[205,7,207,15],[208,7,210,15],[211,7,213,15],[206,5,207,6],[209,5,210,6],[212,5,213,6],[203,5,204,6],[14,1,15,12],[14,13,15,15],[16,1,18,15],[20,5,22,15],[20,2,22,4],[85,13,86,15],[46,3,47,4],[52,7,54,15],[55,7,57,15],[30,1,31,12],[30,13,31,15],[32,1,34,15],[36,2,37,12],[36,13,37,15],[38,2,41,15],[53,5,54,6],[56,5,57,6],[59,5,60,6],[62,5,63,6],[65,5,66,6],[308,1,309,15],[6,2,8,14],[9,2,11,14],[281,1,281,15],[286,2,287,15],[288,2,291,15],[306,1,307,12],[306,13,307,15],[75,7,80,15],[64,7,66,15],[68,7,73,15],[74,7,74,15],[58,7,60,15],[61,7,63,15],[45,5,47,15],[24,2,26,4],[24,5,26,15],[43,11,43,15],[85,2,86,12],[156,7,158,15],[159,7,161,15],[162,7,164,15],[136,2,139,15],[141,11,141,15]]}
[null,null,null,null,null,null,null,null,null,null,null,null,null,null,null,null,null,null,null,null,null,null,1]
[null,null,null,null,null,null,null,null,null,null,null,null,null,null,null,null,null,null,null,null,null,null,1]
[null,null,null,null,null,null,null,null,null,null,null,null,null,null,null,null,null,null,null,null,null,null,1]
[null,null,null,null,null,null,null,null,null,null,null,null,null,null,null,null,null,null,null,null,null,null,1]
[null,null,null,null,null,null,null,null,null,null,null,null,null,null,null,null,null,null,null,null,null,null,1]
[null,null,null,null,null,null,null,null,null,null,null,null,null,null,null,null,null,null,null,null,null,null,1]
[null,null,"AGENCY STRATEGY",null,null,null,null,null,null,null,null,null,null,null,null,null,null,null,null,null,null,null,1]
[null,null,null,null,null,null,null,null,null,null,null,null,null,null,null,null,null,null,null,null,null,null,1]
[null,null,null,null,null,null,null,null,null,null,null,null,null,null,null,null,null,null,null,null,null,null,1]
[null,null,"The Agency Strategy are the objectives and action items the agency intends to take to address their workforce needs, risk, or preparedness levels. ",null,null,null,null,null,null,null,null,null,null,null,null,null,null,null,null,null,null,null,1]
[null,null,null,null,null,null,null,null,null,null,null,null,null,null,null,null,null,null,null,null,null,null,1]
[null,null,null,null,null,null,null,null,null,null,null,null,null,null,null,null,null,null,null,null,null,null,1]
[null,null,null,null,null,null,null,null,null,null,null,null,null,null,null,null,null,null,null,null,null,null,1]
[null,null,null,null,null,null,null,null,null,null,null,null,null,null,null,null,null,null,null,null,null,null,1]
[null,"Step 1: Outline Your Workforce Strategy Themes",null,null,null,null,null,null,null,null,null,null,null,{"$f":"IF(AND(F21<>\"\",F25<>\"\"),\"Complete\",\"Incomplete\")","v":"Incomplete"},null,null,null,null,null,null,null,null,1]
[null,null,null,null,null,null,null,null,null,null,null,null,null,null,null,null,null,null,null,null,null,null,1]
[null,"INSTRUCTIONS: Establishing an overall theme can support alignment between objectives and actions of a strategic plan. Please answer the following two questions, which can serve as guideposts to outlining specific workforce strategy objectives and actions.",null,null,null,null,null,null,null,null,null,null,null,null,null,null,null,null,null,null,null,null,1]
[null,null,null,null,null,null,null,null,null,null,null,null,null,null,null,null,null,null,null,null,null,null,1]
[null,null,null,null,null,null,null,null,null,null,null,null,null,null,null,null,null,null,null,null,null,null,1]
[null,null,null,null,null,null,null,null,null,null,null,null,null,null,null,null,null,null,null,null,null,null,1]
[null,null,"How do you want a prospective employee to imagine their work experience at your agency?",null,null,null,null,null,null,null,null,null,null,null,null,null,null,null,null,null,null,null,1]
[null,null,null,null,null,null,null,null,null,null,null,null,null,null,null,null,null,null,null,null,null,null,1]
[null,null,null,null,null,null,null,null,null,null,null,null,null,null,null,null,null,null,null,null,null,null,1]
[null,null,null,null,null,null,null,null,null,null,null,null,null,null,null,null,null,null,null,null,null,null,1]
[null,null,"How would you want an employee leaving the agency to describe their work experience?",null,null,null,null,null,null,null,null,null,null,null,null,null,null,null,null,null,null,null,1]
[null,null,null,null,null,null,null,null,null,null,null,null,null,null,null,null,null,null,null,null,null,null,1]
[null,null,null,null,null,null,null,null,null,null,null,null,null,null,null,null,null,null,null,null,null,null,1]
[null,null,null,null,null,null,null,null,null,null,null,null,null,null,null,null,null,null,null,null,null,null,1]
[null,null,null,null,null,null,null,null,null,null,null,null,null,null,null,null,null,null,null,null,null,null,1]
[null,null,null,null,null,null,null,null,null,null,null,null,null,null,null,null,null,null,null,null,null,null,1]
[null,"Step 2: Outline Your Workforce Strategy Objectives & Actions",null,null,null,null,null,null,null,null,null,null,null,{"$f":"IF(AND(SUM(Q:Q)='CENTRAL ANALYSIS'!C26,'CENTRAL ANALYSIS'!C26<>0),\"Complete\",\"Incomplete\")","v":"Incomplete"},null,null,null,null,null,null,null,null,1]
[null,null,null,null,null,null,null,null,null,null,null,null,null,null,null,null,null,null,null,null,null,null,1]
[null,"INSTRUCTIONS: Using all previous information in this template, please create a strategic action plan to address the agency's workforce needs, challenges, and strategic priorities. Each item should include an overall objective statement and then specific action items. Objectives can be added by clicking the \"Add Objective\" button for a total of 5 overall objectives per strategy.",null,null,null,null,null,null,null,null,null,null,null,null,null,null,null,null,null,null,null,null,1]
[null,null,null,null,null,null,null,null,null,null,null,null,null,null,null,null,null,null,null,null,null,null,1]
[null,null,null,null,null,null,null,null,null,null,null,null,null,null,null,null,null,null,null,null,null,null,1]
[null,null,null,null,null,null,null,null,null,null,null,null,null,null,null,null,null,null,null,null,null,null,{"$f":"IF('CENTRAL ANALYSIS'!$B$28=1,1,0)","v":0}]
[null,null,"Objective 1",null,null,null,null,null,null,null,null,null,null,null,null,null,null,null,null,null,null,null,{"$f":"IF('CENTRAL ANALYSIS'!$B$28=1,1,0)","v":0}]
[null,null,null,null,null,null,null,null,null,null,null,null,null,null,null,null,null,null,null,null,null,null,{"$f":"IF('CENTRAL ANALYSIS'!$B$28=1,1,0)","v":0}]
[null,null,"Please enter the item objective statement and corresponding action items. Action items can be added by clicking the \"Add Action Item\" button, for a total of 5 action items.  An objective does not need to have action items for each workforce planning area. Action items should describe what the action is and how it will be measured. A brief summary of progress can be added by clicking the \"Add Progress Update button for existing objectives.",null,null,null,null,null,null,null,null,null,null,null,null,null,null,null,null,null,null,null,{"$f":"IF('CENTRAL ANALYSIS'!$B$28=1,1,0)","v":0}]
[null,null,null,null,null,null,null,null,null,null,null,null,null,null,null,null,null,null,null,null,null,null,{"$f":"IF('CENTRAL ANALYSIS'!$B$28=1,1,0)","v":0}]
[null,null,null,null,null,null,null,null,null,null,null,null,null,null,null,null,null,null,null,null,null,null,{"$f":"IF('CENTRAL ANALYSIS'!$B$28=1,1,0)","v":0}]
[null,null,null,null,null,null,null,null,null,null,null,null,null,null,null,null,null,null,null,null,null,null,{"$f":"IF('CENTRAL ANALYSIS'!$B$28=1,1,0)","v":0}]
[null,null,null,null,null,null,null,null,null,null,null,null,null,null,null,null,null,null,null,null,null,null,{"$f":"IF('CENTRAL ANALYSIS'!$B$28=1,1,0)","v":0}]
[null,null,null,null,null,null,null,null,null,null,"Objective Title",null,null,null,null,null,{"$f":"IF(AND(L44<>\"\",F46<>\"\"),1,0)","v":0},null,null,null,null,null,{"$f":"IF('CENTRAL ANALYSIS'!$B$28=1,1,0)","v":0}]
[null,null,null,null,null,null,null,null,null,null,null,null,null,null,null,null,null,null,null,null,null,null,{"$f":"IF('CENTRAL ANALYSIS'!$B$28=1,1,0)","v":0}]
[null,null,null,null,"Overall Objective Statement",null,null,null,null,null,null,null,null,null,null,null,null,null,null,null,null,null,{"$f":"IF('CENTRAL ANALYSIS'!$B$28=1,1,0)","v":0}]
[null,null,null,{"$f":"IF($F46='DATA IMPORT'!P268,\"\",IF(AND('DATA IMPORT'!P268=\"\",'AGENCY STRATEGY'!$F46<>\"\"),'CENTRAL DATA'!$J$17,IF(AND('DATA IMPORT'!P268<>\"\",'AGENCY STRATEGY'!$F46<>'DATA IMPORT'!P268),'CENTRAL DATA'!$J$16,\"\")))","v":""},null,null,null,null,null,null,null,null,null,null,null,null,null,null,null,null,null,null,{"$f":"IF('CENTRAL ANALYSIS'!$B$28=1,1,0)","v":0}]
[null,null,null,null,null,null,null,null,null,null,null,null,null,null,null,null,null,null,null,null,null,null,{"$f":"IF('CENTRAL ANALYSIS'!$B$28=1,1,0)","v":0}]
[null,null,null,null,null,null,null,null,null,null,null,null,null,null,null,null,null,null,null,null,null,null,{"$f":"IF('CENTRAL ANALYSIS'!$B$28=1,1,0)","v":0}]
[null,null,null,null,null,null,null,null,null,null,null,null,null,null,null,null,null,null,null,null,null,null,{"$f":"IF('CENTRAL ANALYSIS'!$B$28=1,1,0)","v":0}]
[null,null,null,null,null,null,null,null,null,null,null,null,null,null,null,null,null,null,null,null,null,null,{"$f":"IF('CENTRAL ANALYSIS'!$B$28=1,1,0)","v":0}]
[null,null,null,null,null,null,null,null,null,null,null,null,null,null,null,null,null,null,null,null,null,null,{"$f":"IF('CENTRAL ANALYSIS'!$B$28=1,1,0)","v":0}]
[null,null,null,null,null,null,"Action Item",null,null,null,null,null,null,null,null,null,{"$f":"IF(H53<>\"\",1,0)","v":0},null,null,null,null,null,{"$f":"IF('CENTRAL ANALYSIS'!$B$29=1,1,0)","v":0}]
[null,null,null,null,null,{"$f":"IF($H53='DATA IMPORT'!P269,\"\",IF(AND('DATA IMPORT'!P269=\"\",'AGENCY STRATEGY'!$H53<>\"\"),'CENTRAL DATA'!$J$17,IF(AND('DATA IMPORT'!P269<>\"\",'AGENCY STRATEGY'!$H53<>'DATA IMPORT'!P269),'CENTRAL DATA'!$J$16,\"\")))","v":""},null,null,null,null,null,null,null,null,null,null,null,null,null,null,null,null,{"$f":"IF('CENTRAL ANALYSIS'!$B$29=1,1,0)","v":0}]
[null,null,null,null,null,null,null,null,null,null,null,null,null,null,null,null,null,null,null,null,null,null,{"$f":"IF('CENTRAL ANALYSIS'!$B$29=1,1,0)","v":0}]
[null,null,null,null,null,null,"Action Item",null,null,null,null,null,null,null,null,null,{"$f":"IF(H56<>\"\",1,0)","v":0},null,null,null,null,null,{"$f":"IF('CENTRAL ANALYSIS'!$B$30=1,1,0)","v":0}]
[null,null,null,null,null,{"$f":"IF($H56='DATA IMPORT'!P270,\"\",IF(AND('DATA IMPORT'!P270=\"\",'AGENCY STRATEGY'!$H56<>\"\"),'CENTRAL DATA'!$J$17,IF(AND('DATA IMPORT'!P270<>\"\",'AGENCY STRATEGY'!$H56<>'DATA IMPORT'!P270),'CENTRAL DATA'!$J$16,\"\")))","v":""},null,null,null,null,null,null,null,null,null,null,null,null,null,null,null,null,{"$f":"IF('CENTRAL ANALYSIS'!$B$30=1,1,0)","v":0}]
[null,null,null,null,null,null,null,null,null,null,null,null,null,null,null,null,null,null,null,null,null,null,{"$f":"IF('CENTRAL ANALYSIS'!$B$30=1,1,0)","v":0}]
[null,null,null,null,null,null,"Action Item","",null,null,null,null,null,null,null,null,{"$f":"IF(H59<>\"\",1,0)","v":0},null,null,null,null,null,{"$f":"IF('CENTRAL ANALYSIS'!$B$31=1,1,0)","v":0}]
[null,null,null,null,null,{"$f":"IF($H59='DATA IMPORT'!P271,\"\",IF(AND('DATA IMPORT'!P271=\"\",'AGENCY STRATEGY'!$H59<>\"\"),'CENTRAL DATA'!$J$17,IF(AND('DATA IMPORT'!P271<>\"\",'AGENCY STRATEGY'!$H59<>'DATA IMPORT'!P271),'CENTRAL DATA'!$J$16,\"\")))","v":""},null,null,null,null,null,null,null,null,null,null,null,null,null,null,null,null,{"$f":"IF('CENTRAL ANALYSIS'!$B$31=1,1,0)","v":0}]
[null,null,null,null,null,null,null,null,null,null,null,null,null,null,null,null,null,null,null,null,null,null,{"$f":"IF('CENTRAL ANALYSIS'!$B$31=1,1,0)","v":0}]
[null,null,null,null,null,null,"Action Item","",null,null,null,null,null,null,null,null,{"$f":"IF(H62<>\"\",1,0)","v":0},null,null,null,null,null,{"$f":"IF('CENTRAL ANALYSIS'!$B$32=1,1,0)","v":0}]
[null,null,null,null,null,{"$f":"IF($H62='DATA IMPORT'!P272,\"\",IF(AND('DATA IMPORT'!P272=\"\",'AGENCY STRATEGY'!$H62<>\"\"),'CENTRAL DATA'!$J$17,IF(AND('DATA IMPORT'!P272<>\"\",'AGENCY STRATEGY'!$H62<>'DATA IMPORT'!P272),'CENTRAL DATA'!$J$16,\"\")))","v":""},null,null,null,null,null,null,null,null,null,null,null,null,null,null,null,null,{"$f":"IF('CENTRAL ANALYSIS'!$B$32=1,1,0)","v":0}]
[null,null,null,null,null,null,null,null,null,null,null,null,null,null,null,null,null,null,null,null,null,null,{"$f":"IF('CENTRAL ANALYSIS'!$B$32=1,1,0)","v":0}]
[null,null,null,null,null,null,"Action Item","",null,null,null,null,null,null,null,null,{"$f":"IF(H65<>\"\",1,0)","v":0},null,null,null,null,null,{"$f":"IF('CENTRAL ANALYSIS'!$B$33=1,1,0)","v":0}]
[null,null,null,null,null,{"$f":"IF($H65='DATA IMPORT'!P273,\"\",IF(AND('DATA IMPORT'!P273=\"\",'AGENCY STRATEGY'!$H65<>\"\"),'CENTRAL DATA'!$J$17,IF(AND('DATA IMPORT'!P273<>\"\",'AGENCY STRATEGY'!$H65<>'DATA IMPORT'!P273),'CENTRAL DATA'!$J$16,\"\")))","v":""},null,null,null,null,null,null,null,null,null,null,null,null,null,null,null,null,{"$f":"IF('CENTRAL ANALYSIS'!$B$33=1,1,0)","v":0}]
[null,null,null,null,null,null,null,null,null,null,null,null,null,null,null,null,null,null,null,null,null,null,{"$f":"IF('CENTRAL ANALYSIS'!$B$33=1,1,0)","v":0}]
[null,null,null,null,null,null,null,null,null,null,null,null,null,null,null,null,null,null,null,null,null,null,{"$f":"IF('CENTRAL ANALYSIS'!$B$28=1,1,0)","v":0}]
[null,null,null,null,null,null,"Objective Progress Summary",null,null,null,null,null,null,null,null,null,null,null,null,null,null,null,0]
[null,null,null,null,null,null,null,null,null,null,null,null,null,null,null,null,null,null,null,null,null,null,0]
[null,null,null,null,null,null,null,null,null,null,null,null,null,null,null,null,null,null,null,null,null,null,0]
[null,null,null,null,null,null,null,null,null,null,null,null,null,null,null,null,null,null,null,null,null,null,0]
[null,null,null,null,null,null,null,null,null,null,null,null,null,null,null,null,null,null,null,null,null,null,0]
[null,null,null,null,null,null,null,null,null,null,null,null,null,null,null,null,null,null,null,null,null,null,0]
[null,null,null,null,null,null,"Date of Update",null,null,null,null,null,null,null,null,null,{"$f":"IF(AND(H75<>\"\",H76<>\"\"),1,0)","v":0},null,null,null,null,null,{"$f":"IF('CENTRAL ANALYSIS'!$B$34=1,1,0)","v":0}]
[null,null,null,null,null,null,"Objective Progress Summary",null,null,null,null,null,null,null,null,null,null,null,null,null,null,null,{"$f":"IF('CENTRAL ANALYSIS'!$B$34=1,1,0)","v":0}]
[null,null,null,null,null,null,null,null,null,null,null,null,null,null,null,null,null,null,null,null,null,null,{"$f":"IF('CENTRAL ANALYSIS'!$B$34=1,1,0)","v":0}]
[null,null,null,null,null,null,null,null,null,null,null,null,null,null,null,null,null,null,null,null,null,null,{"$f":"IF('CENTRAL ANALYSIS'!$B$34=1,1,0)","v":0}]
[null,null,null,null,null,null,null,null,null,null,null,null,null,null,null,null,null,null,null,null,null,null,{"$f":"IF('CENTRAL ANALYSIS'!$B$34=1,1,0)","v":0}]
[null,null,null,null,null,null,null,null,null,null,null,null,null,null,null,null,null,null,null,null,null,null,{"$f":"IF('CENTRAL ANALYSIS'!$B$34=1,1,0)","v":0}]
[null,null,null,null,null,null,null,null,null,null,null,null,null,null,null,null,null,null,null,null,null,null,{"$f":"IF('CENTRAL ANALYSIS'!$B$34=1,1,0)","v":0}]
[null,null,null,null,null,null,null,null,null,null,null,null,null,null,null,null,null,null,null,null,null,null,{"$f":"IF('CENTRAL ANALYSIS'!$B$34=1,1,0)","v":0}]
[null,null,null,null,null,null,null,null,null,null,null,null,null,null,null,null,null,null,null,null,null,null,{"$f":"IF('CENTRAL ANALYSIS'!$B$34=1,1,0)","v":0}]
[null,null,null,null,null,null,null,null,null,null,null,null,null,null,null,null,null,null,null,null,null,null,{"$f":"IF('CENTRAL ANALYSIS'!$B$34=1,1,0)","v":0}]
[null,null,null,null,null,null,null,null,null,null,null,null,null,null,null,null,null,null,null,null,null,null,{"$f":"IF('CENTRAL ANALYSIS'!$B$28=1,1,0)","v":0}]
[null,null,"Objective 2",null,null,null,null,null,null,null,null,null,null,null,null,null,null,null,null,null,null,null,{"$f":"IF('CENTRAL ANALYSIS'!$E$28=1,1,0)","v":0}]
[null,null,null,null,null,null,null,null,null,null,null,null,null,null,null,null,null,null,null,null,null,null,{"$f":"IF('CENTRAL ANALYSIS'!$E$28=1,1,0)","v":0}]
[null,null,"Please enter the item objective statement and corresponding action items. Action items can be added by clicking the \"Add Action Item\" button, for a total of 5 action items.  An objective does not need to have action items for each workforce planning area. Action items should describe what the action is and how it will be measured. A brief summary of progress can be added by clicking the \"Add Progress Update button for existing objectives.",null,null,null,null,null,null,null,null,null,null,null,null,null,null,null,null,null,null,null,{"$f":"IF('CENTRAL ANALYSIS'!$E$28=1,1,0)","v":0}]
[null,null,null,null,null,null,null,null,null,null,null,null,null,null,null,null,null,null,null,null,null,null,{"$f":"IF('CENTRAL ANALYSIS'!$E$28=1,1,0)","v":0}]
[null,null,null,null,null,null,null,null,null,null,null,null,null,null,null,null,null,null,null,null,null,null,{"$f":"IF('CENTRAL ANALYSIS'!$E$28=1,1,0)","v":0}]
[null,null,null,null,null,null,null,null,null,null,null,null,null,null,null,null,null,null,null,null,null,null,{"$f":"IF('CENTRAL ANALYSIS'!$E$28=1,1,0)","v":0}]
[null,null,null,null,null,null,null,null,null,null,null,null,null,null,null,null,null,null,null,null,null,null,{"$f":"IF('CENTRAL ANALYSIS'!$E$28=1,1,0)","v":0}]
[null,null,null,null,null,null,null,null,null,null,"Objective Title",null,null,null,null,null,{"$f":"IF(AND(L93<>\"\",F95<>\"\"),1,0)","v":0},null,null,null,null,null,{"$f":"IF('CENTRAL ANALYSIS'!$E$28=1,1,0)","v":0}]
[null,null,null,null,null,null,null,null,null,null,null,null,null,null,null,null,null,null,null,null,null,null,{"$f":"IF('CENTRAL ANALYSIS'!$E$28=1,1,0)","v":0}]
[null,null,null,null,"Overall Objective Statement",null,null,null,null,null,null,null,null,null,null,null,null,null,null,null,null,null,{"$f":"IF('CENTRAL ANALYSIS'!$E$28=1,1,0)","v":0}]
[null,null,null,{"$f":"IF($F95='DATA IMPORT'!P274,\"\",IF(AND('DATA IMPORT'!P274=\"\",'AGENCY STRATEGY'!$F95<>\"\"),'CENTRAL DATA'!$J$17,IF(AND('DATA IMPORT'!P274<>\"\",'AGENCY STRATEGY'!$F95<>'DATA IMPORT'!P274),'CENTRAL DATA'!$J$16,\"\")))","v":""},null,null,null,null,null,null,null,null,null,null,null,null,null,null,null,null,null,null,{"$f":"IF('CENTRAL ANALYSIS'!$E$28=1,1,0)","v":0}]
[null,null,null,null,null,null,null,null,null,null,null,null,null,null,null,null,null,null,null,null,null,null,{"$f":"IF('CENTRAL ANALYSIS'!$E$28=1,1,0)","v":0}]
[null,null,null,null,null,null,null,null,null,null,null,null,null,null,null,null,null,null,null,null,null,null,{"$f":"IF('CENTRAL ANALYSIS'!$E$28=1,1,0)","v":0}]
[null,null,null,null,null,null,null,null,null,null,null,null,null,null,null,null,null,null,null,null,null,null,{"$f":"IF('CENTRAL ANALYSIS'!$E$28=1,1,0)","v":0}]
[null,null,null,null,null,null,null,null,null,null,null,null,null,null,null,null,null,null,null,null,null,null,{"$f":"IF('CENTRAL ANALYSIS'!$E$28=1,1,0)","v":0}]
[null,null,null,null,null,null,null,null,null,null,null,null,null,null,null,null,null,null,null,null,null,null,{"$f":"IF('CENTRAL ANALYSIS'!$E$28=1,1,0)","v":0}]
[null,null,null,null,null,null,"Action Item",null,null,null,null,null,null,null,null,null,{"$f":"IF(H102<>\"\",1,0)","v":0},null,null,null,null,null,{"$f":"IF('CENTRAL ANALYSIS'!$E$29=1,1,0)","v":0}]
[null,null,null,null,null,{"$f":"IF($H102='DATA IMPORT'!P275,\"\",IF(AND('DATA IMPORT'!P275=\"\",'AGENCY STRATEGY'!$H102<>\"\"),'CENTRAL DATA'!$J$17,IF(AND('DATA IMPORT'!P275<>\"\",'AGENCY STRATEGY'!$H102<>'DATA IMPORT'!P275),'CENTRAL DATA'!$J$16,\"\")))","v":""},null,null,null,null,null,null,null,null,null,null,null,null,null,null,null,null,{"$f":"IF('CENTRAL ANALYSIS'!$E$29=1,1,0)","v":0}]
[null,null,null,null,null,null,null,null,null,null,null,null,null,null,null,null,null,null,null,null,null,null,{"$f":"IF('CENTRAL ANALYSIS'!$E$29=1,1,0)","v":0}]
[null,null,null,null,null,null,"Action Item",null,null,null,null,null,null,null,null,null,{"$f":"IF(H105<>\"\",1,0)","v":0},null,null,null,null,null,{"$f":"IF('CENTRAL ANALYSIS'!$E$30=1,1,0)","v":0}]
[null,null,null,null,null,{"$f":"IF($H105='DATA IMPORT'!P276,\"\",IF(AND('DATA IMPORT'!P276=\"\",'AGENCY STRATEGY'!$H105<>\"\"),'CENTRAL DATA'!$J$17,IF(AND('DATA IMPORT'!P276<>\"\",'AGENCY STRATEGY'!$H105<>'DATA IMPORT'!P276),'CENTRAL DATA'!$J$16,\"\")))","v":""},null,null,null,null,null,null,null,null,null,null,null,null,null,null,null,null,{"$f":"IF('CENTRAL ANALYSIS'!$E$30=1,1,0)","v":0}]
[null,null,null,null,null,null,null,null,null,null,null,null,null,null,null,null,null,null,null,null,null,null,{"$f":"IF('CENTRAL ANALYSIS'!$E$30=1,1,0)","v":0}]
[null,null,null,null,null,null,"Action Item","",null,null,null,null,null,null,null,null,{"$f":"IF(H108<>\"\",1,0)","v":0},null,null,null,null,null,{"$f":"IF('CENTRAL ANALYSIS'!$E$31=1,1,0)","v":0}]
[null,null,null,null,null,{"$f":"IF($H108='DATA IMPORT'!P277,\"\",IF(AND('DATA IMPORT'!P277=\"\",'AGENCY STRATEGY'!$H108<>\"\"),'CENTRAL DATA'!$J$17,IF(AND('DATA IMPORT'!P277<>\"\",'AGENCY STRATEGY'!$H108<>'DATA IMPORT'!P277),'CENTRAL DATA'!$J$16,\"\")))","v":""},null,null,null,null,null,null,null,null,null,null,null,null,null,null,null,null,{"$f":"IF('CENTRAL ANALYSIS'!$E$31=1,1,0)","v":0}]
[null,null,null,null,null,null,null,null,null,null,null,null,null,null,null,null,null,null,null,null,null,null,{"$f":"IF('CENTRAL ANALYSIS'!$E$31=1,1,0)","v":0}]
[null,null,null,null,null,null,"Action Item","",null,null,null,null,null,null,null,null,{"$f":"IF(H111<>\"\",1,0)","v":0},null,null,null,null,null,{"$f":"IF('CENTRAL ANALYSIS'!$E$32=1,1,0)","v":0}]
[null,null,null,null,null,{"$f":"IF($H111='DATA IMPORT'!P278,\"\",IF(AND('DATA IMPORT'!P278=\"\",'AGENCY STRATEGY'!$H111<>\"\"),'CENTRAL DATA'!$J$17,IF(AND('DATA IMPORT'!P278<>\"\",'AGENCY STRATEGY'!$H111<>'DATA IMPORT'!P278),'CENTRAL DATA'!$J$16,\"\")))","v":""},null,null,null,null,null,null,null,null,null,null,null,null,null,null,null,null,{"$f":"IF('CENTRAL ANALYSIS'!$E$32=1,1,0)","v":0}]
[null,null,null,null,null,null,null,null,null,null,null,null,null,null,null,null,null,null,null,null,null,null,{"$f":"IF('CENTRAL ANALYSIS'!$E$32=1,1,0)","v":0}]
[null,null,null,null,null,null,"Action Item","",null,null,null,null,null,null,null,null,{"$f":"IF(H114<>\"\",1,0)","v":0},null,null,null,null,null,{"$f":"IF('CENTRAL ANALYSIS'!$E$33=1,1,0)","v":0}]
[null,null,null,null,null,{"$f":"IF($H114='DATA IMPORT'!P279,\"\",IF(AND('DATA IMPORT'!P279=\"\",'AGENCY STRATEGY'!$H114<>\"\"),'CENTRAL DATA'!$J$17,IF(AND('DATA IMPORT'!P279<>\"\",'AGENCY STRATEGY'!$H114<>'DATA IMPORT'!P279),'CENTRAL DATA'!$J$16,\"\")))","v":""},null,null,null,null,null,null,null,null,null,null,null,null,null,null,null,null,{"$f":"IF('CENTRAL ANALYSIS'!$E$33=1,1,0)","v":0}]
[null,null,null,null,null,null,null,null,null,null,null,null,null,null,null,null,null,null,null,null,null,null,{"$f":"IF('CENTRAL ANALYSIS'!$E$33=1,1,0)","v":0}]
[null,null,null,null,null,null,null,null,null,null,null,null,null,null,null,null,null,null,null,null,null,null,1]
[null,null,null,null,null,null,"Objective Progress Summary",null,null,null,null,null,null,null,null,null,null,null,null,null,null,null,0]
[null,null,null,null,null,null,null,null,null,null,null,null,null,null,null,null,null,null,null,null,null,null,0]
[null,null,null,null,null,null,null,null,null,null,null,null,null,null,null,null,null,null,null,null,null,null,0]
[null,null,null,null,null,null,null,null,null,null,null,null,null,null,null,null,null,null,null,null,null,null,0]
[null,null,null,null,null,null,null,null,null,null,null,null,null,null,null,null,null,null,null,null,null,null,0]
[null,null,null,null,null,null,null,null,null,null,null,null,null,null,null,null,null,null,null,null,null,null,0]
[null,null,null,null,null,null,"Date of Update",null,null,null,null,null,null,null,null,null,{"$f":"IF(AND(H124<>\"\",H125<>\"\"),1,0)","v":0},null,null,null,null,null,{"$f":"IF('CENTRAL ANALYSIS'!$E$34=1,1,0)","v":0}]
[null,null,null,null,null,null,"Objective Progress Summary",null,null,null,null,null,null,null,null,null,null,null,null,null,null,null,{"$f":"IF('CENTRAL ANALYSIS'!$E$34=1,1,0)","v":0}]
[null,null,null,null,null,null,null,null,null,null,null,null,null,null,null,null,null,null,null,null,null,null,{"$f":"IF('CENTRAL ANALYSIS'!$E$34=1,1,0)","v":0}]
[null,null,null,null,null,null,null,null,null,null,null,null,null,null,null,null,null,null,null,null,null,null,{"$f":"IF('CENTRAL ANALYSIS'!$E$34=1,1,0)","v":0}]
[null,null,null,null,null,null,null,null,null,null,null,null,null,null,null,null,null,null,null,null,null,null,{"$f":"IF('CENTRAL ANALYSIS'!$E$34=1,1,0)","v":0}]
[null,null,null,null,null,null,null,null,null,null,null,null,null,null,null,null,null,null,null,null,null,null,{"$f":"IF('CENTRAL ANALYSIS'!$E$34=1,1,0)","v":0}]
[null,null,null,null,null,null,null,null,null,null,null,null,null,null,null,null,null,null,null,null,null,null,{"$f":"IF('CENTRAL ANALYSIS'!$E$34=1,1,0)","v":0}]
[null,null,null,null,null,null,null,null,null,null,null,null,null,null,null,null,null,null,null,null,null,null,{"$f":"IF('CENTRAL ANALYSIS'!$E$34=1,1,0)","v":0}]
[null,null,null,null,null,null,null,null,null,null,null,null,null,null,null,null,null,null,null,null,null,null,{"$f":"IF('CENTRAL ANALYSIS'!$E$34=1,1,0)","v":0}]
[null,null,null,null,null,null,null,null,null,null,null,null,null,null,null,null,null,null,null,null,null,null,{"$f":"IF('CENTRAL ANALYSIS'!$E$34=1,1,0)","v":0}]
[null,null,null,null,null,null,null,null,null,null,null,null,null,null,null,null,null,null,null,null,null,null,{"$f":"IF('CENTRAL ANALYSIS'!$E$34=1,1,0)","v":0}]
[null,null,"Objective 3",null,null,null,null,null,null,null,null,null,null,null,null,null,null,null,null,null,null,null,{"$f":"IF('CENTRAL ANALYSIS'!$H$28=1,1,0)","v":0}]
[null,null,null,null,null,null,null,null,null,null,null,null,null,null,null,null,null,null,null,null,null,null,{"$f":"IF('CENTRAL ANALYSIS'!$H$28=1,1,0)","v":0}]
[null,null,"Please enter the item objective statement and corresponding action items. Action items can be added by clicking the \"Add Action Item\" button, for a total of 5 action items.  An objective does not need to have action items for each workforce planning area. Action items should describe what the action is and how it will be measured. A brief summary of progress can be added by clicking the \"Add Progress Update button for existing objectives.",null,null,null,null,null,null,null,null,null,null,null,null,null,null,null,null,null,null,null,{"$f":"IF('CENTRAL ANALYSIS'!$H$28=1,1,0)","v":0}]
[null,null,null,null,null,null,null,null,null,null,null,null,null,null,null,null,null,null,null,null,null,null,{"$f":"IF('CENTRAL ANALYSIS'!$H$28=1,1,0)","v":0}]
[null,null,null,null,null,null,null,null,null,null,null,null,null,null,null,null,null,null,null,null,null,null,{"$f":"IF('CENTRAL ANALYSIS'!$H$28=1,1,0)","v":0}]
[null,null,null,null,null,null,null,null,null,null,null,null,null,null,null,null,null,null,null,null,null,null,{"$f":"IF('CENTRAL ANALYSIS'!$H$28=1,1,0)","v":0}]
[null,null,null,null,null,null,null,null,null,null,null,null,null,null,null,null,null,null,null,null,null,null,{"$f":"IF('CENTRAL ANALYSIS'!$H$28=1,1,0)","v":0}]
[null,null,null,null,null,null,null,null,null,null,"Objective Title",null,null,null,null,null,{"$f":"IF(AND(L142<>\"\",F144<>\"\"),1,0)","v":0},null,null,null,null,null,{"$f":"IF('CENTRAL ANALYSIS'!$H$28=1,1,0)","v":0}]
[null,null,null,null,null,null,null,null,null,null,null,null,null,null,null,null,null,null,null,null,null,null,{"$f":"IF('CENTRAL ANALYSIS'!$H$28=1,1,0)","v":0}]
[null,null,null,null,"Overall Objective Statement",null,null,null,null,null,null,null,null,null,null,null,null,null,null,null,null,null,{"$f":"IF('CENTRAL ANALYSIS'!$H$28=1,1,0)","v":0}]
[null,null,null,{"$f":"IF($F144='DATA IMPORT'!P280,\"\",IF(AND('DATA IMPORT'!P280=\"\",'AGENCY STRATEGY'!$F144<>\"\"),'CENTRAL DATA'!$J$17,IF(AND('DATA IMPORT'!P280<>\"\",'AGENCY STRATEGY'!$F144<>'DATA IMPORT'!P280),'CENTRAL DATA'!$J$16,\"\")))","v":""},null,null,null,null,null,null,null,null,null,null,null,null,null,null,null,null,null,null,{"$f":"IF('CENTRAL ANALYSIS'!$H$28=1,1,0)","v":0}]
[null,null,null,null,null,null,null,null,null,null,null,null,null,null,null,null,null,null,null,null,null,null,{"$f":"IF('CENTRAL ANALYSIS'!$H$28=1,1,0)","v":0}]
[null,null,null,null,null,null,null,null,null,null,null,null,null,null,null,null,null,null,null,null,null,null,{"$f":"IF('CENTRAL ANALYSIS'!$H$28=1,1,0)","v":0}]
[null,null,null,null,null,null,null,null,null,null,null,null,null,null,null,null,null,null,null,null,null,null,{"$f":"IF('CENTRAL ANALYSIS'!$H$28=1,1,0)","v":0}]
[null,null,null,null,null,null,null,null,null,null,null,null,null,null,null,null,null,null,null,null,null,null,{"$f":"IF('CENTRAL ANALYSIS'!$H$28=1,1,0)","v":0}]
[null,null,null,null,null,null,null,null,null,null,null,null,null,null,null,null,null,null,null,null,null,null,{"$f":"IF('CENTRAL ANALYSIS'!$H$28=1,1,0)","v":0}]
[null,null,null,null,null,null,"Action Item",null,null,null,null,null,null,null,null,null,{"$f":"IF(H151<>\"\",1,0)","v":0},null,null,null,null,null,{"$f":"IF('CENTRAL ANALYSIS'!$H$29=1,1,0)","v":0}]
[null,null,null,null,null,{"$f":"IF($H151='DATA IMPORT'!P281,\"\",IF(AND('DATA IMPORT'!P281=\"\",'AGENCY STRATEGY'!$H151<>\"\"),'CENTRAL DATA'!$J$17,IF(AND('DATA IMPORT'!P281<>\"\",'AGENCY STRATEGY'!$H151<>'DATA IMPORT'!P281),'CENTRAL DATA'!$J$16,\"\")))","v":""},null,null,null,null,null,null,null,null,null,null,null,null,null,null,null,null,{"$f":"IF('CENTRAL ANALYSIS'!$H$29=1,1,0)","v":0}]
[null,null,null,null,null,null,null,null,null,null,null,null,null,null,null,null,null,null,null,null,null,null,{"$f":"IF('CENTRAL ANALYSIS'!$H$29=1,1,0)","v":0}]
[null,null,null,null,null,null,"Action Item","",null,null,null,null,null,null,null,null,{"$f":"IF(H154<>\"\",1,0)","v":0},null,null,null,null,null,{"$f":"IF('CENTRAL ANALYSIS'!$H$30=1,1,0)","v":0}]
[null,null,null,null,null,{"$f":"IF($H154='DATA IMPORT'!P282,\"\",IF(AND('DATA IMPORT'!P282=\"\",'AGENCY STRATEGY'!$H154<>\"\"),'CENTRAL DATA'!$J$17,IF(AND('DATA IMPORT'!P282<>\"\",'AGENCY STRATEGY'!$H154<>'DATA IMPORT'!P282),'CENTRAL DATA'!$J$16,\"\")))","v":""},null,null,null,null,null,null,null,null,null,null,null,null,null,null,null,null,{"$f":"IF('CENTRAL ANALYSIS'!$H$30=1,1,0)","v":0}]
[null,null,null,null,null,null,null,null,null,null,null,null,null,null,null,null,null,null,null,null,null,null,{"$f":"IF('CENTRAL ANALYSIS'!$H$30=1,1,0)","v":0}]
[null,null,null,null,null,null,"Action Item","",null,null,null,null,null,null,null,null,{"$f":"IF(H157<>\"\",1,0)","v":0},null,null,null,null,null,{"$f":"IF('CENTRAL ANALYSIS'!$H$31=1,1,0)","v":0}]
[null,null,null,null,null,{"$f":"IF($H157='DATA IMPORT'!P283,\"\",IF(AND('DATA IMPORT'!P283=\"\",'AGENCY STRATEGY'!$H157<>\"\"),'CENTRAL DATA'!$J$17,IF(AND('DATA IMPORT'!P283<>\"\",'AGENCY STRATEGY'!$H157<>'DATA IMPORT'!P283),'CENTRAL DATA'!$J$16,\"\")))","v":""},null,null,null,null,null,null,null,null,null,null,null,null,null,null,null,null,{"$f":"IF('CENTRAL ANALYSIS'!$H$31=1,1,0)","v":0}]
[null,null,null,null,null,null,null,null,null,null,null,null,null,null,null,null,null,null,null,null,null,null,{"$f":"IF('CENTRAL ANALYSIS'!$H$31=1,1,0)","v":0}]
[null,null,null,null,null,null,"Action Item","",null,null,null,null,null,null,null,null,{"$f":"IF(H160<>\"\",1,0)","v":0},null,null,null,null,null,{"$f":"IF('CENTRAL ANALYSIS'!$H$32=1,1,0)","v":0}]
[null,null,null,null,null,{"$f":"IF($H160='DATA IMPORT'!P284,\"\",IF(AND('DATA IMPORT'!P284=\"\",'AGENCY STRATEGY'!$H160<>\"\"),'CENTRAL DATA'!$J$17,IF(AND('DATA IMPORT'!P284<>\"\",'AGENCY STRATEGY'!$H160<>'DATA IMPORT'!P284),'CENTRAL DATA'!$J$16,\"\")))","v":""},null,null,null,null,null,null,null,null,null,null,null,null,null,null,null,null,{"$f":"IF('CENTRAL ANALYSIS'!$H$32=1,1,0)","v":0}]
[null,null,null,null,null,null,null,null,null,null,null,null,null,null,null,null,null,null,null,null,null,null,{"$f":"IF('CENTRAL ANALYSIS'!$H$32=1,1,0)","v":0}]
[null,null,null,null,null,null,"Action Item","",null,null,null,null,null,null,null,null,{"$f":"IF(H163<>\"\",1,0)","v":0},null,null,null,null,null,{"$f":"IF('CENTRAL ANALYSIS'!$H$33=1,1,0)","v":0}]
[null,null,null,null,null,{"$f":"IF($H163='DATA IMPORT'!P285,\"\",IF(AND('DATA IMPORT'!P285=\"\",'AGENCY STRATEGY'!$H163<>\"\"),'CENTRAL DATA'!$J$17,IF(AND('DATA IMPORT'!P285<>\"\",'AGENCY STRATEGY'!$H163<>'DATA IMPORT'!P285),'CENTRAL DATA'!$J$16,\"\")))","v":""},null,null,null,null,null,null,null,null,null,null,null,null,null,null,null,null,{"$f":"IF('CENTRAL ANALYSIS'!$H$33=1,1,0)","v":0}]
[null,null,null,null,null,null,null,null,null,null,null,null,null,null,null,null,null,null,null,null,null,null,{"$f":"IF('CENTRAL ANALYSIS'!$H$33=1,1,0)","v":0}]
[null,null,null,null,null,null,null,null,null,null,null,null,null,null,null,null,null,null,null,null,null,null,1]
[null,null,null,null,null,null,"Objective Progress Summary",null,null,null,null,null,null,null,null,null,null,null,null,null,null,null,0]
[null,null,null,null,null,null,null,null,null,null,null,null,null,null,null,null,null,null,null,null,null,null,0]
[null,null,null,null,null,null,null,null,null,null,null,null,null,null,null,null,null,null,null,null,null,null,0]
[null,null,null,null,null,null,null,null,null,null,null,null,null,null,null,null,null,null,null,null,null,null,0]
[null,null,null,null,null,null,null,null,null,null,null,null,null,null,null,null,null,null,null,null,null,null,0]
[null,null,null,null,null,null,null,null,null,null,null,null,null,null,null,null,null,null,null,null,null,null,0]
[null,null,null,null,null,null,"Date of Update",null,null,null,null,null,null,null,null,null,{"$f":"IF(AND(H173<>\"\",H174<>\"\"),1,0)","v":0},null,null,null,null,null,{"$f":"IF('CENTRAL ANALYSIS'!$H$34=1,1,0)","v":0}]
[null,null,null,null,null,null,"Objective Progress Summary",null,null,null,null,null,null,null,null,null,null,null,null,null,null,null,{"$f":"IF('CENTRAL ANALYSIS'!$H$34=1,1,0)","v":0}]
[null,null,null,null,null,null,null,null,null,null,null,null,null,null,null,null,null,null,null,null,null,null,{"$f":"IF('CENTRAL ANALYSIS'!$H$34=1,1,0)","v":0}]
[null,null,null,null,null,null,null,null,null,null,null,null,null,null,null,null,null,null,null,null,null,null,{"$f":"IF('CENTRAL ANALYSIS'!$H$34=1,1,0)","v":0}]
[null,null,null,null,null,null,null,null,null,null,null,null,null,null,null,null,null,null,null,null,null,null,{"$f":"IF('CENTRAL ANALYSIS'!$H$34=1,1,0)","v":0}]
[null,null,null,null,null,null,null,null,null,null,null,null,null,null,null,null,null,null,null,null,null,null,{"$f":"IF('CENTRAL ANALYSIS'!$H$34=1,1,0)","v":0}]
[null,null,null,null,null,null,null,null,null,null,null,null,null,null,null,null,null,null,null,null,null,null,{"$f":"IF('CENTRAL ANALYSIS'!$H$34=1,1,0)","v":0}]
[null,null,null,null,null,null,null,null,null,null,null,null,null,null,null,null,null,null,null,null,null,null,{"$f":"IF('CENTRAL ANALYSIS'!$H$34=1,1,0)","v":0}]
[null,null,null,null,null,null,null,null,null,null,null,null,null,null,null,null,null,null,null,null,null,null,{"$f":"IF('CENTRAL ANALYSIS'!$H$34=1,1,0)","v":0}]
[null,null,null,null,null,null,null,null,null,null,null,null,null,null,null,null,null,null,null,null,null,null,{"$f":"IF('CENTRAL ANALYSIS'!$H$34=1,1,0)","v":0}]
[null,null,null,null,null,null,null,null,null,null,null,null,null,null,null,null,null,null,null,null,null,null,{"$f":"IF('CENTRAL ANALYSIS'!$H$34=1,1,0)","v":0}]
[null,null,"Objective 4",null,null,null,null,null,null,null,null,null,null,null,null,null,null,null,null,null,null,null,{"$f":"IF('CENTRAL ANALYSIS'!$K$28=1,1,0)","v":0}]
[null,null,null,null,null,null,null,null,null,null,null,null,null,null,null,null,null,null,null,null,null,null,{"$f":"IF('CENTRAL ANALYSIS'!$K$28=1,1,0)","v":0}]
[null,null,"Please enter the item objective statement and corresponding action items. Action items can be added by clicking the \"Add Action Item\" button, for a total of 5 action items.  An objective does not need to have action items for each workforce planning area. Action items should describe what the action is and how it will be measured. A brief summary of progress can be added by clicking the \"Add Progress Update button for existing objectives.",null,null,null,null,null,null,null,null,null,null,null,null,null,null,null,null,null,null,null,{"$f":"IF('CENTRAL ANALYSIS'!$K$28=1,1,0)","v":0}]
[null,null,null,null,null,null,null,null,null,null,null,null,null,null,null,null,null,null,null,null,null,null,{"$f":"IF('CENTRAL ANALYSIS'!$K$28=1,1,0)","v":0}]
[null,null,null,null,null,null,null,null,null,null,null,null,null,null,null,null,null,null,null,null,null,null,{"$f":"IF('CENTRAL ANALYSIS'!$K$28=1,1,0)","v":0}]
[null,null,null,null,null,null,null,null,null,null,null,null,null,null,null,null,null,null,null,null,null,null,{"$f":"IF('CENTRAL ANALYSIS'!$K$28=1,1,0)","v":0}]
[null,null,null,null,null,null,null,null,null,null,null,null,null,null,null,null,null,null,null,null,null,null,{"$f":"IF('CENTRAL ANALYSIS'!$K$28=1,1,0)","v":0}]
[null,null,null,null,null,null,null,null,null,null,"Objective Title",null,null,null,null,null,{"$f":"IF(AND(L191<>\"\",F193<>\"\"),1,0)","v":0},null,null,null,null,null,{"$f":"IF('CENTRAL ANALYSIS'!$K$28=1,1,0)","v":0}]
[null,null,null,null,null,null,null,null,null,null,null,null,null,null,null,null,null,null,null,null,null,null,{"$f":"IF('CENTRAL ANALYSIS'!$K$28=1,1,0)","v":0}]
[null,null,null,null,"Overall Objective Statement","",null,null,null,null,null,null,null,null,null,null,null,null,null,null,null,null,{"$f":"IF('CENTRAL ANALYSIS'!$K$28=1,1,0)","v":0}]
[null,null,null,{"$f":"IF($F193='DATA IMPORT'!P286,\"\",IF(AND('DATA IMPORT'!P286=\"\",'AGENCY STRATEGY'!$F193<>\"\"),'CENTRAL DATA'!$J$17,IF(AND('DATA IMPORT'!P286<>\"\",'AGENCY STRATEGY'!$F193<>'DATA IMPORT'!P286),'CENTRAL DATA'!$J$16,\"\")))","v":""},null,null,null,null,null,null,null,null,null,null,null,null,null,null,null,null,null,null,{"$f":"IF('CENTRAL ANALYSIS'!$K$28=1,1,0)","v":0}]
[null,null,null,null,null,null,null,null,null,null,null,null,null,null,null,null,null,null,null,null,null,null,{"$f":"IF('CENTRAL ANALYSIS'!$K$28=1,1,0)","v":0}]
[null,null,null,null,null,null,null,null,null,null,null,null,null,null,null,null,null,null,null,null,null,null,{"$f":"IF('CENTRAL ANALYSIS'!$K$28=1,1,0)","v":0}]
[null,null,null,null,null,null,null,null,null,null,null,null,null,null,null,null,null,null,null,null,null,null,{"$f":"IF('CENTRAL ANALYSIS'!$K$28=1,1,0)","v":0}]
[null,null,null,null,null,null,null,null,null,null,null,null,null,null,null,null,null,null,null,null,null,null,{"$f":"IF('CENTRAL ANALYSIS'!$K$28=1,1,0)","v":0}]
[null,null,null,null,null,null,null,null,null,null,null,null,null,null,null,null,null,null,null,null,null,null,{"$f":"IF('CENTRAL ANALYSIS'!$K$28=1,1,0)","v":0}]
[null,null,null,null,null,null,"Action Item",null,null,null,null,null,null,null,null,null,{"$f":"IF(H200<>\"\",1,0)","v":0},null,null,null,null,null,{"$f":"IF('CENTRAL ANALYSIS'!$K$29=1,1,0)","v":0}]
[null,null,null,null,null,{"$f":"IF($H200='DATA IMPORT'!P287,\"\",IF(AND('DATA IMPORT'!P287=\"\",'AGENCY STRATEGY'!$H200<>\"\"),'CENTRAL DATA'!$J$17,IF(AND('DATA IMPORT'!P287<>\"\",'AGENCY STRATEGY'!$H200<>'DATA IMPORT'!P287),'CENTRAL DATA'!$J$16,\"\")))","v":""},null,null,null,null,null,null,null,null,null,null,null,null,null,null,null,null,{"$f":"IF('CENTRAL ANALYSIS'!$K$29=1,1,0)","v":0}]
[null,null,null,null,null,null,null,null,null,null,null,null,null,null,null,null,null,null,null,null,null,null,{"$f":"IF('CENTRAL ANALYSIS'!$K$29=1,1,0)","v":0}]
[null,null,null,null,null,null,"Action Item","",null,null,null,null,null,null,null,null,{"$f":"IF(H203<>\"\",1,0)","v":0},null,null,null,null,null,{"$f":"IF('CENTRAL ANALYSIS'!$K$30=1,1,0)","v":0}]
[null,null,null,null,null,{"$f":"IF($H203='DATA IMPORT'!P288,\"\",IF(AND('DATA IMPORT'!P288=\"\",'AGENCY STRATEGY'!$H203<>\"\"),'CENTRAL DATA'!$J$17,IF(AND('DATA IMPORT'!P288<>\"\",'AGENCY STRATEGY'!$H203<>'DATA IMPORT'!P288),'CENTRAL DATA'!$J$16,\"\")))","v":""},null,null,null,null,null,null,null,null,null,null,null,null,null,null,null,null,{"$f":"IF('CENTRAL ANALYSIS'!$K$30=1,1,0)","v":0}]
[null,null,null,null,null,null,null,null,null,null,null,null,null,null,null,null,null,null,null,null,null,null,{"$f":"IF('CENTRAL ANALYSIS'!$K$30=1,1,0)","v":0}]
[null,null,null,null,null,null,"Action Item","",null,null,null,null,null,null,null,null,{"$f":"IF(H206<>\"\",1,0)","v":0},null,null,null,null,null,{"$f":"IF('CENTRAL ANALYSIS'!$K$31=1,1,0)","v":0}]
[null,null,null,null,null,{"$f":"IF($H206='DATA IMPORT'!P289,\"\",IF(AND('DATA IMPORT'!P289=\"\",'AGENCY STRATEGY'!$H206<>\"\"),'CENTRAL DATA'!$J$17,IF(AND('DATA IMPORT'!P289<>\"\",'AGENCY STRATEGY'!$H206<>'DATA IMPORT'!P289),'CENTRAL DATA'!$J$16,\"\")))","v":""},null,null,null,null,null,null,null,null,null,null,null,null,null,null,null,null,{"$f":"IF('CENTRAL ANALYSIS'!$K$31=1,1,0)","v":0}]
[null,null,null,null,null,null,null,null,null,null,null,null,null,null,null,null,null,null,null,null,null,null,{"$f":"IF('CENTRAL ANALYSIS'!$K$31=1,1,0)","v":0}]
[null,null,null,null,null,null,"Action Item","",null,null,null,null,null,null,null,null,{"$f":"IF(H209<>\"\",1,0)","v":0},null,null,null,null,null,{"$f":"IF('CENTRAL ANALYSIS'!$K$32=1,1,0)","v":0}]
[null,null,null,null,null,{"$f":"IF($H209='DATA IMPORT'!P290,\"\",IF(AND('DATA IMPORT'!P290=\"\",'AGENCY STRATEGY'!$H209<>\"\"),'CENTRAL DATA'!$J$17,IF(AND('DATA IMPORT'!P290<>\"\",'AGENCY STRATEGY'!$H209<>'DATA IMPORT'!P290),'CENTRAL DATA'!$J$16,\"\")))","v":""},null,null,null,null,null,null,null,null,null,null,null,null,null,null,null,null,{"$f":"IF('CENTRAL ANALYSIS'!$K$32=1,1,0)","v":0}]
[null,null,null,null,null,null,null,null,null,null,null,null,null,null,null,null,null,null,null,null,null,null,{"$f":"IF('CENTRAL ANALYSIS'!$K$32=1,1,0)","v":0}]
[null,null,null,null,null,null,"Action Item","",null,null,null,null,null,null,null,null,{"$f":"IF(H212<>\"\",1,0)","v":0},null,null,null,null,null,{"$f":"IF('CENTRAL ANALYSIS'!$K$33=1,1,0)","v":0}]
[null,null,null,null,null,{"$f":"IF($H212='DATA IMPORT'!P291,\"\",IF(AND('DATA IMPORT'!P291=\"\",'AGENCY STRATEGY'!$H212<>\"\"),'CENTRAL DATA'!$J$17,IF(AND('DATA IMPORT'!P291<>\"\",'AGENCY STRATEGY'!$H212<>'DATA IMPORT'!P291),'CENTRAL DATA'!$J$16,\"\")))","v":""},null,null,null,null,null,null,null,null,null,null,null,null,null,null,null,null,{"$f":"IF('CENTRAL ANALYSIS'!$K$33=1,1,0)","v":0}]
[null,null,null,null,null,null,null,null,null,null,null,null,null,null,null,null,null,null,null,null,null,null,{"$f":"IF('CENTRAL ANALYSIS'!$K$33=1,1,0)","v":0}]
[null,null,null,null,null,null,null,null,null,null,null,null,null,null,null,null,null,null,null,null,null,null,1]
[null,null,null,null,null,null,"Objective Progress Summary","",null,null,null,null,null,null,null,null,null,null,null,null,null,null,0]
[null,null,null,null,null,null,null,null,null,null,null,null,null,null,null,null,null,null,null,null,null,null,0]
[null,null,null,null,null,null,null,null,null,null,null,null,null,null,null,null,null,null,null,null,null,null,0]
[null,null,null,null,null,null,null,null,null,null,null,null,null,null,null,null,null,null,null,null,null,null,0]
[null,null,null,null,null,null,null,null,null,null,null,null,null,null,null,null,null,null,null,null,null,null,0]
[null,null,null,null,null,null,null,null,null,null,null,null,null,null,null,null,null,null,null,null,null,null,0]
[null,null,null,null,null,null,"Date of Update",null,null,null,null,null,null,null,null,null,{"$f":"IF(AND(H222<>\"\",H223<>\"\"),1,0)","v":0},null,null,null,null,null,{"$f":"IF('CENTRAL ANALYSIS'!$K$34=1,1,0)","v":0}]
[null,null,null,null,null,null,"Objective Progress Summary",null,null,null,null,null,null,null,null,null,null,null,null,null,null,null,{"$f":"IF('CENTRAL ANALYSIS'!$K$34=1,1,0)","v":0}]
[null,null,null,null,null,null,null,null,null,null,null,null,null,null,null,null,null,null,null,null,null,null,{"$f":"IF('CENTRAL ANALYSIS'!$K$34=1,1,0)","v":0}]
[null,null,null,null,null,null,null,null,null,null,null,null,null,null,null,null,null,null,null,null,null,null,{"$f":"IF('CENTRAL ANALYSIS'!$K$34=1,1,0)","v":0}]
[null,null,null,null,null,null,null,null,null,null,null,null,null,null,null,null,null,null,null,null,null,null,{"$f":"IF('CENTRAL ANALYSIS'!$K$34=1,1,0)","v":0}]
[null,null,null,null,null,null,null,null,null,null,null,null,null,null,null,null,null,null,null,null,null,null,{"$f":"IF('CENTRAL ANALYSIS'!$K$34=1,1,0)","v":0}]
[null,null,null,null,null,null,null,null,null,null,null,null,null,null,null,null,null,null,null,null,null,null,{"$f":"IF('CENTRAL ANALYSIS'!$K$34=1,1,0)","v":0}]
[null,null,null,null,null,null,null,null,null,null,null,null,null,null,null,null,null,null,null,null,null,null,{"$f":"IF('CENTRAL ANALYSIS'!$K$34=1,1,0)","v":0}]
[null,null,null,null,null,null,null,null,null,null,null,null,null,null,null,null,null,null,null,null,null,null,{"$f":"IF('CENTRAL ANALYSIS'!$K$34=1,1,0)","v":0}]
[null,null,null,null,null,null,null,null,null,null,null,null,null,null,null,null,null,null,null,null,null,null,{"$f":"IF('CENTRAL ANALYSIS'!$K$34=1,1,0)","v":0}]
[null,null,null,null,null,null,null,null,null,null,null,null,null,null,null,null,null,null,null,null,null,null,{"$f":"IF('CENTRAL ANALYSIS'!$K$34=1,1,0)","v":0}]
[null,null,"Objective 5",null,null,null,null,null,null,null,null,null,null,null,null,null,null,null,null,null,null,null,{"$f":"IF('CENTRAL ANALYSIS'!$N$28=1,1,0)","v":0}]
[null,null,null,null,null,null,null,null,null,null,null,null,null,null,null,null,null,null,null,null,null,null,{"$f":"IF('CENTRAL ANALYSIS'!$N$28=1,1,0)","v":0}]
[null,null,"Please enter the item objective statement and corresponding action items. Action items can be added by clicking the \"Add Action Item\" button, for a total of 5 action items.  An objective does not need to have action items for each workforce planning area. Action items should describe what the action is and how it will be measured. A brief summary of progress can be added by clicking the \"Add Progress Update button for existing objectives.",null,null,null,null,null,null,null,null,null,null,null,null,null,null,null,null,null,null,null,{"$f":"IF('CENTRAL ANALYSIS'!$N$28=1,1,0)","v":0}]
[null,null,null,null,null,null,null,null,null,null,null,null,null,null,null,null,null,null,null,null,null,null,{"$f":"IF('CENTRAL ANALYSIS'!$N$28=1,1,0)","v":0}]
[null,null,null,null,null,null,null,null,null,null,null,null,null,null,null,null,null,null,null,null,null,null,{"$f":"IF('CENTRAL ANALYSIS'!$N$28=1,1,0)","v":0}]
[null,null,null,null,null,null,null,null,null,null,null,null,null,null,null,null,null,null,null,null,null,null,{"$f":"IF('CENTRAL ANALYSIS'!$N$28=1,1,0)","v":0}]
[null,null,null,null,null,null,null,null,null,null,null,null,null,null,null,null,null,null,null,null,null,null,{"$f":"IF('CENTRAL ANALYSIS'!$N$28=1,1,0)","v":0}]
[null,null,null,null,null,null,null,null,null,null,"Objective Title",null,null,null,null,null,{"$f":"IF(AND(L240<>\"\",F242<>\"\"),1,0)","v":0},null,null,null,null,null,{"$f":"IF('CENTRAL ANALYSIS'!$N$28=1,1,0)","v":0}]
[null,null,null,null,null,null,null,null,null,null,null,null,null,null,null,null,null,null,null,null,null,null,{"$f":"IF('CENTRAL ANALYSIS'!$N$28=1,1,0)","v":0}]
[null,null,null,null,"Overall Objective Statement",null,null,null,null,null,null,null,null,null,null,null,null,null,null,null,null,null,{"$f":"IF('CENTRAL ANALYSIS'!$N$28=1,1,0)","v":0}]
[null,null,null,{"$f":"IF($F242='DATA IMPORT'!P292,\"\",IF(AND('DATA IMPORT'!P292=\"\",'AGENCY STRATEGY'!$F242<>\"\"),'CENTRAL DATA'!$J$17,IF(AND('DATA IMPORT'!P292<>\"\",'AGENCY STRATEGY'!$F242<>'DATA IMPORT'!P292),'CENTRAL DATA'!$J$16,\"\")))","v":""},null,null,null,null,null,null,null,null,null,null,null,null,null,null,null,null,null,null,{"$f":"IF('CENTRAL ANALYSIS'!$N$28=1,1,0)","v":0}]
[null,null,null,null,null,null,null,null,null,null,null,null,null,null,null,null,null,null,null,null,null,null,{"$f":"IF('CENTRAL ANALYSIS'!$N$28=1,1,0)","v":0}]
[null,null,null,null,null,null,null,null,null,null,null,null,null,null,null,null,null,null,null,null,null,null,{"$f":"IF('CENTRAL ANALYSIS'!$N$28=1,1,0)","v":0}]
[null,null,null,null,null,null,null,null,null,null,null,null,null,null,null,null,null,null,null,null,null,null,{"$f":"IF('CENTRAL ANALYSIS'!$N$28=1,1,0)","v":0}]
[null,null,null,null,null,null,null,null,null,null,null,null,null,null,null,null,null,null,null,null,null,null,{"$f":"IF('CENTRAL ANALYSIS'!$N$28=1,1,0)","v":0}]
[null,null,null,null,null,null,null,null,null,null,null,null,null,null,null,null,null,null,null,null,null,null,{"$f":"IF('CENTRAL ANALYSIS'!$N$28=1,1,0)","v":0}]
[null,null,null,null,null,null,"Action Item","",null,null,null,null,null,null,null,null,{"$f":"IF(H249<>\"\",1,0)","v":0},null,null,null,null,null,{"$f":"IF('CENTRAL ANALYSIS'!$N$29=1,1,0)","v":0}]
[null,null,null,null,null,{"$f":"IF($H249='DATA IMPORT'!P293,\"\",IF(AND('DATA IMPORT'!P293=\"\",'AGENCY STRATEGY'!$H249<>\"\"),'CENTRAL DATA'!$J$17,IF(AND('DATA IMPORT'!P293<>\"\",'AGENCY STRATEGY'!$H249<>'DATA IMPORT'!P293),'CENTRAL DATA'!$J$16,\"\")))","v":""},null,null,null,null,null,null,null,null,null,null,null,null,null,null,null,null,{"$f":"IF('CENTRAL ANALYSIS'!$N$29=1,1,0)","v":0}]
[null,null,null,null,null,null,null,null,null,null,null,null,null,null,null,null,null,null,null,null,null,null,{"$f":"IF('CENTRAL ANALYSIS'!$N$29=1,1,0)","v":0}]
[null,null,null,null,null,null,"Action Item","",null,null,null,null,null,null,null,null,{"$f":"IF(H252<>\"\",1,0)","v":0},null,null,null,null,null,{"$f":"IF('CENTRAL ANALYSIS'!$N$30=1,1,0)","v":0}]
[null,null,null,null,null,{"$f":"IF($H252='DATA IMPORT'!P294,\"\",IF(AND('DATA IMPORT'!P294=\"\",'AGENCY STRATEGY'!$H252<>\"\"),'CENTRAL DATA'!$J$17,IF(AND('DATA IMPORT'!P294<>\"\",'AGENCY STRATEGY'!$H252<>'DATA IMPORT'!P294),'CENTRAL DATA'!$J$16,\"\")))","v":""},null,null,null,null,null,null,null,null,null,null,null,null,null,null,null,null,{"$f":"IF('CENTRAL ANALYSIS'!$N$30=1,1,0)","v":0}]
[null,null,null,null,null,null,null,null,null,null,null,null,null,null,null,null,null,null,null,null,null,null,{"$f":"IF('CENTRAL ANALYSIS'!$N$30=1,1,0)","v":0}]
[null,null,null,null,null,null,"Action Item","",null,null,null,null,null,null,null,null,{"$f":"IF(H255<>\"\",1,0)","v":0},null,null,null,null,null,{"$f":"IF('CENTRAL ANALYSIS'!$N$31=1,1,0)","v":0}]
[null,null,null,null,null,{"$f":"IF($H255='DATA IMPORT'!P295,\"\",IF(AND('DATA IMPORT'!P295=\"\",'AGENCY STRATEGY'!$H255<>\"\"),'CENTRAL DATA'!$J$17,IF(AND('DATA IMPORT'!P295<>\"\",'AGENCY STRATEGY'!$H255<>'DATA IMPORT'!P295),'CENTRAL DATA'!$J$16,\"\")))","v":""},null,null,null,null,null,null,null,null,null,null,null,null,null,null,null,null,{"$f":"IF('CENTRAL ANALYSIS'!$N$31=1,1,0)","v":0}]
[null,null,null,null,null,null,null,null,null,null,null,null,null,null,null,null,null,null,null,null,null,null,{"$f":"IF('CENTRAL ANALYSIS'!$N$31=1,1,0)","v":0}]
[null,null,null,null,null,null,"Action Item","",null,null,null,null,null,null,null,null,{"$f":"IF(H258<>\"\",1,0)","v":0},null,null,null,null,null,{"$f":"IF('CENTRAL ANALYSIS'!$N$32=1,1,0)","v":0}]
[null,null,null,null,null,{"$f":"IF($H258='DATA IMPORT'!P296,\"\",IF(AND('DATA IMPORT'!P296=\"\",'AGENCY STRATEGY'!$H258<>\"\"),'CENTRAL DATA'!$J$17,IF(AND('DATA IMPORT'!P296<>\"\",'AGENCY STRATEGY'!$H258<>'DATA IMPORT'!P296),'CENTRAL DATA'!$J$16,\"\")))","v":""},null,null,null,null,null,null,null,null,null,null,null,null,null,null,null,null,{"$f":"IF('CENTRAL ANALYSIS'!$N$32=1,1,0)","v":0}]
[null,null,null,null,null,null,null,null,null,null,null,null,null,null,null,null,null,null,null,null,null,null,{"$f":"IF('CENTRAL ANALYSIS'!$N$32=1,1,0)","v":0}]
[null,null,null,null,null,null,"Action Item","",null,null,null,null,null,null,null,null,{"$f":"IF(H261<>\"\",1,0)","v":0},null,null,null,null,null,{"$f":"IF('CENTRAL ANALYSIS'!$N$33=1,1,0)","v":0}]
[null,null,null,null,null,{"$f":"IF($H261='DATA IMPORT'!P297,\"\",IF(AND('DATA IMPORT'!P297=\"\",'AGENCY STRATEGY'!$H261<>\"\"),'CENTRAL DATA'!$J$17,IF(AND('DATA IMPORT'!P297<>\"\",'AGENCY STRATEGY'!$H261<>'DATA IMPORT'!P297),'CENTRAL DATA'!$J$16,\"\")))","v":""},null,null,null,null,null,null,null,null,null,null,null,null,null,null,null,null,{"$f":"IF('CENTRAL ANALYSIS'!$N$33=1,1,0)","v":0}]
[null,null,null,null,null,null,null,null,null,null,null,null,null,null,null,null,null,null,null,null,null,null,{"$f":"IF('CENTRAL ANALYSIS'!$N$33=1,1,0)","v":0}]
[null,null,null,null,null,null,null,null,null,null,null,null,null,null,null,null,null,null,null,null,null,null,1]
[null,null,null,null,null,null,"Objective Progress Summary","",null,null,null,null,null,null,null,null,null,null,null,null,null,null,0]
[null,null,null,null,null,null,null,null,null,null,null,null,null,null,null,null,null,null,null,null,null,null,0]
[null,null,null,null,null,null,null,null,null,null,null,null,null,null,null,null,null,null,null,null,null,null,0]
[null,null,null,null,null,null,null,null,null,null,null,null,null,null,null,null,null,null,null,null,null,null,0]
[null,null,null,null,null,null,null,null,null,null,null,null,null,null,null,null,null,null,null,null,null,null,0]
[null,null,null,null,null,null,null,null,null,null,null,null,null,null,null,null,null,null,null,null,null,null,0]
[null,null,null,null,null,null,"Date of Update",null,null,null,null,null,null,null,null,null,{"$f":"IF(AND(H271<>\"\",H272<>\"\"),1,0)","v":0},null,null,null,null,null,{"$f":"IF('CENTRAL ANALYSIS'!$N$34=1,1,0)","v":0}]
[null,null,null,null,null,null,"Objective Progress Summary",null,null,null,null,null,null,null,null,null,null,null,null,null,null,null,{"$f":"IF('CENTRAL ANALYSIS'!$N$34=1,1,0)","v":0}]
[null,null,null,null,null,null,null,null,null,null,null,null,null,null,null,null,null,null,null,null,null,null,{"$f":"IF('CENTRAL ANALYSIS'!$N$34=1,1,0)","v":0}]
[null,null,null,null,null,null,null,null,null,null,null,null,null,null,null,null,null,null,null,null,null,null,{"$f":"IF('CENTRAL ANALYSIS'!$N$34=1,1,0)","v":0}]
[null,null,null,null,null,null,null,null,null,null,null,null,null,null,null,null,null,null,null,null,null,null,{"$f":"IF('CENTRAL ANALYSIS'!$N$34=1,1,0)","v":0}]
[null,null,null,null,null,null,null,null,null,null,null,null,null,null,null,null,null,null,null,null,null,null,{"$f":"IF('CENTRAL ANALYSIS'!$N$34=1,1,0)","v":0}]
[null,null,null,null,null,null,null,null,null,null,null,null,null,null,null,null,null,null,null,null,null,null,{"$f":"IF('CENTRAL ANALYSIS'!$N$34=1,1,0)","v":0}]
[null,null,null,null,null,null,null,null,null,null,null,null,null,null,null,null,null,null,null,null,null,null,{"$f":"IF('CENTRAL ANALYSIS'!$N$34=1,1,0)","v":0}]
[null,null,null,null,null,null,null,null,null,null,null,null,null,null,null,null,null,null,null,null,null,null,{"$f":"IF('CENTRAL ANALYSIS'!$N$34=1,1,0)","v":0}]
[null,null,null,null,null,null,null,null,null,null,null,null,null,null,null,null,null,null,null,null,null,null,{"$f":"IF('CENTRAL ANALYSIS'!$N$34=1,1,0)","v":0}]
[null,null,null,null,null,null,null,null,null,null,null,null,null,null,null,null,null,null,null,null,null,null,{"$f":"IF('CENTRAL ANALYSIS'!$N$34=1,1,0)","v":0}]
[null,"**************************************************************************************************************************************",null,null,null,null,null,null,null,null,null,null,null,null,null,null,null,null,null,null,null,null,1]
[null,null,null,null,null,null,null,null,null,null,null,null,null,null,null,null,null,null,null,null,null,null,1]
[null,null,null,null,null,null,null,null,null,null,null,null,null,null,null,null,null,null,null,null,null,null,1]
[null,null,null,null,null,null,null,null,null,null,null,null,null,null,null,null,null,null,null,null,null,null,1]
[null,null,null,null,null,null,null,null,null,null,null,null,null,null,null,null,null,null,null,null,null,null,1]
[null,null,"(Optional) Step 2(a): Enter Agency Strategic Initiatives & Information if not using Macros",null,null,null,null,null,null,null,null,null,null,null,null,null,null,null,null,null,null,null,1]
[null,null,null,null,null,null,null,null,null,null,null,null,null,null,null,null,null,null,null,null,null,null,1]
[null,null,"If chosen not to use Macros, please indicate the number strategic objectives and corresponding action items that should be included. Next, indicate which workforce planning area is impacted by each objective. The worksheet will then need to be filtered manually by going to cell \"W1\" and clicking the Filter Icon. This will display a menu where the checkbox next to \"0\" should be empty. If it is, click the \"OK\" button to display the objective and action item entry cells above. Enter the information for each area in the cells above.",null,null,null,null,null,null,null,null,null,null,null,null,null,null,null,null,null,null,null,1]
[null,null,null,null,null,null,null,null,null,null,null,null,null,null,null,null,null,null,null,null,null,null,1]
[null,null,null,null,null,null,null,null,null,null,null,null,null,null,null,null,null,null,null,null,null,null,1]
[null,null,null,null,null,null,null,null,null,null,null,null,null,null,null,null,null,null,null,null,null,null,1]
[null,null,null,null,null,null,null,null,null,null,null,null,null,null,null,null,null,null,null,null,null,null,1]
[null,null,null,null,null,null,null,null,null,null,null,null,null,null,"Total Objectives",null,null,null,null,null,null,null,1]
[null,null,null,null,null,null,null,null,null,null,null,null,null,null,"Total Action Items for Objective 1",null,null,null,null,null,null,null,1]
[null,null,null,null,null,null,null,null,null,null,null,null,null,null,"Total Action Items for Objective 2",null,null,null,null,null,null,null,1]
[null,null,null,null,null,null,null,null,null,null,null,null,null,null,"Total Action Items for Objective 3",null,null,null,null,null,null,null,1]
[null,null,null,null,null,null,null,null,null,null,null,null,null,null,"Total Action Items for Objective 4",null,null,null,null,null,null,null,1]
[null,null,null,null,null,null,null,null,null,null,null,null,null,null,"Total Action Items for Objective 5",null,null,null,null,null,null,null,1]
[null,null,null,null,null,null,null,null,null,null,null,null,null,null,"Provide Update for Objective 1",null,null,null,null,null,null,null,1]
[null,null,null,null,null,null,null,null,null,null,null,null,null,null,"Provide Update for Objective 2",null,null,null,null,null,null,null,1]
[null,null,null,null,null,null,null,null,null,null,null,null,null,null,"Provide Update for Objective 3",null,null,null,null,null,null,null,1]
[null,null,null,null,null,null,null,null,null,null,null,null,null,null,"Provide Update for Objective 4",null,null,null,null,null,null,null,1]
[null,null,null,null,null,null,null,null,null,null,null,null,null,null,"Provide Update for Objective 5",null,null,null,null,null,null,null,1]
[null,null,null,null,null,null,null,null,null,null,null,null,null,null,null,null,null,null,null,null,null,null,1]
[null,null,null,null,null,null,null,null,null,null,null,null,null,null,null,null,null,null,null,null,null,null,1]
[null,"(Optional) Step 3: Check Spelling",null,null,null,null,null,null,null,null,null,null,null,null,null,null,null,null,null,null,null,null,1]
[null,null,null,null,null,null,null,null,null,null,null,null,null,null,null,null,null,null,null,null,null,null,1]
[null,"INSTRUCTIONS: To check the spelling of items on this tab, please click the blue \"Spell Check This Tab\" button below. Correcting the spelling on this tab will ensure the report is correct as well. ",null,null,null,null,null,null,null,null,null,null,null,null,null,null,null,null,null,null,null,null,1]
[null,null,null,null,null,null,null,null,null,null,null,null,null,null,null,null,null,null,null,null,null,null,1]
[null,null,null,null,null,null,null,null,null,null,null,null,null,null,null,null,null,null,null,null,null,null,1]
[null,null,null,null,null,null,null,null,null,null,null,null,null,null,null,null,null,null,null,null,null,null,1]
[null,null,null,null,null,null,null,null,null,null,null,null,null,null,null,null,null,null,null,null,null,null,1]
[null,null,null,null,null,null,null,null,null,null,null,null,null,null,null,null,null,null,null,null,null,null,1]
[null,null,null,null,null,null,null,null,null,null,null,null,null,null,null,null,null,null,null,null,null,null,1]
[null,null,null,null,null,null,null,null,null,null,null,null,null,null,null,null,null,null,null,null,null,null,0]

{"sheet":"WFP SUMMARY","index":9,"n_rows":453,"n_cols":26,"rows_kept":453,"cut":false,"hidden":false,"merged":[[145,6,146,8],[143,3,144,3],[143,1,144,2],[142,6,143,8],[144,6,144,8],[147,6,147,8],[148,6,149,8],[147,1,147,2],[148,1,148,2],[146,12,148,20],[139,12,140,20],[137,10,138,20],[146,10,148,11],[139,10,140,11],[141,10,141,11],[144,10,145,11],[142,10,143,11],[142,12,143,20],[144,12,145,20],[169,1,169,2],[170,1,170,2],[135,1,136,2],[135,3,136,3],[137,1,138,2],[137,3,138,3],[140,1,140,2],[141,1,141,2],[142,1,142,2],[133,1,134,2],[133,3,134,3],[117,1,118,1],[131,4,132,4],[133,4,134,4],[135,4,136,4],[137,4,138,4],[165,1,166,4],[168,1,168,2],[400,6,400,12],[151,6,152,20],[213,5,214,16],[213,18,214,21],[164,6,166,8],[164,9,166,20],[168,6,169,8],[170,6,170,8],[171,6,172,8],[173,6,173,8],[174,6,175,8],[176,6,176,8],[192,14,193,15],[194,14,195,19],[197,7,198,12],[197,14,198,19],[199,11,200,12],[199,14,200,15],[201,6,202,10],[203,6,204,10],[205,6,206,10],[190,16,191,20],[207,6,208,10],[209,6,210,10],[130,6,131,8],[126,6,127,8],[114,2,114,3],[115,2,115,3],[116,2,116,3],[117,2,118,3],[120,1,121,4],[124,1,125,2],[124,3,125,3],[126,1,126,2],[129,1,129,2],[127,1,128,2],[127,3,128,3],[122,3,123,3],[131,1,132,2],[131,3,132,3],[132,18,133,20],[134,18,135,20],[38,1,39,4],[161,6,162,20],[111,6,114,20],[118,6,118,8],[118,10,118,12],[122,10,123,12],[124,10,125,12],[130,10,131,12],[132,10,133,12],[134,10,135,12],[118,14,118,16],[122,14,123,16],[124,14,125,16],[130,14,131,16],[134,14,135,16],[111,1,112,4],[118,18,118,20],[141,6,141,8],[128,6,129,8],[132,6,133,8],[134,6,135,8],[128,10,129,12],[137,6,138,8],[139,6,140,8],[107,18,108,21],[109,5,110,21],[120,6,121,8],[107,5,108,16],[116,19,116,20],[116,15,116,16],[116,11,116,12],[116,7,116,8],[124,6,125,8],[122,6,123,8],[120,18,121,20],[120,14,121,16],[120,10,121,12],[124,18,125,20],[122,18,123,20],[128,14,129,16],[132,14,133,16],[126,18,127,20],[126,10,127,12],[126,14,127,16],[130,18,131,20],[128,18,129,20],[82,6,82,8],[78,10,78,12],[79,10,79,12],[93,18,94,20],[84,6,85,20],[87,6,88,17],[96,6,97,20],[102,6,102,20],[101,6,101,20],[100,6,100,20],[99,6,99,20],[90,6,91,17],[90,18,91,20],[93,6,94,17],[105,6,106,20],[87,18,88,20],[77,18,77,20],[78,18,78,20],[79,18,79,20],[80,18,80,20],[81,18,81,20],[82,18,82,20],[81,14,81,16],[78,14,78,16],[79,14,79,16],[80,14,80,16],[82,14,82,16],[80,10,80,12],[81,10,81,12],[82,10,82,12],[103,6,103,20],[77,14,77,16],[77,6,77,8],[77,10,77,12],[78,6,78,8],[79,6,79,8],[80,6,80,8],[81,6,81,8],[66,18,67,20],[66,6,67,8],[70,6,71,8],[70,10,71,12],[70,14,71,16],[70,18,71,20],[72,6,72,8],[72,10,72,12],[72,18,72,20],[72,13,72,17],[38,5,40,12],[41,5,41,12],[43,5,44,16],[6,2,8,19],[9,2,12,19],[43,18,44,21],[178,5,179,16],[178,18,179,21],[62,6,63,20],[65,14,65,16],[65,10,65,12],[65,6,65,8],[65,18,65,20],[45,5,45,21],[46,6,58,20],[60,5,61,16],[60,18,61,21],[74,6,75,20],[68,6,68,8],[68,10,68,12],[68,14,68,16],[68,18,68,20],[66,10,67,12],[66,14,67,16],[201,16,202,20],[203,16,204,20],[205,16,206,20],[207,16,208,20],[209,16,210,20],[190,6,191,10],[182,6,183,10],[184,6,185,10],[186,6,187,10],[188,6,189,10],[192,11,193,12],[194,7,195,12],[182,16,183,20],[184,16,185,20],[186,16,187,20],[188,16,189,20],[216,6,216,8],[216,10,216,12],[216,14,216,16],[216,18,216,20],[218,6,220,8],[221,6,223,8],[224,6,226,8],[227,6,229,8],[230,6,232,8],[218,18,220,20],[221,18,223,20],[224,18,226,20],[227,18,229,20],[230,18,232,20],[218,10,220,12],[221,10,223,12],[224,10,226,12],[227,10,229,12],[230,10,232,12],[218,14,220,16],[221,14,223,16],[224,14,226,16],[227,14,229,16],[230,14,232,16],[245,6,246,20],[247,6,249,20],[233,10,235,12],[250,11,252,20],[251,8,252,10],[253,11,255,20],[254,8,255,10],[256,11,258,20],[257,8,258,10],[233,14,235,16],[233,18,235,20],[236,6,238,8],[236,10,238,12],[236,14,238,16],[236,18,238,20],[242,5,243,16],[242,18,243,21],[240,7,240,8],[240,11,240,12],[240,15,240,16],[240,19,240,20],[233,6,235,8],[259,11,261,20],[260,8,261,10],[262,11,264,20],[263,8,264,10],[265,6,265,20],[266,11,271,19],[273,6,274,20],[275,6,277,20],[278,11,280,20],[279,8,280,10],[281,11,283,20],[282,8,283,10],[284,11,286,20],[285,8,286,10],[287,11,289,20],[288,8,289,10],[290,11,292,20],[291,8,292,10],[293,6,293,20],[335,8,336,10],[337,11,339,20],[338,8,339,10],[340,11,342,20],[341,8,342,10],[294,11,299,19],[301,6,302,20],[303,6,305,20],[306,11,308,20],[307,8,308,10],[309,11,311,20],[310,8,311,10],[312,11,314,20],[313,8,314,10],[14,5,16,12],[365,11,367,20],[366,8,367,10],[368,11,370,20],[369,8,370,10],[371,11,373,20],[372,8,373,10],[400,13,400,20],[401,6,401,20],[374,11,376,20],[375,8,376,10],[377,6,377,20],[378,11,383,19],[385,5,386,16],[385,18,386,21],[388,6,398,20],[343,11,345,20],[344,8,345,10],[346,11,348,20],[347,8,348,10],[349,6,349,20],[350,11,355,19],[357,6,358,20],[359,6,361,20],[434,2,435,21],[34,2,36,21],[20,18,21,21],[22,2,24,21],[26,2,27,13],[26,14,27,16],[26,18,27,21],[28,2,30,21],[32,2,33,13],[32,14,33,16],[32,18,33,21],[20,2,21,13],[20,14,21,16],[315,11,317,20],[316,8,317,10],[318,11,320,20],[319,8,320,10],[321,6,321,20],[362,11,364,20],[363,8,364,10],[322,11,327,19],[329,6,330,20],[331,6,333,20],[334,11,336,20],[219,1,225,4],[436,2,437,21],[441,2,443,21],[445,2,446,21],[447,2,449,21],[47,1,53,4],[60,1,61,4],[65,1,65,2],[66,1,66,2],[67,1,67,2],[70,1,70,2],[71,1,71,2],[72,1,72,2],[63,1,64,2],[68,1,69,2],[68,3,69,3],[63,3,64,3],[410,2,411,21],[408,2,409,21],[413,5,415,12],[418,2,419,21],[420,2,422,20],[427,2,428,20],[429,2,430,20]]}
[null,null,null,null,null,null,null,null,null,null,null,null,null,null,null,null,null,null,null,null,null,null,null,null,null,1]
[null,null,null,null,null,null,null,null,null,null,null,null,null,null,null,null,null,null,null,null,null,null,null,null,null,1]
[null,null,null,null,null,null,null,null,null,null,null,null,null,null,null,null,null,null,null,null,null,null,null,null,null,1]
[null,null,null,null,null,null,null,null,null,null,null,null,null,null,null,null,null,null,null,null,null,null,null,null,301,1]
[null,null,null,null,null,null,null,null,null,null,null,null,null,null,null,null,null,null,null,null,null,null,null,null,null,1]
[null,null,null,null,null,null,null,null,null,null,null,null,null,null,null,null,null,null,null,null,null,null,null,null,null,1]
[null,null,"WORKFORCE PLAN SUMMARY",null,null,null,null,null,null,null,null,null,null,null,null,null,null,null,null,null,null,null,null,null,null,1]
[null,null,null,null,null,null,null,null,null,null,null,null,null,null,null,null,null,null,null,null,null,null,null,null,null,1]
[null,null,null,null,null,null,null,null,null,null,null,null,null,null,null,null,null,null,null,null,null,null,null,null,null,1]
[null,null,"The Workforce Plan Summary compiles information from the previous tabs into a single summary. It begins with an executive summary and then presents key metrics, the SWOT analysis, and agency workforce strategy. Some items can be customized to better communicate agency successes, areas of opportunity, or key points.",null,null,null,null,null,null,null,null,null,null,null,null,null,null,null,null,null,null,null,null,null,null,1]
[null,null,null,null,null,null,null,null,null,null,null,null,null,null,null,null,null,null,null,null,null,null,null,null,null,1]
[null,null,null,null,null,null,null,null,null,null,null,null,null,null,null,null,null,null,null,null,null,null,null,null,null,1]
[null,null,null,null,null,null,null,null,null,null,null,null,null,null,null,null,null,null,null,null,null,null,null,null,null,1]
[null,null,null,null,null,null,null,null,null,null,null,null,null,null,null,null,null,null,null,null,null,null,null,null,null,1]
[null,null,null,null,null,{"$f":"IF(SUMIF($Z$1:$Z$452,1)<>SUBTOTAL(103,$Z$1:$Z$452),\"Summary Needs to be Refreshed. Click the Refresh Button to the Right.\",\"Summary is Up to Date.\")","v":"Summary is Up to Date."},null,null,null,null,null,null,null,null,null,null,null,null,null,null,null,null,null,null,null,1]
[null,null,null,null,null,null,null,null,null,null,null,null,null,null,null,null,null,null,null,null,null,null,null,null,null,1]
[null,null,null,null,null,null,null,null,null,null,null,null,null,null,null,null,null,null,null,null,null,null,null,null,null,1]
[null,null,null,null,null,null,null,null,null,null,null,null,null,null,null,null,null,null,null,null,null,null,null,null,null,1]
[null,null,null,null,null,null,null,null,null,null,null,null,null,null,null,null,null,null,null,null,null,null,null,null,null,1]
[null,null,null,null,null,null,null,null,null,null,null,null,null,null,null,null,null,null,null,null,null,null,null,null,null,1]
[null,null,"Step 1: Enter Executive Summary",null,null,null,null,null,null,null,null,null,null,null,null,null,null,null,{"$f":"IF(G47<>\"\",\"Complete\",\"Incomplete\")","v":"Incomplete"},null,null,null,null,null,null,1]
[null,null,null,null,null,null,null,null,null,null,null,null,null,null,null,null,null,null,null,null,null,null,null,null,null,1]
[null,null,"INSTRUCTIONS: Establishing Enter an executive summary as an overview of the contents of the workforce plan summary, such as any key findings, learnings from the workforce planning process, or any key elements of the workforce strategy and how it aligns with the needs and strategic priorities of the agency.",null,null,null,null,null,null,null,null,null,null,null,null,null,null,null,null,null,null,null,null,null,null,1]
[null,null,null,null,null,null,null,null,null,null,null,null,null,null,null,null,null,null,null,null,null,null,null,null,null,1]
[null,null,null,null,null,null,null,null,null,null,null,null,null,null,null,null,null,null,null,null,null,null,null,null,null,1]
[null,null,null,null,null,null,null,null,null,null,null,null,null,null,null,null,null,null,null,null,null,null,null,null,null,1]
[null,null,"Step 2: Enter Key Highlights from Data",null,null,null,null,null,null,null,null,null,null,null,null,null,null,null,{"$f":"IF(G112<>\"\",\"Complete\",\"Incomplete\")","v":"Incomplete"},null,null,null,null,null,null,1]
[null,null,null,null,null,null,null,null,null,null,null,null,null,null,null,null,null,null,null,null,null,null,null,null,null,1]
[null,null,"INSTRUCTIONS: Enter a very brief summary of any key points or highlights of the data on the workforce plan. This is an opportunity to provide context to the specific metrics, such as why particular colors were chosen, key successes, or areas of greatest opportunity or concern. ",null,null,null,null,null,null,null,null,null,null,null,null,null,null,null,null,null,null,null,null,null,null,1]
[null,null,null,null,null,null,null,null,null,null,null,null,null,null,null,null,null,null,null,null,null,null,null,null,null,1]
[null,null,null,null,null,null,null,null,null,null,null,null,null,null,null,null,null,null,null,null,null,null,null,null,null,1]
[null,null,null,null,null,null,null,null,null,null,null,null,null,null,null,null,null,null,null,null,null,null,null,null,null,1]
[null,null,"Step 3: Add Critical Roles Definition",null,null,null,null,null,null,null,null,null,null,null,null,null,null,null,{"$f":"IF(M147<>\"\",\"Complete\",\"Incomplete\")","v":"Incomplete"},null,null,null,null,null,null,1]
[null,null,null,null,null,null,null,null,null,null,null,null,null,null,null,null,null,null,null,null,null,null,null,null,null,1]
[null,null,"INSTRUCTIONS: Enter a description of the agency critical roles, such as the guiding philosophy or process of how they were identified or what types of roles were identified as critical.",null,null,null,null,null,null,null,null,null,null,null,null,null,null,null,null,null,null,null,null,null,null,1]
[null,null,null,null,null,null,null,null,null,null,null,null,null,null,null,null,null,null,null,null,null,null,null,null,null,1]
[null,null,null,null,null,null,null,null,null,null,null,null,null,null,null,null,null,null,null,null,null,null,null,null,null,1]
[null,null,null,null,null,null,null,null,null,null,null,null,null,null,null,null,null,null,null,null,null,null,null,null,null,1]
[null,"Summary Customizations",null,null,null,{"$f":"PROFILE!J23","v":0},null,null,null,null,null,null,null,null,null,null,null,null,null,null,null,null,null,null,null,1]
[null,null,null,null,null,null,null,null,null,null,null,null,null,null,null,null,null,null,null,null,null,null,null,null,null,1]
[null,null,null,null,null,null,null,null,null,null,null,null,null,null,null,null,null,null,null,null,null,null,null,null,null,1]
[null,null,null,null,null,{"$f":"CONCATENATE(\"Agency Number: \",PROFILE!P25)","v":"Agency Number: "},null,null,null,null,null,null,null,null,null,null,null,null,null,null,null,null,null,null,null,1]
[null,null,null,null,null,null,null,null,null,null,null,null,null,null,null,null,null,null,null,null,null,null,null,null,null,1]
[null,null,null,null,null,"   Agency Workforce Plan Executive Summary",null,null,null,null,null,null,null,null,null,null,null,null,{"$f":"IF(AND(PROFILE!$L$43=\"Fiscal Year WFP\",'CENTRAL ANALYSIS'!$K$12=1),\"Invalid Date of Plan Entered\",IF(PROFILE!$L$43=\"Fiscal Year WFP\",CONCATENATE(\"Fiscal Year \",'DHRM ADMIN'!$O$14),IF(PROFILE!$L$43=\"Snapshot\",CONCATENATE(\"As of: \",TEXT(PROFILE!$N$44,\"mm/dd/yyyy\")),\"\")))","v":""},null,null,null,null,null,null,1]
[null,null,null,null,null,null,null,null,null,null,null,null,null,null,null,null,null,null,null,null,null,null,null,null,null,1]
[null,null,null,null,null,null,null,null,null,null,null,null,null,null,null,null,null,null,null,null,null,null,null,null,null,1]
[null,null,null,null,null,null,null,null,null,null,null,null,null,null,null,null,null,null,null,null,null,null,null,null,null,1]
[null,"Pro Tip: \n\nTo add spaces between paragraphs in the executive summary, hold the \"ALT\" Key and hit \"Enter\".",null,null,null,null,null,null,null,null,null,null,null,null,null,null,null,null,null,null,null,null,null,null,null,1]
[null,null,null,null,null,null,null,null,null,null,null,null,null,null,null,null,null,null,null,null,null,null,null,null,null,1]
[null,null,null,null,null,null,null,null,null,null,null,null,null,null,null,null,null,null,null,null,null,null,null,null,null,1]
[null,null,null,null,null,null,null,null,null,null,null,null,null,null,null,null,null,null,null,null,null,null,null,null,null,1]
[null,null,null,null,null,null,null,null,null,null,null,null,null,null,null,null,null,null,null,null,null,null,null,null,null,1]
[null,null,null,null,null,null,null,null,null,null,null,null,null,null,null,null,null,null,null,null,null,null,null,null,null,1]
[null,null,null,null,null,null,null,null,null,null,null,null,null,null,null,null,null,null,null,null,null,null,null,null,null,1]
[null,null,null,null,null,null,null,null,null,null,null,null,null,null,null,null,null,null,null,null,null,null,null,null,null,1]
[null,null,null,null,null,null,null,null,null,null,null,null,null,null,null,null,null,null,null,null,null,null,null,null,null,1]
[null,null,null,null,null,null,null,null,null,null,null,null,null,null,null,null,null,null,null,null,null,null,null,null,null,1]
[null,null,null,null,null,null,null,null,null,null,null,null,null,null,null,null,null,null,null,null,null,null,null,null,null,1]
[null,null,null,null,null,null,null,null,null,null,null,null,null,null,null,null,null,null,null,null,null,null,null,null,null,1]
[null,null,null,null,null,null,null,null,null,null,null,null,null,null,null,null,null,null,null,null,null,null,null,null,null,1]
[null,"Customize Colors of Metrics",null,null,null,"    Agency Workforce Plan At a Glance",null,null,null,null,null,null,null,null,null,null,null,null,null,null,null,null,null,null,null,1]
[null,null,null,null,null,null,null,null,null,null,null,null,null,null,null,null,null,null,null,null,null,null,null,null,null,1]
[null,null,null,null,null,null,{"$f":"CONCATENATE(\"Metrics in this workforce plan reflect only the following classifications: \",'CENTRAL ANALYSIS'!Q12)","v":"Metrics in this workforce plan reflect only the following classifications: "},null,null,null,null,null,null,null,null,null,null,null,null,null,null,null,null,null,null,1]
[null,"Total Employees",null,null,null,null,null,null,null,null,null,null,null,null,null,null,null,null,null,null,null,null,null,null,null,1]
[null,null,null,null,null,null,null,null,null,null,null,null,null,null,null,null,null,null,null,null,null,null,null,null,null,1]
[null,"Hire Rate",null,null,null,null,"Agency Workforce",null,null,null,"Organizational Entry",null,null,null,"Internal Mobility",null,null,null,"Organizational Exits",null,null,null,null,null,null,1]
[null,"Internal Mobility Rate",null,null,null,null,{"$f":"FOUNDATIONAL!P29","v":0},null,null,null,{"$f":"IFERROR(FOUNDATIONAL!P82/FOUNDATIONAL!P29,0)","v":0},null,null,null,{"$f":"IFERROR((FOUNDATIONAL!P115+FOUNDATIONAL!P116)/FOUNDATIONAL!P29,0)","v":0},null,null,null,{"$f":"IFERROR((FOUNDATIONAL!P117+FOUNDATIONAL!P118)/FOUNDATIONAL!P29,0)","v":0},null,null,null,null,null,null,1]
[null,"Vol. Separation Rate",null,null,null,null,null,null,null,null,null,null,null,null,null,null,null,null,null,null,null,null,null,null,null,1]
[null,"Total Critical Roles",null,null,null,null,"Total Employees",null,null,null,"Hire Rate",null,null,null,"Internal Mobility Rate",null,null,null,"Voluntary Separation Rate",null,null,null,null,null,null,1]
[null,null,null,null,null,null,null,null,null,null,null,null,null,null,null,null,null,null,null,null,null,null,null,null,null,1]
[null,"Crit. Role Hire Rate",null,null,null,null,{"$f":"FOUNDATIONAL!P50","v":0},null,null,null,{"$f":"IFERROR(FOUNDATIONAL!P83/FOUNDATIONAL!P29,0)","v":0},null,null,null,{"$f":"IFERROR((FOUNDATIONAL!P121+FOUNDATIONAL!P122)/FOUNDATIONAL!P29,0)","v":0},null,null,null,{"$f":"IFERROR((FOUNDATIONAL!P123+FOUNDATIONAL!P124)/FOUNDATIONAL!P29,0)","v":0},null,null,null,null,null,null,1]
[null,"Crit. Role Mobility",null,null,null,null,null,null,null,null,null,null,null,null,null,null,null,null,null,null,null,null,null,null,null,1]
[null,"Crit. Role Separation",null,null,null,null,"Total Critical Roles",null,null,null,"Critical Role Hire Rate",null,null,"Critical Role Internal Mobility Rate",null,null,null,null,"Critical Role Separation Rate",null,null,null,null,null,null,1]
[null,null,null,null,null,null,null,null,null,null,null,null,null,null,null,null,null,null,null,null,null,null,null,null,null,1]
[null,null,null,null,null,null,"Workforce SWOT Analysis",null,null,null,null,null,null,null,null,null,null,null,null,null,null,null,null,null,null,1]
[null,null,null,null,null,null,null,null,null,null,null,null,null,null,null,null,null,null,null,null,null,null,null,null,null,1]
[null,null,null,null,null,null,null,null,null,null,null,null,null,null,null,null,null,null,null,null,null,null,null,null,null,1]
[null,null,null,null,null,null,"Strengths",null,null,null,"Weaknesses",null,null,null,"Opportunities",null,null,null,"Threats",null,null,null,null,null,null,1]
[null,null,null,null,null,null,{"$f":"IF(SWOT!C27=\"\",\"\",SWOT!C27)","v":""},null,null,null,{"$f":"IF(SWOT!C61=\"\",\"\",SWOT!C61)","v":""},null,null,null,{"$f":"IF(SWOT!C95=\"\",\"\",SWOT!C95)","v":""},null,null,null,{"$f":"IF(SWOT!C129=\"\",\"\",SWOT!C129)","v":""},null,null,null,null,null,null,1]
[null,null,null,null,null,null,{"$f":"IF(SWOT!C32=\"\",\"\",SWOT!C32)","v":""},null,null,null,{"$f":"IF(SWOT!C66=\"\",\"\",SWOT!C66)","v":""},null,null,null,{"$f":"IF(SWOT!C100=\"\",\"\",SWOT!C100)","v":""},null,null,null,{"$f":"IF(SWOT!C134=\"\",\"\",SWOT!C134)","v":""},null,null,null,null,null,null,1]
[null,null,null,null,null,null,{"$f":"IF(SWOT!C37=\"\",\"\",SWOT!C37)","v":""},null,null,null,{"$f":"IF(SWOT!C71=\"\",\"\",SWOT!C71)","v":""},null,null,null,{"$f":"IF(SWOT!C105=\"\",\"\",SWOT!C105)","v":""},null,null,null,{"$f":"IF(SWOT!C139=\"\",\"\",SWOT!C139)","v":""},null,null,null,null,null,null,1]
[null,null,null,null,null,null,{"$f":"IF(SWOT!C42=\"\",\"\",SWOT!C42)","v":""},null,null,null,{"$f":"IF(SWOT!C76=\"\",\"\",SWOT!C76)","v":""},null,null,null,{"$f":"IF(SWOT!C110=\"\",\"\",SWOT!C110)","v":""},null,null,null,{"$f":"IF(SWOT!C144=\"\",\"\",SWOT!C144)","v":""},null,null,null,null,null,null,1]
[null,null,null,null,null,null,{"$f":"IF(SWOT!C47=\"\",\"\",SWOT!C47)","v":""},null,null,null,{"$f":"IF(SWOT!C81=\"\",\"\",SWOT!C81)","v":""},null,null,null,{"$f":"IF(SWOT!C115=\"\",\"\",SWOT!C115)","v":""},null,null,null,{"$f":"IF(SWOT!C149=\"\",\"\",SWOT!C149)","v":""},null,null,null,null,null,null,1]
[null,null,null,null,null,null,null,null,null,null,null,null,null,null,null,null,null,null,null,null,null,null,null,null,null,1]
[null,null,null,null,null,null,"Risk to Top Agency Priorities",null,null,null,null,null,null,null,null,null,null,null,null,null,null,null,null,null,null,1]
[null,null,null,null,null,null,null,null,null,null,null,null,null,null,null,null,null,null,null,null,null,null,null,null,null,1]
[null,null,null,null,null,null,null,null,null,null,null,null,null,null,null,null,null,null,null,null,null,null,null,null,null,1]
[null,null,null,null,null,null,{"$f":"IF('CENTRAL ANALYSIS'!$M$38=0,\"Priority Not Identified\",IF('CENTRAL ANALYSIS'!$M$38>1,\"More than one item was identified as the #1 priority. Please review and ensure only one is selected on the Risk & Prepardness Tab\",VLOOKUP('CENTRAL ANALYSIS'!$L$38,'CENTRAL ANALYSIS'!$A$39:$I$56,9,FALSE)))","v":"Priority Not Identified"},null,null,null,null,null,null,null,null,null,null,null,{"$f":"IF(G88=\"Priority Not Identified\",\"Risk Not Identified\",IF(G88=\"More than one item was identified as the #1 priority. Please review and ensure only one is selected on the Risk & Prepardness Tab\",\"Check Tab\",VLOOKUP('CENTRAL ANALYSIS'!$L$38,'CENTRAL ANALYSIS'!$A$39:$G$56,7,FALSE)))","v":"Risk Not Identified"},null,null,null,null,null,null,1]
[null,null,null,null,null,null,null,null,null,null,null,null,null,null,null,null,null,null,null,null,null,null,null,null,null,1]
[null,null,null,null,null,null,null,null,null,null,null,null,null,null,null,null,null,null,null,null,null,null,null,null,null,1]
[null,null,null,null,null,null,{"$f":"IF('CENTRAL ANALYSIS'!$M$39=0,\"Priority Not Identified\",IF('CENTRAL ANALYSIS'!$M$39>1,\"More than one item was identified as the #1 priority. Please review and ensure only one is selected on the Risk & Prepardness Tab\",VLOOKUP('CENTRAL ANALYSIS'!$L$39,'CENTRAL ANALYSIS'!$A$39:$I$56,9,FALSE)))","v":"Priority Not Identified"},null,null,null,null,null,null,null,null,null,null,null,{"$f":"IF(G91=\"Priority Not Identified\",\"Risk Not Identified\",IF(G91=\"More than one item was identified as the #1 priority. Please review and ensure only one is selected on the Risk & Prepardness Tab\",\"Check Tab\",VLOOKUP('CENTRAL ANALYSIS'!$L$39,'CENTRAL ANALYSIS'!$A$39:$G$56,7,FALSE)))","v":"Risk Not Identified"},null,null,null,null,null,null,1]
[null,null,null,null,null,null,null,null,null,null,null,null,null,null,null,null,null,null,null,null,null,null,null,null,null,1]
[null,null,null,null,null,null,null,null,null,null,null,null,null,null,null,null,null,null,null,null,null,null,null,null,null,1]
[null,null,null,null,null,null,{"$f":"IF('CENTRAL ANALYSIS'!$M$40=0,\"Priority Not Identified\",IF('CENTRAL ANALYSIS'!$M$40>1,\"More than one item was identified as the #1 priority. Please review and ensure only one is selected on the Risk & Prepardness Tab\",VLOOKUP('CENTRAL ANALYSIS'!$L$40,'CENTRAL ANALYSIS'!$A$39:$I$56,9,FALSE)))","v":"Priority Not Identified"},null,null,null,null,null,null,null,null,null,null,null,{"$f":"IF(G94=\"Priority Not Identified\",\"Risk Not Identified\",IF(G94=\"More than one item was identified as the #1 priority. Please review and ensure only one is selected on the Risk & Prepardness Tab\",\"Check Tab\",VLOOKUP('CENTRAL ANALYSIS'!$L$40,'CENTRAL ANALYSIS'!$A$39:$G$56,7,FALSE)))","v":"Risk Not Identified"},null,null,null,null,null,null,1]
[null,null,null,null,null,null,null,null,null,null,null,null,null,null,null,null,null,null,null,null,null,null,null,null,null,1]
[null,null,null,null,null,null,null,null,null,null,null,null,null,null,null,null,null,null,null,null,null,null,null,null,null,1]
[null,null,null,null,null,null,"Agency Workforce Strategy Objectives",null,null,null,null,null,null,null,null,null,null,null,null,null,null,null,null,null,null,1]
[null,null,null,null,null,null,null,null,null,null,null,null,null,null,null,null,null,null,null,null,null,null,null,null,null,1]
[null,null,null,null,null,null,null,null,null,null,null,null,null,null,null,null,null,null,null,null,null,null,null,null,null,1]
[null,null,null,null,null,null,{"$f":"IF('AGENCY STRATEGY'!L44=\"\",\"\",(CONCATENATE(\"Objective 1: \",'AGENCY STRATEGY'!L44)))","v":""},null,null,null,null,null,null,null,null,null,null,null,null,null,null,null,null,null,null,1]
[null,null,null,null,null,null,{"$f":"IF('AGENCY STRATEGY'!L93=\"\",\"\",(CONCATENATE(\"Objective 2: \",'AGENCY STRATEGY'!L93)))","v":""},null,null,null,null,null,null,null,null,null,null,null,null,null,null,null,null,null,null,1]
[null,null,null,null,null,null,{"$f":"IF('AGENCY STRATEGY'!L142=\"\",\"\",(CONCATENATE(\"Objective 3: \",'AGENCY STRATEGY'!L142)))","v":""},null,null,null,null,null,null,null,null,null,null,null,null,null,null,null,null,null,null,1]
[null,null,null,null,null,null,{"$f":"IF('AGENCY STRATEGY'!L191=\"\",\"\",(CONCATENATE(\"Objective 4.: \",'AGENCY STRATEGY'!L191)))","v":""},null,null,null,null,null,null,null,null,null,null,null,null,null,null,null,null,null,null,1]
[null,null,null,null,null,null,{"$f":"IF('AGENCY STRATEGY'!L240=\"\",\"\",(CONCATENATE(\"Objective 5: \",'AGENCY STRATEGY'!L240)))","v":""},null,null,null,null,null,null,null,null,null,null,null,null,null,null,null,null,null,null,1]
[null,null,null,null,null,null,null,null,null,null,null,null,null,null,null,null,null,null,null,null,null,null,null,null,null,1]
[null,null,null,null,null,null,"Additional information, details, and explanations found on the subsequent pages of this workforce plan summary.",null,null,null,null,null,null,null,null,null,null,null,null,null,null,null,null,null,null,1]
[null,null,null,null,null,null,null,null,null,null,null,null,null,null,null,null,null,null,null,null,null,null,null,null,null,1]
[null,null,null,null,null,"   Workforce Metrics, Retirements, and Executive Team",null,null,null,null,null,null,null,null,null,null,null,null,{"$f":"IF(AND(PROFILE!$L$43=\"Fiscal Year WFP\",'CENTRAL ANALYSIS'!$K$12=1),\"Invalid Date of Plan Entered\",IF(PROFILE!$L$43=\"Fiscal Year WFP\",CONCATENATE(\"Fiscal Year \",'DHRM ADMIN'!$O$14),IF(PROFILE!$L$43=\"Snapshot\",CONCATENATE(\"As of: \",TEXT(PROFILE!$N$44,\"mm/dd/yyyy\")),\"\")))","v":""},null,null,null,null,null,null,1]
[null,null,null,null,null,null,null,null,null,null,null,null,null,null,null,null,null,null,null,null,null,null,null,null,null,1]
[null,null,null,null,null,"Key Observations and Highlights",null,null,null,null,null,null,null,null,null,null,null,null,null,null,null,null,null,null,null,1]
[null,null,null,null,null,null,null,null,null,null,null,null,null,null,null,null,null,null,null,null,null,null,null,null,null,1]
[null,"Customize Titles for Colors",null,null,null,null,null,null,null,null,null,null,null,null,null,null,null,null,null,null,null,null,null,null,null,1]
[null,null,null,null,null,null,null,null,null,null,null,null,null,null,null,null,null,null,null,null,null,null,null,null,null,1]
[null,null,null,null,null,null,null,null,null,null,null,null,null,null,null,null,null,null,null,null,null,null,null,null,null,1]
[null,null,null,null,null,null,null,null,null,null,null,null,null,null,null,null,null,null,null,null,null,null,null,null,null,1]
[null,null,null,null,null,null,null,null,null,null,null,null,null,null,null,null,null,null,null,null,null,null,null,null,null,1]
[null,null,null,null,null,null,null,{"$f":"IF(C115<>\"\",C115,\"Have an Awareness\")","v":"Have an Awareness"},null,null,null,{"$f":"IF(C116<>\"\",C116,\"Need to Monitor\")","v":"Need to Monitor"},null,null,null,{"$f":"IF(C117<>\"\",C117,\"Take Action On\")","v":"Take Action On"},null,null,null,{"$f":"IF(C118<>\"\",C118,\"This is a Top Priority\")","v":"This is a Top Priority"},null,null,null,null,null,1]
[null,null,null,null,null,null,null,null,null,null,null,null,null,null,null,null,null,null,null,null,null,null,null,null,null,1]
[null,null,null,null,null,null,"All Employees",null,null,null,"First Five Years Employees",null,null,null,"First Year Employees",null,null,null,"Critical Roles",null,null,null,null,null,null,1]
[null,null,null,null,null,null,null,null,null,null,null,null,null,null,null,null,null,null,null,null,null,null,null,null,null,1]
[null,"Customize Colors for Metrics",null,null,null,null,{"$f":"FOUNDATIONAL!P29","v":0},null,null,null,{"$f":"FOUNDATIONAL!P30","v":0},null,null,null,{"$f":"FOUNDATIONAL!P31","v":0},null,null,null,{"$f":"FOUNDATIONAL!P50","v":0},null,null,null,null,null,null,1]
[null,null,null,null,null,null,null,null,null,null,null,null,null,null,null,null,null,null,null,null,null,null,null,null,null,1]
[null,null,null,"All",null,null,"Total Employees",null,null,null,"Total Employees",null,null,null,"Total Employees",null,null,null,"Total Critical Roles",null,null,null,null,null,null,1]
[null,null,null,null,null,null,null,null,null,null,null,null,null,null,null,null,null,null,null,null,null,null,null,null,null,1]
[null,"Total Employees",null,null,null,null,{"$f":"IFERROR(FOUNDATIONAL!P82/FOUNDATIONAL!P29,0)","v":0},null,null,null,{"$f":"\"---\"","v":"---"},null,null,null,{"$f":"\"---\"","v":"---"},null,null,null,{"$f":"IFERROR(FOUNDATIONAL!P83/FOUNDATIONAL!P29,0)","v":0},null,null,null,null,null,null,1]
[null,null,null,null,null,null,null,null,null,null,null,null,null,null,null,null,null,null,null,null,null,null,null,null,null,1]
[null,"Hire Rate",null,null,null,null,"Hire Rate",null,null,null,"Hire Rate",null,null,null,"Hire Rate",null,null,null,"Hire Rate",null,null,null,null,null,null,1]
[null,"Internal Mobility Rate",null,null,null,null,null,null,null,null,null,null,null,null,null,null,null,null,null,null,null,null,null,null,null,1]
[null,null,null,null,null,null,{"$f":"IFERROR((FOUNDATIONAL!P115+FOUNDATIONAL!P116)/FOUNDATIONAL!P29,0)","v":0},null,null,null,{"$f":"IFERROR((FOUNDATIONAL!P130+FOUNDATIONAL!P131)/FOUNDATIONAL!P30,0)","v":0},null,null,null,{"$f":"IFERROR((FOUNDATIONAL!P145+FOUNDATIONAL!P146)/FOUNDATIONAL!P31,0)","v":0},null,null,null,{"$f":"IFERROR((FOUNDATIONAL!P121+FOUNDATIONAL!P122)/FOUNDATIONAL!P29,0)","v":0},null,null,null,null,null,null,1]
[null,"Vol. Separation Rate",null,null,null,null,null,null,null,null,null,null,null,null,null,null,null,null,null,null,null,null,null,null,null,1]
[null,null,null,"First 5 Yrs","1st Year",null,"Internal Mobility Rate",null,null,null,"Internal Mobility Rate",null,null,null,"Internal Mobility Rate",null,null,null,"Internal Mobility Rate",null,null,null,null,null,null,1]
[null,"Total Employees",null,null,null,null,null,null,null,null,null,null,null,null,null,null,null,null,null,null,null,null,null,null,null,1]
[null,null,null,null,null,null,{"$f":"IFERROR((FOUNDATIONAL!P117+FOUNDATIONAL!P118)/FOUNDATIONAL!P29,0)","v":0},null,null,null,{"$f":"IFERROR((FOUNDATIONAL!P132+FOUNDATIONAL!P133)/FOUNDATIONAL!P30,0)","v":0},null,null,null,{"$f":"IFERROR((FOUNDATIONAL!P147+FOUNDATIONAL!P148)/FOUNDATIONAL!P31,0)","v":0},null,null,null,{"$f":"IFERROR((FOUNDATIONAL!P123+FOUNDATIONAL!P124)/FOUNDATIONAL!P29,0)","v":0},null,null,null,null,null,null,1]
[null,"Hire Rate",null,null,null,null,null,null,null,null,null,null,null,null,null,null,null,null,null,null,null,null,null,null,null,1]
[null,null,null,null,null,null,"Voluntary Separation Rate",null,null,null,"Voluntary Separation Rate",null,null,null,"Voluntary Separation Rate",null,null,null,"Voluntary Separation Rate",null,null,null,null,null,null,1]
[null,"Internal Mobility Rate",null,null,null,null,null,null,null,null,null,null,null,null,null,null,null,null,null,null,null,null,null,null,null,1]
[null,null,null,null,null,null,null,null,null,null,null,null,null,null,null,null,null,null,null,null,null,null,null,null,null,1]
[null,"Vol. Separation Rate",null,null,null,null,"Commonwealth Exit Survey*",null,null,null,"Definitions",null,null,null,null,null,null,null,null,null,null,null,null,null,null,1]
[null,null,null,null,null,null,null,null,null,null,null,null,null,null,null,null,null,null,null,null,null,null,null,null,null,1]
[null,null,null,"Critical Roles",null,null,{"$f":"FOUNDATIONAL!P159","v":0},null,null,null,"Total Employees",null,{"$f":"CONCATENATE(\"Total Employees include the following classifications: \",'CENTRAL ANALYSIS'!$Q$12)","v":"Total Employees include the following classifications: "},null,null,null,null,null,null,null,null,null,null,null,null,1]
[null,"Total Critical Roles",null,null,null,null,null,null,null,null,null,null,null,null,null,null,null,null,null,null,null,null,null,null,null,1]
[null,"Crit. Role Hire Rate",null,null,null,null,"Total Responses",null,null,null,"Hire Rate",null,"The Hire Rate is the total number of hires during the fiscal year divide by the total number of employees.",null,null,null,null,null,null,null,null,null,null,null,null,1]
[null,"Crit. Role Mobility",null,null,null,null,{"$f":"FOUNDATIONAL!P160","v":0},null,null,null,"Internal Mobility Rate",null,"The Internal Mobility Rate is the notal number of internal promotions and transfers divided by the total number of employees.",null,null,null,null,null,null,null,null,null,null,null,null,1]
[null,"Crit. Role Separation",null,null,null,null,null,null,null,null,null,null,null,null,null,null,null,null,null,null,null,null,null,null,null,1]
[null,null,null,null,null,null,"Response Rate",null,null,null,"Voluntary Separation Rate",null,"The Voluntary Separation Rate is the total number of external transfers and voluntary separations divided by the total number of employees.",null,null,null,null,null,null,null,null,null,null,null,null,1]
[null,null,null,null,null,null,{"$f":"IF(G140<3,\"N/A\",IF(FOUNDATIONAL!P161<=0,FOUNDATIONAL!P161,CONCATENATE(\"+\",FOUNDATIONAL!P161)))","v":"N/A"},null,null,null,null,null,null,null,null,null,null,null,null,null,null,null,null,null,null,1]
[null,null,null,"Exit Survey",null,null,null,null,null,null,"Critical Roles Definition and/or Identification Process",null,null,null,null,null,null,null,null,null,null,null,null,null,null,1]
[null,"Total Responses",null,null,null,null,"Net Promoter Score",null,null,null,null,null,null,null,null,null,null,null,null,null,null,null,null,null,null,1]
[null,"Response Rate",null,null,null,null,"*Only classified employees are invited to participate.",null,null,null,null,null,null,null,null,null,null,null,null,null,null,null,null,null,null,1]
[null,null,null,null,null,null,null,null,null,null,null,null,null,null,null,null,null,null,null,null,null,null,null,null,null,1]
[null,null,null,null,null,null,null,null,null,null,null,null,null,null,null,null,null,null,null,null,null,null,null,null,null,1]
[null,null,null,null,null,null,"Agency Current & Upcoming Retirements",null,null,null,null,null,null,null,null,null,null,null,null,null,null,null,null,null,null,1]
[null,null,null,null,null,null,null,null,null,null,null,null,null,null,null,null,null,null,null,null,null,null,null,null,null,1]
[null,null,null,null,null,null,null,null,null,null,null,null,null,null,null,null,null,null,null,null,null,null,null,null,null,1]
[null,null,null,null,null,null,null,null,null,null,null,null,null,null,null,null,null,null,null,null,null,null,null,null,null,1]
[null,null,null,null,null,null,null,null,null,null,null,null,null,null,null,null,null,null,null,null,null,null,null,null,null,1]
[null,null,null,null,null,null,null,null,null,null,null,null,null,null,null,null,null,null,null,null,null,null,null,null,null,1]
[null,null,null,null,null,null,null,null,null,null,null,null,null,null,null,null,null,null,null,null,null,null,null,null,null,1]
[null,null,null,null,null,null,null,null,null,null,null,null,null,null,null,null,null,null,null,null,null,null,null,null,null,1]
[null,null,null,null,null,null,null,null,null,null,null,null,null,null,null,null,null,null,null,null,null,null,null,null,null,1]
[null,null,null,null,null,null,null,null,null,null,null,null,null,null,null,null,null,null,null,null,null,null,null,null,null,1]
[null,null,null,null,null,null,"Executive Team",null,null,null,null,null,null,null,null,null,null,null,null,null,null,null,null,null,null,1]
[null,null,null,null,null,null,null,null,null,null,null,null,null,null,null,null,null,null,null,null,null,null,null,null,null,1]
[null,null,null,null,null,null,null,null,null,null,null,null,null,null,null,null,null,null,null,null,null,null,null,null,null,1]
[null,null,null,null,null,null,"Executive Team Definition ",null,null,{"$f":"PROFILE!E89","v":0},null,null,null,null,null,null,null,null,null,null,null,null,null,null,null,1]
[null,"Customize Colors for Executive Metrics",null,null,null,null,null,null,null,null,null,null,null,null,null,null,null,null,null,null,null,null,null,null,null,1]
[null,null,null,null,null,null,null,null,null,null,null,null,null,null,null,null,null,null,null,null,null,null,null,null,null,1]
[null,null,null,null,null,null,null,null,null,null,null,null,null,null,null,null,null,null,null,null,null,null,null,null,null,1]
[null,"Total Positions",null,null,null,null,{"$f":"FOUNDATIONAL!P36","v":0},null,null,null,null,null,null,null,null,null,null,null,null,null,null,null,null,null,null,1]
[null,"Appointed Positions",null,null,null,null,null,null,null,null,null,null,null,null,null,null,null,null,null,null,null,null,null,null,null,1]
[null,"Critical Roles",null,null,null,null,"Total Positions",null,null,null,null,null,null,null,null,null,null,null,null,null,null,null,null,null,null,1]
[null,null,null,null,null,null,{"$f":"FOUNDATIONAL!P37","v":0},null,null,null,null,null,null,null,null,null,null,null,null,null,null,null,null,null,null,1]
[null,null,null,null,null,null,null,null,null,null,null,null,null,null,null,null,null,null,null,null,null,null,null,null,null,1]
[null,null,null,null,null,null,"Appointed Positions",null,null,null,null,null,null,null,null,null,null,null,null,null,null,null,null,null,null,1]
[null,null,null,null,null,null,{"$f":"FOUNDATIONAL!P51","v":0},null,null,null,null,null,null,null,null,null,null,null,null,null,null,null,null,null,null,1]
[null,null,null,null,null,null,null,null,null,null,null,null,null,null,null,null,null,null,null,null,null,null,null,null,null,1]
[null,null,null,null,null,null,"Executive Critical Roles",null,null,null,null,null,null,null,null,null,null,null,null,null,null,null,null,null,null,1]
[null,null,null,null,null,null,null,null,null,null,null,null,null,null,null,null,null,null,null,null,null,null,null,null,null,1]
[null,null,null,null,null,"    Agency Workforce S.W.O.T. Analysis",null,null,null,null,null,null,null,null,null,null,null,null,{"$f":"IF(AND(PROFILE!$L$43=\"Fiscal Year WFP\",'CENTRAL ANALYSIS'!$K$12=1),\"Invalid Date of Plan Entered\",IF(PROFILE!$L$43=\"Fiscal Year WFP\",CONCATENATE(\"Fiscal Year \",'DHRM ADMIN'!$O$14),IF(PROFILE!$L$43=\"Snapshot\",CONCATENATE(\"As of: \",TEXT(PROFILE!$N$44,\"mm/dd/yyyy\")),\"\")))","v":""},null,null,null,null,null,null,1]
[null,null,null,null,null,null,null,null,null,null,null,null,null,null,null,null,null,null,null,null,null,null,null,null,null,1]
[null,null,null,null,null,null,null,null,null,null,null,null,null,null,null,null,null,null,null,null,null,null,null,null,null,1]
[null,null,null,null,null,null,null,null,null,null,null,null,null,null,null,null,null,null,null,null,null,null,null,null,null,1]
[null,null,null,null,null,null,{"$f":"IF(SWOT!E27=\"\",\"\",SWOT!E27)","v":""},null,null,null,null,null,null,null,null,null,{"$f":"IF(SWOT!E61=\"\",\"\",SWOT!E61)","v":""},null,null,null,null,null,null,null,null,1]
[null,null,null,null,null,null,null,null,null,null,null,null,null,null,null,null,null,null,null,null,null,null,null,null,null,1]
[null,null,null,null,null,null,{"$f":"IF(SWOT!E32=\"\",\"\",SWOT!E32)","v":""},null,null,null,null,null,null,null,null,null,{"$f":"IF(SWOT!E66=\"\",\"\",SWOT!E66)","v":""},null,null,null,null,null,null,null,null,1]
[null,null,null,null,null,null,null,null,null,null,null,null,null,null,null,null,null,null,null,null,null,null,null,null,null,1]
[null,null,null,null,null,null,{"$f":"IF(SWOT!E37=\"\",\"\",SWOT!E37)","v":""},null,null,null,null,null,null,null,null,null,{"$f":"IF(SWOT!E71=\"\",\"\",SWOT!E71)","v":""},null,null,null,null,null,null,null,null,1]
[null,null,null,null,null,null,null,null,null,null,null,null,null,null,null,null,null,null,null,null,null,null,null,null,null,1]
[null,null,null,null,null,null,{"$f":"IF(SWOT!E42=\"\",\"\",SWOT!E42)","v":""},null,null,null,null,null,null,null,null,null,{"$f":"IF(SWOT!E76=\"\",\"\",SWOT!E76)","v":""},null,null,null,null,null,null,null,null,1]
[null,null,null,null,null,null,null,null,null,null,null,null,null,null,null,null,null,null,null,null,null,null,null,null,null,1]
[null,null,null,null,null,null,{"$f":"IF(SWOT!E47=\"\",\"\",SWOT!E47)","v":""},null,null,null,null,null,null,null,null,null,{"$f":"IF(SWOT!E81=\"\",\"\",SWOT!E81)","v":""},null,null,null,null,null,null,null,null,1]
[null,null,null,null,null,null,null,null,null,null,null,null,null,null,null,null,null,null,null,null,null,null,null,null,null,1]
[null,null,null,null,null,null,null,null,null,null,null,"Strengths",null,null,"Weaknesses",null,null,null,null,null,null,null,null,null,null,1]
[null,null,null,null,null,null,null,null,null,null,null,null,null,null,null,null,null,null,null,null,null,null,null,null,null,1]
[null,null,null,null,null,null,null,"Elements INTERNAL to the Agency (those within control of the Agency) that ENHANCE the workforce in achieving strategic priorities.",null,null,null,null,null,null,"Elements INTERNAL to the Agency (those within control of the Agency) that INHIBIT the workforce in achieving strategic priorities.",null,null,null,null,null,null,null,null,null,null,1]
[null,null,null,null,null,null,null,null,null,null,null,null,null,null,null,null,null,null,null,null,null,null,null,null,null,1]
[null,null,null,null,null,null,null,null,null,null,null,null,null,null,null,null,null,null,null,null,null,null,null,null,null,1]
[null,null,null,null,null,null,null,"Elements EXTERNAL to the Agency (those within control of the Agency) that ENHANCE the workforce in achieving strategic priorities.",null,null,null,null,null,null,"Elements EXTERNAL to the Agency (those within control of the Agency) that INHIBIT the workforce in achieving strategic priorities.",null,null,null,null,null,null,null,null,null,null,1]
[null,null,null,null,null,null,null,null,null,null,null,null,null,null,null,null,null,null,null,null,null,null,null,null,null,1]
[null,null,null,null,null,null,null,null,null,null,null,"Opportunities",null,null,"Threats",null,null,null,null,null,null,null,null,null,null,1]
[null,null,null,null,null,null,null,null,null,null,null,null,null,null,null,null,null,null,null,null,null,null,null,null,null,1]
[null,null,null,null,null,null,{"$f":"IF(SWOT!E95=\"\",\"\",SWOT!E95)","v":""},null,null,null,null,null,null,null,null,null,{"$f":"IF(SWOT!E129=\"\",\"\",SWOT!E129)","v":""},null,null,null,null,null,null,null,null,1]
[null,null,null,null,null,null,null,null,null,null,null,null,null,null,null,null,null,null,null,null,null,null,null,null,null,1]
[null,null,null,null,null,null,{"$f":"IF(SWOT!E100=\"\",\"\",SWOT!E100)","v":""},null,null,null,null,null,null,null,null,null,{"$f":"IF(SWOT!E134=\"\",\"\",SWOT!E134)","v":""},null,null,null,null,null,null,null,null,1]
[null,null,null,null,null,null,null,null,null,null,null,null,null,null,null,null,null,null,null,null,null,null,null,null,null,1]
[null,null,null,null,null,null,{"$f":"IF(SWOT!E105=\"\",\"\",SWOT!E105)","v":""},null,null,null,null,null,null,null,null,null,{"$f":"IF(SWOT!E139=\"\",\"\",SWOT!E139)","v":""},null,null,null,null,null,null,null,null,1]
[null,null,null,null,null,null,null,null,null,null,null,null,null,null,null,null,null,null,null,null,null,null,null,null,null,1]
[null,null,null,null,null,null,{"$f":"IF(SWOT!E110=\"\",\"\",SWOT!E110)","v":""},null,null,null,null,null,null,null,null,null,{"$f":"IF(SWOT!E144=\"\",\"\",SWOT!E144)","v":""},null,null,null,null,null,null,null,null,1]
[null,null,null,null,null,null,null,null,null,null,null,null,null,null,null,null,null,null,null,null,null,null,null,null,null,1]
[null,null,null,null,null,null,{"$f":"IF(SWOT!E115=\"\",\"\",SWOT!E115)","v":""},null,null,null,null,null,null,null,null,null,{"$f":"IF(SWOT!E149=\"\",\"\",SWOT!E149)","v":""},null,null,null,null,null,null,null,null,1]
[null,null,null,null,null,null,null,null,null,null,null,null,null,null,null,null,null,null,null,null,null,null,null,null,null,1]
[null,null,null,null,null,null,null,null,null,null,null,null,null,null,null,null,null,null,null,null,null,null,null,null,null,1]
[null,null,null,null,null,null,null,null,null,null,null,null,null,null,null,null,null,null,null,null,null,null,null,null,null,1]
[null,null,null,null,null,"   Risk Associated with Agency Strategic Priorities",null,null,null,null,null,null,null,null,null,null,null,null,null,null,null,null,null,null,null,1]
[null,null,null,null,null,null,null,null,null,null,null,null,null,null,null,null,null,null,null,null,null,null,null,null,null,1]
[null,null,null,null,null,null,null,null,null,null,null,null,null,null,null,null,null,null,null,null,null,null,null,null,null,1]
[null,null,null,null,null,null,"Significant Risk",null,null,null,"High Risk",null,null,null,"Medium Risk",null,null,null,"Low Risk",null,null,null,null,null,null,1]
[null,null,null,null,null,null,null,null,null,null,null,null,null,null,null,null,null,null,null,null,null,null,null,null,null,1]
[null,null,null,null,null,null,{"$f":"'CENTRAL ANALYSIS'!B69","v":""},null,null,{"$f":"VLOOKUP(G219,'CENTRAL ANALYSIS'!$B$69:$C$75,2,FALSE)","v":"Risk Not Identified"},{"$f":"'CENTRAL ANALYSIS'!D69","v":""},null,null,{"$f":"VLOOKUP(K219,'CENTRAL ANALYSIS'!$D$69:$E$75,2,FALSE)","v":"Risk Not Identified"},{"$f":"'CENTRAL ANALYSIS'!F69","v":""},null,null,{"$f":"VLOOKUP(O219,'CENTRAL ANALYSIS'!$F$69:$G$75,2,FALSE)","v":"Risk Not Identified"},{"$f":"'CENTRAL ANALYSIS'!H69","v":""},null,null,{"$f":"VLOOKUP(S219,'CENTRAL ANALYSIS'!$H$69:$I$75,2,FALSE)","v":"Risk Not Identified"},null,null,null,1]
[null,"Pro Tip: \n\nIf the objectives are too long, adjust the text on the profile tab so they fit here.",null,null,null,null,null,null,null,null,null,null,null,null,null,null,null,null,null,null,null,null,null,null,null,1]
[null,null,null,null,null,null,null,null,null,null,null,null,null,null,null,null,null,null,null,null,null,null,null,null,null,1]
[null,null,null,null,null,null,{"$f":"'CENTRAL ANALYSIS'!B70","v":""},null,null,{"$f":"VLOOKUP(G222,'CENTRAL ANALYSIS'!$B$69:$C$75,2,FALSE)","v":"Risk Not Identified"},{"$f":"'CENTRAL ANALYSIS'!D70","v":""},null,null,{"$f":"VLOOKUP(K222,'CENTRAL ANALYSIS'!$D$69:$E$75,2,FALSE)","v":"Risk Not Identified"},{"$f":"'CENTRAL ANALYSIS'!F70","v":""},null,null,{"$f":"VLOOKUP(O222,'CENTRAL ANALYSIS'!$F$69:$G$75,2,FALSE)","v":"Risk Not Identified"},{"$f":"'CENTRAL ANALYSIS'!H70","v":""},null,null,{"$f":"VLOOKUP(S222,'CENTRAL ANALYSIS'!$H$69:$I$75,2,FALSE)","v":"Risk Not Identified"},null,null,null,1]
[null,null,null,null,null,null,null,null,null,null,null,null,null,null,null,null,null,null,null,null,null,null,null,null,null,1]
[null,null,null,null,null,null,null,null,null,null,null,null,null,null,null,null,null,null,null,null,null,null,null,null,null,1]
[null,null,null,null,null,null,{"$f":"'CENTRAL ANALYSIS'!B71","v":""},null,null,{"$f":"VLOOKUP(G225,'CENTRAL ANALYSIS'!$B$69:$C$75,2,FALSE)","v":"Risk Not Identified"},{"$f":"'CENTRAL ANALYSIS'!D71","v":""},null,null,{"$f":"VLOOKUP(K225,'CENTRAL ANALYSIS'!$D$69:$E$75,2,FALSE)","v":"Risk Not Identified"},{"$f":"'CENTRAL ANALYSIS'!F71","v":""},null,null,{"$f":"VLOOKUP(O225,'CENTRAL ANALYSIS'!$F$69:$G$75,2,FALSE)","v":"Risk Not Identified"},{"$f":"'CENTRAL ANALYSIS'!H71","v":""},null,null,{"$f":"VLOOKUP(S225,'CENTRAL ANALYSIS'!$H$69:$I$75,2,FALSE)","v":"Risk Not Identified"},null,null,null,1]
[null,null,null,null,null,null,null,null,null,null,null,null,null,null,null,null,null,null,null,null,null,null,null,null,null,1]
[null,null,null,null,null,null,null,null,null,null,null,null,null,null,null,null,null,null,null,null,null,null,null,null,null,1]
[null,null,null,null,null,null,{"$f":"'CENTRAL ANALYSIS'!B72","v":""},null,null,{"$f":"VLOOKUP(G228,'CENTRAL ANALYSIS'!$B$69:$C$75,2,FALSE)","v":"Risk Not Identified"},{"$f":"'CENTRAL ANALYSIS'!D72","v":""},null,null,{"$f":"VLOOKUP(K228,'CENTRAL ANALYSIS'!$D$69:$E$75,2,FALSE)","v":"Risk Not Identified"},{"$f":"'CENTRAL ANALYSIS'!F72","v":""},null,null,{"$f":"VLOOKUP(O228,'CENTRAL ANALYSIS'!$F$69:$G$75,2,FALSE)","v":"Risk Not Identified"},{"$f":"'CENTRAL ANALYSIS'!H72","v":""},null,null,{"$f":"VLOOKUP(S228,'CENTRAL ANALYSIS'!$H$69:$I$75,2,FALSE)","v":"Risk Not Identified"},null,null,null,1]
[null,null,null,null,null,null,null,null,null,null,null,null,null,null,null,null,null,null,null,null,null,null,null,null,null,1]
[null,null,null,null,null,null,null,null,null,null,null,null,null,null,null,null,null,null,null,null,null,null,null,null,null,1]
[null,null,null,null,null,null,{"$f":"'CENTRAL ANALYSIS'!B73","v":""},null,null,{"$f":"VLOOKUP(G231,'CENTRAL ANALYSIS'!$B$69:$C$75,2,FALSE)","v":"Risk Not Identified"},{"$f":"'CENTRAL ANALYSIS'!D73","v":""},null,null,{"$f":"VLOOKUP(K231,'CENTRAL ANALYSIS'!$D$69:$E$75,2,FALSE)","v":"Risk Not Identified"},{"$f":"'CENTRAL ANALYSIS'!F73","v":""},null,null,{"$f":"VLOOKUP(O231,'CENTRAL ANALYSIS'!$F$69:$G$75,2,FALSE)","v":"Risk Not Identified"},{"$f":"'CENTRAL ANALYSIS'!H73","v":""},null,null,{"$f":"VLOOKUP(S231,'CENTRAL ANALYSIS'!$H$69:$I$75,2,FALSE)","v":"Risk Not Identified"},null,null,null,1]
[null,null,null,null,null,null,null,null,null,null,null,null,null,null,null,null,null,null,null,null,null,null,null,null,null,1]
[null,null,null,null,null,null,null,null,null,null,null,null,null,null,null,null,null,null,null,null,null,null,null,null,null,1]
[null,null,null,null,null,null,{"$f":"'CENTRAL ANALYSIS'!B74","v":""},null,null,{"$f":"VLOOKUP(G234,'CENTRAL ANALYSIS'!$B$69:$C$75,2,FALSE)","v":"Risk Not Identified"},{"$f":"'CENTRAL ANALYSIS'!D74","v":""},null,null,{"$f":"VLOOKUP(K234,'CENTRAL ANALYSIS'!$D$69:$E$75,2,FALSE)","v":"Risk Not Identified"},{"$f":"'CENTRAL ANALYSIS'!F74","v":""},null,null,{"$f":"VLOOKUP(O234,'CENTRAL ANALYSIS'!$F$69:$G$75,2,FALSE)","v":"Risk Not Identified"},{"$f":"'CENTRAL ANALYSIS'!H74","v":""},null,null,{"$f":"VLOOKUP(S234,'CENTRAL ANALYSIS'!$H$69:$I$75,2,FALSE)","v":"Risk Not Identified"},null,null,null,1]
[null,null,null,null,null,null,null,null,null,null,null,null,null,null,null,null,null,null,null,null,null,null,null,null,null,1]
[null,null,null,null,null,null,null,null,null,null,null,null,null,null,null,null,null,null,null,null,null,null,null,null,null,1]
[null,null,null,null,null,null,{"$f":"'CENTRAL ANALYSIS'!B75","v":""},null,null,{"$f":"VLOOKUP(G237,'CENTRAL ANALYSIS'!$B$69:$C$75,2,FALSE)","v":"Risk Not Identified"},{"$f":"'CENTRAL ANALYSIS'!D75","v":""},null,null,{"$f":"VLOOKUP(K237,'CENTRAL ANALYSIS'!$D$69:$E$75,2,FALSE)","v":"Risk Not Identified"},{"$f":"'CENTRAL ANALYSIS'!F75","v":""},null,null,{"$f":"VLOOKUP(O237,'CENTRAL ANALYSIS'!$F$69:$G$75,2,FALSE)","v":"Risk Not Identified"},{"$f":"'CENTRAL ANALYSIS'!H75","v":""},null,null,{"$f":"VLOOKUP(S237,'CENTRAL ANALYSIS'!$H$69:$I$75,2,FALSE)","v":"Risk Not Identified"},null,null,null,1]
[null,null,null,null,null,null,null,null,null,null,null,null,null,null,null,null,null,null,null,null,null,null,null,null,null,1]
[null,null,null,null,null,null,null,null,null,null,null,null,null,null,null,null,null,null,null,null,null,null,null,null,null,1]
[null,null,null,null,null,null,null,null,null,null,null,null,null,null,null,null,null,null,null,null,null,null,null,null,null,1]
[null,null,null,null,null,null,null,"Very Prepared",null,null,null,"Prepared",null,null,null,"Somewhat Prepared",null,null,null,"Not Prepared At All",null,null,null,null,null,1]
[null,null,null,null,null,null,null,null,null,null,null,null,null,null,null,null,null,null,null,null,null,null,null,null,null,1]
[null,null,null,null,null,"    Agency Workforce Strategy Objectives, Actions & Updates",null,null,null,null,null,null,null,null,null,null,null,null,{"$f":"IF(AND(PROFILE!$L$43=\"Fiscal Year WFP\",'CENTRAL ANALYSIS'!$K$12=1),\"Invalid Date of Plan Entered\",IF(PROFILE!$L$43=\"Fiscal Year WFP\",CONCATENATE(\"Fiscal Year \",'DHRM ADMIN'!$O$14),IF(PROFILE!$L$43=\"Snapshot\",CONCATENATE(\"As of: \",TEXT(PROFILE!$N$44,\"mm/dd/yyyy\")),\"\")))","v":""},null,null,null,null,null,null,1]
[null,null,null,null,null,null,null,null,null,null,null,null,null,null,null,null,null,null,null,null,null,null,null,null,null,1]
[null,null,null,null,null,null,null,null,null,null,null,null,null,null,null,null,null,null,null,null,null,null,null,null,null,1]
[null,null,null,null,null,null,{"$f":"CONCATENATE(\"Objective 1: \",'AGENCY STRATEGY'!L44)","v":"Objective 1: "},null,null,null,null,null,null,null,null,null,null,null,null,null,null,null,null,null,null,{"$f":"IF('CENTRAL ANALYSIS'!$B$28=1,1,0)","v":0}]
[null,null,null,null,null,null,null,null,null,null,null,null,null,null,null,null,null,null,null,null,null,null,null,null,null,{"$f":"IF('CENTRAL ANALYSIS'!$B$28=1,1,0)","v":0}]
[null,null,null,null,null,null,{"$f":"IF('AGENCY STRATEGY'!F46=\"\",\"\",'AGENCY STRATEGY'!F46)","v":""},null,null,null,null,null,null,null,null,null,null,null,null,null,null,null,null,null,null,{"$f":"IF('CENTRAL ANALYSIS'!$B$28=1,1,0)","v":0}]
[null,null,null,null,null,null,null,null,null,null,null,null,null,null,null,null,null,null,null,null,null,null,null,null,null,{"$f":"IF('CENTRAL ANALYSIS'!$B$28=1,1,0)","v":0}]
[null,null,null,null,null,null,null,null,null,null,null,null,null,null,null,null,null,null,null,null,null,null,null,null,null,{"$f":"IF('CENTRAL ANALYSIS'!$B$28=1,1,0)","v":0}]
[null,null,null,null,null,null,null,null,null,null,"Action Item",{"$f":"IF('AGENCY STRATEGY'!H53=\"\",\"\",'AGENCY STRATEGY'!H53)","v":""},null,null,null,null,null,null,null,null,null,null,null,null,null,{"$f":"IF('CENTRAL ANALYSIS'!$B$29=1,1,0)","v":0}]
[null,null,null,null,null,null,null,null,{"$f":"'AGENCY STRATEGY'!F54","v":""},null,null,null,null,null,null,null,null,null,null,null,null,null,null,null,null,{"$f":"IF('CENTRAL ANALYSIS'!$B$29=1,1,0)","v":0}]
[null,null,null,null,null,null,null,null,null,null,null,null,null,null,null,null,null,null,null,null,null,null,null,null,null,{"$f":"IF('CENTRAL ANALYSIS'!$B$29=1,1,0)","v":0}]
[null,null,null,null,null,null,null,null,null,null,"Action Item",{"$f":"IF('AGENCY STRATEGY'!H56=\"\",\"\",'AGENCY STRATEGY'!H56)","v":""},null,null,null,null,null,null,null,null,null,null,null,null,null,{"$f":"IF('CENTRAL ANALYSIS'!$B$30=1,1,0)","v":0}]
[null,null,null,null,null,null,null,null,{"$f":"'AGENCY STRATEGY'!F57","v":""},null,null,null,null,null,null,null,null,null,null,null,null,null,null,null,null,{"$f":"IF('CENTRAL ANALYSIS'!$B$30=1,1,0)","v":0}]
[null,null,null,null,null,null,null,null,null,null,null,null,null,null,null,null,null,null,null,null,null,null,null,null,null,{"$f":"IF('CENTRAL ANALYSIS'!$B$30=1,1,0)","v":0}]
[null,null,null,null,null,null,null,null,null,null,"Action Item",{"$f":"IF('AGENCY STRATEGY'!H59=\"\",\"\",'AGENCY STRATEGY'!H59)","v":""},null,null,null,null,null,null,null,null,null,null,null,null,null,{"$f":"IF('CENTRAL ANALYSIS'!$B$31=1,1,0)","v":0}]
[null,null,null,null,null,null,null,null,{"$f":"'AGENCY STRATEGY'!F60","v":""},null,null,null,null,null,null,null,null,null,null,null,null,null,null,null,null,{"$f":"IF('CENTRAL ANALYSIS'!$B$31=1,1,0)","v":0}]
[null,null,null,null,null,null,null,null,null,null,null,null,null,null,null,null,null,null,null,null,null,null,null,null,null,{"$f":"IF('CENTRAL ANALYSIS'!$B$31=1,1,0)","v":0}]
[null,null,null,null,null,null,null,null,null,null,"Action Item",{"$f":"IF('AGENCY STRATEGY'!H62=\"\",\"\",'AGENCY STRATEGY'!H62)","v":""},null,null,null,null,null,null,null,null,null,null,null,null,null,{"$f":"IF('CENTRAL ANALYSIS'!$B$32=1,1,0)","v":0}]
[null,null,null,null,null,null,null,null,{"$f":"'AGENCY STRATEGY'!F63","v":""},null,null,null,null,null,null,null,null,null,null,null,null,null,null,null,null,{"$f":"IF('CENTRAL ANALYSIS'!$B$32=1,1,0)","v":0}]
[null,null,null,null,null,null,null,null,null,null,null,null,null,null,null,null,null,null,null,null,null,null,null,null,null,{"$f":"IF('CENTRAL ANALYSIS'!$B$32=1,1,0)","v":0}]
[null,null,null,null,null,null,null,null,null,null,"Action Item",{"$f":"IF('AGENCY STRATEGY'!H65=\"\",\"\",'AGENCY STRATEGY'!H65)","v":""},null,null,null,null,null,null,null,null,null,null,null,null,null,{"$f":"IF('CENTRAL ANALYSIS'!$B$33=1,1,0)","v":0}]
[null,null,null,null,null,null,null,null,{"$f":"'AGENCY STRATEGY'!F66","v":""},null,null,null,null,null,null,null,null,null,null,null,null,null,null,null,null,{"$f":"IF('CENTRAL ANALYSIS'!$B$33=1,1,0)","v":0}]
[null,null,null,null,null,null,null,null,null,null,null,null,null,null,null,null,null,null,null,null,null,null,null,null,null,{"$f":"IF('CENTRAL ANALYSIS'!$B$33=1,1,0)","v":0}]
[null,null,null,null,null,null,"*******************************************************************************************************************",null,null,null,null,null,null,null,null,null,null,null,null,null,null,null,null,null,null,{"$f":"IF('CENTRAL ANALYSIS'!$B$34=1,1,IF(AND('AGENCY STRATEGY'!$D$47<>'CENTRAL DATA'!$J$17,'AGENCY STRATEGY'!$F$46<>\"\"),1,0))","v":0}]
[null,null,null,null,null,null,null,null,null,null,"Objective Progress Summary:",{"$f":"IF(AND('AGENCY STRATEGY'!D47<>'CENTRAL DATA'!$J$17,'AGENCY STRATEGY'!H76=\"\"),\"No Progress Update Provided\",IF('AGENCY STRATEGY'!H76=\"\",\"\",'AGENCY STRATEGY'!H76))","v":"No Progress Update Provided"},null,null,null,null,null,null,null,null,null,null,null,null,null,{"$f":"IF('CENTRAL ANALYSIS'!$B$34=1,1,IF(AND('AGENCY STRATEGY'!$D$47<>'CENTRAL DATA'!$J$17,'AGENCY STRATEGY'!$F$46<>\"\"),1,0))","v":0}]
[null,null,null,null,null,null,null,null,null,null,null,null,null,null,null,null,null,null,null,null,null,null,null,null,null,{"$f":"IF('CENTRAL ANALYSIS'!$B$34=1,1,IF(AND('AGENCY STRATEGY'!$D$47<>'CENTRAL DATA'!$J$17,'AGENCY STRATEGY'!$F$46<>\"\"),1,0))","v":0}]
[null,null,null,null,null,null,null,null,null,null,null,null,null,null,null,null,null,null,null,null,null,null,null,null,null,{"$f":"IF('CENTRAL ANALYSIS'!$B$34=1,1,IF(AND('AGENCY STRATEGY'!$D$47<>'CENTRAL DATA'!$J$17,'AGENCY STRATEGY'!$F$46<>\"\"),1,0))","v":0}]
[null,null,null,null,null,null,null,null,null,null,null,null,null,null,null,null,null,null,null,null,null,null,null,null,null,{"$f":"IF('CENTRAL ANALYSIS'!$B$34=1,1,IF(AND('AGENCY STRATEGY'!$D$47<>'CENTRAL DATA'!$J$17,'AGENCY STRATEGY'!$F$46<>\"\"),1,0))","v":0}]
[null,null,null,null,null,null,null,null,null,null,null,null,null,null,null,null,null,null,null,null,null,null,null,null,null,{"$f":"IF('CENTRAL ANALYSIS'!$B$34=1,1,IF(AND('AGENCY STRATEGY'!$D$47<>'CENTRAL DATA'!$J$17,'AGENCY STRATEGY'!$F$46<>\"\"),1,0))","v":0}]
[null,null,null,null,null,null,null,null,null,null,null,null,null,null,null,null,null,null,null,null,null,null,null,null,null,{"$f":"IF('CENTRAL ANALYSIS'!$B$34=1,1,IF(AND('AGENCY STRATEGY'!$D$47<>'CENTRAL DATA'!$J$17,'AGENCY STRATEGY'!$F$46<>\"\"),1,0))","v":0}]
[null,null,null,null,null,null,null,null,null,null,null,null,null,null,null,null,null,null,null,null,null,null,null,null,null,{"$f":"IF('CENTRAL ANALYSIS'!$B$34=1,1,IF(AND('AGENCY STRATEGY'!$D$47<>'CENTRAL DATA'!$J$17,'AGENCY STRATEGY'!$F$46<>\"\"),1,0))","v":0}]
[null,null,null,null,null,null,{"$f":"CONCATENATE(\"Objective 2: \",'AGENCY STRATEGY'!L93)","v":"Objective 2: "},null,null,null,null,null,null,null,null,null,null,null,null,null,null,null,null,null,null,{"$f":"IF('CENTRAL ANALYSIS'!$E$28=1,1,0)","v":0}]
[null,null,null,null,null,null,null,null,null,null,null,null,null,null,null,null,null,null,null,null,null,null,null,null,null,{"$f":"IF('CENTRAL ANALYSIS'!$E$28=1,1,0)","v":0}]
[null,null,null,null,null,null,{"$f":"IF('AGENCY STRATEGY'!F95=\"\",\"\",'AGENCY STRATEGY'!F95)","v":""},null,null,null,null,null,null,null,null,null,null,null,null,null,null,null,null,null,null,{"$f":"IF('CENTRAL ANALYSIS'!$E$28=1,1,0)","v":0}]
[null,null,null,null,null,null,null,null,null,null,null,null,null,null,null,null,null,null,null,null,null,null,null,null,null,{"$f":"IF('CENTRAL ANALYSIS'!$E$28=1,1,0)","v":0}]
[null,null,null,null,null,null,null,null,null,null,null,null,null,null,null,null,null,null,null,null,null,null,null,null,null,{"$f":"IF('CENTRAL ANALYSIS'!$E$28=1,1,0)","v":0}]
[null,null,null,null,null,null,null,null,null,null,"Action Item",{"$f":"IF('AGENCY STRATEGY'!H102=\"\",\"\",'AGENCY STRATEGY'!H102)","v":""},null,null,null,null,null,null,null,null,null,null,null,null,null,{"$f":"IF('CENTRAL ANALYSIS'!$E$29=1,1,0)","v":0}]
[null,null,null,null,null,null,null,null,{"$f":"'AGENCY STRATEGY'!F103","v":""},null,null,null,null,null,null,null,null,null,null,null,null,null,null,null,null,{"$f":"IF('CENTRAL ANALYSIS'!$E$29=1,1,0)","v":0}]
[null,null,null,null,null,null,null,null,null,null,null,null,null,null,null,null,null,null,null,null,null,null,null,null,null,{"$f":"IF('CENTRAL ANALYSIS'!$E$29=1,1,0)","v":0}]
[null,null,null,null,null,null,null,null,null,null,"Action Item",{"$f":"IF('AGENCY STRATEGY'!H105=\"\",\"\",'AGENCY STRATEGY'!H105)","v":""},null,null,null,null,null,null,null,null,null,null,null,null,null,{"$f":"IF('CENTRAL ANALYSIS'!$E$30=1,1,0)","v":0}]
[null,null,null,null,null,null,null,null,{"$f":"'AGENCY STRATEGY'!F106","v":""},null,null,null,null,null,null,null,null,null,null,null,null,null,null,null,null,{"$f":"IF('CENTRAL ANALYSIS'!$E$30=1,1,0)","v":0}]
[null,null,null,null,null,null,null,null,null,null,null,null,null,null,null,null,null,null,null,null,null,null,null,null,null,{"$f":"IF('CENTRAL ANALYSIS'!$E$30=1,1,0)","v":0}]
[null,null,null,null,null,null,null,null,null,null,"Action Item",{"$f":"IF('AGENCY STRATEGY'!H108=\"\",\"\",'AGENCY STRATEGY'!H108)","v":""},null,null,null,null,null,null,null,null,null,null,null,null,null,{"$f":"IF('CENTRAL ANALYSIS'!$E$31=1,1,0)","v":0}]
[null,null,null,null,null,null,null,null,{"$f":"'AGENCY STRATEGY'!F109","v":""},null,null,null,null,null,null,null,null,null,null,null,null,null,null,null,null,{"$f":"IF('CENTRAL ANALYSIS'!$E$31=1,1,0)","v":0}]
[null,null,null,null,null,null,null,null,null,null,null,null,null,null,null,null,null,null,null,null,null,null,null,null,null,{"$f":"IF('CENTRAL ANALYSIS'!$E$31=1,1,0)","v":0}]
[null,null,null,null,null,null,null,null,null,null,"Action Item",{"$f":"IF('AGENCY STRATEGY'!H111=\"\",\"\",'AGENCY STRATEGY'!H111)","v":""},null,null,null,null,null,null,null,null,null,null,null,null,null,{"$f":"IF('CENTRAL ANALYSIS'!$E$32=1,1,0)","v":0}]
[null,null,null,null,null,null,null,null,{"$f":"'AGENCY STRATEGY'!F112","v":""},null,null,null,null,null,null,null,null,null,null,null,null,null,null,null,null,{"$f":"IF('CENTRAL ANALYSIS'!$E$32=1,1,0)","v":0}]
[null,null,null,null,null,null,null,null,null,null,null,null,null,null,null,null,null,null,null,null,null,null,null,null,null,{"$f":"IF('CENTRAL ANALYSIS'!$E$32=1,1,0)","v":0}]
[null,null,null,null,null,null,null,null,null,null,"Action Item",{"$f":"IF('AGENCY STRATEGY'!H114=\"\",\"\",'AGENCY STRATEGY'!H114)","v":""},null,null,null,null,null,null,null,null,null,null,null,null,null,{"$f":"IF('CENTRAL ANALYSIS'!$E$33=1,1,0)","v":0}]
[null,null,null,null,null,null,null,null,{"$f":"'AGENCY STRATEGY'!F115","v":""},null,null,null,null,null,null,null,null,null,null,null,null,null,null,null,null,{"$f":"IF('CENTRAL ANALYSIS'!$E$33=1,1,0)","v":0}]
[null,null,null,null,null,null,null,null,null,null,null,null,null,null,null,null,null,null,null,null,null,null,null,null,null,{"$f":"IF('CENTRAL ANALYSIS'!$E$33=1,1,0)","v":0}]
[null,null,null,null,null,null,"*******************************************************************************************************************",null,null,null,null,null,null,null,null,null,null,null,null,null,null,null,null,null,null,{"$f":"IF('CENTRAL ANALYSIS'!$E$34=1,1,IF(AND('AGENCY STRATEGY'!$D$96<>'CENTRAL DATA'!$J$17,'AGENCY STRATEGY'!$F$95<>\"\"),1,0))","v":0}]
[null,null,null,null,null,null,null,null,null,null,"Objective Progress Summary:",{"$f":"IF(AND('AGENCY STRATEGY'!D96<>'CENTRAL DATA'!$J$17,'AGENCY STRATEGY'!H125=\"\"),\"No Progress Update Provided\",IF('AGENCY STRATEGY'!H125=\"\",\"\",'AGENCY STRATEGY'!H125))","v":"No Progress Update Provided"},null,null,null,null,null,null,null,null,null,null,null,null,null,{"$f":"IF('CENTRAL ANALYSIS'!$E$34=1,1,IF(AND('AGENCY STRATEGY'!$D$96<>'CENTRAL DATA'!$J$17,'AGENCY STRATEGY'!$F$95<>\"\"),1,0))","v":0}]
[null,null,null,null,null,null,null,null,null,null,null,null,null,null,null,null,null,null,null,null,null,null,null,null,null,{"$f":"IF('CENTRAL ANALYSIS'!$E$34=1,1,IF(AND('AGENCY STRATEGY'!$D$96<>'CENTRAL DATA'!$J$17,'AGENCY STRATEGY'!$F$95<>\"\"),1,0))","v":0}]
[null,null,null,null,null,null,null,null,null,null,null,null,null,null,null,null,null,null,null,null,null,null,null,null,null,{"$f":"IF('CENTRAL ANALYSIS'!$E$34=1,1,IF(AND('AGENCY STRATEGY'!$D$96<>'CENTRAL DATA'!$J$17,'AGENCY STRATEGY'!$F$95<>\"\"),1,0))","v":0}]
[null,null,null,null,null,null,null,null,null,null,null,null,null,null,null,null,null,null,null,null,null,null,null,null,null,{"$f":"IF('CENTRAL ANALYSIS'!$E$34=1,1,IF(AND('AGENCY STRATEGY'!$D$96<>'CENTRAL DATA'!$J$17,'AGENCY STRATEGY'!$F$95<>\"\"),1,0))","v":0}]
[null,null,null,null,null,null,null,null,null,null,null,null,null,null,null,null,null,null,null,null,null,null,null,null,null,{"$f":"IF('CENTRAL ANALYSIS'!$E$34=1,1,IF(AND('AGENCY STRATEGY'!$D$96<>'CENTRAL DATA'!$J$17,'AGENCY STRATEGY'!$F$95<>\"\"),1,0))","v":0}]
[null,null,null,null,null,null,null,null,null,null,null,null,null,null,null,null,null,null,null,null,null,null,null,null,null,{"$f":"IF('CENTRAL ANALYSIS'!$E$34=1,1,IF(AND('AGENCY STRATEGY'!$D$96<>'CENTRAL DATA'!$J$17,'AGENCY STRATEGY'!$F$95<>\"\"),1,0))","v":0}]
[null,null,null,null,null,null,null,null,null,null,null,null,null,null,null,null,null,null,null,null,null,null,null,null,null,{"$f":"IF('CENTRAL ANALYSIS'!$E$34=1,1,0)","v":0}]
[null,null,null,null,null,null,{"$f":"CONCATENATE(\"Objective 3: \",'AGENCY STRATEGY'!L142)","v":"Objective 3: "},null,null,null,null,null,null,null,null,null,null,null,null,null,null,null,null,null,null,{"$f":"IF('CENTRAL ANALYSIS'!$H$28=1,1,0)","v":0}]
[null,null,null,null,null,null,null,null,null,null,null,null,null,null,null,null,null,null,null,null,null,null,null,null,null,{"$f":"IF('CENTRAL ANALYSIS'!$H$28=1,1,0)","v":0}]
[null,null,null,null,null,null,{"$f":"IF('AGENCY STRATEGY'!F144=\"\",\"\",'AGENCY STRATEGY'!F144)","v":""},null,null,null,null,null,null,null,null,null,null,null,null,null,null,null,null,null,null,{"$f":"IF('CENTRAL ANALYSIS'!$H$28=1,1,0)","v":0}]
[null,null,null,null,null,null,null,null,null,null,null,null,null,null,null,null,null,null,null,null,null,null,null,null,null,{"$f":"IF('CENTRAL ANALYSIS'!$H$28=1,1,0)","v":0}]
[null,null,null,null,null,null,null,null,null,null,null,null,null,null,null,null,null,null,null,null,null,null,null,null,null,{"$f":"IF('CENTRAL ANALYSIS'!$H$28=1,1,0)","v":0}]
[null,null,null,null,null,null,null,null,null,null,"Action Item",{"$f":"IF('AGENCY STRATEGY'!H151=\"\",\"\",'AGENCY STRATEGY'!H151)","v":""},null,null,null,null,null,null,null,null,null,null,null,null,null,{"$f":"IF('CENTRAL ANALYSIS'!$H$29=1,1,0)","v":0}]
[null,null,null,null,null,null,null,null,{"$f":"'AGENCY STRATEGY'!F152","v":""},null,null,null,null,null,null,null,null,null,null,null,null,null,null,null,null,{"$f":"IF('CENTRAL ANALYSIS'!$H$29=1,1,0)","v":0}]
[null,null,null,null,null,null,null,null,null,null,null,null,null,null,null,null,null,null,null,null,null,null,null,null,null,{"$f":"IF('CENTRAL ANALYSIS'!$H$29=1,1,0)","v":0}]
[null,null,null,null,null,null,null,null,null,null,"Action Item",{"$f":"IF('AGENCY STRATEGY'!H154=\"\",\"\",'AGENCY STRATEGY'!H154)","v":""},null,null,null,null,null,null,null,null,null,null,null,null,null,{"$f":"IF('CENTRAL ANALYSIS'!$H$30=1,1,0)","v":0}]
[null,null,null,null,null,null,null,null,{"$f":"'AGENCY STRATEGY'!F155","v":""},null,null,null,null,null,null,null,null,null,null,null,null,null,null,null,null,{"$f":"IF('CENTRAL ANALYSIS'!$H$30=1,1,0)","v":0}]
[null,null,null,null,null,null,null,null,null,null,null,null,null,null,null,null,null,null,null,null,null,null,null,null,null,{"$f":"IF('CENTRAL ANALYSIS'!$H$30=1,1,0)","v":0}]
[null,null,null,null,null,null,null,null,null,null,"Action Item",{"$f":"IF('AGENCY STRATEGY'!H157=\"\",\"\",'AGENCY STRATEGY'!H157)","v":""},null,null,null,null,null,null,null,null,null,null,null,null,null,{"$f":"IF('CENTRAL ANALYSIS'!$H$31=1,1,0)","v":0}]
[null,null,null,null,null,null,null,null,{"$f":"'AGENCY STRATEGY'!F158","v":""},null,null,null,null,null,null,null,null,null,null,null,null,null,null,null,null,{"$f":"IF('CENTRAL ANALYSIS'!$H$31=1,1,0)","v":0}]
[null,null,null,null,null,null,null,null,null,null,null,null,null,null,null,null,null,null,null,null,null,null,null,null,null,{"$f":"IF('CENTRAL ANALYSIS'!$H$31=1,1,0)","v":0}]
[null,null,null,null,null,null,null,null,null,null,"Action Item",{"$f":"IF('AGENCY STRATEGY'!H160=\"\",\"\",'AGENCY STRATEGY'!H160)","v":""},null,null,null,null,null,null,null,null,null,null,null,null,null,{"$f":"IF('CENTRAL ANALYSIS'!$H$32=1,1,0)","v":0}]
[null,null,null,null,null,null,null,null,{"$f":"'AGENCY STRATEGY'!F161","v":""},null,null,null,null,null,null,null,null,null,null,null,null,null,null,null,null,{"$f":"IF('CENTRAL ANALYSIS'!$H$32=1,1,0)","v":0}]
[null,null,null,null,null,null,null,null,null,null,null,null,null,null,null,null,null,null,null,null,null,null,null,null,null,{"$f":"IF('CENTRAL ANALYSIS'!$H$32=1,1,0)","v":0}]
[null,null,null,null,null,null,null,null,null,null,"Action Item",{"$f":"IF('AGENCY STRATEGY'!H163=\"\",\"\",'AGENCY STRATEGY'!H163)","v":""},null,null,null,null,null,null,null,null,null,null,null,null,null,{"$f":"IF('CENTRAL ANALYSIS'!$H$33=1,1,0)","v":0}]
[null,null,null,null,null,null,null,null,{"$f":"'AGENCY STRATEGY'!F164","v":""},null,null,null,null,null,null,null,null,null,null,null,null,null,null,null,null,{"$f":"IF('CENTRAL ANALYSIS'!$H$33=1,1,0)","v":0}]
[null,null,null,null,null,null,null,null,null,null,null,null,null,null,null,null,null,null,null,null,null,null,null,null,null,{"$f":"IF('CENTRAL ANALYSIS'!$H$33=1,1,0)","v":0}]
[null,null,null,null,null,null,"*******************************************************************************************************************",null,null,null,null,null,null,null,null,null,null,null,null,null,null,null,null,null,null,{"$f":"IF('CENTRAL ANALYSIS'!$H$34=1,1,IF(AND('AGENCY STRATEGY'!$D$145<>'CENTRAL DATA'!$J$17,'AGENCY STRATEGY'!$F$144<>\"\"),1,0))","v":0}]
[null,null,null,null,null,null,null,null,null,null,"Objective Progress Summary:",{"$f":"IF(AND('AGENCY STRATEGY'!D145<>'CENTRAL DATA'!$J$17,'AGENCY STRATEGY'!H174=\"\"),\"No Progress Update Provided\",IF('AGENCY STRATEGY'!H174=\"\",\"\",'AGENCY STRATEGY'!H174))","v":"No Progress Update Provided"},null,null,null,null,null,null,null,null,null,null,null,null,null,{"$f":"IF('CENTRAL ANALYSIS'!$H$34=1,1,IF(AND('AGENCY STRATEGY'!$D$145<>'CENTRAL DATA'!$J$17,'AGENCY STRATEGY'!$F$144<>\"\"),1,0))","v":0}]
[null,null,null,null,null,null,null,null,null,null,null,null,null,null,null,null,null,null,null,null,null,null,null,null,null,{"$f":"IF('CENTRAL ANALYSIS'!$H$34=1,1,IF(AND('AGENCY STRATEGY'!$D$145<>'CENTRAL DATA'!$J$17,'AGENCY STRATEGY'!$F$144<>\"\"),1,0))","v":0}]
[null,null,null,null,null,null,null,null,null,null,null,null,null,null,null,null,null,null,null,null,null,null,null,null,null,{"$f":"IF('CENTRAL ANALYSIS'!$H$34=1,1,IF(AND('AGENCY STRATEGY'!$D$145<>'CENTRAL DATA'!$J$17,'AGENCY STRATEGY'!$F$144<>\"\"),1,0))","v":0}]
[null,null,null,null,null,null,null,null,null,null,null,null,null,null,null,null,null,null,null,null,null,null,null,null,null,{"$f":"IF('CENTRAL ANALYSIS'!$H$34=1,1,IF(AND('AGENCY STRATEGY'!$D$145<>'CENTRAL DATA'!$J$17,'AGENCY STRATEGY'!$F$144<>\"\"),1,0))","v":0}]
[null,null,null,null,null,null,null,null,null,null,null,null,null,null,null,null,null,null,null,null,null,null,null,null,null,{"$f":"IF('CENTRAL ANALYSIS'!$H$34=1,1,IF(AND('AGENCY STRATEGY'!$D$145<>'CENTRAL DATA'!$J$17,'AGENCY STRATEGY'!$F$144<>\"\"),1,0))","v":0}]
[null,null,null,null,null,null,null,null,null,null,null,null,null,null,null,null,null,null,null,null,null,null,null,null,null,{"$f":"IF('CENTRAL ANALYSIS'!$H$34=1,1,IF(AND('AGENCY STRATEGY'!$D$145<>'CENTRAL DATA'!$J$17,'AGENCY STRATEGY'!$F$144<>\"\"),1,0))","v":0}]
[null,null,null,null,null,null,null,null,null,null,null,null,null,null,null,null,null,null,null,null,null,null,null,null,null,{"$f":"IF('CENTRAL ANALYSIS'!$H$34=1,1,IF(AND('AGENCY STRATEGY'!$D$145<>'CENTRAL DATA'!$J$17,'AGENCY STRATEGY'!$F$144<>\"\"),1,0))","v":0}]
[null,null,null,null,null,null,{"$f":"CONCATENATE(\"Objective 4: \",'AGENCY STRATEGY'!L191)","v":"Objective 4: "},null,null,null,null,null,null,null,null,null,null,null,null,null,null,null,null,null,null,{"$f":"IF('CENTRAL ANALYSIS'!$K$28=1,1,0)","v":0}]
[null,null,null,null,null,null,null,null,null,null,null,null,null,null,null,null,null,null,null,null,null,null,null,null,null,{"$f":"IF('CENTRAL ANALYSIS'!$K$28=1,1,0)","v":0}]
[null,null,null,null,null,null,{"$f":"IF('AGENCY STRATEGY'!F193=\"\",\"\",'AGENCY STRATEGY'!F193)","v":""},null,null,null,null,null,null,null,null,null,null,null,null,null,null,null,null,null,null,{"$f":"IF('CENTRAL ANALYSIS'!$K$28=1,1,0)","v":0}]
[null,null,null,null,null,null,null,null,null,null,null,null,null,null,null,null,null,null,null,null,null,null,null,null,null,{"$f":"IF('CENTRAL ANALYSIS'!$K$28=1,1,0)","v":0}]
[null,null,null,null,null,null,null,null,null,null,null,null,null,null,null,null,null,null,null,null,null,null,null,null,null,{"$f":"IF('CENTRAL ANALYSIS'!$K$28=1,1,0)","v":0}]
[null,null,null,null,null,null,null,null,null,null,"Action Item",{"$f":"IF('AGENCY STRATEGY'!H200=\"\",\"\",'AGENCY STRATEGY'!H200)","v":""},null,null,null,null,null,null,null,null,null,null,null,null,null,{"$f":"IF('CENTRAL ANALYSIS'!$K$29=1,1,0)","v":0}]
[null,null,null,null,null,null,null,null,{"$f":"'AGENCY STRATEGY'!F201","v":""},null,null,null,null,null,null,null,null,null,null,null,null,null,null,null,null,{"$f":"IF('CENTRAL ANALYSIS'!$K$29=1,1,0)","v":0}]
[null,null,null,null,null,null,null,null,null,null,null,null,null,null,null,null,null,null,null,null,null,null,null,null,null,{"$f":"IF('CENTRAL ANALYSIS'!$K$29=1,1,0)","v":0}]
[null,null,null,null,null,null,null,null,null,null,"Action Item",{"$f":"IF('AGENCY STRATEGY'!H203=\"\",\"\",'AGENCY STRATEGY'!H203)","v":""},null,null,null,null,null,null,null,null,null,null,null,null,null,{"$f":"IF('CENTRAL ANALYSIS'!$K$30=1,1,0)","v":0}]
[null,null,null,null,null,null,null,null,{"$f":"'AGENCY STRATEGY'!F204","v":""},null,null,null,null,null,null,null,null,null,null,null,null,null,null,null,null,{"$f":"IF('CENTRAL ANALYSIS'!$K$30=1,1,0)","v":0}]
[null,null,null,null,null,null,null,null,null,null,null,null,null,null,null,null,null,null,null,null,null,null,null,null,null,{"$f":"IF('CENTRAL ANALYSIS'!$K$30=1,1,0)","v":0}]
[null,null,null,null,null,null,null,null,null,null,"Action Item",{"$f":"IF('AGENCY STRATEGY'!H206=\"\",\"\",'AGENCY STRATEGY'!H206)","v":""},null,null,null,null,null,null,null,null,null,null,null,null,null,{"$f":"IF('CENTRAL ANALYSIS'!$K$31=1,1,0)","v":0}]
[null,null,null,null,null,null,null,null,{"$f":"'AGENCY STRATEGY'!F207","v":""},null,null,null,null,null,null,null,null,null,null,null,null,null,null,null,null,{"$f":"IF('CENTRAL ANALYSIS'!$K$31=1,1,0)","v":0}]
[null,null,null,null,null,null,null,null,null,null,null,null,null,null,null,null,null,null,null,null,null,null,null,null,null,{"$f":"IF('CENTRAL ANALYSIS'!$K$31=1,1,0)","v":0}]
[null,null,null,null,null,null,null,null,null,null,"Action Item",{"$f":"IF('AGENCY STRATEGY'!H209=\"\",\"\",'AGENCY STRATEGY'!H209)","v":""},null,null,null,null,null,null,null,null,null,null,null,null,null,{"$f":"IF('CENTRAL ANALYSIS'!$K$32=1,1,0)","v":0}]
[null,null,null,null,null,null,null,null,{"$f":"'AGENCY STRATEGY'!F210","v":""},null,null,null,null,null,null,null,null,null,null,null,null,null,null,null,null,{"$f":"IF('CENTRAL ANALYSIS'!$K$32=1,1,0)","v":0}]
[null,null,null,null,null,null,null,null,null,null,null,null,null,null,null,null,null,null,null,null,null,null,null,null,null,{"$f":"IF('CENTRAL ANALYSIS'!$K$32=1,1,0)","v":0}]
[null,null,null,null,null,null,null,null,null,null,"Action Item",{"$f":"IF('AGENCY STRATEGY'!H212=\"\",\"\",'AGENCY STRATEGY'!H212)","v":""},null,null,null,null,null,null,null,null,null,null,null,null,null,{"$f":"IF('CENTRAL ANALYSIS'!$K$33=1,1,0)","v":0}]
[null,null,null,null,null,null,null,null,{"$f":"'AGENCY STRATEGY'!F213","v":""},null,null,null,null,null,null,null,null,null,null,null,null,null,null,null,null,{"$f":"IF('CENTRAL ANALYSIS'!$K$33=1,1,0)","v":0}]
[null,null,null,null,null,null,null,null,null,null,null,null,null,null,null,null,null,null,null,null,null,null,null,null,null,{"$f":"IF('CENTRAL ANALYSIS'!$K$33=1,1,0)","v":0}]
[null,null,null,null,null,null,"*******************************************************************************************************************",null,null,null,null,null,null,null,null,null,null,null,null,null,null,null,null,null,null,{"$f":"IF('CENTRAL ANALYSIS'!$K$34=1,1,IF(AND('AGENCY STRATEGY'!$D$194<>'CENTRAL DATA'!$J$17,'AGENCY STRATEGY'!$F$193<>\"\"),1,0))","v":0}]
[null,null,null,null,null,null,null,null,null,null,"Objective Progress Summary:",{"$f":"IF(AND('AGENCY STRATEGY'!D194<>'CENTRAL DATA'!$J$17,'AGENCY STRATEGY'!H223=\"\"),\"No Progress Update Provided\",IF('AGENCY STRATEGY'!H223=\"\",\"\",'AGENCY STRATEGY'!H223))","v":"No Progress Update Provided"},null,null,null,null,null,null,null,null,null,null,null,null,null,{"$f":"IF('CENTRAL ANALYSIS'!$K$34=1,1,IF(AND('AGENCY STRATEGY'!$D$194<>'CENTRAL DATA'!$J$17,'AGENCY STRATEGY'!$F$193<>\"\"),1,0))","v":0}]
[null,null,null,null,null,null,null,null,null,null,null,null,null,null,null,null,null,null,null,null,null,null,null,null,null,{"$f":"IF('CENTRAL ANALYSIS'!$K$34=1,1,IF(AND('AGENCY STRATEGY'!$D$194<>'CENTRAL DATA'!$J$17,'AGENCY STRATEGY'!$F$193<>\"\"),1,0))","v":0}]
[null,null,null,null,null,null,null,null,null,null,null,null,null,null,null,null,null,null,null,null,null,null,null,null,null,{"$f":"IF('CENTRAL ANALYSIS'!$K$34=1,1,IF(AND('AGENCY STRATEGY'!$D$194<>'CENTRAL DATA'!$J$17,'AGENCY STRATEGY'!$F$193<>\"\"),1,0))","v":0}]
[null,null,null,null,null,null,null,null,null,null,null,null,null,null,null,null,null,null,null,null,null,null,null,null,null,{"$f":"IF('CENTRAL ANALYSIS'!$K$34=1,1,IF(AND('AGENCY STRATEGY'!$D$194<>'CENTRAL DATA'!$J$17,'AGENCY STRATEGY'!$F$193<>\"\"),1,0))","v":0}]
[null,null,null,null,null,null,null,null,null,null,null,null,null,null,null,null,null,null,null,null,null,null,null,null,null,{"$f":"IF('CENTRAL ANALYSIS'!$K$34=1,1,IF(AND('AGENCY STRATEGY'!$D$194<>'CENTRAL DATA'!$J$17,'AGENCY STRATEGY'!$F$193<>\"\"),1,0))","v":0}]
[null,null,null,null,null,null,null,null,null,null,null,null,null,null,null,null,null,null,null,null,null,null,null,null,null,{"$f":"IF('CENTRAL ANALYSIS'!$K$34=1,1,IF(AND('AGENCY STRATEGY'!$D$194<>'CENTRAL DATA'!$J$17,'AGENCY STRATEGY'!$F$193<>\"\"),1,0))","v":0}]
[null,null,null,null,null,null,null,null,null,null,null,null,null,null,null,null,null,null,null,null,null,null,null,null,null,{"$f":"IF('CENTRAL ANALYSIS'!$K$34=1,1,IF(AND('AGENCY STRATEGY'!$D$194<>'CENTRAL DATA'!$J$17,'AGENCY STRATEGY'!$F$193<>\"\"),1,0))","v":0}]
[null,null,null,null,null,null,{"$f":"CONCATENATE(\"Objective 5: \",'AGENCY STRATEGY'!L240)","v":"Objective 5: "},null,null,null,null,null,null,null,null,null,null,null,null,null,null,null,null,null,null,{"$f":"IF('CENTRAL ANALYSIS'!$K$33=1,1,0)","v":0}]
[null,null,null,null,null,null,null,null,null,null,null,null,null,null,null,null,null,null,null,null,null,null,null,null,null,{"$f":"IF('CENTRAL ANALYSIS'!$N$28=1,1,0)","v":0}]
[null,null,null,null,null,null,{"$f":"IF('AGENCY STRATEGY'!F242=\"\",\"\",'AGENCY STRATEGY'!F242)","v":""},null,null,null,null,null,null,null,null,null,null,null,null,null,null,null,null,null,null,{"$f":"IF('CENTRAL ANALYSIS'!$N$28=1,1,0)","v":0}]
[null,null,null,null,null,null,null,null,null,null,null,null,null,null,null,null,null,null,null,null,null,null,null,null,null,{"$f":"IF('CENTRAL ANALYSIS'!$N$28=1,1,0)","v":0}]
[null,null,null,null,null,null,null,null,null,null,null,null,null,null,null,null,null,null,null,null,null,null,null,null,null,{"$f":"IF('CENTRAL ANALYSIS'!$N$28=1,1,0)","v":0}]
[null,null,null,null,null,null,null,null,null,null,"Action Item",{"$f":"IF('AGENCY STRATEGY'!H249=\"\",\"\",'AGENCY STRATEGY'!H249)","v":""},null,null,null,null,null,null,null,null,null,null,null,null,null,{"$f":"IF('CENTRAL ANALYSIS'!$N$29=1,1,0)","v":0}]
[null,null,null,null,null,null,null,null,{"$f":"'AGENCY STRATEGY'!F250","v":""},null,null,null,null,null,null,null,null,null,null,null,null,null,null,null,null,{"$f":"IF('CENTRAL ANALYSIS'!$N$29=1,1,0)","v":0}]
[null,null,null,null,null,null,null,null,null,null,null,null,null,null,null,null,null,null,null,null,null,null,null,null,null,{"$f":"IF('CENTRAL ANALYSIS'!$N$29=1,1,0)","v":0}]
[null,null,null,null,null,null,null,null,null,null,"Action Item",{"$f":"IF('AGENCY STRATEGY'!H252=\"\",\"\",'AGENCY STRATEGY'!H252)","v":""},null,null,null,null,null,null,null,null,null,null,null,null,null,{"$f":"IF('CENTRAL ANALYSIS'!$N$30=1,1,0)","v":0}]
[null,null,null,null,null,null,null,null,{"$f":"'AGENCY STRATEGY'!F253","v":""},null,null,null,null,null,null,null,null,null,null,null,null,null,null,null,null,{"$f":"IF('CENTRAL ANALYSIS'!$N$30=1,1,0)","v":0}]
[null,null,null,null,null,null,null,null,null,null,null,null,null,null,null,null,null,null,null,null,null,null,null,null,null,{"$f":"IF('CENTRAL ANALYSIS'!$N$30=1,1,0)","v":0}]
[null,null,null,null,null,null,null,null,null,null,"Action Item",{"$f":"IF('AGENCY STRATEGY'!H255=\"\",\"\",'AGENCY STRATEGY'!H255)","v":""},null,null,null,null,null,null,null,null,null,null,null,null,null,{"$f":"IF('CENTRAL ANALYSIS'!$N$31=1,1,0)","v":0}]
[null,null,null,null,null,null,null,null,{"$f":"'AGENCY STRATEGY'!F256","v":""},null,null,null,null,null,null,null,null,null,null,null,null,null,null,null,null,{"$f":"IF('CENTRAL ANALYSIS'!$N$31=1,1,0)","v":0}]
[null,null,null,null,null,null,null,null,null,null,null,null,null,null,null,null,null,null,null,null,null,null,null,null,null,{"$f":"IF('CENTRAL ANALYSIS'!$N$31=1,1,0)","v":0}]
[null,null,null,null,null,null,null,null,null,null,"Action Item",{"$f":"IF('AGENCY STRATEGY'!H258=\"\",\"\",'AGENCY STRATEGY'!H258)","v":""},null,null,null,null,null,null,null,null,null,null,null,null,null,{"$f":"IF('CENTRAL ANALYSIS'!$N$32=1,1,0)","v":0}]
[null,null,null,null,null,null,null,null,{"$f":"'AGENCY STRATEGY'!F259","v":""},null,null,null,null,null,null,null,null,null,null,null,null,null,null,null,null,{"$f":"IF('CENTRAL ANALYSIS'!$N$32=1,1,0)","v":0}]
[null,null,null,null,null,null,null,null,null,null,null,null,null,null,null,null,null,null,null,null,null,null,null,null,null,{"$f":"IF('CENTRAL ANALYSIS'!$N$32=1,1,0)","v":0}]
[null,null,null,null,null,null,null,null,null,null,"Action Item",{"$f":"IF('AGENCY STRATEGY'!H261=\"\",\"\",'AGENCY STRATEGY'!H261)","v":""},null,null,null,null,null,null,null,null,null,null,null,null,null,{"$f":"IF('CENTRAL ANALYSIS'!$N$33=1,1,0)","v":0}]
[null,null,null,null,null,null,null,null,{"$f":"'AGENCY STRATEGY'!F262","v":""},null,null,null,null,null,null,null,null,null,null,null,null,null,null,null,null,{"$f":"IF('CENTRAL ANALYSIS'!$N$33=1,1,0)","v":0}]
[null,null,null,null,null,null,null,null,null,null,null,null,null,null,null,null,null,null,null,null,null,null,null,null,null,{"$f":"IF('CENTRAL ANALYSIS'!$N$33=1,1,0)","v":0}]
[null,null,null,null,null,null,"*******************************************************************************************************************",null,null,null,null,null,null,null,null,null,null,null,null,null,null,null,null,null,null,{"$f":"IF('CENTRAL ANALYSIS'!$N$34=1,1,IF(AND('AGENCY STRATEGY'!$D$243<>'CENTRAL DATA'!$J$17,'AGENCY STRATEGY'!$F$242<>\"\"),1,0))","v":0}]
[null,null,null,null,null,null,null,null,null,null,"Objective Progress Summary:",{"$f":"IF(AND('AGENCY STRATEGY'!D243<>'CENTRAL DATA'!$J$17,'AGENCY STRATEGY'!H272=\"\"),\"No Progress Update Provided\",IF('AGENCY STRATEGY'!H272=\"\",\"\",'AGENCY STRATEGY'!H272))","v":"No Progress Update Provided"},null,null,null,null,null,null,null,null,null,null,null,null,null,{"$f":"IF('CENTRAL ANALYSIS'!$N$34=1,1,IF(AND('AGENCY STRATEGY'!$D$243<>'CENTRAL DATA'!$J$17,'AGENCY STRATEGY'!$F$242<>\"\"),1,0))","v":0}]
[null,null,null,null,null,null,null,null,null,null,null,null,null,null,null,null,null,null,null,null,null,null,null,null,null,{"$f":"IF('CENTRAL ANALYSIS'!$N$34=1,1,IF(AND('AGENCY STRATEGY'!$D$243<>'CENTRAL DATA'!$J$17,'AGENCY STRATEGY'!$F$242<>\"\"),1,0))","v":0}]
[null,null,null,null,null,null,null,null,null,null,null,null,null,null,null,null,null,null,null,null,null,null,null,null,null,{"$f":"IF('CENTRAL ANALYSIS'!$N$34=1,1,IF(AND('AGENCY STRATEGY'!$D$243<>'CENTRAL DATA'!$J$17,'AGENCY STRATEGY'!$F$242<>\"\"),1,0))","v":0}]
[null,null,null,null,null,null,null,null,null,null,null,null,null,null,null,null,null,null,null,null,null,null,null,null,null,{"$f":"IF('CENTRAL ANALYSIS'!$N$34=1,1,IF(AND('AGENCY STRATEGY'!$D$243<>'CENTRAL DATA'!$J$17,'AGENCY STRATEGY'!$F$242<>\"\"),1,0))","v":0}]
[null,null,null,null,null,null,null,null,null,null,null,null,null,null,null,null,null,null,null,null,null,null,null,null,null,{"$f":"IF('CENTRAL ANALYSIS'!$N$34=1,1,IF(AND('AGENCY STRATEGY'!$D$243<>'CENTRAL DATA'!$J$17,'AGENCY STRATEGY'!$F$242<>\"\"),1,0))","v":0}]
[null,null,null,null,null,null,null,null,null,null,null,null,null,null,null,null,null,null,null,null,null,null,null,null,null,{"$f":"IF('CENTRAL ANALYSIS'!$N$34=1,1,IF(AND('AGENCY STRATEGY'!$D$243<>'CENTRAL DATA'!$J$17,'AGENCY STRATEGY'!$F$242<>\"\"),1,0))","v":0}]
[null,null,null,null,null,null,null,null,null,null,null,null,null,null,null,null,null,null,null,null,null,null,null,null,null,1]
[null,null,null,null,null,"   Signatures",null,null,null,null,null,null,null,null,null,null,null,null,{"$f":"IF(AND(PROFILE!$L$43=\"Fiscal Year WFP\",'CENTRAL ANALYSIS'!$K$12=1),\"Invalid Date of Plan Entered\",IF(PROFILE!$L$43=\"Fiscal Year WFP\",CONCATENATE(\"Fiscal Year \",'DHRM ADMIN'!$O$14),IF(PROFILE!$L$43=\"Snapshot\",CONCATENATE(\"As of: \",TEXT(PROFILE!$N$44,\"mm/dd/yyyy\")),\"\")))","v":""},null,null,null,null,null,null,1]
[null,null,null,null,null,null,null,null,null,null,null,null,null,null,null,null,null,null,null,null,null,null,null,null,null,1]
[null,null,null,null,null,null,null,null,null,null,null,null,null,null,null,null,null,null,null,null,null,null,null,null,null,1]
[null,null,null,null,null,null,"2.2-1209. Policy of the Commonwealth regarding workforce planning issues with a submission of a succession plan for agency/institution in alignment our annual strategic planning cycle. To ensure that workforce planning is occurring in tandem with agency strategic planning, and to support the acquisition and sustainment of a resilient workforce, agencies and institutions of higher education must execute, continuously evaluate, and submit an annual workforce planning and development report to executive leadership. The plan template was designed by the Department of Human Resources Management and vetted by a state human resources advisory committee. As directed by the legislative mandate, the plan has a threefold focus: mission critical positions, employees nearing retirement, and executive positions. \n\nThis Workforce Planning and Development Summary serves as a continual assessment of workforce risks and accomplishments surrounding the areas of continuity of operations, recruitment, retention and engagement, and workforce development. It will enable informed executive-level workforce decisions. Plans must be submitted to an agency's Cabinet Secretary or Board of Visitors annually, no later than September 30th of each year.",null,null,null,null,null,null,null,null,null,null,null,null,null,null,null,null,null,null,1]
[null,null,null,null,null,null,null,null,null,null,null,null,null,null,null,null,null,null,null,null,null,null,null,null,null,1]
[null,null,null,null,null,null,null,null,null,null,null,null,null,null,null,null,null,null,null,null,null,null,null,null,null,1]
[null,null,null,null,null,null,null,null,null,null,null,null,null,null,null,null,null,null,null,null,null,null,null,null,null,1]
[null,null,null,null,null,null,null,null,null,null,null,null,null,null,null,null,null,null,null,null,null,null,null,null,null,1]
[null,null,null,null,null,null,null,null,null,null,null,null,null,null,null,null,null,null,null,null,null,null,null,null,null,1]
[null,null,null,null,null,null,null,null,null,null,null,null,null,null,null,null,null,null,null,null,null,null,null,null,null,1]
[null,null,null,null,null,null,null,null,null,null,null,null,null,null,null,null,null,null,null,null,null,null,null,null,null,1]
[null,null,null,null,null,null,null,null,null,null,null,null,null,null,null,null,null,null,null,null,null,null,null,null,null,1]
[null,null,null,null,null,null,null,null,null,null,null,null,null,null,null,null,null,null,null,null,null,null,null,null,null,1]
[null,null,null,null,null,null,null,null,null,null,null,null,null,null,null,null,null,null,null,null,null,null,null,null,null,1]
[null,null,null,null,null,null,"Statement of Commitment",null,null,null,null,null,null,null,null,null,null,null,null,null,null,null,null,null,null,1]
[null,null,null,null,null,null,{"$f":"PROFILE!J23","v":0},null,null,null,null,null,null,"is committed to the Commonwealth's policy and efforts to submit a workforce",null,null,null,null,null,null,null,null,null,null,null,1]
[null,null,null,null,null,null,"plan summary annually to ensure adequate workforce planning alignment with the agency's or institution's strategic plans.",null,null,null,null,null,null,null,null,null,null,null,null,null,null,null,null,null,null,1]
[null,null,null,null,null,null,null,null,null,null,null,null,null,null,null,null,null,null,null,null,null,null,null,null,null,1]
[null,null,null,null,null,null,null,null,null,null,null,null,null,null,null,null,null,null,null,null,null,null,null,null,null,1]
[null,null,null,null,null,null,null,null,null,null,null,null,null,null,null,null,null,null,null,null,null,null,null,null,null,1]
[null,null,null,null,null,null,"Agency Head Signature",null,null,null,null,null,null,null,"Human Resources Director",null,null,null,null,null,null,null,null,null,null,1]
[null,null,null,null,null,null,null,null,null,null,null,null,null,null,null,null,null,null,null,null,null,null,null,null,null,1]
[null,null,null,null,null,null,null,null,null,null,null,null,null,null,null,null,null,null,null,null,null,null,null,null,null,1]
[null,null,"Step 2: Ensure the Summary is Up to Date",null,null,null,null,null,null,null,null,null,null,null,null,null,null,null,null,null,null,null,null,null,null,1]
[null,null,null,null,null,null,null,null,null,null,null,null,null,null,null,null,null,null,null,null,null,null,null,null,null,1]
[null,null,"INSTRUCTIONS: If the summary needs to be refreshed, indicated below, click the \"Refresh Summary\" blue button. This will adjust the report to remove any items omitted in the optional settings and ensure the agency strategy reflects only the objectives and action items entered. ",null,null,null,null,null,null,null,null,null,null,null,null,null,null,null,null,null,null,null,null,null,null,1]
[null,null,null,null,null,null,null,null,null,null,null,null,null,null,null,null,null,null,null,null,null,null,null,null,null,1]
[null,null,null,null,null,null,null,null,null,null,null,null,null,null,null,null,null,null,null,null,null,null,null,null,null,1]
[null,null,null,null,null,{"$f":"IF(SUMIF($Z$1:$Z$452,1)<>SUBTOTAL(103,$Z$1:$Z$452),\"Summary Needs to be Refreshed. Click the Refresh Button to the Right.\",\"Summary is Up to Date.\")","v":"Summary is Up to Date."},null,null,null,null,null,null,null,null,null,null,null,null,null,null,null,null,null,null,null,1]
[null,null,null,null,null,null,null,null,null,null,null,null,null,null,null,null,null,null,null,null,null,null,null,null,null,1]
[null,null,null,null,null,null,null,null,null,null,null,null,null,null,null,null,null,null,null,null,null,null,null,null,null,1]
[null,null,null,null,null,null,null,null,null,null,null,null,null,null,null,null,null,null,null,null,null,null,null,null,null,1]
[null,null,null,null,null,null,null,null,null,null,null,null,null,null,null,null,null,null,null,null,null,null,null,null,null,1]
[null,null,"(Optional) Step 2(a): Add a Custom Page Break for the Agency Strategy Section",null,null,null,null,null,null,null,null,null,null,null,null,null,null,null,null,null,null,null,null,null,null,1]
[null,null,null,null,null,null,null,null,null,null,null,null,null,null,null,null,null,null,null,null,null,null,null,null,null,1]
[null,null,"INSTRUCTIONS: If the agency strategy section is split on to multiple pages in the middle of an objective or action item, a custom page break can be added by clicking the \"Add Page Break\" button and entering the row number to insert the page break. It can also be removed by clicking the \"Remove Page Break\" button. ",null,null,null,null,null,null,null,null,null,null,null,null,null,null,null,null,null,null,null,null,null,null,1]
[null,null,null,null,null,null,null,null,null,null,null,null,null,null,null,null,null,null,null,null,null,null,null,null,null,1]
[null,null,null,null,null,null,null,null,null,null,null,null,null,null,null,null,null,null,null,null,null,null,null,null,null,1]
[null,null,null,null,null,null,null,null,null,null,null,null,null,null,null,null,null,null,null,null,null,null,null,null,null,1]
[null,null,null,null,null,null,null,null,null,null,null,null,null,null,null,null,null,null,null,null,null,null,null,null,null,1]
[null,null,null,null,null,null,null,null,null,null,null,null,null,null,null,null,null,null,null,null,null,null,null,null,null,1]
[null,null,null,null,null,null,null,null,null,null,null,null,null,null,null,null,null,null,null,null,null,null,null,null,null,1]
[null,null,"Step 3: Check Spelling",null,null,null,null,null,null,null,null,null,null,null,null,null,null,null,null,null,null,null,null,null,null,1]
[null,null,null,null,null,null,null,null,null,null,null,null,null,null,null,null,null,null,null,null,null,null,null,null,null,1]
[null,null,"INSTRUCTIONS: To check the spelling of items on this tab, please click the blue \"Spell Check This Tab\" button below. Correcting the spelling on this tab will ensure the report is correct as well. ",null,null,null,null,null,null,null,null,null,null,null,null,null,null,null,null,null,null,null,null,null,null,1]
[null,null,null,null,null,null,null,null,null,null,null,null,null,null,null,null,null,null,null,null,null,null,null,null,null,1]
[null,null,null,null,null,null,null,null,null,null,null,null,null,null,null,null,null,null,null,null,null,null,null,null,null,1]
[null,null,null,null,null,null,null,null,null,null,null,null,null,null,null,null,null,null,null,null,null,null,null,null,null,1]
[null,null,null,null,null,null,null,null,null,null,null,null,null,null,null,null,null,null,null,null,null,null,null,null,null,1]
[null,null,"Step 4: Export the Summary to PDF",null,null,null,null,null,null,null,null,null,null,null,null,null,null,null,null,null,null,null,null,null,null,1]
[null,null,null,null,null,null,null,null,null,null,null,null,null,null,null,null,null,null,null,null,null,null,null,null,null,1]
[null,null,"INSTRUCTIONS: Click the blue button below to Export the summary to a PDF. The PDF can then be used to collect electronic signatures or printed as a hard copy to be signed.",null,null,null,null,null,null,null,null,null,null,null,null,null,null,null,null,null,null,null,null,null,null,1]
[null,null,null,null,null,null,null,null,null,null,null,null,null,null,null,null,null,null,null,null,null,null,null,null,null,1]
[null,null,null,null,null,null,null,null,null,null,null,null,null,null,null,null,null,null,null,null,null,null,null,null,null,1]
[null,null,null,null,null,null,null,null,null,null,null,null,null,null,null,null,null,null,null,null,null,null,null,null,null,1]
[null,null,null,null,null,null,null,null,null,null,null,null,null,null,null,null,null,null,null,null,null,null,null,null,null,1]
[null,null,"NOTE: If the \"Export Report to PDF to Sign\" button prints the report, it can be exported to PDF manually by going to File and Print. Select the \"Microsoft Print to PDF\" as the printer and then click the Print button. This will then open a Save As dialogue box for you to save the report as a PDF.  ",null,null,null,null,null,null,null,null,null,null,null,null,null,null,null,null,null,null,null,null,null,null,1]
[null,null,null,null,null,null,null,null,null,null,null,null,null,null,null,null,null,null,null,null,null,null,null,null,null,1]
[null,null,null,null,null,null,null,null,null,null,null,null,null,null,null,null,null,null,null,null,null,null,null,null,null,1]
[null,null,null,null,null,null,null,null,null,null,null,null,null,null,null,null,null,null,null,null,null,null,null,null,null,1]
[null,null,"Step 5: Submit the Summary and Excel Template to DHRM",null,null,null,null,null,null,null,null,null,null,null,null,null,null,null,null,null,null,null,null,null,null,1]
[null,null,null,null,null,null,null,null,null,null,null,null,null,null,null,null,null,null,null,null,null,null,null,null,null,1]
[null,null,"INSTRUCTIONS: After the summary is signed, please submit the signed PDF and this excel file to dhrm.wfp@dhrm.virginia.gov no later than September 30th. Please include the Agency Name and the term \"Workforce Plan\" in the subject line. ",null,null,null,null,null,null,null,null,null,null,null,null,null,null,null,null,null,null,null,null,null,null,1]
[null,null,null,null,null,null,null,null,null,null,null,null,null,null,null,null,null,null,null,null,null,null,null,null,null,1]
[null,null,null,null,null,null,null,null,null,null,null,null,null,null,null,null,null,null,null,null,null,null,null,null,null,1]
[null,null,null,null,null,null,null,null,null,null,null,null,null,null,null,null,null,null,null,null,null,null,null,null,null,1]
[null,null,null,null,null,null,null,null,null,null,null,null,null,null,null,null,null,null,null,null,null,null,null,null,null,1]
[null,null,null,null,null,null,null,null,null,null,null,null,null,null,null,null,null,null,null,null,null,null,null,null,null,0]

{"sheet":"APPENDIX","index":10,"n_rows":894,"n_cols":26,"rows_kept":894,"cut":false,"hidden":true,"merged":[[878,5,880,12],[882,2,883,21],[28,5,28,12],[30,5,31,16],[30,18,31,21],[60,6,60,8],[61,6,61,8],[62,6,62,8],[64,6,64,8],[65,6,65,8],[55,6,55,8],[56,6,56,8],[57,6,57,8],[58,6,58,8],[59,6,59,8],[76,6,76,8],[77,6,77,8],[78,6,78,8],[62,11,62,12],[64,11,64,12],[65,11,65,12],[66,11,66,12],[71,11,71,12],[72,11,72,12],[73,11,73,12],[873,2,874,21],[875,2,876,21],[67,6,67,8],[68,6,68,8],[69,6,69,8],[70,6,70,8],[75,15,75,16],[884,2,885,21],[889,2,891,21],[33,6,34,20],[80,6,81,20],[123,6,124,20],[36,6,36,8],[36,14,36,16],[36,10,36,12],[49,6,50,20],[52,6,52,8],[52,10,52,12],[52,14,52,16],[52,18,52,20],[53,6,53,8],[54,6,54,8],[41,19,41,20],[43,19,43,20],[44,19,44,20],[46,19,46,20],[47,19,47,20],[75,11,75,12],[67,11,67,12],[68,11,68,12],[69,11,69,12],[70,11,70,12],[71,6,71,8],[72,6,72,8],[73,6,73,8],[74,6,74,8],[75,6,75,8],[66,6,66,8],[74,11,74,12],[6,2,8,19],[9,2,12,19],[14,5,16,12],[25,1,26,4],[25,5,27,12],[32,5,32,21],[76,15,76,16],[67,15,67,16],[68,15,68,16],[69,15,69,16],[70,15,70,16],[71,15,71,16],[76,11,76,12],[53,19,53,20],[54,19,54,20],[55,19,55,20],[56,19,56,20],[57,19,57,20],[58,19,58,20],[59,19,59,20],[60,19,60,20],[61,19,61,20],[19,2,22,20],[53,15,53,16],[54,15,54,16],[55,15,55,16],[56,15,56,16],[57,15,57,16],[58,15,58,16],[59,15,59,16],[60,15,60,16],[61,15,61,16],[62,15,62,16],[64,15,64,16],[65,15,65,16],[66,15,66,16],[53,11,53,12],[54,11,54,12],[55,11,55,12],[56,11,56,12],[57,11,57,12],[58,11,58,12],[59,11,59,12],[60,11,60,12],[61,11,61,12],[62,19,62,20],[64,19,64,20],[65,19,65,20],[66,19,66,20],[67,19,67,20],[72,15,72,16],[73,15,73,16],[74,15,74,16],[83,6,83,8],[83,10,83,12],[83,14,83,16],[83,18,83,20],[78,19,78,20],[36,18,36,20],[40,19,40,20],[40,11,40,12],[41,11,41,12],[43,11,43,12],[44,11,44,12],[46,11,46,12],[47,11,47,12],[40,15,40,16],[41,15,41,16],[43,15,43,16],[44,15,44,16],[46,15,46,16],[47,15,47,16],[73,19,73,20],[74,19,74,20],[75,19,75,20],[76,19,76,20],[77,19,77,20],[68,19,68,20],[69,19,69,20],[70,19,70,20],[71,19,71,20],[72,19,72,20],[77,15,77,16],[78,15,78,16],[99,6,99,8],[99,11,99,12],[99,15,99,16],[99,19,99,20],[93,11,93,12],[93,15,93,16],[93,19,93,20],[94,11,94,12],[94,15,94,16],[94,19,94,20],[90,11,90,12],[90,15,90,16],[90,19,90,20],[91,11,91,12],[91,15,91,16],[91,19,91,20],[87,11,87,12],[87,15,87,16],[87,19,87,20],[88,11,88,12],[88,15,88,16],[88,19,88,20],[77,11,77,12],[78,11,78,12],[104,6,104,8],[104,11,104,12],[104,15,104,16],[104,19,104,20],[105,6,105,8],[105,11,105,12],[105,15,105,16],[105,19,105,20],[102,6,102,8],[102,11,102,12],[102,15,102,16],[102,19,102,20],[103,6,103,8],[103,11,103,12],[103,15,103,16],[103,19,103,20],[100,6,100,8],[100,11,100,12],[100,15,100,16],[100,19,100,20],[101,6,101,8],[101,11,101,12],[101,15,101,16],[101,19,101,20],[111,6,111,8],[111,11,111,12],[111,15,111,16],[111,19,111,20],[112,6,112,8],[112,11,112,12],[112,15,112,16],[112,19,112,20],[109,6,109,8],[109,11,109,12],[109,15,109,16],[109,19,109,20],[110,6,110,8],[110,11,110,12],[110,15,110,16],[110,19,110,20],[107,6,107,8],[107,11,107,12],[107,15,107,16],[107,19,107,20],[108,6,108,8],[108,11,108,12],[108,15,108,16],[108,19,108,20],[118,11,118,12],[118,15,118,16],[118,19,118,20],[115,6,115,8],[115,11,115,12],[115,15,115,16],[115,19,115,20],[116,6,116,8],[116,11,116,12],[116,15,116,16],[116,19,116,20],[113,6,113,8],[113,11,113,12],[113,15,113,16],[113,19,113,20],[114,6,114,8],[114,11,114,12],[114,15,114,16],[114,19,114,20],[121,6,121,8],[121,11,121,12],[121,15,121,16],[121,19,121,20],[38,10,38,12],[38,14,38,16],[38,18,38,20],[96,6,96,8],[96,11,96,12],[96,15,96,16],[96,19,96,20],[97,6,97,8],[97,11,97,12],[97,15,97,16],[97,19,97,20],[98,6,98,8],[98,11,98,12],[98,15,98,16],[98,19,98,20],[119,6,119,8],[119,11,119,12],[119,15,119,16],[119,19,119,20],[120,6,120,8],[120,11,120,12],[120,15,120,16],[120,19,120,20],[117,6,117,8],[117,11,117,12],[117,15,117,16],[117,19,117,20],[118,6,118,8],[133,11,133,12],[133,15,133,16],[133,19,133,20],[134,11,134,12],[134,15,134,16],[134,19,134,20],[136,11,136,12],[136,15,136,16],[136,19,136,20],[126,6,126,8],[126,10,126,12],[126,14,126,16],[126,18,126,20],[130,11,130,12],[130,15,130,16],[130,19,130,20],[131,11,131,12],[131,15,131,16],[131,19,131,20],[141,6,141,8],[141,11,141,12],[141,15,141,16],[141,19,141,20],[142,6,142,8],[142,11,142,12],[142,15,142,16],[142,19,142,20],[143,6,143,8],[143,11,143,12],[143,15,143,16],[143,19,143,20],[137,11,137,12],[137,15,137,16],[137,19,137,20],[139,6,139,8],[139,11,139,12],[139,15,139,16],[139,19,139,20],[140,6,140,8],[140,11,140,12],[140,15,140,16],[140,19,140,20],[147,6,147,8],[147,11,147,12],[147,15,147,16],[147,19,147,20],[148,6,148,8],[148,11,148,12],[148,15,148,16],[148,19,148,20],[150,6,150,8],[150,11,150,12],[150,15,150,16],[150,19,150,20],[144,6,144,8],[144,11,144,12],[144,15,144,16],[144,19,144,20],[145,6,145,8],[145,11,145,12],[145,15,145,16],[145,19,145,20],[146,6,146,8],[146,11,146,12],[146,15,146,16],[146,19,146,20],[154,6,154,8],[154,11,154,12],[154,15,154,16],[154,19,154,20],[155,6,155,8],[155,11,155,12],[155,15,155,16],[155,19,155,20],[156,6,156,8],[156,11,156,12],[156,15,156,16],[156,19,156,20],[151,6,151,8],[151,11,151,12],[151,15,151,16],[151,19,151,20],[152,6,152,8],[152,11,152,12],[152,15,152,16],[152,19,152,20],[153,6,153,8],[153,11,153,12],[153,15,153,16],[153,19,153,20],[160,6,160,8],[160,11,160,12],[160,15,160,16],[160,19,160,20],[161,6,161,8],[161,11,161,12],[161,15,161,16],[161,19,161,20],[162,6,162,8],[162,11,162,12],[162,15,162,16],[162,19,162,20],[157,6,157,8],[157,11,157,12],[157,15,157,16],[157,19,157,20],[158,6,158,8],[158,11,158,12],[158,15,158,16],[158,19,158,20],[159,6,159,8],[159,11,159,12],[159,15,159,16],[159,19,159,20],[169,6,169,8],[169,10,169,12],[169,14,169,16],[169,18,169,20],[175,11,175,12],[175,15,175,16],[175,19,175,20],[176,11,176,12],[176,15,176,16],[176,19,176,20],[163,6,163,8],[163,11,163,12],[163,15,163,16],[163,19,163,20],[164,6,164,8],[164,11,164,12],[164,15,164,16],[164,19,164,20],[166,6,167,20],[173,18,173,20],[182,11,182,12],[182,15,182,16],[182,19,182,20],[184,6,184,8],[184,11,184,12],[184,15,184,16],[184,19,184,20],[185,6,185,8],[185,11,185,12],[185,15,185,16],[185,19,185,20],[178,11,178,12],[178,15,178,16],[178,19,178,20],[179,11,179,12],[179,15,179,16],[179,19,179,20],[181,11,181,12],[181,15,181,16],[181,19,181,20],[189,6,189,8],[189,11,189,12],[189,15,189,16],[189,19,189,20],[190,6,190,8],[190,11,190,12],[190,15,190,16],[190,19,190,20],[191,6,191,8],[191,11,191,12],[191,15,191,16],[191,19,191,20],[186,6,186,8],[186,11,186,12],[186,15,186,16],[186,19,186,20],[187,6,187,8],[187,11,187,12],[187,15,187,16],[187,19,187,20],[188,6,188,8],[188,11,188,12],[188,15,188,16],[188,19,188,20],[196,6,196,8],[196,11,196,12],[196,15,196,16],[196,19,196,20],[197,6,197,8],[197,11,197,12],[197,15,197,16],[197,19,197,20],[198,6,198,8],[198,11,198,12],[198,15,198,16],[198,19,198,20],[192,6,192,8],[192,11,192,12],[192,15,192,16],[192,19,192,20],[193,6,193,8],[193,11,193,12],[193,15,193,16],[193,19,193,20],[195,6,195,8],[195,11,195,12],[195,15,195,16],[195,19,195,20],[202,6,202,8],[202,11,202,12],[202,15,202,16],[202,19,202,20],[203,6,203,8],[203,11,203,12],[203,15,203,16],[203,19,203,20],[204,6,204,8],[204,11,204,12],[204,15,204,16],[204,19,204,20],[199,6,199,8],[199,11,199,12],[199,15,199,16],[199,19,199,20],[200,6,200,8],[200,11,200,12],[200,15,200,16],[200,19,200,20],[201,6,201,8],[201,11,201,12],[201,15,201,16],[201,19,201,20],[216,6,216,8],[216,10,216,12],[216,14,216,16],[216,18,216,20],[208,6,208,8],[208,11,208,12],[208,15,208,16],[208,19,208,20],[209,6,209,8],[209,11,209,12],[209,15,209,16],[209,19,209,20],[211,6,212,20],[205,6,205,8],[205,11,205,12],[205,15,205,16],[205,19,205,20],[206,6,206,8],[206,11,206,12],[206,15,206,16],[206,19,206,20],[207,6,207,8],[207,11,207,12],[207,15,207,16],[207,19,207,20],[220,6,220,8],[220,11,220,12],[220,15,220,16],[220,19,220,20],[221,6,221,8],[221,11,221,12],[221,15,221,16],[221,19,221,20],[222,6,222,8],[222,11,222,12],[222,15,222,16],[222,19,222,20],[218,6,218,8],[218,11,218,12],[218,15,218,16],[218,19,218,20],[219,6,219,8],[219,11,219,12],[219,15,219,16],[219,19,219,20],[226,6,226,8],[226,11,226,12],[226,15,226,16],[226,19,226,20],[227,6,227,8],[227,11,227,12],[227,15,227,16],[227,19,227,20],[229,6,229,8],[229,11,229,12],[229,15,229,16],[229,19,229,20],[223,6,223,8],[223,11,223,12],[223,15,223,16],[223,19,223,20],[224,6,224,8],[224,11,224,12],[224,15,224,16],[224,19,224,20],[225,6,225,8],[225,11,225,12],[225,15,225,16],[225,19,225,20],[233,6,233,8],[233,11,233,12],[233,15,233,16],[233,19,233,20],[234,6,234,8],[234,11,234,12],[234,15,234,16],[234,19,234,20],[235,6,235,8],[235,11,235,12],[235,15,235,16],[235,19,235,20],[230,6,230,8],[230,11,230,12],[230,15,230,16],[230,19,230,20],[231,6,231,8],[231,11,231,12],[231,15,231,16],[231,19,231,20],[232,6,232,8],[232,11,232,12],[232,15,232,16],[232,19,232,20],[239,6,239,8],[239,11,239,12],[239,15,239,16],[239,19,239,20],[240,6,240,8],[240,11,240,12],[240,15,240,16],[240,19,240,20],[241,6,241,8],[241,11,241,12],[241,15,241,16],[241,19,241,20],[236,6,236,8],[236,11,236,12],[236,15,236,16],[236,19,236,20],[237,6,237,8],[237,11,237,12],[237,15,237,16],[237,19,237,20],[238,6,238,8],[238,11,238,12],[238,15,238,16],[238,19,238,20],[248,6,248,8],[248,10,248,12],[248,14,248,16],[248,18,248,20],[252,6,252,8],[252,11,252,12],[252,15,252,16],[252,19,252,20],[253,6,253,8],[253,11,253,12],[253,15,253,16],[253,19,253,20],[242,6,242,8],[242,11,242,12],[242,15,242,16],[242,19,242,20],[243,6,243,8],[243,11,243,12],[243,15,243,16],[243,19,243,20],[245,6,246,20],[257,6,257,8],[257,11,257,12],[257,15,257,16],[257,19,257,20],[258,6,258,8],[258,11,258,12],[258,15,258,16],[258,19,258,20],[259,6,259,8],[259,11,259,12],[259,15,259,16],[259,19,259,20],[254,6,254,8],[254,11,254,12],[254,15,254,16],[254,19,254,20],[255,6,255,8],[255,11,255,12],[255,15,255,16],[255,19,255,20],[256,6,256,8],[256,11,256,12],[256,15,256,16],[256,19,256,20],[264,6,264,8],[264,11,264,12],[264,15,264,16],[264,19,264,20],[265,6,265,8],[265,11,265,12],[265,15,265,16],[265,19,265,20],[266,6,266,8],[266,11,266,12],[266,15,266,16],[266,19,266,20],[260,6,260,8],[260,11,260,12],[260,15,260,16],[260,19,260,20],[261,6,261,8],[261,11,261,12],[261,15,261,16],[261,19,261,20],[263,6,263,8],[263,11,263,12],[263,15,263,16],[263,19,263,20],[270,6,270,8],[270,11,270,12],[270,15,270,16],[270,19,270,20],[271,6,271,8],[271,11,271,12],[271,15,271,16],[271,19,271,20],[272,6,272,8],[272,11,272,12],[272,15,272,16],[272,19,272,20],[267,6,267,8],[267,11,267,12],[267,15,267,16],[267,19,267,20],[268,6,268,8],[268,11,268,12],[268,15,268,16],[268,19,268,20],[269,6,269,8],[269,11,269,12],[269,15,269,16],[269,19,269,20],[276,6,276,8],[276,11,276,12],[276,15,276,16],[276,19,276,20],[277,6,277,8],[277,11,277,12],[277,15,277,16],[277,19,277,20],[279,6,280,20],[273,6,273,8],[273,11,273,12],[273,15,273,16],[273,19,273,20],[274,6,274,8],[274,11,274,12],[274,15,274,16],[274,19,274,20],[275,6,275,8],[275,11,275,12],[275,15,275,16],[275,19,275,20],[288,6,288,8],[288,11,288,12],[288,15,288,16],[288,19,288,20],[289,6,289,8],[289,11,289,12],[289,15,289,16],[289,19,289,20],[290,6,290,8],[290,11,290,12],[290,15,290,16],[290,19,290,20],[282,6,282,8],[282,10,282,12],[282,14,282,16],[282,18,282,20],[286,6,286,8],[286,11,286,12],[286,15,286,16],[286,19,286,20],[287,6,287,8],[287,11,287,12],[287,15,287,16],[287,19,287,20],[294,6,294,8],[294,11,294,12],[294,15,294,16],[294,19,294,20],[295,6,295,8],[295,11,295,12],[295,15,295,16],[295,19,295,20],[297,6,297,8],[297,11,297,12],[297,15,297,16],[297,19,297,20],[291,6,291,8],[291,11,291,12],[291,15,291,16],[291,19,291,20],[292,6,292,8],[292,11,292,12],[292,15,292,16],[292,19,292,20],[293,6,293,8],[293,11,293,12],[293,15,293,16],[293,19,293,20],[302,19,302,20],[303,6,303,8],[303,11,303,12],[303,15,303,16],[303,19,303,20],[298,6,298,8],[298,11,298,12],[298,15,298,16],[298,19,298,20],[299,6,299,8],[299,11,299,12],[299,15,299,16],[299,19,299,20],[300,6,300,8],[300,11,300,12],[300,15,300,16],[300,19,300,20],[301,6,301,8],[301,11,301,12],[301,15,301,16],[301,19,301,20],[302,6,302,8],[302,11,302,12],[302,15,302,16],[307,6,307,8],[307,11,307,12],[307,15,307,16],[307,19,307,20],[308,6,308,8],[308,11,308,12],[308,15,308,16],[308,19,308,20],[309,6,309,8],[309,11,309,12],[309,15,309,16],[309,19,309,20],[304,6,304,8],[304,11,304,12],[304,15,304,16],[304,19,304,20],[305,6,305,8],[305,11,305,12],[305,15,305,16],[305,19,305,20],[306,6,306,8],[306,11,306,12],[306,15,306,16],[306,19,306,20],[365,11,365,12],[365,15,365,16],[365,19,365,20],[366,11,366,12],[366,15,366,16],[366,19,366,20],[368,11,368,12],[368,15,368,16],[368,19,368,20],[356,6,357,20],[359,6,359,8],[359,10,359,12],[359,14,359,16],[359,18,359,20],[361,10,362,12],[361,14,362,16],[361,18,362,20],[363,10,363,12],[363,14,363,16],[363,18,363,20],[374,6,374,8],[374,11,374,12],[374,15,374,16],[374,19,374,20],[375,6,375,8],[375,11,375,12],[375,15,375,16],[375,19,375,20],[376,6,376,8],[376,11,376,12],[376,15,376,16],[376,19,376,20],[369,11,369,12],[369,15,369,16],[369,19,369,20],[371,11,371,12],[371,15,371,16],[371,19,371,20],[372,11,372,12],[372,15,372,16],[372,19,372,20],[380,6,380,8],[380,11,380,12],[380,15,380,16],[380,19,380,20],[381,6,381,8],[381,11,381,12],[381,15,381,16],[381,19,381,20],[382,6,382,8],[382,11,382,12],[382,15,382,16],[382,19,382,20],[377,6,377,8],[377,11,377,12],[377,15,377,16],[377,19,377,20],[378,6,378,8],[378,11,378,12],[378,15,378,16],[378,19,378,20],[379,6,379,8],[379,11,379,12],[379,15,379,16],[379,19,379,20],[387,6,387,8],[387,11,387,12],[387,15,387,16],[387,19,387,20],[388,6,388,8],[388,11,388,12],[388,15,388,16],[388,19,388,20],[389,6,389,8],[389,11,389,12],[389,15,389,16],[389,19,389,20],[383,6,383,8],[383,11,383,12],[383,15,383,16],[383,19,383,20],[385,6,385,8],[385,11,385,12],[385,15,385,16],[385,19,385,20],[386,6,386,8],[386,11,386,12],[386,15,386,16],[386,19,386,20],[394,19,394,20],[395,6,395,8],[395,11,395,12],[395,15,395,16],[395,19,395,20],[390,6,390,8],[390,11,390,12],[390,15,390,16],[390,19,390,20],[391,6,391,8],[391,11,391,12],[391,15,391,16],[391,19,391,20],[392,6,392,8],[392,11,392,12],[392,15,392,16],[392,19,392,20],[324,11,324,12],[324,15,324,16],[324,19,324,20],[326,11,326,12],[326,15,326,16],[326,19,326,20],[327,11,327,12],[327,15,327,16],[327,19,327,20],[399,6,399,8],[399,11,399,12],[399,15,399,16],[399,19,399,20],[313,6,314,20],[316,6,316,8],[316,10,316,12],[316,14,316,16],[316,18,316,20],[320,11,320,12],[320,15,320,16],[320,19,320,20],[321,11,321,12],[321,15,321,16],[321,19,321,20],[323,11,323,12],[323,15,323,16],[323,19,323,20],[396,6,396,8],[396,11,396,12],[396,15,396,16],[396,19,396,20],[397,6,397,8],[332,6,332,8],[332,11,332,12],[332,15,332,16],[332,19,332,20],[333,6,333,8],[333,11,333,12],[333,15,333,16],[333,19,333,20],[334,6,334,8],[334,11,334,12],[334,15,334,16],[334,19,334,20],[329,6,329,8],[329,11,329,12],[329,15,329,16],[329,19,329,20],[330,6,330,8],[330,11,330,12],[330,15,330,16],[330,19,330,20],[331,6,331,8],[331,11,331,12],[331,15,331,16],[331,19,331,20],[338,6,338,8],[338,11,338,12],[338,15,338,16],[338,19,338,20],[340,6,340,8],[340,11,340,12],[340,15,340,16],[340,19,340,20],[341,6,341,8],[341,11,341,12],[341,15,341,16],[341,19,341,20],[335,6,335,8],[335,11,335,12]],"merged_total":2467,"flags":["merged_cut"]}
[null,null,null,null,null,null,null,null,null,null,null,null,null,null,null,null,null,null,null,null,null,null,null,null,null,1]
[null,null,null,null,null,null,null,null,null,null,null,null,null,null,null,null,null,null,null,null,null,null,null,null,null,1]
[null,null,null,null,null,null,null,null,null,null,null,null,null,null,null,null,null,null,null,null,null,null,null,null,null,1]
[null,null,null,null,null,null,null,null,null,null,null,null,null,null,null,null,null,null,null,null,null,null,null,null,null,1]
[null,null,null,null,null,null,null,null,null,null,null,null,null,null,null,null,null,null,null,null,null,null,null,null,null,1]
[null,null,null,null,null,null,null,null,null,null,null,null,null,null,null,null,null,null,null,null,null,null,null,null,null,1]
[null,null,"CUSTOM APPENDIX FOR OPTIONAL FIELDS",null,null,null,null,null,null,null,null,null,null,null,null,null,null,null,null,null,null,null,null,null,null,1]
[null,null,null,null,null,null,null,null,null,null,null,null,null,null,null,null,null,null,null,null,null,null,null,null,null,1]
[null,null,null,null,null,null,null,null,null,null,null,null,null,null,null,null,null,null,null,null,null,null,null,null,null,1]
[null,null,"The Workforce Plan Appendix compiles information from optional fields of the previous tabs into a single summary. Specific color indicators can be changed to highlight specific metrics by indicating the color in the green boxes in the shaded blue section on the left.",null,null,null,null,null,null,null,null,null,null,null,null,null,null,null,null,null,null,null,null,null,null,1]
[null,null,null,null,null,null,null,null,null,null,null,null,null,null,null,null,null,null,null,null,null,null,null,null,null,1]
[null,null,null,null,null,null,null,null,null,null,null,null,null,null,null,null,null,null,null,null,null,null,null,null,null,1]
[null,null,null,null,null,null,null,null,null,null,null,null,null,null,null,null,null,null,null,null,null,null,null,null,null,1]
[null,null,null,null,null,null,null,null,null,null,null,null,null,null,null,null,null,null,null,null,null,null,null,null,null,1]
[null,null,null,null,null,{"$f":"IF(SUMIF($Z$1:$Z$893,1)<>SUBTOTAL(103,$Z$1:$Z$893),\"Appendix Needs to be Refreshed. Click the Refresh Button to the Right.\",\"Appendix is Up to Date.\")","v":"Appendix is Up to Date."},null,null,null,null,null,null,null,null,null,null,null,null,null,null,null,null,null,null,null,1]
[null,null,null,null,null,null,null,null,null,null,null,null,null,null,null,null,null,null,null,null,null,null,null,null,null,1]
[null,null,null,null,null,null,null,null,null,null,null,null,null,null,null,null,null,null,null,null,null,null,null,null,null,1]
[null,null,null,null,null,null,null,null,null,null,null,null,null,null,null,null,null,null,null,null,null,null,null,null,null,1]
[null,null,null,null,null,null,null,null,null,null,null,null,null,null,null,null,null,null,null,null,null,null,null,null,null,1]
[null,null,"Visibility for the fields in the Appendix directly corresponds to the fields selected on the In-Depth and Comprehensive tabs. To hide a specific field, use the select custom fields button on the in-depth and comprehensive tabs and ensure the specific field is hidden. For the entire field to be hidden, sections on both the in-depth and comprehensive tabs must be hidden.",null,null,null,null,null,null,null,null,null,null,null,null,null,null,null,null,null,null,null,null,null,null,1]
[null,null,null,null,null,null,null,null,null,null,null,null,null,null,null,null,null,null,null,null,null,null,null,null,null,1]
[null,null,null,null,null,null,null,null,null,null,null,null,null,null,null,null,null,null,null,null,null,null,null,null,null,1]
[null,null,null,null,null,null,null,null,null,null,null,null,null,null,null,null,null,null,null,null,null,null,null,null,null,1]
[null,null,null,null,null,null,null,null,null,null,null,null,null,null,null,null,null,null,null,null,null,null,null,null,null,1]
[null,null,null,null,null,null,null,null,null,null,null,null,null,null,null,null,null,null,null,null,null,null,null,null,null,1]
[null,"Appendix Customizations",null,null,null,{"$f":"PROFILE!J23","v":0},null,null,null,null,null,null,null,null,null,null,null,null,null,null,null,null,null,null,null,1]
[null,null,null,null,null,null,null,null,null,null,null,null,null,null,null,null,null,null,null,null,null,null,null,null,null,1]
[null,null,null,null,null,null,null,null,null,null,null,null,null,null,null,null,null,null,null,null,null,null,null,null,null,1]
[null,null,null,null,null,{"$f":"CONCATENATE(\"Agency Number: \",PROFILE!P25)","v":"Agency Number: "},null,null,null,null,null,null,null,null,null,null,null,null,null,null,null,null,null,null,null,1]
[null,null,null,null,null,null,null,null,null,null,null,null,null,null,null,null,null,null,null,null,null,null,null,null,null,1]
[null,null,null,null,null,"   Agency Workforce Plan Appendix",null,null,null,null,null,null,null,null,null,null,null,null,{"$f":"IF(AND(PROFILE!$L$43=\"Fiscal Year WFP\",'CENTRAL ANALYSIS'!$K$12=1),\"Invalid Date of Plan Entered\",IF(PROFILE!$L$43=\"Fiscal Year WFP\",CONCATENATE(\"Fiscal Year \",'DHRM ADMIN'!$O$14),IF(PROFILE!$L$43=\"Snapshot\",CONCATENATE(\"As of: \",TEXT(PROFILE!$N$44,\"mm/dd/yyyy\")),\"\")))","v":""},null,null,null,null,null,null,1]
[null,null,null,null,null,null,null,null,null,null,null,null,null,null,null,null,null,null,null,null,null,null,null,null,null,1]
[null,null,null,null,null,null,null,null,null,null,null,null,null,null,null,null,null,null,null,null,null,null,null,null,null,1]
[null,"Change Metric Colors",null,null,null,null,"Agency Workforce Demographics",null,null,null,null,null,null,null,null,null,null,null,null,null,null,null,null,null,null,{"$f":"IF(OR(COUNTIF('IN-DEPTH'!$C$29:$D$30,\"enabled\")>0,COUNTIF(COMPREHENSIVE!$C$35:$E$37,\"enabled\")>0),1,0)","v":0}]
[null,null,null,null,null,null,null,null,null,null,null,null,null,null,null,null,null,null,null,null,null,null,null,null,null,{"$f":"IF(OR(COUNTIF('IN-DEPTH'!$C$29:$D$30,\"enabled\")>0,COUNTIF(COMPREHENSIVE!$C$35:$E$37,\"enabled\")>0),1,0)","v":0}]
[null,null,null,null,null,null,null,null,null,null,null,null,null,null,null,null,null,null,null,null,null,null,null,null,null,{"$f":"IF(OR(COUNTIF('IN-DEPTH'!$C$29:$D$30,\"enabled\")>0,COUNTIF(COMPREHENSIVE!$C$35:$E$37,\"enabled\")>0),1,0)","v":0}]
[null,null,null,null,null,null,null,null,null,null,"All Employees",null,null,null,"Leaders",null,null,null,"Executives",null,null,null,null,null,null,{"$f":"IF(OR(COUNTIF('IN-DEPTH'!$C$29:$D$30,\"enabled\")>0,COUNTIF(COMPREHENSIVE!$C$35:$E$37,\"enabled\")>0),1,0)","v":0}]
[null,null,null,null,null,null,null,null,null,null,null,null,null,null,null,null,null,null,null,null,null,null,null,null,null,{"$f":"IF(OR(COUNTIF('IN-DEPTH'!$C$29:$D$30,\"enabled\")>0,COUNTIF(COMPREHENSIVE!$C$35:$E$37,\"enabled\")>0),1,0)","v":0}]
[null,null,"All","Leaders","Exec.",null,null,null,null,null,{"$f":"CONCATENATE(TEXT(FOUNDATIONAL!P29,0),\" Total Employees\")","v":"0 Total Employees"},null,null,null,{"$f":"CONCATENATE(TEXT('IN-DEPTH'!P64,0),\" Total Leaders\")","v":"0 Total Leaders"},null,null,null,{"$f":"CONCATENATE(TEXT(FOUNDATIONAL!P38,0),\" Total Executives\")","v":"0 Total Executives"},null,null,null,null,null,null,{"$f":"IF(OR(COUNTIF('IN-DEPTH'!$C$29:$D$30,\"enabled\")>0,COUNTIF(COMPREHENSIVE!$C$35:$E$37,\"enabled\")>0),1,0)","v":0}]
[null,null,null,null,null,null,null,null,null,null,null,null,null,null,null,null,null,null,null,null,null,null,null,null,null,{"$f":"IF(OR(COUNTIF('IN-DEPTH'!$C$29:$D$30,\"enabled\")>0,COUNTIF(COMPREHENSIVE!$C$35:$E$37,\"enabled\")>0),1,0)","v":0}]
[null,null,null,null,null,null,null,null,"Males",null,{"$f":"IF(COMPREHENSIVE!P184=\"\",\"\",COMPREHENSIVE!P184)","v":""},{"$f":"K41","v":""},null,null,{"$f":"IF(COMPREHENSIVE!P187=\"\",\"\",COMPREHENSIVE!P187)","v":""},{"$f":"O41","v":""},null,null,{"$f":"IF(COMPREHENSIVE!P190=\"\",\"\",COMPREHENSIVE!P190)","v":""},{"$f":"S41","v":""},null,null,null,null,null,{"$f":"IF(OR(COUNTIF(COMPREHENSIVE!$C$35:$E$35,\"enabled\")>0),1,0)","v":0}]
[null,null,null,null,null,null,null,null,"Females",null,{"$f":"IF(COMPREHENSIVE!P185=\"\",\"\",COMPREHENSIVE!P185)","v":""},{"$f":"K42","v":""},null,null,{"$f":"IF(COMPREHENSIVE!P188=\"\",\"\",COMPREHENSIVE!P188)","v":""},{"$f":"O42","v":""},null,null,{"$f":"IF(COMPREHENSIVE!P191=\"\",\"\",COMPREHENSIVE!P191)","v":""},{"$f":"S42","v":""},null,null,null,null,null,{"$f":"IF(OR(COUNTIF(COMPREHENSIVE!$C$35:$E$35,\"enabled\")>0),1,0)","v":0}]
[null,null,null,null,null,null,null,null,null,null,null,null,null,null,null,null,null,null,null,null,null,null,null,null,null,{"$f":"IF(OR(COUNTIF(COMPREHENSIVE!$C$35:$E$35,\"enabled\")>0),1,0)","v":0}]
[null,null,null,null,null,null,null,null,"Minority",null,{"$f":"IF(COMPREHENSIVE!P196=\"\",\"\",COMPREHENSIVE!P196)","v":""},{"$f":"K44","v":""},null,null,{"$f":"IF(COMPREHENSIVE!P199=\"\",\"\",COMPREHENSIVE!P199)","v":""},{"$f":"O44","v":""},null,null,{"$f":"IF(COMPREHENSIVE!P202=\"\",\"\",COMPREHENSIVE!P202)","v":""},{"$f":"S44","v":""},null,null,null,null,null,{"$f":"IF(COUNTIF(COMPREHENSIVE!$C$36:$E$36,\"enabled\")>0,1,0)","v":0}]
[null,null,null,null,null,null,null,null,"Non-Minority",null,{"$f":"IF(COMPREHENSIVE!P197=\"\",\"\",COMPREHENSIVE!P197)","v":""},{"$f":"K45","v":""},null,null,{"$f":"IF(COMPREHENSIVE!P200=\"\",\"\",COMPREHENSIVE!P200)","v":""},{"$f":"O45","v":""},null,null,{"$f":"IF(COMPREHENSIVE!P203=\"\",\"\",COMPREHENSIVE!P203)","v":""},{"$f":"S45","v":""},null,null,null,null,null,{"$f":"IF(COUNTIF(COMPREHENSIVE!$C$36:$E$36,\"enabled\")>0,1,0)","v":0}]
[null,null,null,null,null,null,null,null,null,null,null,null,null,null,null,null,null,null,null,null,null,null,null,null,null,{"$f":"IF(COUNTIF(COMPREHENSIVE!$C$36:$E$36,\"enabled\")>0,1,0)","v":0}]
[null,null,null,null,null,null,null,null," Individuals with Disabilities",null,{"$f":"IF(COMPREHENSIVE!P208=\"\",\"\",COMPREHENSIVE!P208)","v":""},{"$f":"K47","v":""},null,null,{"$f":"IF(COMPREHENSIVE!P211=\"\",\"\",COMPREHENSIVE!P211)","v":""},{"$f":"O47","v":""},null,null,{"$f":"IF(COMPREHENSIVE!P214=\"\",\"\",COMPREHENSIVE!P214)","v":""},{"$f":"S47","v":""},null,null,null,null,null,{"$f":"IF(COUNTIF(COMPREHENSIVE!$C$37:$E$37,\"enabled\")>0,1,0)","v":0}]
[null,null,null,null,null,null,null,null,"Veterans",null,{"$f":"IF(COMPREHENSIVE!P209=\"\",\"\",COMPREHENSIVE!P209)","v":""},{"$f":"K48","v":""},null,null,{"$f":"IF(COMPREHENSIVE!P212=\"\",\"\",COMPREHENSIVE!P212)","v":""},{"$f":"O48","v":""},null,null,{"$f":"IF(COMPREHENSIVE!P215=\"\",\"\",COMPREHENSIVE!P215)","v":""},{"$f":"S48","v":""},null,null,null,null,null,{"$f":"IF(COUNTIF(COMPREHENSIVE!$C$37:$E$37,\"enabled\")>0,1,0)","v":0}]
[null,null,null,null,null,null,null,null,null,null,null,null,null,null,null,null,null,null,null,null,null,null,null,null,null,{"$f":"IF(COUNTIF(COMPREHENSIVE!$C$37:$E$37,\"enabled\")>0,1,0)","v":0}]
[null,null,null,null,null,null,"Total Employees by EEO Code and Classification",null,null,null,null,null,null,null,null,null,null,null,null,null,null,null,null,null,null,{"$f":"IF(COUNTIF(COMPREHENSIVE!$C$33:$E$34,\"enabled\")>0,1,0)","v":0}]
[null,null,null,null,null,null,null,null,null,null,null,null,null,null,null,null,null,null,null,null,null,null,null,null,null,{"$f":"IF(COUNTIF(COMPREHENSIVE!$C$33:$E$34,\"enabled\")>0,1,0)","v":0}]
[null,null,"All","Leaders","Exec.",null,null,null,null,null,null,null,null,null,null,null,null,null,null,null,null,null,null,null,null,{"$f":"IF(COUNTIF(COMPREHENSIVE!$C$33:$E$34,\"enabled\")>0,1,0)","v":0}]
[null,null,null,null,null,null,null,null,null,null,"All Employees",null,null,null,"Leaders",null,null,null,"Executives",null,null,null,null,null,null,{"$f":"IF(COUNTIF(COMPREHENSIVE!$C$33:$E$34,\"enabled\")>0,1,0)","v":0}]
[null,null,null,null,null,null,"Officials and Administrators",null,null,null,{"$f":"IF(COMPREHENSIVE!P97=\"\",\"\",COMPREHENSIVE!P97)","v":""},{"$f":"K54","v":""},null,null,{"$f":"IF(COMPREHENSIVE!P108=\"\",\"\",COMPREHENSIVE!P108)","v":""},{"$f":"O54","v":""},null,null,{"$f":"IF(COMPREHENSIVE!P119=\"\",\"\",COMPREHENSIVE!P119)","v":""},{"$f":"S54","v":""},null,null,null,null,null,{"$f":"IF(COUNTIF(COMPREHENSIVE!$C$33:$E$33,\"enabled\")>0,1,0)","v":0}]
[null,null,null,null,null,null,"Professionals",null,null,null,{"$f":"IF(COMPREHENSIVE!P98=\"\",\"\",COMPREHENSIVE!P98)","v":""},{"$f":"K55","v":""},null,null,{"$f":"IF(COMPREHENSIVE!P109=\"\",\"\",COMPREHENSIVE!P109)","v":""},{"$f":"O55","v":""},null,null,{"$f":"IF(COMPREHENSIVE!P120=\"\",\"\",COMPREHENSIVE!P120)","v":""},{"$f":"S55","v":""},null,null,null,null,null,{"$f":"IF(COUNTIF(COMPREHENSIVE!$C$33:$E$34,\"enabled\")>0,1,0)","v":0}]
[null,null,null,null,null,null,"Technicians",null,null,null,{"$f":"IF(COMPREHENSIVE!P99=\"\",\"\",COMPREHENSIVE!P99)","v":""},"",null,null,{"$f":"IF(COMPREHENSIVE!P110=\"\",\"\",COMPREHENSIVE!P110)","v":""},"",null,null,{"$f":"IF(COMPREHENSIVE!P121=\"\",\"\",COMPREHENSIVE!P121)","v":""},"",null,null,null,null,null,{"$f":"IF(COUNTIF(COMPREHENSIVE!$C$33:$E$34,\"enabled\")>0,1,0)","v":0}]
[null,null,null,null,null,null,"Protective Service Workers",null,null,null,{"$f":"IF(COMPREHENSIVE!P100=\"\",\"\",COMPREHENSIVE!P100)","v":""},"",null,null,{"$f":"IF(COMPREHENSIVE!P111=\"\",\"\",COMPREHENSIVE!P111)","v":""},"",null,null,{"$f":"IF(COMPREHENSIVE!P122=\"\",\"\",COMPREHENSIVE!P122)","v":""},"",null,null,null,null,null,{"$f":"IF(COUNTIF(COMPREHENSIVE!$C$33:$E$34,\"enabled\")>0,1,0)","v":0}]
[null,null,null,null,null,null,"Paraprofessionals",null,null,null,{"$f":"IF(COMPREHENSIVE!P101=\"\",\"\",COMPREHENSIVE!P101)","v":""},"",null,null,{"$f":"IF(COMPREHENSIVE!P112=\"\",\"\",COMPREHENSIVE!P112)","v":""},"",null,null,{"$f":"IF(COMPREHENSIVE!P123=\"\",\"\",COMPREHENSIVE!P123)","v":""},"",null,null,null,null,null,{"$f":"IF(COUNTIF(COMPREHENSIVE!$C$33:$E$34,\"enabled\")>0,1,0)","v":0}]
[null,null,null,null,null,null,"Administrative Support",null,null,null,{"$f":"IF(COMPREHENSIVE!P102=\"\",\"\",COMPREHENSIVE!P102)","v":""},"",null,null,{"$f":"IF(COMPREHENSIVE!P113=\"\",\"\",COMPREHENSIVE!P113)","v":""},"",null,null,{"$f":"IF(COMPREHENSIVE!P124=\"\",\"\",COMPREHENSIVE!P124)","v":""},"",null,null,null,null,null,{"$f":"IF(COUNTIF(COMPREHENSIVE!$C$33:$E$34,\"enabled\")>0,1,0)","v":0}]
[null,null,null,null,null,null,"Skilled Craft Workers",null,null,null,{"$f":"IF(COMPREHENSIVE!P103=\"\",\"\",COMPREHENSIVE!P103)","v":""},"",null,null,{"$f":"IF(COMPREHENSIVE!P114=\"\",\"\",COMPREHENSIVE!P114)","v":""},"",null,null,{"$f":"IF(COMPREHENSIVE!P125=\"\",\"\",COMPREHENSIVE!P125)","v":""},"",null,null,null,null,null,{"$f":"IF(COUNTIF(COMPREHENSIVE!$C$33:$E$34,\"enabled\")>0,1,0)","v":0}]
[null,null,null,null,null,null,"Service/Maintenance",null,null,null,{"$f":"IF(COMPREHENSIVE!P104=\"\",\"\",COMPREHENSIVE!P104)","v":""},"",null,null,{"$f":"IF(COMPREHENSIVE!P115=\"\",\"\",COMPREHENSIVE!P115)","v":""},"",null,null,{"$f":"IF(COMPREHENSIVE!P126=\"\",\"\",COMPREHENSIVE!P126)","v":""},"",null,null,null,null,null,{"$f":"IF(COUNTIF(COMPREHENSIVE!$C$33:$E$34,\"enabled\")>0,1,0)","v":0}]
[null,null,null,null,null,null,"Faculty",null,null,null,{"$f":"IF(COMPREHENSIVE!P105=\"\",\"\",COMPREHENSIVE!P105)","v":""},"",null,null,{"$f":"IF(COMPREHENSIVE!P116=\"\",\"\",COMPREHENSIVE!P116)","v":""},"",null,null,{"$f":"IF(COMPREHENSIVE!P127=\"\",\"\",COMPREHENSIVE!P127)","v":""},"",null,null,null,null,null,{"$f":"IF(COUNTIF(COMPREHENSIVE!$C$33:$E$34,\"enabled\")>0,1,0)","v":0}]
[null,null,null,null,null,null,"Other",null,null,null,{"$f":"IF(COMPREHENSIVE!P106=\"\",\"\",COMPREHENSIVE!P106)","v":""},"",null,null,{"$f":"IF(COMPREHENSIVE!P117=\"\",\"\",COMPREHENSIVE!P117)","v":""},"",null,null,{"$f":"IF(COMPREHENSIVE!P128=\"\",\"\",COMPREHENSIVE!P128)","v":""},"",null,null,null,null,null,{"$f":"IF(COUNTIF(COMPREHENSIVE!$C$33:$E$34,\"enabled\")>0,1,0)","v":0}]
[null,null,null,null,null,null,null,null,null,null,null,null,null,null,null,null,null,null,null,null,null,null,null,null,null,{"$f":"IF(COUNTIF(COMPREHENSIVE!$C$33:$E$34,\"enabled\")>0,1,0)","v":0}]
[null,null,null,null,null,null,{"$f":"PROFILE!$C$58","v":0},null,null,null,{"$f":"IF(COMPREHENSIVE!P133=\"\",\"\",COMPREHENSIVE!P133)","v":""},{"$f":"K65","v":""},null,null,{"$f":"IF(COMPREHENSIVE!P149=\"\",\"\",COMPREHENSIVE!P149)","v":""},{"$f":"O65","v":""},null,null,{"$f":"IF(COMPREHENSIVE!P165=\"\",\"\",COMPREHENSIVE!P165)","v":""},{"$f":"S65","v":""},null,null,null,null,{"$f":"COUNTIF(G65,\"*\"&PROFILE!$C$58&\"*\")","v":0},{"$f":"IF(AND(COUNTIF(COMPREHENSIVE!$C$34:$E$34,\"enabled\")>0,Y65=1),1,0)","v":0}]
[null,null,null,null,null,null,{"$f":"PROFILE!$C$59","v":0},null,null,null,{"$f":"IF(COMPREHENSIVE!P134=\"\",\"\",COMPREHENSIVE!P134)","v":""},{"$f":"K66","v":""},null,null,{"$f":"IF(COMPREHENSIVE!P150=\"\",\"\",COMPREHENSIVE!P150)","v":""},{"$f":"O66","v":""},null,null,{"$f":"IF(COMPREHENSIVE!P166=\"\",\"\",COMPREHENSIVE!P166)","v":""},{"$f":"S66","v":""},null,null,null,null,{"$f":"COUNTIF(G66,\"*\"&PROFILE!$C$59&\"*\")","v":0},{"$f":"IF(AND(COUNTIF(COMPREHENSIVE!$C$34:$E$34,\"enabled\")>0,Y66=1),1,0)","v":0}]
[null,null,null,null,null,null,{"$f":"PROFILE!$C$60","v":0},null,null,null,{"$f":"IF(COMPREHENSIVE!P135=\"\",\"\",COMPREHENSIVE!P135)","v":""},"",null,null,{"$f":"IF(COMPREHENSIVE!P151=\"\",\"\",COMPREHENSIVE!P151)","v":""},"",null,null,{"$f":"IF(COMPREHENSIVE!P167=\"\",\"\",COMPREHENSIVE!P167)","v":""},"",null,null,null,null,{"$f":"COUNTIF(G67,\"*\"&PROFILE!$C$60&\"*\")","v":0},{"$f":"IF(AND(COUNTIF(COMPREHENSIVE!$C$34:$E$34,\"enabled\")>0,Y67=1),1,0)","v":0}]
[null,null,null,null,null,null,{"$f":"PROFILE!$C$61","v":0},null,null,null,{"$f":"IF(COMPREHENSIVE!P136=\"\",\"\",COMPREHENSIVE!P136)","v":""},"",null,null,{"$f":"IF(COMPREHENSIVE!P152=\"\",\"\",COMPREHENSIVE!P152)","v":""},"",null,null,{"$f":"IF(COMPREHENSIVE!P168=\"\",\"\",COMPREHENSIVE!P168)","v":""},"",null,null,null,null,{"$f":"COUNTIF(G68,\"*\"&PROFILE!$C$61&\"*\")","v":0},{"$f":"IF(AND(COUNTIF(COMPREHENSIVE!$C$34:$E$34,\"enabled\")>0,Y68=1),1,0)","v":0}]
[null,null,null,null,null,null,{"$f":"PROFILE!$C$62","v":0},null,null,null,{"$f":"IF(COMPREHENSIVE!P137=\"\",\"\",COMPREHENSIVE!P137)","v":""},"",null,null,{"$f":"IF(COMPREHENSIVE!P153=\"\",\"\",COMPREHENSIVE!P153)","v":""},"",null,null,{"$f":"IF(COMPREHENSIVE!P169=\"\",\"\",COMPREHENSIVE!P169)","v":""},"",null,null,null,null,{"$f":"COUNTIF(G69,\"*\"&PROFILE!$C$62&\"*\")","v":0},{"$f":"IF(AND(COUNTIF(COMPREHENSIVE!$C$34:$E$34,\"enabled\")>0,Y69=1),1,0)","v":0}]
[null,null,null,null,null,null,{"$f":"PROFILE!$C$63","v":0},null,null,null,{"$f":"IF(COMPREHENSIVE!P138=\"\",\"\",COMPREHENSIVE!P138)","v":""},"",null,null,{"$f":"IF(COMPREHENSIVE!P154=\"\",\"\",COMPREHENSIVE!P154)","v":""},"",null,null,{"$f":"IF(COMPREHENSIVE!P170=\"\",\"\",COMPREHENSIVE!P170)","v":""},"",null,null,null,null,{"$f":"COUNTIF(G70,\"*\"&PROFILE!$C$63&\"*\")","v":0},{"$f":"IF(AND(COUNTIF(COMPREHENSIVE!$C$34:$E$34,\"enabled\")>0,Y70=1),1,0)","v":0}]
[null,null,null,null,null,null,{"$f":"PROFILE!$C$64","v":0},null,null,null,{"$f":"IF(COMPREHENSIVE!P139=\"\",\"\",COMPREHENSIVE!P139)","v":""},"",null,null,{"$f":"IF(COMPREHENSIVE!P155=\"\",\"\",COMPREHENSIVE!P155)","v":""},"",null,null,{"$f":"IF(COMPREHENSIVE!P171=\"\",\"\",COMPREHENSIVE!P171)","v":""},"",null,null,null,null,{"$f":"COUNTIF(G71,\"*\"&PROFILE!$C$64&\"*\")","v":0},{"$f":"IF(AND(COUNTIF(COMPREHENSIVE!$C$34:$E$34,\"enabled\")>0,Y71=1),1,0)","v":0}]
[null,null,null,null,null,null,{"$f":"PROFILE!$C$65","v":0},null,null,null,{"$f":"IF(COMPREHENSIVE!P140=\"\",\"\",COMPREHENSIVE!P140)","v":""},"",null,null,{"$f":"IF(COMPREHENSIVE!P156=\"\",\"\",COMPREHENSIVE!P156)","v":""},"",null,null,{"$f":"IF(COMPREHENSIVE!P172=\"\",\"\",COMPREHENSIVE!P172)","v":""},"",null,null,null,null,{"$f":"COUNTIF(G72,\"*\"&PROFILE!$C$65&\"*\")","v":0},{"$f":"IF(AND(COUNTIF(COMPREHENSIVE!$C$34:$E$34,\"enabled\")>0,Y72=1),1,0)","v":0}]
[null,null,null,null,null,null,{"$f":"PROFILE!$C$66","v":0},null,null,null,{"$f":"IF(COMPREHENSIVE!P141=\"\",\"\",COMPREHENSIVE!P141)","v":""},"",null,null,{"$f":"IF(COMPREHENSIVE!P157=\"\",\"\",COMPREHENSIVE!P157)","v":""},"",null,null,{"$f":"IF(COMPREHENSIVE!P173=\"\",\"\",COMPREHENSIVE!P173)","v":""},"",null,null,null,null,{"$f":"COUNTIF(G73,\"*\"&PROFILE!$C$66&\"*\")","v":0},{"$f":"IF(AND(COUNTIF(COMPREHENSIVE!$C$34:$E$34,\"enabled\")>0,Y73=1),1,0)","v":0}]
[null,null,null,null,null,null,{"$f":"PROFILE!$C$67","v":0},null,null,null,{"$f":"IF(COMPREHENSIVE!P142=\"\",\"\",COMPREHENSIVE!P142)","v":""},"",null,null,{"$f":"IF(COMPREHENSIVE!P158=\"\",\"\",COMPREHENSIVE!P158)","v":""},"",null,null,{"$f":"IF(COMPREHENSIVE!P174=\"\",\"\",COMPREHENSIVE!P174)","v":""},"",null,null,null,null,{"$f":"COUNTIF(G74,\"*\"&PROFILE!$C$67&\"*\")","v":0},{"$f":"IF(AND(COUNTIF(COMPREHENSIVE!$C$34:$E$34,\"enabled\")>0,Y74=1),1,0)","v":0}]
[null,null,null,null,null,null,{"$f":"PROFILE!$C$68","v":0},null,null,null,{"$f":"IF(COMPREHENSIVE!P143=\"\",\"\",COMPREHENSIVE!P143)","v":""},"",null,null,{"$f":"IF(COMPREHENSIVE!P159=\"\",\"\",COMPREHENSIVE!P159)","v":""},"",null,null,{"$f":"IF(COMPREHENSIVE!P175=\"\",\"\",COMPREHENSIVE!P175)","v":""},"",null,null,null,null,{"$f":"COUNTIF(G75,\"*\"&PROFILE!$C$68&\"*\")","v":0},{"$f":"IF(AND(COUNTIF(COMPREHENSIVE!$C$34:$E$34,\"enabled\")>0,Y75=1),1,0)","v":0}]
[null,null,null,null,null,null,{"$f":"PROFILE!$C$69","v":0},null,null,null,{"$f":"IF(COMPREHENSIVE!P144=\"\",\"\",COMPREHENSIVE!P144)","v":""},"",null,null,{"$f":"IF(COMPREHENSIVE!P160=\"\",\"\",COMPREHENSIVE!P160)","v":""},"",null,null,{"$f":"IF(COMPREHENSIVE!P176=\"\",\"\",COMPREHENSIVE!P176)","v":""},"",null,null,null,null,{"$f":"COUNTIF(G76,\"*\"&PROFILE!$C$69&\"*\")","v":0},{"$f":"IF(AND(COUNTIF(COMPREHENSIVE!$C$34:$E$34,\"enabled\")>0,Y76=1),1,0)","v":0}]
[null,null,null,null,null,null,{"$f":"PROFILE!$C$70","v":0},null,null,null,{"$f":"IF(COMPREHENSIVE!P145=\"\",\"\",COMPREHENSIVE!P145)","v":""},"",null,null,{"$f":"IF(COMPREHENSIVE!P161=\"\",\"\",COMPREHENSIVE!P161)","v":""},"",null,null,{"$f":"IF(COMPREHENSIVE!P177=\"\",\"\",COMPREHENSIVE!P177)","v":""},"",null,null,null,null,{"$f":"COUNTIF(G77,\"*\"&PROFILE!$C$70&\"*\")","v":0},{"$f":"IF(AND(COUNTIF(COMPREHENSIVE!$C$34:$E$34,\"enabled\")>0,Y77=1),1,0)","v":0}]
[null,null,null,null,null,null,{"$f":"PROFILE!$C$71","v":0},null,null,null,{"$f":"IF(COMPREHENSIVE!P146=\"\",\"\",COMPREHENSIVE!P146)","v":""},"",null,null,{"$f":"IF(COMPREHENSIVE!P162=\"\",\"\",COMPREHENSIVE!P162)","v":""},"",null,null,{"$f":"IF(COMPREHENSIVE!P178=\"\",\"\",COMPREHENSIVE!P178)","v":""},"",null,null,null,null,{"$f":"COUNTIF(G78,\"*\"&PROFILE!$C$71&\"*\")","v":0},{"$f":"IF(AND(COUNTIF(COMPREHENSIVE!$C$34:$E$34,\"enabled\")>0,Y78=1),1,0)","v":0}]
[null,null,null,null,null,null,{"$f":"PROFILE!$C$72","v":0},null,null,null,{"$f":"IF(COMPREHENSIVE!P147=\"\",\"\",COMPREHENSIVE!P147)","v":""},"",null,null,{"$f":"IF(COMPREHENSIVE!P163=\"\",\"\",COMPREHENSIVE!P163)","v":""},"",null,null,{"$f":"IF(COMPREHENSIVE!P179=\"\",\"\",COMPREHENSIVE!P179)","v":""},"",null,null,null,null,{"$f":"COUNTIF(G79,\"*\"&PROFILE!$C$72&\"*\")","v":0},{"$f":"IF(AND(COUNTIF(COMPREHENSIVE!$C$34:$E$34,\"enabled\")>0,Y79=1),1,0)","v":0}]
[null,null,null,null,null,null,null,null,null,null,null,null,null,null,null,null,null,null,null,null,null,null,null,null,null,{"$f":"IF(COUNTIF(COMPREHENSIVE!$C$34:$E$34,\"enabled\")>0,1,0)","v":0}]
[null,null,null,null,null,null,"Currently Eligible to Retire",null,null,null,null,null,null,null,null,null,null,null,null,null,null,null,null,null,null,{"$f":"IF(OR(COUNTIF('IN-DEPTH'!$C$36:$D$36,\"enabled\")>0,COUNTIF(COMPREHENSIVE!$C$51:$E$55,\"enabled\")>0),1,0)","v":0}]
[null,null,null,null,null,null,null,null,null,null,null,null,null,null,null,null,null,null,null,null,null,null,null,null,null,{"$f":"IF(OR(COUNTIF('IN-DEPTH'!$C$36:$D$36,\"enabled\")>0,COUNTIF(COMPREHENSIVE!$C$51:$E$55,\"enabled\")>0),1,0)","v":0}]
[null,null,null,null,null,null,null,null,null,null,null,null,null,null,null,null,null,null,null,null,null,null,null,null,null,{"$f":"IF(OR(COUNTIF('IN-DEPTH'!$C$36:$D$36,\"enabled\")>0,COUNTIF(COMPREHENSIVE!$C$51:$E$55,\"enabled\")>0),1,0)","v":0}]
[null,null,null,null,null,null,null,null,null,null,"All Employees",null,null,null,"Leaders",null,null,null,"Executives",null,null,null,null,null,null,{"$f":"IF(OR(COUNTIF('IN-DEPTH'!$C$36:$D$36,\"enabled\")>0,COUNTIF(COMPREHENSIVE!$C$51:$E$55,\"enabled\")>0),1,0)","v":0}]
[null,null,null,null,null,null,null,null,null,null,null,null,null,null,null,null,null,null,null,null,null,null,null,null,null,{"$f":"IF(OR(COUNTIF('IN-DEPTH'!$C$36:$D$36,\"enabled\")>0,COUNTIF(COMPREHENSIVE!$C$51:$E$55,\"enabled\")>0),1,0)","v":0}]
[null,null,"All","Leaders","Exec.",null,null,null,null,null,{"$f":"CONCATENATE(TEXT(FOUNDATIONAL!P56,0),\" Total Employees\")","v":"0 Total Employees"},null,null,null,{"$f":"CONCATENATE(TEXT('IN-DEPTH'!P85,0),\" Total Leaders\")","v":"0 Total Leaders"},null,null,null,{"$f":"CONCATENATE(TEXT(FOUNDATIONAL!P58,0),\" Total Executives\")","v":"0 Total Executives"},null,null,null,null,null,null,{"$f":"IF(OR(COUNTIF('IN-DEPTH'!$C$36:$D$36,\"enabled\")>0,COUNTIF(COMPREHENSIVE!$C$51:$E$55,\"enabled\")>0),1,0)","v":0}]
[null,null,null,null,null,null,null,null,null,null,null,null,null,null,null,null,null,null,null,null,null,null,null,null,null,{"$f":"IF(OR(COUNTIF('IN-DEPTH'!$C$36:$D$36,\"enabled\")>0,COUNTIF(COMPREHENSIVE!$C$51:$E$55,\"enabled\")>0),1,0)","v":0}]
[null,null,null,null,null,null,null,null,"Males",null,{"$f":"IF(COMPREHENSIVE!P487=\"\",\"\",COMPREHENSIVE!P487)","v":""},{"$f":"K88","v":""},null,null,{"$f":"IF(COMPREHENSIVE!P490=\"\",\"\",COMPREHENSIVE!P490)","v":""},{"$f":"O88","v":""},null,null,{"$f":"IF(COMPREHENSIVE!P493=\"\",\"\",COMPREHENSIVE!P493)","v":""},{"$f":"S88","v":""},null,null,null,null,null,{"$f":"IF(COUNTIF(COMPREHENSIVE!$C$53:$E$53,\"enabled\")>0,1,0)","v":0}]
[null,null,null,null,null,null,null,null,"Females",null,{"$f":"IF(COMPREHENSIVE!P488=\"\",\"\",COMPREHENSIVE!P488)","v":""},{"$f":"K89","v":""},null,null,{"$f":"IF(COMPREHENSIVE!P491=\"\",\"\",COMPREHENSIVE!P491)","v":""},{"$f":"O89","v":""},null,null,{"$f":"IF(COMPREHENSIVE!P494=\"\",\"\",COMPREHENSIVE!P494)","v":""},{"$f":"S89","v":""},null,null,null,null,null,{"$f":"IF(COUNTIF(COMPREHENSIVE!$C$53:$E$53,\"enabled\")>0,1,0)","v":0}]
[null,null,null,null,null,null,null,null,null,null,null,null,null,null,null,null,null,null,null,null,null,null,null,null,null,{"$f":"IF(COUNTIF(COMPREHENSIVE!$C$53:$E$53,\"enabled\")>0,1,0)","v":0}]
[null,null,null,null,null,null,null,null,"Minority",null,{"$f":"IF(COMPREHENSIVE!P499=\"\",\"\",COMPREHENSIVE!P499)","v":""},{"$f":"K91","v":""},null,null,{"$f":"IF(COMPREHENSIVE!P502=\"\",\"\",COMPREHENSIVE!P502)","v":""},{"$f":"O91","v":""},null,null,{"$f":"IF(COMPREHENSIVE!P505=\"\",\"\",COMPREHENSIVE!P505)","v":""},{"$f":"S91","v":""},null,null,null,null,null,{"$f":"IF(COUNTIF(COMPREHENSIVE!$C$54:$E$54,\"enabled\")>0,1,0)","v":0}]
[null,null,null,null,null,null,null,null,"Non-Minority",null,{"$f":"IF(COMPREHENSIVE!P500=\"\",\"\",COMPREHENSIVE!P500)","v":""},{"$f":"K92","v":""},null,null,{"$f":"IF(COMPREHENSIVE!P503=\"\",\"\",COMPREHENSIVE!P503)","v":""},{"$f":"O92","v":""},null,null,{"$f":"IF(COMPREHENSIVE!P506=\"\",\"\",COMPREHENSIVE!P506)","v":""},{"$f":"S92","v":""},null,null,null,null,null,{"$f":"IF(COUNTIF(COMPREHENSIVE!$C$54:$E$54,\"enabled\")>0,1,0)","v":0}]
[null,null,null,null,null,null,null,null,null,null,null,null,null,null,null,null,null,null,null,null,null,null,null,null,null,{"$f":"IF(COUNTIF(COMPREHENSIVE!$C$54:$E$54,\"enabled\")>0,1,0)","v":0}]
[null,null,null,null,null,null,null,null," Individuals with Disabilities",null,{"$f":"IF(COMPREHENSIVE!P511=\"\",\"\",COMPREHENSIVE!P511)","v":""},{"$f":"K94","v":""},null,null,{"$f":"IF(COMPREHENSIVE!P514=\"\",\"\",COMPREHENSIVE!P514)","v":""},{"$f":"O94","v":""},null,null,{"$f":"IF(COMPREHENSIVE!P517=\"\",\"\",COMPREHENSIVE!P517)","v":""},{"$f":"S94","v":""},null,null,null,null,null,{"$f":"IF(COUNTIF(COMPREHENSIVE!$C$55:$E$55,\"enabled\")>0,1,0)","v":0}]
[null,null,null,null,null,null,null,null,"Veterans",null,{"$f":"IF(COMPREHENSIVE!P512=\"\",\"\",COMPREHENSIVE!P512)","v":""},{"$f":"K95","v":""},null,null,{"$f":"IF(COMPREHENSIVE!P515=\"\",\"\",COMPREHENSIVE!P515)","v":""},{"$f":"O95","v":""},null,null,{"$f":"IF(COMPREHENSIVE!P518=\"\",\"\",COMPREHENSIVE!P518)","v":""},{"$f":"S95","v":""},null,null,null,null,null,{"$f":"IF(COUNTIF(COMPREHENSIVE!$C$55:$E$55,\"enabled\")>0,1,0)","v":0}]
[null,null,null,null,null,null,null,null,null,null,null,null,null,null,null,null,null,null,null,null,null,null,null,null,null,{"$f":"IF(COUNTIF(COMPREHENSIVE!$C$55:$E$55,\"enabled\")>0,1,0)","v":0}]
[null,null,null,null,null,null,"Officials and Administrators",null,null,null,{"$f":"IF(COMPREHENSIVE!P400=\"\",\"\",COMPREHENSIVE!P400)","v":""},{"$f":"K97","v":""},null,null,{"$f":"IF(COMPREHENSIVE!P412=\"\",\"\",COMPREHENSIVE!P412)","v":""},{"$f":"O97","v":""},null,null,{"$f":"IF(COMPREHENSIVE!P422=\"\",\"\",COMPREHENSIVE!P422)","v":""},{"$f":"S97","v":""},null,null,null,null,null,{"$f":"IF(COUNTIF(COMPREHENSIVE!$C$51:$E$51,\"enabled\")>0,1,0)","v":0}]
[null,null,null,null,null,null,"Professionals",null,null,null,{"$f":"IF(COMPREHENSIVE!P401=\"\",\"\",COMPREHENSIVE!P401)","v":""},{"$f":"K98","v":""},null,null,{"$f":"IF(COMPREHENSIVE!P413=\"\",\"\",COMPREHENSIVE!P413)","v":""},{"$f":"O98","v":""},null,null,{"$f":"IF(COMPREHENSIVE!P423=\"\",\"\",COMPREHENSIVE!P423)","v":""},{"$f":"S98","v":""},null,null,null,null,null,{"$f":"IF(COUNTIF(COMPREHENSIVE!$C$51:$E$51,\"enabled\")>0,1,0)","v":0}]
[null,null,null,null,null,null,"Technicians",null,null,null,{"$f":"IF(COMPREHENSIVE!P402=\"\",\"\",COMPREHENSIVE!P402)","v":""},"",null,null,{"$f":"IF(COMPREHENSIVE!P414=\"\",\"\",COMPREHENSIVE!P414)","v":""},"",null,null,{"$f":"IF(COMPREHENSIVE!P424=\"\",\"\",COMPREHENSIVE!P424)","v":""},"",null,null,null,null,null,{"$f":"IF(COUNTIF(COMPREHENSIVE!$C$51:$E$51,\"enabled\")>0,1,0)","v":0}]
[null,null,null,null,null,null,"Protective Service Workers",null,null,null,{"$f":"IF(COMPREHENSIVE!P403=\"\",\"\",COMPREHENSIVE!P403)","v":""},"",null,null,{"$f":"IF(COMPREHENSIVE!P415=\"\",\"\",COMPREHENSIVE!P415)","v":""},"",null,null,{"$f":"IF(COMPREHENSIVE!P425=\"\",\"\",COMPREHENSIVE!P425)","v":""},"",null,null,null,null,null,{"$f":"IF(COUNTIF(COMPREHENSIVE!$C$51:$E$51,\"enabled\")>0,1,0)","v":0}]
[null,null,null,null,null,null,"Paraprofessionals",null,null,null,{"$f":"IF(COMPREHENSIVE!P404=\"\",\"\",COMPREHENSIVE!P404)","v":""},"",null,null,{"$f":"IF(COMPREHENSIVE!P416=\"\",\"\",COMPREHENSIVE!P416)","v":""},"",null,null,{"$f":"IF(COMPREHENSIVE!P426=\"\",\"\",COMPREHENSIVE!P426)","v":""},"",null,null,null,null,null,{"$f":"IF(COUNTIF(COMPREHENSIVE!$C$51:$E$51,\"enabled\")>0,1,0)","v":0}]
[null,null,null,null,null,null,"Administrative Support",null,null,null,{"$f":"IF(COMPREHENSIVE!P405=\"\",\"\",COMPREHENSIVE!P405)","v":""},"",null,null,{"$f":"IF(COMPREHENSIVE!P417=\"\",\"\",COMPREHENSIVE!P417)","v":""},"",null,null,{"$f":"IF(COMPREHENSIVE!P427=\"\",\"\",COMPREHENSIVE!P427)","v":""},"",null,null,null,null,null,{"$f":"IF(COUNTIF(COMPREHENSIVE!$C$51:$E$51,\"enabled\")>0,1,0)","v":0}]
[null,null,null,null,null,null,"Skilled Craft Workers",null,null,null,{"$f":"IF(COMPREHENSIVE!P406=\"\",\"\",COMPREHENSIVE!P406)","v":""},"",null,null,{"$f":"IF(COMPREHENSIVE!P418=\"\",\"\",COMPREHENSIVE!P418)","v":""},"",null,null,{"$f":"IF(COMPREHENSIVE!P428=\"\",\"\",COMPREHENSIVE!P428)","v":""},"",null,null,null,null,null,{"$f":"IF(COUNTIF(COMPREHENSIVE!$C$51:$E$51,\"enabled\")>0,1,0)","v":0}]
[null,null,null,null,null,null,"Service/Maintenance",null,null,null,{"$f":"IF(COMPREHENSIVE!P407=\"\",\"\",COMPREHENSIVE!P407)","v":""},"",null,null,{"$f":"IF(COMPREHENSIVE!P419=\"\",\"\",COMPREHENSIVE!P419)","v":""},"",null,null,{"$f":"IF(COMPREHENSIVE!P429=\"\",\"\",COMPREHENSIVE!P429)","v":""},"",null,null,null,null,null,{"$f":"IF(COUNTIF(COMPREHENSIVE!$C$51:$E$51,\"enabled\")>0,1,0)","v":0}]
[null,null,null,null,null,null,"Faculty",null,null,null,{"$f":"IF(COMPREHENSIVE!P408=\"\",\"\",COMPREHENSIVE!P408)","v":""},"",null,null,{"$f":"IF(COMPREHENSIVE!P420=\"\",\"\",COMPREHENSIVE!P420)","v":""},"",null,null,{"$f":"IF(COMPREHENSIVE!P430=\"\",\"\",COMPREHENSIVE!P430)","v":""},"",null,null,null,null,null,{"$f":"IF(COUNTIF(COMPREHENSIVE!$C$51:$E$51,\"enabled\")>0,1,0)","v":0}]
[null,null,null,null,null,null,"Other",null,null,null,{"$f":"IF(COMPREHENSIVE!P409=\"\",\"\",COMPREHENSIVE!P409)","v":""},"",null,null,{"$f":"IF(COMPREHENSIVE!P421=\"\",\"\",COMPREHENSIVE!P421)","v":""},"",null,null,{"$f":"IF(COMPREHENSIVE!P431=\"\",\"\",COMPREHENSIVE!P431)","v":""},"",null,null,null,null,null,{"$f":"IF(COUNTIF(COMPREHENSIVE!$C$51:$E$51,\"enabled\")>0,1,0)","v":0}]
[null,null,null,null,null,null,null,null,null,null,null,null,null,null,null,null,null,null,null,null,null,null,null,null,null,{"$f":"IF(COUNTIF(COMPREHENSIVE!$C$51:$E$51,\"enabled\")>0,1,0)","v":0}]
[null,null,null,null,null,null,{"$f":"PROFILE!$C$58","v":0},null,null,null,{"$f":"IF(COMPREHENSIVE!P436=\"\",\"\",COMPREHENSIVE!P436)","v":""},{"$f":"K108","v":""},null,null,{"$f":"IF(COMPREHENSIVE!P452=\"\",\"\",COMPREHENSIVE!P452)","v":""},{"$f":"O108","v":""},null,null,{"$f":"IF(COMPREHENSIVE!P469=\"\",\"\",COMPREHENSIVE!P469)","v":""},{"$f":"S108","v":""},null,null,null,null,{"$f":"COUNTIF(G108,\"*\"&PROFILE!$C$58&\"*\")","v":0},{"$f":"IF(AND(COUNTIF(COMPREHENSIVE!$C$52:$E$52,\"enabled\")>0,Y108=1),1,0)","v":0}]
[null,null,null,null,null,null,{"$f":"PROFILE!$C$59","v":0},null,null,null,{"$f":"IF(COMPREHENSIVE!P437=\"\",\"\",COMPREHENSIVE!P437)","v":""},{"$f":"K109","v":""},null,null,{"$f":"IF(COMPREHENSIVE!P453=\"\",\"\",COMPREHENSIVE!P453)","v":""},{"$f":"O109","v":""},null,null,{"$f":"IF(COMPREHENSIVE!P470=\"\",\"\",COMPREHENSIVE!P470)","v":""},{"$f":"S109","v":""},null,null,null,null,{"$f":"COUNTIF(G109,\"*\"&PROFILE!$C$59&\"*\")","v":0},{"$f":"IF(AND(COUNTIF(COMPREHENSIVE!$C$52:$E$52,\"enabled\")>0,Y109=1),1,0)","v":0}]
[null,null,null,null,null,null,{"$f":"PROFILE!$C$60","v":0},null,null,null,{"$f":"IF(COMPREHENSIVE!P438=\"\",\"\",COMPREHENSIVE!P438)","v":""},"",null,null,{"$f":"IF(COMPREHENSIVE!P454=\"\",\"\",COMPREHENSIVE!P454)","v":""},"",null,null,{"$f":"IF(COMPREHENSIVE!P471=\"\",\"\",COMPREHENSIVE!P471)","v":""},"",null,null,null,null,{"$f":"COUNTIF(G110,\"*\"&PROFILE!$C$60&\"*\")","v":0},{"$f":"IF(AND(COUNTIF(COMPREHENSIVE!$C$52:$E$52,\"enabled\")>0,Y110=1),1,0)","v":0}]
[null,null,null,null,null,null,{"$f":"PROFILE!$C$61","v":0},null,null,null,{"$f":"IF(COMPREHENSIVE!P439=\"\",\"\",COMPREHENSIVE!P439)","v":""},"",null,null,{"$f":"IF(COMPREHENSIVE!P455=\"\",\"\",COMPREHENSIVE!P455)","v":""},"",null,null,{"$f":"IF(COMPREHENSIVE!P472=\"\",\"\",COMPREHENSIVE!P472)","v":""},"",null,null,null,null,{"$f":"COUNTIF(G111,\"*\"&PROFILE!$C$61&\"*\")","v":0},{"$f":"IF(AND(COUNTIF(COMPREHENSIVE!$C$52:$E$52,\"enabled\")>0,Y111=1),1,0)","v":0}]
[null,null,null,null,null,null,{"$f":"PROFILE!$C$62","v":0},null,null,null,{"$f":"IF(COMPREHENSIVE!P440=\"\",\"\",COMPREHENSIVE!P440)","v":""},"",null,null,{"$f":"IF(COMPREHENSIVE!P456=\"\",\"\",COMPREHENSIVE!P456)","v":""},"",null,null,{"$f":"IF(COMPREHENSIVE!P473=\"\",\"\",COMPREHENSIVE!P473)","v":""},"",null,null,null,null,{"$f":"COUNTIF(G112,\"*\"&PROFILE!$C$62&\"*\")","v":0},{"$f":"IF(AND(COUNTIF(COMPREHENSIVE!$C$52:$E$52,\"enabled\")>0,Y112=1),1,0)","v":0}]
[null,null,null,null,null,null,{"$f":"PROFILE!$C$63","v":0},null,null,null,{"$f":"IF(COMPREHENSIVE!P441=\"\",\"\",COMPREHENSIVE!P441)","v":""},"",null,null,{"$f":"IF(COMPREHENSIVE!P457=\"\",\"\",COMPREHENSIVE!P457)","v":""},"",null,null,{"$f":"IF(COMPREHENSIVE!P474=\"\",\"\",COMPREHENSIVE!P474)","v":""},"",null,null,null,null,{"$f":"COUNTIF(G113,\"*\"&PROFILE!$C$63&\"*\")","v":0},{"$f":"IF(AND(COUNTIF(COMPREHENSIVE!$C$52:$E$52,\"enabled\")>0,Y113=1),1,0)","v":0}]
[null,null,null,null,null,null,{"$f":"PROFILE!$C$64","v":0},null,null,null,{"$f":"IF(COMPREHENSIVE!P442=\"\",\"\",COMPREHENSIVE!P442)","v":""},"",null,null,{"$f":"IF(COMPREHENSIVE!P458=\"\",\"\",COMPREHENSIVE!P458)","v":""},"",null,null,{"$f":"IF(COMPREHENSIVE!P475=\"\",\"\",COMPREHENSIVE!P475)","v":""},"",null,null,null,null,{"$f":"COUNTIF(G114,\"*\"&PROFILE!$C$64&\"*\")","v":0},{"$f":"IF(AND(COUNTIF(COMPREHENSIVE!$C$52:$E$52,\"enabled\")>0,Y114=1),1,0)","v":0}]
[null,null,null,null,null,null,{"$f":"PROFILE!$C$65","v":0},null,null,null,{"$f":"IF(COMPREHENSIVE!P443=\"\",\"\",COMPREHENSIVE!P443)","v":""},"",null,null,{"$f":"IF(COMPREHENSIVE!P459=\"\",\"\",COMPREHENSIVE!P459)","v":""},"",null,null,{"$f":"IF(COMPREHENSIVE!P476=\"\",\"\",COMPREHENSIVE!P476)","v":""},"",null,null,null,null,{"$f":"COUNTIF(G115,\"*\"&PROFILE!$C$65&\"*\")","v":0},{"$f":"IF(AND(COUNTIF(COMPREHENSIVE!$C$52:$E$52,\"enabled\")>0,Y115=1),1,0)","v":0}]
[null,null,null,null,null,null,{"$f":"PROFILE!$C$66","v":0},null,null,null,{"$f":"IF(COMPREHENSIVE!P444=\"\",\"\",COMPREHENSIVE!P444)","v":""},"",null,null,{"$f":"IF(COMPREHENSIVE!P460=\"\",\"\",COMPREHENSIVE!P460)","v":""},"",null,null,{"$f":"IF(COMPREHENSIVE!P477=\"\",\"\",COMPREHENSIVE!P477)","v":""},"",null,null,null,null,{"$f":"COUNTIF(G116,\"*\"&PROFILE!$C$66&\"*\")","v":0},{"$f":"IF(AND(COUNTIF(COMPREHENSIVE!$C$52:$E$52,\"enabled\")>0,Y116=1),1,0)","v":0}]
[null,null,null,null,null,null,{"$f":"PROFILE!$C$67","v":0},null,null,null,{"$f":"IF(COMPREHENSIVE!P445=\"\",\"\",COMPREHENSIVE!P445)","v":""},"",null,null,{"$f":"IF(COMPREHENSIVE!P461=\"\",\"\",COMPREHENSIVE!P461)","v":""},"",null,null,{"$f":"IF(COMPREHENSIVE!P478=\"\",\"\",COMPREHENSIVE!P478)","v":""},"",null,null,null,null,{"$f":"COUNTIF(G117,\"*\"&PROFILE!$C$67&\"*\")","v":0},{"$f":"IF(AND(COUNTIF(COMPREHENSIVE!$C$52:$E$52,\"enabled\")>0,Y117=1),1,0)","v":0}]
[null,null,null,null,null,null,{"$f":"PROFILE!$C$68","v":0},null,null,null,{"$f":"IF(COMPREHENSIVE!P446=\"\",\"\",COMPREHENSIVE!P446)","v":""},"",null,null,{"$f":"IF(COMPREHENSIVE!P462=\"\",\"\",COMPREHENSIVE!P462)","v":""},"",null,null,{"$f":"IF(COMPREHENSIVE!P479=\"\",\"\",COMPREHENSIVE!P479)","v":""},"",null,null,null,null,{"$f":"COUNTIF(G118,\"*\"&PROFILE!$C$68&\"*\")","v":0},{"$f":"IF(AND(COUNTIF(COMPREHENSIVE!$C$52:$E$52,\"enabled\")>0,Y118=1),1,0)","v":0}]
[null,null,null,null,null,null,{"$f":"PROFILE!$C$69","v":0},null,null,null,{"$f":"IF(COMPREHENSIVE!P447=\"\",\"\",COMPREHENSIVE!P447)","v":""},"",null,null,{"$f":"IF(COMPREHENSIVE!P463=\"\",\"\",COMPREHENSIVE!P463)","v":""},"",null,null,{"$f":"IF(COMPREHENSIVE!P480=\"\",\"\",COMPREHENSIVE!P480)","v":""},"",null,null,null,null,{"$f":"COUNTIF(G119,\"*\"&PROFILE!$C$69&\"*\")","v":0},{"$f":"IF(AND(COUNTIF(COMPREHENSIVE!$C$52:$E$52,\"enabled\")>0,Y119=1),1,0)","v":0}]
[null,null,null,null,null,null,{"$f":"PROFILE!$C$70","v":0},null,null,null,{"$f":"IF(COMPREHENSIVE!P448=\"\",\"\",COMPREHENSIVE!P448)","v":""},"",null,null,{"$f":"IF(COMPREHENSIVE!P464=\"\",\"\",COMPREHENSIVE!P464)","v":""},"",null,null,{"$f":"IF(COMPREHENSIVE!P481=\"\",\"\",COMPREHENSIVE!P481)","v":""},"",null,null,null,null,{"$f":"COUNTIF(G120,\"*\"&PROFILE!$C$70&\"*\")","v":0},{"$f":"IF(AND(COUNTIF(COMPREHENSIVE!$C$52:$E$52,\"enabled\")>0,Y120=1),1,0)","v":0}]
[null,null,null,null,null,null,{"$f":"PROFILE!$C$71","v":0},null,null,null,{"$f":"IF(COMPREHENSIVE!P449=\"\",\"\",COMPREHENSIVE!P449)","v":""},"",null,null,{"$f":"IF(COMPREHENSIVE!P465=\"\",\"\",COMPREHENSIVE!P465)","v":""},"",null,null,{"$f":"IF(COMPREHENSIVE!P482=\"\",\"\",COMPREHENSIVE!P482)","v":""},"",null,null,null,null,{"$f":"COUNTIF(G121,\"*\"&PROFILE!$C$71&\"*\")","v":0},{"$f":"IF(AND(COUNTIF(COMPREHENSIVE!$C$52:$E$52,\"enabled\")>0,Y121=1),1,0)","v":0}]
[null,null,null,null,null,null,{"$f":"PROFILE!$C$72","v":0},null,null,null,{"$f":"IF(COMPREHENSIVE!P450=\"\",\"\",COMPREHENSIVE!P450)","v":""},"",null,null,{"$f":"IF(COMPREHENSIVE!P466=\"\",\"\",COMPREHENSIVE!P466)","v":""},"",null,null,{"$f":"IF(COMPREHENSIVE!P483=\"\",\"\",COMPREHENSIVE!P483)","v":""},"",null,null,null,null,{"$f":"COUNTIF(G122,\"*\"&PROFILE!$C$72&\"*\")","v":0},{"$f":"IF(AND(COUNTIF(COMPREHENSIVE!$C$52:$E$52,\"enabled\")>0,Y122=1),1,0)","v":0}]
[null,null,null,null,null,null,null,null,null,null,null,null,null,null,null,null,null,null,null,null,null,null,null,null,null,{"$f":"IF(COUNTIF(COMPREHENSIVE!$C$52:$E$52,\"enabled\")>0,1,0)","v":0}]
[null,null,null,null,null,null,"Applicants",null,null,null,null,null,null,null,null,null,null,null,null,null,null,null,null,null,null,{"$f":"IF(OR(COUNTIF('IN-DEPTH'!$G$29:$H$30,\"enabled\")>0,COUNTIF(COMPREHENSIVE!$H$33:$J$37,\"enabled\")>0),1,0)","v":0}]
[null,null,null,null,null,null,null,null,null,null,null,null,null,null,null,null,null,null,null,null,null,null,null,null,null,{"$f":"IF(OR(COUNTIF('IN-DEPTH'!$G$29:$H$30,\"enabled\")>0,COUNTIF(COMPREHENSIVE!$H$33:$J$37,\"enabled\")>0),1,0)","v":0}]
[null,null,null,null,null,null,null,null,null,null,null,null,null,null,null,null,null,null,null,null,null,null,null,null,null,{"$f":"IF(OR(COUNTIF('IN-DEPTH'!$G$29:$H$30,\"enabled\")>0,COUNTIF(COMPREHENSIVE!$H$33:$J$37,\"enabled\")>0),1,0)","v":0}]
[null,null,null,null,null,null,null,null,null,null,"All Employees",null,null,null,"Leaders",null,null,null,"Executives",null,null,null,null,null,null,{"$f":"IF(OR(COUNTIF('IN-DEPTH'!$G$29:$H$30,\"enabled\")>0,COUNTIF(COMPREHENSIVE!$H$33:$J$37,\"enabled\")>0),1,0)","v":0}]
[null,null,null,null,null,null,null,null,null,null,null,null,null,null,null,null,null,null,null,null,null,null,null,null,null,{"$f":"IF(OR(COUNTIF('IN-DEPTH'!$G$29:$H$30,\"enabled\")>0,COUNTIF(COMPREHENSIVE!$H$33:$J$37,\"enabled\")>0),1,0)","v":0}]
[null,null,"All","Leaders","Exec.",null,null,null,null,null,{"$f":"CONCATENATE(TEXT(FOUNDATIONAL!P76,0),\" Total Applicants\")","v":"0 Total Applicants"},null,null,null,{"$f":"CONCATENATE(TEXT('IN-DEPTH'!P101,0),\" Leader Applicants\")","v":"0 Leader Applicants"},null,null,null,{"$f":"CONCATENATE(TEXT('IN-DEPTH'!P103,0),\" Executive Applicants\")","v":"0 Executive Applicants"},null,null,null,null,null,null,{"$f":"IF(OR(COUNTIF('IN-DEPTH'!$G$29:$H$30,\"enabled\")>0),1,0)","v":0}]
[null,null,null,null,null,null,null,null,null,null,null,null,null,null,null,null,null,null,null,null,null,null,null,null,null,{"$f":"IF(OR(COUNTIF('IN-DEPTH'!$G$29:$H$30,\"enabled\")>0),1,0)","v":0}]
[null,null,null,null,null,null,null,null,"Males",null,{"$f":"IF(COMPREHENSIVE!P754=\"\",\"\",COMPREHENSIVE!P754)","v":""},{"$f":"K131","v":""},null,null,{"$f":"IF(COMPREHENSIVE!P757=\"\",\"\",COMPREHENSIVE!P757)","v":""},{"$f":"O131","v":""},null,null,{"$f":"IF(COMPREHENSIVE!P760=\"\",\"\",COMPREHENSIVE!P760)","v":""},{"$f":"S131","v":""},null,null,null,null,null,{"$f":"IF(COUNTIF(COMPREHENSIVE!$H$35:$J$35,\"enabled\")>0,1,0)","v":0}]
[null,null,null,null,null,null,null,null,"Females",null,{"$f":"IF(COMPREHENSIVE!P755=\"\",\"\",COMPREHENSIVE!P755)","v":""},{"$f":"K132","v":""},null,null,{"$f":"IF(COMPREHENSIVE!P758=\"\",\"\",COMPREHENSIVE!P758)","v":""},{"$f":"O132","v":""},null,null,{"$f":"IF(COMPREHENSIVE!P761=\"\",\"\",COMPREHENSIVE!P761)","v":""},{"$f":"S132","v":""},null,null,null,null,null,{"$f":"IF(COUNTIF(COMPREHENSIVE!$H$35:$J$35,\"enabled\")>0,1,0)","v":0}]
[null,null,null,null,null,null,null,null,null,null,null,null,null,null,null,null,null,null,null,null,null,null,null,null,null,{"$f":"IF(COUNTIF(COMPREHENSIVE!$H$35:$J$35,\"enabled\")>0,1,0)","v":0}]
[null,null,null,null,null,null,null,null,"Minority",null,{"$f":"IF(COMPREHENSIVE!P766=\"\",\"\",COMPREHENSIVE!P766)","v":""},{"$f":"K134","v":""},null,null,{"$f":"IF(COMPREHENSIVE!P769=\"\",\"\",COMPREHENSIVE!P769)","v":""},{"$f":"O134","v":""},null,null,{"$f":"IF(COMPREHENSIVE!P772=\"\",\"\",COMPREHENSIVE!P772)","v":""},{"$f":"S134","v":""},null,null,null,null,null,{"$f":"IF(COUNTIF(COMPREHENSIVE!$H$36:$J$36,\"enabled\")>0,1,0)","v":0}]
[null,null,null,null,null,null,null,null,"Non-Minority",null,{"$f":"IF(COMPREHENSIVE!P767=\"\",\"\",COMPREHENSIVE!P767)","v":""},{"$f":"K135","v":""},null,null,{"$f":"IF(COMPREHENSIVE!P770=\"\",\"\",COMPREHENSIVE!P770)","v":""},{"$f":"O135","v":""},null,null,{"$f":"IF(COMPREHENSIVE!P773=\"\",\"\",COMPREHENSIVE!P773)","v":""},{"$f":"S135","v":""},null,null,null,null,null,{"$f":"IF(COUNTIF(COMPREHENSIVE!$H$36:$J$36,\"enabled\")>0,1,0)","v":0}]
[null,null,null,null,null,null,null,null,null,null,null,null,null,null,null,null,null,null,null,null,null,null,null,null,null,{"$f":"IF(COUNTIF(COMPREHENSIVE!$H$36:$J$36,\"enabled\")>0,1,0)","v":0}]
[null,null,null,null,null,null,null,null," Individuals with Disabilities",null,{"$f":"IF(COMPREHENSIVE!P778=\"\",\"\",COMPREHENSIVE!P778)","v":""},{"$f":"K137","v":""},null,null,{"$f":"IF(COMPREHENSIVE!P781=\"\",\"\",COMPREHENSIVE!P781)","v":""},{"$f":"O137","v":""},null,null,{"$f":"IF(COMPREHENSIVE!P784=\"\",\"\",COMPREHENSIVE!P784)","v":""},{"$f":"S137","v":""},null,null,null,null,null,{"$f":"IF(COUNTIF(COMPREHENSIVE!$H$37:$J$37,\"enabled\")>0,1,0)","v":0}]
[null,null,null,null,null,null,null,null,"Veterans",null,{"$f":"IF(COMPREHENSIVE!P779=\"\",\"\",COMPREHENSIVE!P779)","v":""},{"$f":"K138","v":""},null,null,{"$f":"IF(COMPREHENSIVE!P782=\"\",\"\",COMPREHENSIVE!P782)","v":""},{"$f":"O138","v":""},null,null,{"$f":"IF(COMPREHENSIVE!P785=\"\",\"\",COMPREHENSIVE!P785)","v":""},{"$f":"S138","v":""},null,null,null,null,null,{"$f":"IF(COUNTIF(COMPREHENSIVE!$H$37:$J$37,\"enabled\")>0,1,0)","v":0}]
[null,null,null,null,null,null,null,null,null,null,null,null,null,null,null,null,null,null,null,null,null,null,null,null,null,{"$f":"IF(COUNTIF(COMPREHENSIVE!$H$37:$J$37,\"enabled\")>0,1,0)","v":0}]
[null,null,null,null,null,null,"Officials and Administrators",null,null,null,{"$f":"IF(COMPREHENSIVE!P667=\"\",\"\",COMPREHENSIVE!P667)","v":""},{"$f":"K140","v":""},null,null,{"$f":"IF(COMPREHENSIVE!P678=\"\",\"\",COMPREHENSIVE!P678)","v":""},{"$f":"O140","v":""},null,null,{"$f":"IF(COMPREHENSIVE!P689=\"\",\"\",COMPREHENSIVE!P689)","v":""},{"$f":"S140","v":""},null,null,null,null,null,{"$f":"IF(COUNTIF(COMPREHENSIVE!$H$33:$J$33,\"enabled\")>0,1,0)","v":0}]
[null,null,null,null,null,null,"Professionals",null,null,null,{"$f":"IF(COMPREHENSIVE!P668=\"\",\"\",COMPREHENSIVE!P668)","v":""},{"$f":"K141","v":""},null,null,{"$f":"IF(COMPREHENSIVE!P679=\"\",\"\",COMPREHENSIVE!P679)","v":""},{"$f":"O141","v":""},null,null,{"$f":"IF(COMPREHENSIVE!P690=\"\",\"\",COMPREHENSIVE!P690)","v":""},{"$f":"S141","v":""},null,null,null,null,null,{"$f":"IF(COUNTIF(COMPREHENSIVE!$H$33:$J$33,\"enabled\")>0,1,0)","v":0}]
[null,null,null,null,null,null,"Technicians",null,null,null,{"$f":"IF(COMPREHENSIVE!P669=\"\",\"\",COMPREHENSIVE!P669)","v":""},"",null,null,{"$f":"IF(COMPREHENSIVE!P680=\"\",\"\",COMPREHENSIVE!P680)","v":""},"",null,null,{"$f":"IF(COMPREHENSIVE!P691=\"\",\"\",COMPREHENSIVE!P691)","v":""},"",null,null,null,null,null,{"$f":"IF(COUNTIF(COMPREHENSIVE!$H$33:$J$33,\"enabled\")>0,1,0)","v":0}]
[null,null,null,null,null,null,"Protective Service Workers",null,null,null,{"$f":"IF(COMPREHENSIVE!P670=\"\",\"\",COMPREHENSIVE!P670)","v":""},"",null,null,{"$f":"IF(COMPREHENSIVE!P681=\"\",\"\",COMPREHENSIVE!P681)","v":""},"",null,null,{"$f":"IF(COMPREHENSIVE!P692=\"\",\"\",COMPREHENSIVE!P692)","v":""},"",null,null,null,null,null,{"$f":"IF(COUNTIF(COMPREHENSIVE!$H$33:$J$33,\"enabled\")>0,1,0)","v":0}]
[null,null,null,null,null,null,"Paraprofessionals",null,null,null,{"$f":"IF(COMPREHENSIVE!P671=\"\",\"\",COMPREHENSIVE!P671)","v":""},"",null,null,{"$f":"IF(COMPREHENSIVE!P682=\"\",\"\",COMPREHENSIVE!P682)","v":""},"",null,null,{"$f":"IF(COMPREHENSIVE!P693=\"\",\"\",COMPREHENSIVE!P693)","v":""},"",null,null,null,null,null,{"$f":"IF(COUNTIF(COMPREHENSIVE!$H$33:$J$33,\"enabled\")>0,1,0)","v":0}]
[null,null,null,null,null,null,"Administrative Support",null,null,null,{"$f":"IF(COMPREHENSIVE!P672=\"\",\"\",COMPREHENSIVE!P672)","v":""},"",null,null,{"$f":"IF(COMPREHENSIVE!P683=\"\",\"\",COMPREHENSIVE!P683)","v":""},"",null,null,{"$f":"IF(COMPREHENSIVE!P694=\"\",\"\",COMPREHENSIVE!P694)","v":""},"",null,null,null,null,null,{"$f":"IF(COUNTIF(COMPREHENSIVE!$H$33:$J$33,\"enabled\")>0,1,0)","v":0}]
[null,null,null,null,null,null,"Skilled Craft Workers",null,null,null,{"$f":"IF(COMPREHENSIVE!P673=\"\",\"\",COMPREHENSIVE!P673)","v":""},"",null,null,{"$f":"IF(COMPREHENSIVE!P684=\"\",\"\",COMPREHENSIVE!P684)","v":""},"",null,null,{"$f":"IF(COMPREHENSIVE!P695=\"\",\"\",COMPREHENSIVE!P695)","v":""},"",null,null,null,null,null,{"$f":"IF(COUNTIF(COMPREHENSIVE!$H$33:$J$33,\"enabled\")>0,1,0)","v":0}]
[null,null,null,null,null,null,"Service/Maintenance",null,null,null,{"$f":"IF(COMPREHENSIVE!P674=\"\",\"\",COMPREHENSIVE!P674)","v":""},"",null,null,{"$f":"IF(COMPREHENSIVE!P685=\"\",\"\",COMPREHENSIVE!P685)","v":""},"",null,null,{"$f":"IF(COMPREHENSIVE!P696=\"\",\"\",COMPREHENSIVE!P696)","v":""},"",null,null,null,null,null,{"$f":"IF(COUNTIF(COMPREHENSIVE!$H$33:$J$33,\"enabled\")>0,1,0)","v":0}]
[null,null,null,null,null,null,"Faculty",null,null,null,{"$f":"IF(COMPREHENSIVE!P675=\"\",\"\",COMPREHENSIVE!P675)","v":""},"",null,null,{"$f":"IF(COMPREHENSIVE!P686=\"\",\"\",COMPREHENSIVE!P686)","v":""},"",null,null,{"$f":"IF(COMPREHENSIVE!P697=\"\",\"\",COMPREHENSIVE!P697)","v":""},"",null,null,null,null,null,{"$f":"IF(COUNTIF(COMPREHENSIVE!$H$33:$J$33,\"enabled\")>0,1,0)","v":0}]
[null,null,null,null,null,null,"Other",null,null,null,{"$f":"IF(COMPREHENSIVE!P676=\"\",\"\",COMPREHENSIVE!P676)","v":""},"",null,null,{"$f":"IF(COMPREHENSIVE!P687=\"\",\"\",COMPREHENSIVE!P687)","v":""},"",null,null,{"$f":"IF(COMPREHENSIVE!P698=\"\",\"\",COMPREHENSIVE!P698)","v":""},"",null,null,null,null,null,{"$f":"IF(COUNTIF(COMPREHENSIVE!$H$33:$J$33,\"enabled\")>0,1,0)","v":0}]
[null,null,null,null,null,null,null,null,null,null,null,null,null,null,null,null,null,null,null,null,null,null,null,null,null,{"$f":"IF(COUNTIF(COMPREHENSIVE!$H$33:$J$33,\"enabled\")>0,1,0)","v":0}]
[null,null,null,null,null,null,{"$f":"PROFILE!$C$58","v":0},null,null,null,{"$f":"IF(COMPREHENSIVE!P703=\"\",\"\",COMPREHENSIVE!P703)","v":""},{"$f":"K151","v":""},null,null,{"$f":"IF(COMPREHENSIVE!P719=\"\",\"\",COMPREHENSIVE!P719)","v":""},{"$f":"O151","v":""},null,null,{"$f":"IF(COMPREHENSIVE!P735=\"\",\"\",COMPREHENSIVE!P735)","v":""},{"$f":"S151","v":""},null,null,null,null,{"$f":"COUNTIF(G151,\"*\"&PROFILE!$C$58&\"*\")","v":0},{"$f":"IF(AND(COUNTIF(COMPREHENSIVE!$H$34:$J$34,\"enabled\")>0,Y151=1),1,0)","v":0}]
[null,null,null,null,null,null,{"$f":"PROFILE!$C$59","v":0},null,null,null,{"$f":"IF(COMPREHENSIVE!P704=\"\",\"\",COMPREHENSIVE!P704)","v":""},{"$f":"K152","v":""},null,null,{"$f":"IF(COMPREHENSIVE!P720=\"\",\"\",COMPREHENSIVE!P720)","v":""},{"$f":"O152","v":""},null,null,{"$f":"IF(COMPREHENSIVE!P736=\"\",\"\",COMPREHENSIVE!P736)","v":""},{"$f":"S152","v":""},null,null,null,null,{"$f":"COUNTIF(G152,\"*\"&PROFILE!$C$59&\"*\")","v":0},{"$f":"IF(AND(COUNTIF(COMPREHENSIVE!$H$34:$J$34,\"enabled\")>0,Y152=1),1,0)","v":0}]
[null,null,null,null,null,null,{"$f":"PROFILE!$C$60","v":0},null,null,null,{"$f":"IF(COMPREHENSIVE!P705=\"\",\"\",COMPREHENSIVE!P705)","v":""},"",null,null,{"$f":"IF(COMPREHENSIVE!P721=\"\",\"\",COMPREHENSIVE!P721)","v":""},"",null,null,{"$f":"IF(COMPREHENSIVE!P737=\"\",\"\",COMPREHENSIVE!P737)","v":""},"",null,null,null,null,{"$f":"COUNTIF(G153,\"*\"&PROFILE!$C$60&\"*\")","v":0},{"$f":"IF(AND(COUNTIF(COMPREHENSIVE!$H$34:$J$34,\"enabled\")>0,Y153=1),1,0)","v":0}]
[null,null,null,null,null,null,{"$f":"PROFILE!$C$61","v":0},null,null,null,{"$f":"IF(COMPREHENSIVE!P706=\"\",\"\",COMPREHENSIVE!P706)","v":""},"",null,null,{"$f":"IF(COMPREHENSIVE!P722=\"\",\"\",COMPREHENSIVE!P722)","v":""},"",null,null,{"$f":"IF(COMPREHENSIVE!P738=\"\",\"\",COMPREHENSIVE!P738)","v":""},"",null,null,null,null,{"$f":"COUNTIF(G154,\"*\"&PROFILE!$C$61&\"*\")","v":0},{"$f":"IF(AND(COUNTIF(COMPREHENSIVE!$H$34:$J$34,\"enabled\")>0,Y154=1),1,0)","v":0}]
[null,null,null,null,null,null,{"$f":"PROFILE!$C$62","v":0},null,null,null,{"$f":"IF(COMPREHENSIVE!P707=\"\",\"\",COMPREHENSIVE!P707)","v":""},"",null,null,{"$f":"IF(COMPREHENSIVE!P723=\"\",\"\",COMPREHENSIVE!P723)","v":""},"",null,null,{"$f":"IF(COMPREHENSIVE!P739=\"\",\"\",COMPREHENSIVE!P739)","v":""},"",null,null,null,null,{"$f":"COUNTIF(G155,\"*\"&PROFILE!$C$62&\"*\")","v":0},{"$f":"IF(AND(COUNTIF(COMPREHENSIVE!$H$34:$J$34,\"enabled\")>0,Y155=1),1,0)","v":0}]
[null,null,null,null,null,null,{"$f":"PROFILE!$C$63","v":0},null,null,null,{"$f":"IF(COMPREHENSIVE!P708=\"\",\"\",COMPREHENSIVE!P708)","v":""},"",null,null,{"$f":"IF(COMPREHENSIVE!P724=\"\",\"\",COMPREHENSIVE!P724)","v":""},"",null,null,{"$f":"IF(COMPREHENSIVE!P740=\"\",\"\",COMPREHENSIVE!P740)","v":""},"",null,null,null,null,{"$f":"COUNTIF(G156,\"*\"&PROFILE!$C$63&\"*\")","v":0},{"$f":"IF(AND(COUNTIF(COMPREHENSIVE!$H$34:$J$34,\"enabled\")>0,Y156=1),1,0)","v":0}]
[null,null,null,null,null,null,{"$f":"PROFILE!$C$64","v":0},null,null,null,{"$f":"IF(COMPREHENSIVE!P709=\"\",\"\",COMPREHENSIVE!P709)","v":""},"",null,null,{"$f":"IF(COMPREHENSIVE!P725=\"\",\"\",COMPREHENSIVE!P725)","v":""},"",null,null,{"$f":"IF(COMPREHENSIVE!P741=\"\",\"\",COMPREHENSIVE!P741)","v":""},"",null,null,null,null,{"$f":"COUNTIF(G157,\"*\"&PROFILE!$C$64&\"*\")","v":0},{"$f":"IF(AND(COUNTIF(COMPREHENSIVE!$H$34:$J$34,\"enabled\")>0,Y157=1),1,0)","v":0}]
[null,null,null,null,null,null,{"$f":"PROFILE!$C$65","v":0},null,null,null,{"$f":"IF(COMPREHENSIVE!P710=\"\",\"\",COMPREHENSIVE!P710)","v":""},"",null,null,{"$f":"IF(COMPREHENSIVE!P726=\"\",\"\",COMPREHENSIVE!P726)","v":""},"",null,null,{"$f":"IF(COMPREHENSIVE!P742=\"\",\"\",COMPREHENSIVE!P742)","v":""},"",null,null,null,null,{"$f":"COUNTIF(G158,\"*\"&PROFILE!$C$65&\"*\")","v":0},{"$f":"IF(AND(COUNTIF(COMPREHENSIVE!$H$34:$J$34,\"enabled\")>0,Y158=1),1,0)","v":0}]
[null,null,null,null,null,null,{"$f":"PROFILE!$C$66","v":0},null,null,null,{"$f":"IF(COMPREHENSIVE!P711=\"\",\"\",COMPREHENSIVE!P711)","v":""},"",null,null,{"$f":"IF(COMPREHENSIVE!P727=\"\",\"\",COMPREHENSIVE!P727)","v":""},"",null,null,{"$f":"IF(COMPREHENSIVE!P743=\"\",\"\",COMPREHENSIVE!P743)","v":""},"",null,null,null,null,{"$f":"COUNTIF(G159,\"*\"&PROFILE!$C$66&\"*\")","v":0},{"$f":"IF(AND(COUNTIF(COMPREHENSIVE!$H$34:$J$34,\"enabled\")>0,Y159=1),1,0)","v":0}]
[null,null,null,null,null,null,{"$f":"PROFILE!$C$67","v":0},null,null,null,{"$f":"IF(COMPREHENSIVE!P712=\"\",\"\",COMPREHENSIVE!P712)","v":""},"",null,null,{"$f":"IF(COMPREHENSIVE!P728=\"\",\"\",COMPREHENSIVE!P728)","v":""},"",null,null,{"$f":"IF(COMPREHENSIVE!P744=\"\",\"\",COMPREHENSIVE!P744)","v":""},"",null,null,null,null,{"$f":"COUNTIF(G160,\"*\"&PROFILE!$C$67&\"*\")","v":0},{"$f":"IF(AND(COUNTIF(COMPREHENSIVE!$H$34:$J$34,\"enabled\")>0,Y160=1),1,0)","v":0}]
[null,null,null,null,null,null,{"$f":"PROFILE!$C$68","v":0},null,null,null,{"$f":"IF(COMPREHENSIVE!P713=\"\",\"\",COMPREHENSIVE!P713)","v":""},"",null,null,{"$f":"IF(COMPREHENSIVE!P729=\"\",\"\",COMPREHENSIVE!P729)","v":""},"",null,null,{"$f":"IF(COMPREHENSIVE!P745=\"\",\"\",COMPREHENSIVE!P745)","v":""},"",null,null,null,null,{"$f":"COUNTIF(G161,\"*\"&PROFILE!$C$68&\"*\")","v":0},{"$f":"IF(AND(COUNTIF(COMPREHENSIVE!$H$34:$J$34,\"enabled\")>0,Y161=1),1,0)","v":0}]
[null,null,null,null,null,null,{"$f":"PROFILE!$C$69","v":0},null,null,null,{"$f":"IF(COMPREHENSIVE!P714=\"\",\"\",COMPREHENSIVE!P714)","v":""},"",null,null,{"$f":"IF(COMPREHENSIVE!P730=\"\",\"\",COMPREHENSIVE!P730)","v":""},"",null,null,{"$f":"IF(COMPREHENSIVE!P746=\"\",\"\",COMPREHENSIVE!P746)","v":""},"",null,null,null,null,{"$f":"COUNTIF(G162,\"*\"&PROFILE!$C$69&\"*\")","v":0},{"$f":"IF(AND(COUNTIF(COMPREHENSIVE!$H$34:$J$34,\"enabled\")>0,Y162=1),1,0)","v":0}]
[null,null,null,null,null,null,{"$f":"PROFILE!$C$70","v":0},null,null,null,{"$f":"IF(COMPREHENSIVE!P715=\"\",\"\",COMPREHENSIVE!P715)","v":""},"",null,null,{"$f":"IF(COMPREHENSIVE!P731=\"\",\"\",COMPREHENSIVE!P731)","v":""},"",null,null,{"$f":"IF(COMPREHENSIVE!P747=\"\",\"\",COMPREHENSIVE!P747)","v":""},"",null,null,null,null,{"$f":"COUNTIF(G163,\"*\"&PROFILE!$C$70&\"*\")","v":0},{"$f":"IF(AND(COUNTIF(COMPREHENSIVE!$H$34:$J$34,\"enabled\")>0,Y163=1),1,0)","v":0}]
[null,null,null,null,null,null,{"$f":"PROFILE!$C$71","v":0},null,null,null,{"$f":"IF(COMPREHENSIVE!P716=\"\",\"\",COMPREHENSIVE!P716)","v":""},"",null,null,{"$f":"IF(COMPREHENSIVE!P732=\"\",\"\",COMPREHENSIVE!P732)","v":""},"",null,null,{"$f":"IF(COMPREHENSIVE!P748=\"\",\"\",COMPREHENSIVE!P748)","v":""},"",null,null,null,null,{"$f":"COUNTIF(G164,\"*\"&PROFILE!$C$71&\"*\")","v":0},{"$f":"IF(AND(COUNTIF(COMPREHENSIVE!$H$34:$J$34,\"enabled\")>0,Y164=1),1,0)","v":0}]
[null,null,null,null,null,null,{"$f":"PROFILE!$C$72","v":0},null,null,null,{"$f":"IF(COMPREHENSIVE!P717=\"\",\"\",COMPREHENSIVE!P717)","v":""},"",null,null,{"$f":"IF(COMPREHENSIVE!P733=\"\",\"\",COMPREHENSIVE!P733)","v":""},"",null,null,{"$f":"IF(COMPREHENSIVE!P749=\"\",\"\",COMPREHENSIVE!P749)","v":""},"",null,null,null,null,{"$f":"COUNTIF(G165,\"*\"&PROFILE!$C$72&\"*\")","v":0},{"$f":"IF(AND(COUNTIF(COMPREHENSIVE!$H$34:$J$34,\"enabled\")>0,Y165=1),1,0)","v":0}]
[null,null,null,null,null,null,null,null,null,null,null,null,null,null,null,null,null,null,null,null,null,null,null,null,null,{"$f":"IF(COUNTIF(COMPREHENSIVE!$H$34:$J$34,\"enabled\")>0,1,0)","v":0}]
[null,null,null,null,null,null,"Hires",null,null,null,null,null,null,null,null,null,null,null,null,null,null,null,null,null,null,{"$f":"IF(OR(COUNTIF('IN-DEPTH'!$G$33:$H$34,\"enabled\")>0,COUNTIF(COMPREHENSIVE!$H$41:$J$45,\"enabled\")>0),1,0)","v":0}]
[null,null,null,null,null,null,null,null,null,null,null,null,null,null,null,null,null,null,null,null,null,null,null,null,null,{"$f":"IF(OR(COUNTIF('IN-DEPTH'!$G$33:$H$34,\"enabled\")>0,COUNTIF(COMPREHENSIVE!$H$41:$J$45,\"enabled\")>0),1,0)","v":0}]
[null,null,null,null,null,null,null,null,null,null,null,null,null,null,null,null,null,null,null,null,null,null,null,null,null,{"$f":"IF(OR(COUNTIF('IN-DEPTH'!$G$33:$H$34,\"enabled\")>0,COUNTIF(COMPREHENSIVE!$H$41:$J$45,\"enabled\")>0),1,0)","v":0}]
[null,null,null,null,null,null,null,null,null,null,"All Employees",null,null,null,"Leaders",null,null,null,"Executives",null,null,null,null,null,null,{"$f":"IF(OR(COUNTIF('IN-DEPTH'!$G$33:$H$34,\"enabled\")>0,COUNTIF(COMPREHENSIVE!$H$41:$J$45,\"enabled\")>0),1,0)","v":0}]
[null,null,null,null,null,null,null,null,null,null,null,null,null,null,null,null,null,null,null,null,null,null,null,null,null,{"$f":"IF(OR(COUNTIF('IN-DEPTH'!$G$33:$H$34,\"enabled\")>0),1,0)","v":0}]
[null,null,null,null,null,null,null,null,null,null,{"$f":"IFERROR(FOUNDATIONAL!P82/FOUNDATIONAL!P29,0)","v":0},null,null,null,{"$f":"IFERROR('IN-DEPTH'!P108/'IN-DEPTH'!P64,0)","v":0},null,null,null,{"$f":"IFERROR('IN-DEPTH'!P110/FOUNDATIONAL!P38,0)","v":0},null,null,null,null,null,null,{"$f":"IF(OR(COUNTIF('IN-DEPTH'!$G$33:$H$34,\"enabled\")>0),1,0)","v":0}]
[null,null,null,null,null,null,null,null,null,null,null,null,null,null,null,null,null,null,null,null,null,null,null,null,null,{"$f":"IF(OR(COUNTIF('IN-DEPTH'!$G$33:$H$34,\"enabled\")>0),1,0)","v":0}]
[null,null,"All","Leaders","Exec.",null,null,null,null,null,"Overall Hire Rate",null,null,null,"Leader Hire Rate",null,null,null,"Executive Hire Rate",null,null,null,null,null,null,{"$f":"IF(OR(COUNTIF('IN-DEPTH'!$G$33:$H$34,\"enabled\")>0),1,0)","v":0}]
[null,null,null,null,null,null,null,null,null,null,null,null,null,null,null,null,null,null,null,null,null,null,null,null,null,{"$f":"IF(OR(COUNTIF('IN-DEPTH'!$G$33:$H$34,\"enabled\")>0),1,0)","v":0}]
[null,null,null,null,null,null,null,null,"Males",null,{"$f":"IF(COMPREHENSIVE!P877=\"\",\"\",COMPREHENSIVE!P877)","v":""},{"$f":"K176","v":""},null,null,{"$f":"IF(COMPREHENSIVE!P880=\"\",\"\",COMPREHENSIVE!P880)","v":""},{"$f":"O176","v":""},null,null,{"$f":"IF(COMPREHENSIVE!P883=\"\",\"\",COMPREHENSIVE!P883)","v":""},{"$f":"S176","v":""},null,null,null,null,null,{"$f":"IF(OR(COUNTIF(COMPREHENSIVE!$H$43:$J$43,\"enabled\")>0),1,0)","v":0}]
[null,null,null,null,null,null,null,null,"Females",null,{"$f":"IF(COMPREHENSIVE!P878=\"\",\"\",COMPREHENSIVE!P878)","v":""},{"$f":"K177","v":""},null,null,{"$f":"IF(COMPREHENSIVE!P881=\"\",\"\",COMPREHENSIVE!P881)","v":""},{"$f":"O177","v":""},null,null,{"$f":"IF(COMPREHENSIVE!P884=\"\",\"\",COMPREHENSIVE!P884)","v":""},{"$f":"S177","v":""},null,null,null,null,null,{"$f":"IF(OR(COUNTIF(COMPREHENSIVE!$H$43:$J$43,\"enabled\")>0),1,0)","v":0}]
[null,null,null,null,null,null,null,null,null,null,null,null,null,null,null,null,null,null,null,null,null,null,null,null,null,{"$f":"IF(OR(COUNTIF(COMPREHENSIVE!$H$43:$J$43,\"enabled\")>0),1,0)","v":0}]
[null,null,null,null,null,null,null,null,"Minority",null,{"$f":"IF(COMPREHENSIVE!P889=\"\",\"\",COMPREHENSIVE!P889)","v":""},{"$f":"K179","v":""},null,null,{"$f":"IF(COMPREHENSIVE!P892=\"\",\"\",COMPREHENSIVE!P892)","v":""},{"$f":"O179","v":""},null,null,{"$f":"IF(COMPREHENSIVE!P895=\"\",\"\",COMPREHENSIVE!P895)","v":""},{"$f":"S179","v":""},null,null,null,null,null,{"$f":"IF(OR(COUNTIF(COMPREHENSIVE!$H$44:$J$44,\"enabled\")>0),1,0)","v":0}]
[null,null,null,null,null,null,null,null,"Non-Minority",null,{"$f":"IF(COMPREHENSIVE!P890=\"\",\"\",COMPREHENSIVE!P890)","v":""},{"$f":"K180","v":""},null,null,{"$f":"IF(COMPREHENSIVE!P893=\"\",\"\",COMPREHENSIVE!P893)","v":""},{"$f":"O180","v":""},null,null,{"$f":"IF(COMPREHENSIVE!P896=\"\",\"\",COMPREHENSIVE!P896)","v":""},{"$f":"S180","v":""},null,null,null,null,null,{"$f":"IF(OR(COUNTIF(COMPREHENSIVE!$H$44:$J$44,\"enabled\")>0),1,0)","v":0}]
[null,null,null,null,null,null,null,null,null,null,null,null,null,null,null,null,null,null,null,null,null,null,null,null,null,{"$f":"IF(OR(COUNTIF(COMPREHENSIVE!$H$44:$J$44,\"enabled\")>0),1,0)","v":0}]
[null,null,null,null,null,null,null,null," Individuals with Disabilities",null,{"$f":"IF(COMPREHENSIVE!P901=\"\",\"\",COMPREHENSIVE!P901)","v":""},{"$f":"K182","v":""},null,null,{"$f":"IF(COMPREHENSIVE!P904=\"\",\"\",COMPREHENSIVE!P904)","v":""},{"$f":"O182","v":""},null,null,{"$f":"IF(COMPREHENSIVE!P907=\"\",\"\",COMPREHENSIVE!P907)","v":""},{"$f":"S182","v":""},null,null,null,null,null,{"$f":"IF(OR(COUNTIF(COMPREHENSIVE!$H$45:$J$45,\"enabled\")>0),1,0)","v":0}]
[null,null,null,null,null,null,null,null,"Veterans",null,{"$f":"IF(COMPREHENSIVE!P902=\"\",\"\",COMPREHENSIVE!P902)","v":""},{"$f":"K183","v":""},null,null,{"$f":"IF(COMPREHENSIVE!P905=\"\",\"\",COMPREHENSIVE!P905)","v":""},{"$f":"O183","v":""},null,null,{"$f":"IF(COMPREHENSIVE!P908=\"\",\"\",COMPREHENSIVE!P908)","v":""},{"$f":"S183","v":""},null,null,null,null,null,{"$f":"IF(OR(COUNTIF(COMPREHENSIVE!$H$45:$J$45,\"enabled\")>0),1,0)","v":0}]
[null,null,null,null,null,null,null,null,null,null,null,null,null,null,null,null,null,null,null,null,null,null,null,null,null,{"$f":"IF(OR(COUNTIF(COMPREHENSIVE!$H$45:$J$45,\"enabled\")>0),1,0)","v":0}]
[null,null,null,null,null,null,"Officials and Administrators",null,null,null,{"$f":"IF(COMPREHENSIVE!P790=\"\",\"\",COMPREHENSIVE!P790)","v":""},{"$f":"K185","v":""},null,null,{"$f":"IF(COMPREHENSIVE!P801=\"\",\"\",COMPREHENSIVE!P801)","v":""},{"$f":"O185","v":""},null,null,{"$f":"IF(COMPREHENSIVE!P812=\"\",\"\",COMPREHENSIVE!P812)","v":""},{"$f":"S185","v":""},null,null,null,null,null,{"$f":"IF(OR(COUNTIF(COMPREHENSIVE!$H$41:$J$41,\"enabled\")>0),1,0)","v":0}]
[null,null,null,null,null,null,"Professionals",null,null,null,{"$f":"IF(COMPREHENSIVE!P791=\"\",\"\",COMPREHENSIVE!P791)","v":""},{"$f":"K186","v":""},null,null,{"$f":"IF(COMPREHENSIVE!P802=\"\",\"\",COMPREHENSIVE!P802)","v":""},{"$f":"O186","v":""},null,null,{"$f":"IF(COMPREHENSIVE!P813=\"\",\"\",COMPREHENSIVE!P813)","v":""},{"$f":"S186","v":""},null,null,null,null,null,{"$f":"IF(OR(COUNTIF(COMPREHENSIVE!$H$41:$J$41,\"enabled\")>0),1,0)","v":0}]
[null,null,null,null,null,null,"Technicians",null,null,null,{"$f":"IF(COMPREHENSIVE!P792=\"\",\"\",COMPREHENSIVE!P792)","v":""},"",null,null,{"$f":"IF(COMPREHENSIVE!P803=\"\",\"\",COMPREHENSIVE!P803)","v":""},"",null,null,{"$f":"IF(COMPREHENSIVE!P814=\"\",\"\",COMPREHENSIVE!P814)","v":""},"",null,null,null,null,null,{"$f":"IF(OR(COUNTIF(COMPREHENSIVE!$H$41:$J$41,\"enabled\")>0),1,0)","v":0}]
[null,null,null,null,null,null,"Protective Service Workers",null,null,null,{"$f":"IF(COMPREHENSIVE!P793=\"\",\"\",COMPREHENSIVE!P793)","v":""},"",null,null,{"$f":"IF(COMPREHENSIVE!P804=\"\",\"\",COMPREHENSIVE!P804)","v":""},"",null,null,{"$f":"IF(COMPREHENSIVE!P815=\"\",\"\",COMPREHENSIVE!P815)","v":""},"",null,null,null,null,null,{"$f":"IF(OR(COUNTIF(COMPREHENSIVE!$H$41:$J$41,\"enabled\")>0),1,0)","v":0}]
[null,null,null,null,null,null,"Paraprofessionals",null,null,null,{"$f":"IF(COMPREHENSIVE!P794=\"\",\"\",COMPREHENSIVE!P794)","v":""},"",null,null,{"$f":"IF(COMPREHENSIVE!P805=\"\",\"\",COMPREHENSIVE!P805)","v":""},"",null,null,{"$f":"IF(COMPREHENSIVE!P816=\"\",\"\",COMPREHENSIVE!P816)","v":""},"",null,null,null,null,null,{"$f":"IF(OR(COUNTIF(COMPREHENSIVE!$H$41:$J$41,\"enabled\")>0),1,0)","v":0}]
[null,null,null,null,null,null,"Administrative Support",null,null,null,{"$f":"IF(COMPREHENSIVE!P795=\"\",\"\",COMPREHENSIVE!P795)","v":""},"",null,null,{"$f":"IF(COMPREHENSIVE!P806=\"\",\"\",COMPREHENSIVE!P806)","v":""},"",null,null,{"$f":"IF(COMPREHENSIVE!P817=\"\",\"\",COMPREHENSIVE!P817)","v":""},"",null,null,null,null,null,{"$f":"IF(OR(COUNTIF(COMPREHENSIVE!$H$41:$J$41,\"enabled\")>0),1,0)","v":0}]
[null,null,null,null,null,null,"Skilled Craft Workers",null,null,null,{"$f":"IF(COMPREHENSIVE!P796=\"\",\"\",COMPREHENSIVE!P796)","v":""},"",null,null,{"$f":"IF(COMPREHENSIVE!P807=\"\",\"\",COMPREHENSIVE!P807)","v":""},"",null,null,{"$f":"IF(COMPREHENSIVE!P818=\"\",\"\",COMPREHENSIVE!P818)","v":""},"",null,null,null,null,null,{"$f":"IF(OR(COUNTIF(COMPREHENSIVE!$H$41:$J$41,\"enabled\")>0),1,0)","v":0}]
[null,null,null,null,null,null,"Service/Maintenance",null,null,null,{"$f":"IF(COMPREHENSIVE!P797=\"\",\"\",COMPREHENSIVE!P797)","v":""},"",null,null,{"$f":"IF(COMPREHENSIVE!P808=\"\",\"\",COMPREHENSIVE!P808)","v":""},"",null,null,{"$f":"IF(COMPREHENSIVE!P819=\"\",\"\",COMPREHENSIVE!P819)","v":""},"",null,null,null,null,null,{"$f":"IF(OR(COUNTIF(COMPREHENSIVE!$H$41:$J$41,\"enabled\")>0),1,0)","v":0}]
[null,null,null,null,null,null,"Faculty",null,null,null,{"$f":"IF(COMPREHENSIVE!P798=\"\",\"\",COMPREHENSIVE!P798)","v":""},"",null,null,{"$f":"IF(COMPREHENSIVE!P809=\"\",\"\",COMPREHENSIVE!P809)","v":""},"",null,null,{"$f":"IF(COMPREHENSIVE!P820=\"\",\"\",COMPREHENSIVE!P820)","v":""},"",null,null,null,null,null,{"$f":"IF(OR(COUNTIF(COMPREHENSIVE!$H$41:$J$41,\"enabled\")>0),1,0)","v":0}]
[null,null,null,null,null,null,"Other",null,null,null,{"$f":"IF(COMPREHENSIVE!P799=\"\",\"\",COMPREHENSIVE!P799)","v":""},"",null,null,{"$f":"IF(COMPREHENSIVE!P810=\"\",\"\",COMPREHENSIVE!P810)","v":""},"",null,null,{"$f":"IF(COMPREHENSIVE!P821=\"\",\"\",COMPREHENSIVE!P821)","v":""},"",null,null,null,null,null,{"$f":"IF(OR(COUNTIF(COMPREHENSIVE!$H$41:$J$41,\"enabled\")>0),1,0)","v":0}]
[null,null,null,null,null,null,null,null,null,null,null,null,null,null,null,null,null,null,null,null,null,null,null,null,null,{"$f":"IF(OR(COUNTIF(COMPREHENSIVE!$H$41:$J$41,\"enabled\")>0),1,0)","v":0}]
[null,null,null,null,null,null,{"$f":"PROFILE!$C$58","v":0},null,null,null,{"$f":"IF(COMPREHENSIVE!P826=\"\",\"\",COMPREHENSIVE!P826)","v":""},{"$f":"K196","v":""},null,null,{"$f":"IF(COMPREHENSIVE!P843=\"\",\"\",COMPREHENSIVE!P843)","v":""},{"$f":"O196","v":""},null,null,{"$f":"IF(COMPREHENSIVE!P858=\"\",\"\",COMPREHENSIVE!P858)","v":""},{"$f":"S196","v":""},null,null,null,null,{"$f":"COUNTIF(G196,\"*\"&PROFILE!$C$58&\"*\")","v":0},{"$f":"IF(AND(OR(COUNTIF(COMPREHENSIVE!$H$42:$J$42,\"enabled\")>0),Y196=1),1,0)","v":0}]
[null,null,null,null,null,null,{"$f":"PROFILE!$C$59","v":0},null,null,null,{"$f":"IF(COMPREHENSIVE!P827=\"\",\"\",COMPREHENSIVE!P827)","v":""},{"$f":"K197","v":""},null,null,{"$f":"IF(COMPREHENSIVE!P844=\"\",\"\",COMPREHENSIVE!P844)","v":""},{"$f":"O197","v":""},null,null,{"$f":"IF(COMPREHENSIVE!P859=\"\",\"\",COMPREHENSIVE!P859)","v":""},{"$f":"S197","v":""},null,null,null,null,{"$f":"COUNTIF(G197,\"*\"&PROFILE!$C$59&\"*\")","v":0},{"$f":"IF(AND(OR(COUNTIF(COMPREHENSIVE!$H$42:$J$42,\"enabled\")>0),Y197=1),1,0)","v":0}]
[null,null,null,null,null,null,{"$f":"PROFILE!$C$60","v":0},null,null,null,{"$f":"IF(COMPREHENSIVE!P828=\"\",\"\",COMPREHENSIVE!P828)","v":""},"",null,null,{"$f":"IF(COMPREHENSIVE!P845=\"\",\"\",COMPREHENSIVE!P845)","v":""},"",null,null,{"$f":"IF(COMPREHENSIVE!P860=\"\",\"\",COMPREHENSIVE!P860)","v":""},"",null,null,null,null,{"$f":"COUNTIF(G198,\"*\"&PROFILE!$C$60&\"*\")","v":0},{"$f":"IF(AND(OR(COUNTIF(COMPREHENSIVE!$H$42:$J$42,\"enabled\")>0),Y198=1),1,0)","v":0}]
[null,null,null,null,null,null,{"$f":"PROFILE!$C$61","v":0},null,null,null,{"$f":"IF(COMPREHENSIVE!P829=\"\",\"\",COMPREHENSIVE!P829)","v":""},"",null,null,{"$f":"IF(COMPREHENSIVE!P846=\"\",\"\",COMPREHENSIVE!P846)","v":""},"",null,null,{"$f":"IF(COMPREHENSIVE!P861=\"\",\"\",COMPREHENSIVE!P861)","v":""},"",null,null,null,null,{"$f":"COUNTIF(G199,\"*\"&PROFILE!$C$61&\"*\")","v":0},{"$f":"IF(AND(OR(COUNTIF(COMPREHENSIVE!$H$42:$J$42,\"enabled\")>0),Y199=1),1,0)","v":0}]
[null,null,null,null,null,null,{"$f":"PROFILE!$C$62","v":0},null,null,null,{"$f":"IF(COMPREHENSIVE!P830=\"\",\"\",COMPREHENSIVE!P830)","v":""},"",null,null,{"$f":"IF(COMPREHENSIVE!P847=\"\",\"\",COMPREHENSIVE!P847)","v":""},"",null,null,{"$f":"IF(COMPREHENSIVE!P862=\"\",\"\",COMPREHENSIVE!P862)","v":""},"",null,null,null,null,{"$f":"COUNTIF(G200,\"*\"&PROFILE!$C$62&\"*\")","v":0},{"$f":"IF(AND(OR(COUNTIF(COMPREHENSIVE!$H$42:$J$42,\"enabled\")>0),Y200=1),1,0)","v":0}]
[null,null,null,null,null,null,{"$f":"PROFILE!$C$63","v":0},null,null,null,{"$f":"IF(COMPREHENSIVE!P831=\"\",\"\",COMPREHENSIVE!P831)","v":""},"",null,null,{"$f":"IF(COMPREHENSIVE!P848=\"\",\"\",COMPREHENSIVE!P848)","v":""},"",null,null,{"$f":"IF(COMPREHENSIVE!P863=\"\",\"\",COMPREHENSIVE!P863)","v":""},"",null,null,null,null,{"$f":"COUNTIF(G201,\"*\"&PROFILE!$C$63&\"*\")","v":0},{"$f":"IF(AND(OR(COUNTIF(COMPREHENSIVE!$H$42:$J$42,\"enabled\")>0),Y201=1),1,0)","v":0}]
[null,null,null,null,null,null,{"$f":"PROFILE!$C$64","v":0},null,null,null,{"$f":"IF(COMPREHENSIVE!P832=\"\",\"\",COMPREHENSIVE!P832)","v":""},"",null,null,{"$f":"IF(COMPREHENSIVE!P849=\"\",\"\",COMPREHENSIVE!P849)","v":""},"",null,null,{"$f":"IF(COMPREHENSIVE!P864=\"\",\"\",COMPREHENSIVE!P864)","v":""},"",null,null,null,null,{"$f":"COUNTIF(G202,\"*\"&PROFILE!$C$64&\"*\")","v":0},{"$f":"IF(AND(OR(COUNTIF(COMPREHENSIVE!$H$42:$J$42,\"enabled\")>0),Y202=1),1,0)","v":0}]
[null,null,null,null,null,null,{"$f":"PROFILE!$C$65","v":0},null,null,null,{"$f":"IF(COMPREHENSIVE!P833=\"\",\"\",COMPREHENSIVE!P833)","v":""},"",null,null,{"$f":"IF(COMPREHENSIVE!P850=\"\",\"\",COMPREHENSIVE!P850)","v":""},"",null,null,{"$f":"IF(COMPREHENSIVE!P865=\"\",\"\",COMPREHENSIVE!P865)","v":""},"",null,null,null,null,{"$f":"COUNTIF(G203,\"*\"&PROFILE!$C$65&\"*\")","v":0},{"$f":"IF(AND(OR(COUNTIF(COMPREHENSIVE!$H$42:$J$42,\"enabled\")>0),Y203=1),1,0)","v":0}]
[null,null,null,null,null,null,{"$f":"PROFILE!$C$66","v":0},null,null,null,{"$f":"IF(COMPREHENSIVE!P834=\"\",\"\",COMPREHENSIVE!P834)","v":""},"",null,null,{"$f":"IF(COMPREHENSIVE!P851=\"\",\"\",COMPREHENSIVE!P851)","v":""},"",null,null,{"$f":"IF(COMPREHENSIVE!P866=\"\",\"\",COMPREHENSIVE!P866)","v":""},"",null,null,null,null,{"$f":"COUNTIF(G204,\"*\"&PROFILE!$C$66&\"*\")","v":0},{"$f":"IF(AND(OR(COUNTIF(COMPREHENSIVE!$H$42:$J$42,\"enabled\")>0),Y204=1),1,0)","v":0}]
[null,null,null,null,null,null,{"$f":"PROFILE!$C$67","v":0},null,null,null,{"$f":"IF(COMPREHENSIVE!P835=\"\",\"\",COMPREHENSIVE!P835)","v":""},"",null,null,{"$f":"IF(COMPREHENSIVE!P852=\"\",\"\",COMPREHENSIVE!P852)","v":""},"",null,null,{"$f":"IF(COMPREHENSIVE!P867=\"\",\"\",COMPREHENSIVE!P867)","v":""},"",null,null,null,null,{"$f":"COUNTIF(G205,\"*\"&PROFILE!$C$67&\"*\")","v":0},{"$f":"IF(AND(OR(COUNTIF(COMPREHENSIVE!$H$42:$J$42,\"enabled\")>0),Y205=1),1,0)","v":0}]
[null,null,null,null,null,null,{"$f":"PROFILE!$C$68","v":0},null,null,null,{"$f":"IF(COMPREHENSIVE!P836=\"\",\"\",COMPREHENSIVE!P836)","v":""},"",null,null,{"$f":"IF(COMPREHENSIVE!P853=\"\",\"\",COMPREHENSIVE!P853)","v":""},"",null,null,{"$f":"IF(COMPREHENSIVE!P868=\"\",\"\",COMPREHENSIVE!P868)","v":""},"",null,null,null,null,{"$f":"COUNTIF(G206,\"*\"&PROFILE!$C$68&\"*\")","v":0},{"$f":"IF(AND(OR(COUNTIF(COMPREHENSIVE!$H$42:$J$42,\"enabled\")>0),Y206=1),1,0)","v":0}]
[null,null,null,null,null,null,{"$f":"PROFILE!$C$69","v":0},null,null,null,{"$f":"IF(COMPREHENSIVE!P837=\"\",\"\",COMPREHENSIVE!P837)","v":""},"",null,null,{"$f":"IF(COMPREHENSIVE!P854=\"\",\"\",COMPREHENSIVE!P854)","v":""},"",null,null,{"$f":"IF(COMPREHENSIVE!P869=\"\",\"\",COMPREHENSIVE!P869)","v":""},"",null,null,null,null,{"$f":"COUNTIF(G207,\"*\"&PROFILE!$C$69&\"*\")","v":0},{"$f":"IF(AND(OR(COUNTIF(COMPREHENSIVE!$H$42:$J$42,\"enabled\")>0),Y207=1),1,0)","v":0}]
[null,null,null,null,null,null,{"$f":"PROFILE!$C$70","v":0},null,null,null,{"$f":"IF(COMPREHENSIVE!P838=\"\",\"\",COMPREHENSIVE!P838)","v":""},"",null,null,{"$f":"IF(COMPREHENSIVE!P855=\"\",\"\",COMPREHENSIVE!P855)","v":""},"",null,null,{"$f":"IF(COMPREHENSIVE!P870=\"\",\"\",COMPREHENSIVE!P870)","v":""},"",null,null,null,null,{"$f":"COUNTIF(G208,\"*\"&PROFILE!$C$70&\"*\")","v":0},{"$f":"IF(AND(OR(COUNTIF(COMPREHENSIVE!$H$42:$J$42,\"enabled\")>0),Y208=1),1,0)","v":0}]
[null,null,null,null,null,null,{"$f":"PROFILE!$C$71","v":0},null,null,null,{"$f":"IF(COMPREHENSIVE!P839=\"\",\"\",COMPREHENSIVE!P839)","v":""},"",null,null,{"$f":"IF(COMPREHENSIVE!P856=\"\",\"\",COMPREHENSIVE!P856)","v":""},"",null,null,{"$f":"IF(COMPREHENSIVE!P871=\"\",\"\",COMPREHENSIVE!P871)","v":""},"",null,null,null,null,{"$f":"COUNTIF(G209,\"*\"&PROFILE!$C$71&\"*\")","v":0},{"$f":"IF(AND(OR(COUNTIF(COMPREHENSIVE!$H$42:$J$42,\"enabled\")>0),Y209=1),1,0)","v":0}]
[null,null,null,null,null,null,{"$f":"PROFILE!$C$72","v":0},null,null,null,{"$f":"IF(COMPREHENSIVE!P840=\"\",\"\",COMPREHENSIVE!P840)","v":""},"",null,null,{"$f":"IF(COMPREHENSIVE!P857=\"\",\"\",COMPREHENSIVE!P857)","v":""},"",null,null,{"$f":"IF(COMPREHENSIVE!P872=\"\",\"\",COMPREHENSIVE!P872)","v":""},"",null,null,null,null,{"$f":"COUNTIF(G210,\"*\"&PROFILE!$C$72&\"*\")","v":0},{"$f":"IF(AND(OR(COUNTIF(COMPREHENSIVE!$H$42:$J$42,\"enabled\")>0),Y210=1),1,0)","v":0}]
[null,null,null,null,null,null,null,null,null,null,null,null,null,null,null,null,null,null,null,null,null,null,null,null,null,{"$f":"IF(OR(COUNTIF(COMPREHENSIVE!$H$42:$J$42,\"enabled\")>0),1,0)","v":0}]
[null,null,null,null,null,null,"Filled Positions",null,null,null,null,null,null,null,null,null,null,null,null,null,null,null,null,null,null,{"$f":"IF(OR(COUNTIF('IN-DEPTH'!$G$37:$H$38,\"enabled\")>0,COUNTIF(COMPREHENSIVE!$H$49:$J$50,\"enabled\")>0),1,0)","v":0}]
[null,null,null,null,null,null,null,null,null,null,null,null,null,null,null,null,null,null,null,null,null,null,null,null,null,{"$f":"IF(OR(COUNTIF('IN-DEPTH'!$G$37:$H$38,\"enabled\")>0,COUNTIF(COMPREHENSIVE!$H$49:$J$50,\"enabled\")>0),1,0)","v":0}]
[null,null,null,null,null,null,null,null,null,null,null,null,null,null,null,null,null,null,null,null,null,null,null,null,null,{"$f":"IF(OR(COUNTIF('IN-DEPTH'!$G$37:$H$38,\"enabled\")>0,COUNTIF(COMPREHENSIVE!$H$49:$J$50,\"enabled\")>0),1,0)","v":0}]
[null,null,null,null,null,null,null,null,null,null,"All Employees",null,null,null,"Leaders",null,null,null,"Executives",null,null,null,null,null,null,{"$f":"IF(OR(COUNTIF('IN-DEPTH'!$G$37:$H$38,\"enabled\")>0,COUNTIF(COMPREHENSIVE!$H$49:$J$50,\"enabled\")>0),1,0)","v":0}]
[null,null,null,null,null,null,null,null,null,null,null,null,null,null,null,null,null,null,null,null,null,null,null,null,null,{"$f":"IF(OR(COUNTIF('IN-DEPTH'!$G$37:$H$38,\"enabled\")>0,COUNTIF(COMPREHENSIVE!$H$49:$J$50,\"enabled\")>0),1,0)","v":0}]
[null,null,"All","Leaders","Exec.",null,null,null,null,null,{"$f":"CONCATENATE(TEXT(FOUNDATIONAL!P88,0),\" Total Positions Filled\")","v":"0 Total Positions Filled"},null,null,null,{"$f":"CONCATENATE(TEXT('IN-DEPTH'!P115,0),\" Leader Position Filled\")","v":"0 Leader Position Filled"},null,null,null,{"$f":"CONCATENATE(TEXT('IN-DEPTH'!P117,0),\" Executive Position Filled\")","v":"0 Executive Position Filled"},null,null,null,null,null,null,{"$f":"IF(COUNTIF('IN-DEPTH'!$G$37:$H$38,\"enabled\")>0,1,0)","v":0}]
[null,null,null,null,null,null,null,null,null,null,null,null,null,null,null,null,null,null,null,null,null,null,null,null,null,{"$f":"IF(COUNTIF('IN-DEPTH'!$G$37:$H$38,\"enabled\")>0,1,0)","v":0}]
[null,null,null,null,null,null,"Officials and Administrators",null,null,null,{"$f":"IF(COMPREHENSIVE!P913=\"\",\"\",COMPREHENSIVE!P913)","v":""},{"$f":"K219","v":""},null,null,{"$f":"IF(COMPREHENSIVE!P924=\"\",\"\",COMPREHENSIVE!P924)","v":""},{"$f":"O219","v":""},null,null,{"$f":"IF(COMPREHENSIVE!P935=\"\",\"\",COMPREHENSIVE!P935)","v":""},{"$f":"S219","v":""},null,null,null,null,null,{"$f":"IF(COUNTIF(COMPREHENSIVE!$H$49:$J$49,\"enabled\")>0,1,0)","v":0}]
[null,null,null,null,null,null,"Professionals",null,null,null,{"$f":"IF(COMPREHENSIVE!P914=\"\",\"\",COMPREHENSIVE!P914)","v":""},{"$f":"K220","v":""},null,null,{"$f":"IF(COMPREHENSIVE!P925=\"\",\"\",COMPREHENSIVE!P925)","v":""},{"$f":"O220","v":""},null,null,{"$f":"IF(COMPREHENSIVE!P936=\"\",\"\",COMPREHENSIVE!P936)","v":""},{"$f":"S220","v":""},null,null,null,null,null,{"$f":"IF(COUNTIF(COMPREHENSIVE!$H$49:$J$49,\"enabled\")>0,1,0)","v":0}]
[null,null,null,null,null,null,"Technicians",null,null,null,{"$f":"IF(COMPREHENSIVE!P915=\"\",\"\",COMPREHENSIVE!P915)","v":""},"",null,null,{"$f":"IF(COMPREHENSIVE!P926=\"\",\"\",COMPREHENSIVE!P926)","v":""},"",null,null,{"$f":"IF(COMPREHENSIVE!P937=\"\",\"\",COMPREHENSIVE!P937)","v":""},"",null,null,null,null,null,{"$f":"IF(COUNTIF(COMPREHENSIVE!$H$49:$J$49,\"enabled\")>0,1,0)","v":0}]
[null,null,null,null,null,null,"Protective Service Workers",null,null,null,{"$f":"IF(COMPREHENSIVE!P916=\"\",\"\",COMPREHENSIVE!P916)","v":""},"",null,null,{"$f":"IF(COMPREHENSIVE!P927=\"\",\"\",COMPREHENSIVE!P927)","v":""},"",null,null,{"$f":"IF(COMPREHENSIVE!P938=\"\",\"\",COMPREHENSIVE!P938)","v":""},"",null,null,null,null,null,{"$f":"IF(COUNTIF(COMPREHENSIVE!$H$49:$J$49,\"enabled\")>0,1,0)","v":0}]
[null,null,null,null,null,null,"Paraprofessionals",null,null,null,{"$f":"IF(COMPREHENSIVE!P917=\"\",\"\",COMPREHENSIVE!P917)","v":""},"",null,null,{"$f":"IF(COMPREHENSIVE!P928=\"\",\"\",COMPREHENSIVE!P928)","v":""},"",null,null,{"$f":"IF(COMPREHENSIVE!P939=\"\",\"\",COMPREHENSIVE!P939)","v":""},"",null,null,null,null,null,{"$f":"IF(COUNTIF(COMPREHENSIVE!$H$49:$J$49,\"enabled\")>0,1,0)","v":0}]
[null,null,null,null,null,null,"Administrative Support",null,null,null,{"$f":"IF(COMPREHENSIVE!P918=\"\",\"\",COMPREHENSIVE!P918)","v":""},"",null,null,{"$f":"IF(COMPREHENSIVE!P929=\"\",\"\",COMPREHENSIVE!P929)","v":""},"",null,null,{"$f":"IF(COMPREHENSIVE!P940=\"\",\"\",COMPREHENSIVE!P940)","v":""},"",null,null,null,null,null,{"$f":"IF(COUNTIF(COMPREHENSIVE!$H$49:$J$49,\"enabled\")>0,1,0)","v":0}]
[null,null,null,null,null,null,"Skilled Craft Workers",null,null,null,{"$f":"IF(COMPREHENSIVE!P919=\"\",\"\",COMPREHENSIVE!P919)","v":""},"",null,null,{"$f":"IF(COMPREHENSIVE!P930=\"\",\"\",COMPREHENSIVE!P930)","v":""},"",null,null,{"$f":"IF(COMPREHENSIVE!P941=\"\",\"\",COMPREHENSIVE!P941)","v":""},"",null,null,null,null,null,{"$f":"IF(COUNTIF(COMPREHENSIVE!$H$49:$J$49,\"enabled\")>0,1,0)","v":0}]
[null,null,null,null,null,null,"Service/Maintenance",null,null,null,{"$f":"IF(COMPREHENSIVE!P920=\"\",\"\",COMPREHENSIVE!P920)","v":""},"",null,null,{"$f":"IF(COMPREHENSIVE!P931=\"\",\"\",COMPREHENSIVE!P931)","v":""},"",null,null,{"$f":"IF(COMPREHENSIVE!P942=\"\",\"\",COMPREHENSIVE!P942)","v":""},"",null,null,null,null,null,{"$f":"IF(COUNTIF(COMPREHENSIVE!$H$49:$J$49,\"enabled\")>0,1,0)","v":0}]
[null,null,null,null,null,null,"Faculty",null,null,null,{"$f":"IF(COMPREHENSIVE!P921=\"\",\"\",COMPREHENSIVE!P921)","v":""},"",null,null,{"$f":"IF(COMPREHENSIVE!P932=\"\",\"\",COMPREHENSIVE!P932)","v":""},"",null,null,{"$f":"IF(COMPREHENSIVE!P943=\"\",\"\",COMPREHENSIVE!P943)","v":""},"",null,null,null,null,null,{"$f":"IF(COUNTIF(COMPREHENSIVE!$H$49:$J$49,\"enabled\")>0,1,0)","v":0}]
[null,null,null,null,null,null,"Other",null,null,null,{"$f":"IF(COMPREHENSIVE!P922=\"\",\"\",COMPREHENSIVE!P922)","v":""},"",null,null,{"$f":"IF(COMPREHENSIVE!P933=\"\",\"\",COMPREHENSIVE!P933)","v":""},"",null,null,{"$f":"IF(COMPREHENSIVE!P944=\"\",\"\",COMPREHENSIVE!P944)","v":""},"",null,null,null,null,null,{"$f":"IF(COUNTIF(COMPREHENSIVE!$H$49:$J$49,\"enabled\")>0,1,0)","v":0}]
[null,null,null,null,null,null,null,null,null,null,null,null,null,null,null,null,null,null,null,null,null,null,null,null,null,{"$f":"IF(COUNTIF(COMPREHENSIVE!$H$49:$J$49,\"enabled\")>0,1,0)","v":0}]
[null,null,null,null,null,null,{"$f":"PROFILE!$C$58","v":0},null,null,null,{"$f":"IF(COMPREHENSIVE!P949=\"\",\"\",COMPREHENSIVE!P949)","v":""},{"$f":"K230","v":""},null,null,{"$f":"IF(COMPREHENSIVE!P965=\"\",\"\",COMPREHENSIVE!P965)","v":""},{"$f":"O230","v":""},null,null,{"$f":"IF(COMPREHENSIVE!P981=\"\",\"\",COMPREHENSIVE!P981)","v":""},{"$f":"S230","v":""},null,null,null,null,{"$f":"COUNTIF(G230,\"*\"&PROFILE!$C$58&\"*\")","v":0},{"$f":"IF(AND(COUNTIF(COMPREHENSIVE!$H$49:$J$50,\"enabled\")>0,Y230=1),1,0)","v":0}]
[null,null,null,null,null,null,{"$f":"PROFILE!$C$59","v":0},null,null,null,{"$f":"IF(COMPREHENSIVE!P950=\"\",\"\",COMPREHENSIVE!P950)","v":""},{"$f":"K231","v":""},null,null,{"$f":"IF(COMPREHENSIVE!P966=\"\",\"\",COMPREHENSIVE!P966)","v":""},{"$f":"O231","v":""},null,null,{"$f":"IF(COMPREHENSIVE!P982=\"\",\"\",COMPREHENSIVE!P982)","v":""},{"$f":"S231","v":""},null,null,null,null,{"$f":"COUNTIF(G231,\"*\"&PROFILE!$C$59&\"*\")","v":0},{"$f":"IF(AND(COUNTIF(COMPREHENSIVE!$H$49:$J$50,\"enabled\")>0,Y231=1),1,0)","v":0}]
[null,null,null,null,null,null,{"$f":"PROFILE!$C$60","v":0},null,null,null,{"$f":"IF(COMPREHENSIVE!P951=\"\",\"\",COMPREHENSIVE!P951)","v":""},"",null,null,{"$f":"IF(COMPREHENSIVE!P967=\"\",\"\",COMPREHENSIVE!P967)","v":""},"",null,null,{"$f":"IF(COMPREHENSIVE!P983=\"\",\"\",COMPREHENSIVE!P983)","v":""},"",null,null,null,null,{"$f":"COUNTIF(G232,\"*\"&PROFILE!$C$60&\"*\")","v":0},{"$f":"IF(AND(COUNTIF(COMPREHENSIVE!$H$49:$J$50,\"enabled\")>0,Y232=1),1,0)","v":0}]
[null,null,null,null,null,null,{"$f":"PROFILE!$C$61","v":0},null,null,null,{"$f":"IF(COMPREHENSIVE!P952=\"\",\"\",COMPREHENSIVE!P952)","v":""},"",null,null,{"$f":"IF(COMPREHENSIVE!P968=\"\",\"\",COMPREHENSIVE!P968)","v":""},"",null,null,{"$f":"IF(COMPREHENSIVE!P984=\"\",\"\",COMPREHENSIVE!P984)","v":""},"",null,null,null,null,{"$f":"COUNTIF(G233,\"*\"&PROFILE!$C$61&\"*\")","v":0},{"$f":"IF(AND(COUNTIF(COMPREHENSIVE!$H$49:$J$50,\"enabled\")>0,Y233=1),1,0)","v":0}]
[null,null,null,null,null,null,{"$f":"PROFILE!$C$62","v":0},null,null,null,{"$f":"IF(COMPREHENSIVE!P953=\"\",\"\",COMPREHENSIVE!P953)","v":""},"",null,null,{"$f":"IF(COMPREHENSIVE!P969=\"\",\"\",COMPREHENSIVE!P969)","v":""},"",null,null,{"$f":"IF(COMPREHENSIVE!P985=\"\",\"\",COMPREHENSIVE!P985)","v":""},"",null,null,null,null,{"$f":"COUNTIF(G234,\"*\"&PROFILE!$C$62&\"*\")","v":0},{"$f":"IF(AND(COUNTIF(COMPREHENSIVE!$H$49:$J$50,\"enabled\")>0,Y234=1),1,0)","v":0}]
[null,null,null,null,null,null,{"$f":"PROFILE!$C$63","v":0},null,null,null,{"$f":"IF(COMPREHENSIVE!P954=\"\",\"\",COMPREHENSIVE!P954)","v":""},"",null,null,{"$f":"IF(COMPREHENSIVE!P970=\"\",\"\",COMPREHENSIVE!P970)","v":""},"",null,null,{"$f":"IF(COMPREHENSIVE!P986=\"\",\"\",COMPREHENSIVE!P986)","v":""},"",null,null,null,null,{"$f":"COUNTIF(G235,\"*\"&PROFILE!$C$63&\"*\")","v":0},{"$f":"IF(AND(COUNTIF(COMPREHENSIVE!$H$49:$J$50,\"enabled\")>0,Y235=1),1,0)","v":0}]
[null,null,null,null,null,null,{"$f":"PROFILE!$C$64","v":0},null,null,null,{"$f":"IF(COMPREHENSIVE!P955=\"\",\"\",COMPREHENSIVE!P955)","v":""},"",null,null,{"$f":"IF(COMPREHENSIVE!P971=\"\",\"\",COMPREHENSIVE!P971)","v":""},"",null,null,{"$f":"IF(COMPREHENSIVE!P987=\"\",\"\",COMPREHENSIVE!P987)","v":""},"",null,null,null,null,{"$f":"COUNTIF(G236,\"*\"&PROFILE!$C$64&\"*\")","v":0},{"$f":"IF(AND(COUNTIF(COMPREHENSIVE!$H$49:$J$50,\"enabled\")>0,Y236=1),1,0)","v":0}]
[null,null,null,null,null,null,{"$f":"PROFILE!$C$65","v":0},null,null,null,{"$f":"IF(COMPREHENSIVE!P956=\"\",\"\",COMPREHENSIVE!P956)","v":""},"",null,null,{"$f":"IF(COMPREHENSIVE!P972=\"\",\"\",COMPREHENSIVE!P972)","v":""},"",null,null,{"$f":"IF(COMPREHENSIVE!P988=\"\",\"\",COMPREHENSIVE!P988)","v":""},"",null,null,null,null,{"$f":"COUNTIF(G237,\"*\"&PROFILE!$C$65&\"*\")","v":0},{"$f":"IF(AND(COUNTIF(COMPREHENSIVE!$H$49:$J$50,\"enabled\")>0,Y237=1),1,0)","v":0}]
[null,null,null,null,null,null,{"$f":"PROFILE!$C$66","v":0},null,null,null,{"$f":"IF(COMPREHENSIVE!P957=\"\",\"\",COMPREHENSIVE!P957)","v":""},"",null,null,{"$f":"IF(COMPREHENSIVE!P973=\"\",\"\",COMPREHENSIVE!P973)","v":""},"",null,null,{"$f":"IF(COMPREHENSIVE!P989=\"\",\"\",COMPREHENSIVE!P989)","v":""},"",null,null,null,null,{"$f":"COUNTIF(G238,\"*\"&PROFILE!$C$66&\"*\")","v":0},{"$f":"IF(AND(COUNTIF(COMPREHENSIVE!$H$49:$J$50,\"enabled\")>0,Y238=1),1,0)","v":0}]
[null,null,null,null,null,null,{"$f":"PROFILE!$C$67","v":0},null,null,null,{"$f":"IF(COMPREHENSIVE!P958=\"\",\"\",COMPREHENSIVE!P958)","v":""},"",null,null,{"$f":"IF(COMPREHENSIVE!P974=\"\",\"\",COMPREHENSIVE!P974)","v":""},"",null,null,{"$f":"IF(COMPREHENSIVE!P990=\"\",\"\",COMPREHENSIVE!P990)","v":""},"",null,null,null,null,{"$f":"COUNTIF(G239,\"*\"&PROFILE!$C$67&\"*\")","v":0},{"$f":"IF(AND(COUNTIF(COMPREHENSIVE!$H$49:$J$50,\"enabled\")>0,Y239=1),1,0)","v":0}]
[null,null,null,null,null,null,{"$f":"PROFILE!$C$68","v":0},null,null,null,{"$f":"IF(COMPREHENSIVE!P959=\"\",\"\",COMPREHENSIVE!P959)","v":""},"",null,null,{"$f":"IF(COMPREHENSIVE!P975=\"\",\"\",COMPREHENSIVE!P975)","v":""},"",null,null,{"$f":"IF(COMPREHENSIVE!P991=\"\",\"\",COMPREHENSIVE!P991)","v":""},"",null,null,null,null,{"$f":"COUNTIF(G240,\"*\"&PROFILE!$C$68&\"*\")","v":0},{"$f":"IF(AND(COUNTIF(COMPREHENSIVE!$H$49:$J$50,\"enabled\")>0,Y240=1),1,0)","v":0}]
[null,null,null,null,null,null,{"$f":"PROFILE!$C$69","v":0},null,null,null,{"$f":"IF(COMPREHENSIVE!P960=\"\",\"\",COMPREHENSIVE!P960)","v":""},"",null,null,{"$f":"IF(COMPREHENSIVE!P976=\"\",\"\",COMPREHENSIVE!P976)","v":""},"",null,null,{"$f":"IF(COMPREHENSIVE!P992=\"\",\"\",COMPREHENSIVE!P992)","v":""},"",null,null,null,null,{"$f":"COUNTIF(G241,\"*\"&PROFILE!$C$69&\"*\")","v":0},{"$f":"IF(AND(COUNTIF(COMPREHENSIVE!$H$49:$J$50,\"enabled\")>0,Y241=1),1,0)","v":0}]
[null,null,null,null,null,null,{"$f":"PROFILE!$C$70","v":0},null,null,null,{"$f":"IF(COMPREHENSIVE!P961=\"\",\"\",COMPREHENSIVE!P961)","v":""},"",null,null,{"$f":"IF(COMPREHENSIVE!P977=\"\",\"\",COMPREHENSIVE!P977)","v":""},"",null,null,{"$f":"IF(COMPREHENSIVE!P993=\"\",\"\",COMPREHENSIVE!P993)","v":""},"",null,null,null,null,{"$f":"COUNTIF(G242,\"*\"&PROFILE!$C$70&\"*\")","v":0},{"$f":"IF(AND(COUNTIF(COMPREHENSIVE!$H$49:$J$50,\"enabled\")>0,Y242=1),1,0)","v":0}]
[null,null,null,null,null,null,{"$f":"PROFILE!$C$71","v":0},null,null,null,{"$f":"IF(COMPREHENSIVE!P962=\"\",\"\",COMPREHENSIVE!P962)","v":""},"",null,null,{"$f":"IF(COMPREHENSIVE!P978=\"\",\"\",COMPREHENSIVE!P978)","v":""},"",null,null,{"$f":"IF(COMPREHENSIVE!P994=\"\",\"\",COMPREHENSIVE!P994)","v":""},"",null,null,null,null,{"$f":"COUNTIF(G243,\"*\"&PROFILE!$C$71&\"*\")","v":0},{"$f":"IF(AND(COUNTIF(COMPREHENSIVE!$H$49:$J$50,\"enabled\")>0,Y243=1),1,0)","v":0}]
[null,null,null,null,null,null,{"$f":"PROFILE!$C$72","v":0},null,null,null,{"$f":"IF(COMPREHENSIVE!P963=\"\",\"\",COMPREHENSIVE!P963)","v":""},"",null,null,{"$f":"IF(COMPREHENSIVE!P979=\"\",\"\",COMPREHENSIVE!P979)","v":""},"",null,null,{"$f":"IF(COMPREHENSIVE!P995=\"\",\"\",COMPREHENSIVE!P995)","v":""},"",null,null,null,null,{"$f":"COUNTIF(G244,\"*\"&PROFILE!$C$72&\"*\")","v":0},{"$f":"IF(AND(COUNTIF(COMPREHENSIVE!$H$49:$J$50,\"enabled\")>0,Y244=1),1,0)","v":0}]
[null,null,null,null,null,null,null,null,null,null,null,null,null,null,null,null,null,null,null,null,null,null,null,null,null,{"$f":"IF(COUNTIF(COMPREHENSIVE!$H$49:$J$50,\"enabled\")>0,1,0)","v":0}]
[null,null,null,null,null,null,"Vacant Positions",null,null,null,null,null,null,null,null,null,null,null,null,null,null,null,null,null,null,{"$f":"IF(OR(COUNTIF('IN-DEPTH'!$G$41:$H$42,\"enabled)>0,countif(COMPREHENSIVE!$H$52:$J$53,\"\"enabled\")>0),1,0)","v":0}]
[null,null,null,null,null,null,null,null,null,null,null,null,null,null,null,null,null,null,null,null,null,null,null,null,null,{"$f":"IF(OR(COUNTIF('IN-DEPTH'!$G$41:$H$42,\"enabled)>0,countif(COMPREHENSIVE!$H$52:$J$53,\"\"enabled\")>0),1,0)","v":0}]
[null,null,null,null,null,null,null,null,null,null,null,null,null,null,null,null,null,null,null,null,null,null,null,null,null,{"$f":"IF(OR(COUNTIF('IN-DEPTH'!$G$41:$H$42,\"enabled)>0,countif(COMPREHENSIVE!$H$52:$J$53,\"\"enabled\")>0),1,0)","v":0}]
[null,null,null,null,null,null,null,null,null,null,"All Employees",null,null,null,"Leaders",null,null,null,"Executives",null,null,null,null,null,null,{"$f":"IF(OR(COUNTIF('IN-DEPTH'!$G$41:$H$42,\"enabled)>0,countif(COMPREHENSIVE!$H$52:$J$53,\"\"enabled\")>0),1,0)","v":0}]
[null,null,null,null,null,null,null,null,null,null,null,null,null,null,null,null,null,null,null,null,null,null,null,null,null,{"$f":"IF(OR(COUNTIF('IN-DEPTH'!$G$41:$H$42,\"enabled)>0,countif(COMPREHENSIVE!$H$52:$J$53,\"\"enabled\")>0),1,0)","v":0}]
[null,null,"All","Leaders","Exec.",null,null,null,null,null,{"$f":"CONCATENATE(TEXT(FOUNDATIONAL!P94,0),\" Total Vacant Positions\")","v":"0 Total Vacant Positions"},null,null,null,{"$f":"CONCATENATE(TEXT('IN-DEPTH'!P122,0),\" Vacant Leader Positions\")","v":"0 Vacant Leader Positions"},null,null,null,{"$f":"CONCATENATE(TEXT('IN-DEPTH'!P124,0),\" Vacant Executive Positions\")","v":"0 Vacant Executive Positions"},null,null,null,null,null,null,{"$f":"IF(COUNTIF('IN-DEPTH'!$G$41:$H$42,\"enabled\")>0,1,0)","v":0}]
[null,null,null,null,null,null,null,null,null,null,null,null,null,null,null,null,null,null,null,null,null,null,null,null,null,{"$f":"IF(COUNTIF('IN-DEPTH'!$G$41:$H$42,\"enabled\")>0,1,0)","v":0}]
[null,null,null,null,null,null,"Officials and Administrators",null,null,null,{"$f":"IF(COMPREHENSIVE!P1000=\"\",\"\",COMPREHENSIVE!P1000)","v":""},{"$f":"K253","v":""},null,null,{"$f":"IF(COMPREHENSIVE!P1011=\"\",\"\",COMPREHENSIVE!P1011)","v":""},{"$f":"O253","v":""},null,null,{"$f":"IF(COMPREHENSIVE!P1022=\"\",\"\",COMPREHENSIVE!P1022)","v":""},{"$f":"S253","v":""},null,null,null,null,null,{"$f":"IF(COUNTIF(COMPREHENSIVE!$H$54:$J$54,\"\"\"enabled\")>0,1,0)","v":0}]
[null,null,null,null,null,null,"Professionals",null,null,null,{"$f":"IF(COMPREHENSIVE!P1001=\"\",\"\",COMPREHENSIVE!P1001)","v":""},{"$f":"K254","v":""},null,null,{"$f":"IF(COMPREHENSIVE!P1012=\"\",\"\",COMPREHENSIVE!P1012)","v":""},{"$f":"O254","v":""},null,null,{"$f":"IF(COMPREHENSIVE!P1023=\"\",\"\",COMPREHENSIVE!P1023)","v":""},{"$f":"S254","v":""},null,null,null,null,null,{"$f":"IF(COUNTIF(COMPREHENSIVE!$H$54:$J$54,\"\"\"enabled\")>0,1,0)","v":0}]
[null,null,null,null,null,null,"Technicians",null,null,null,{"$f":"IF(COMPREHENSIVE!P1002=\"\",\"\",COMPREHENSIVE!P1002)","v":""},"",null,null,{"$f":"IF(COMPREHENSIVE!P1013=\"\",\"\",COMPREHENSIVE!P1013)","v":""},"",null,null,{"$f":"IF(COMPREHENSIVE!P1024=\"\",\"\",COMPREHENSIVE!P1024)","v":""},"",null,null,null,null,null,{"$f":"IF(COUNTIF(COMPREHENSIVE!$H$54:$J$54,\"\"\"enabled\")>0,1,0)","v":0}]
[null,null,null,null,null,null,"Protective Service Workers",null,null,null,{"$f":"IF(COMPREHENSIVE!P1003=\"\",\"\",COMPREHENSIVE!P1003)","v":""},"",null,null,{"$f":"IF(COMPREHENSIVE!P1014=\"\",\"\",COMPREHENSIVE!P1014)","v":""},"",null,null,{"$f":"IF(COMPREHENSIVE!P1025=\"\",\"\",COMPREHENSIVE!P1025)","v":""},"",null,null,null,null,null,{"$f":"IF(COUNTIF(COMPREHENSIVE!$H$54:$J$54,\"\"\"enabled\")>0,1,0)","v":0}]
[null,null,null,null,null,null,"Paraprofessionals",null,null,null,{"$f":"IF(COMPREHENSIVE!P1004=\"\",\"\",COMPREHENSIVE!P1004)","v":""},"",null,null,{"$f":"IF(COMPREHENSIVE!P1015=\"\",\"\",COMPREHENSIVE!P1015)","v":""},"",null,null,{"$f":"IF(COMPREHENSIVE!P1026=\"\",\"\",COMPREHENSIVE!P1026)","v":""},"",null,null,null,null,null,{"$f":"IF(COUNTIF(COMPREHENSIVE!$H$54:$J$54,\"\"\"enabled\")>0,1,0)","v":0}]
[null,null,null,null,null,null,"Administrative Support",null,null,null,{"$f":"IF(COMPREHENSIVE!P1005=\"\",\"\",COMPREHENSIVE!P1005)","v":""},"",null,null,{"$f":"IF(COMPREHENSIVE!P1016=\"\",\"\",COMPREHENSIVE!P1016)","v":""},"",null,null,{"$f":"IF(COMPREHENSIVE!P1027=\"\",\"\",COMPREHENSIVE!P1027)","v":""},"",null,null,null,null,null,{"$f":"IF(COUNTIF(COMPREHENSIVE!$H$54:$J$54,\"\"\"enabled\")>0,1,0)","v":0}]
[null,null,null,null,null,null,"Skilled Craft Workers",null,null,null,{"$f":"IF(COMPREHENSIVE!P1006=\"\",\"\",COMPREHENSIVE!P1006)","v":""},"",null,null,{"$f":"IF(COMPREHENSIVE!P1017=\"\",\"\",COMPREHENSIVE!P1017)","v":""},"",null,null,{"$f":"IF(COMPREHENSIVE!P1028=\"\",\"\",COMPREHENSIVE!P1028)","v":""},"",null,null,null,null,null,{"$f":"IF(COUNTIF(COMPREHENSIVE!$H$54:$J$54,\"\"\"enabled\")>0,1,0)","v":0}]
[null,null,null,null,null,null,"Service/Maintenance",null,null,null,{"$f":"IF(COMPREHENSIVE!P1007=\"\",\"\",COMPREHENSIVE!P1007)","v":""},"",null,null,{"$f":"IF(COMPREHENSIVE!P1018=\"\",\"\",COMPREHENSIVE!P1018)","v":""},"",null,null,{"$f":"IF(COMPREHENSIVE!P1029=\"\",\"\",COMPREHENSIVE!P1029)","v":""},"",null,null,null,null,null,{"$f":"IF(COUNTIF(COMPREHENSIVE!$H$54:$J$54,\"\"\"enabled\")>0,1,0)","v":0}]
[null,null,null,null,null,null,"Faculty",null,null,null,{"$f":"IF(COMPREHENSIVE!P1008=\"\",\"\",COMPREHENSIVE!P1008)","v":""},"",null,null,{"$f":"IF(COMPREHENSIVE!P1019=\"\",\"\",COMPREHENSIVE!P1019)","v":""},"",null,null,{"$f":"IF(COMPREHENSIVE!P1030=\"\",\"\",COMPREHENSIVE!P1030)","v":""},"",null,null,null,null,null,{"$f":"IF(COUNTIF(COMPREHENSIVE!$H$54:$J$54,\"\"\"enabled\")>0,1,0)","v":0}]
[null,null,null,null,null,null,"Other",null,null,null,{"$f":"IF(COMPREHENSIVE!P1009=\"\",\"\",COMPREHENSIVE!P1009)","v":""},"",null,null,{"$f":"IF(COMPREHENSIVE!P1020=\"\",\"\",COMPREHENSIVE!P1020)","v":""},"",null,null,{"$f":"IF(COMPREHENSIVE!P1031=\"\",\"\",COMPREHENSIVE!P1031)","v":""},"",null,null,null,null,null,{"$f":"IF(COUNTIF(COMPREHENSIVE!$H$54:$J$54,\"\"\"enabled\")>0,1,0)","v":0}]
[null,null,null,null,null,null,null,null,null,null,null,null,null,null,null,null,null,null,null,null,null,null,null,null,null,{"$f":"IF(COUNTIF(COMPREHENSIVE!$H$54:$J$54,\"\"\"enabled\")>0,1,0)","v":0}]
[null,null,null,null,null,null,{"$f":"PROFILE!$C$58","v":0},null,null,null,{"$f":"IF(COMPREHENSIVE!P1036=\"\",\"\",COMPREHENSIVE!P1036)","v":""},{"$f":"K264","v":""},null,null,{"$f":"IF(COMPREHENSIVE!P1052=\"\",\"\",COMPREHENSIVE!P1052)","v":""},{"$f":"O264","v":""},null,null,{"$f":"IF(COMPREHENSIVE!P1068=\"\",\"\",COMPREHENSIVE!P1068)","v":""},{"$f":"S264","v":""},null,null,null,null,{"$f":"COUNTIF(G264,\"*\"&PROFILE!$C$58&\"*\")","v":0},{"$f":"IF(AND(COUNTIF(COMPREHENSIVE!$H$54:$J$55,\"\"\"enabled\")>0,Y264=1),1,0)","v":0}]
[null,null,null,null,null,null,{"$f":"PROFILE!$C$59","v":0},null,null,null,{"$f":"IF(COMPREHENSIVE!P1037=\"\",\"\",COMPREHENSIVE!P1037)","v":""},{"$f":"K265","v":""},null,null,{"$f":"IF(COMPREHENSIVE!P1053=\"\",\"\",COMPREHENSIVE!P1053)","v":""},{"$f":"O265","v":""},null,null,{"$f":"IF(COMPREHENSIVE!P1069=\"\",\"\",COMPREHENSIVE!P1069)","v":""},{"$f":"S265","v":""},null,null,null,null,{"$f":"COUNTIF(G265,\"*\"&PROFILE!$C$59&\"*\")","v":0},{"$f":"IF(AND(COUNTIF(COMPREHENSIVE!$H$54:$J$55,\"\"\"enabled\")>0,Y265=1),1,0)","v":0}]
[null,null,null,null,null,null,{"$f":"PROFILE!$C$60","v":0},null,null,null,{"$f":"IF(COMPREHENSIVE!P1038=\"\",\"\",COMPREHENSIVE!P1038)","v":""},"",null,null,{"$f":"IF(COMPREHENSIVE!P1054=\"\",\"\",COMPREHENSIVE!P1054)","v":""},"",null,null,{"$f":"IF(COMPREHENSIVE!P1070=\"\",\"\",COMPREHENSIVE!P1070)","v":""},"",null,null,null,null,{"$f":"COUNTIF(G266,\"*\"&PROFILE!$C$60&\"*\")","v":0},{"$f":"IF(AND(COUNTIF(COMPREHENSIVE!$H$54:$J$55,\"\"\"enabled\")>0,Y266=1),1,0)","v":0}]
[null,null,null,null,null,null,{"$f":"PROFILE!$C$61","v":0},null,null,null,{"$f":"IF(COMPREHENSIVE!P1039=\"\",\"\",COMPREHENSIVE!P1039)","v":""},"",null,null,{"$f":"IF(COMPREHENSIVE!P1055=\"\",\"\",COMPREHENSIVE!P1055)","v":""},"",null,null,{"$f":"IF(COMPREHENSIVE!P1071=\"\",\"\",COMPREHENSIVE!P1071)","v":""},"",null,null,null,null,{"$f":"COUNTIF(G267,\"*\"&PROFILE!$C$61&\"*\")","v":0},{"$f":"IF(AND(COUNTIF(COMPREHENSIVE!$H$54:$J$55,\"\"\"enabled\")>0,Y267=1),1,0)","v":0}]
[null,null,null,null,null,null,{"$f":"PROFILE!$C$62","v":0},null,null,null,{"$f":"IF(COMPREHENSIVE!P1040=\"\",\"\",COMPREHENSIVE!P1040)","v":""},"",null,null,{"$f":"IF(COMPREHENSIVE!P1056=\"\",\"\",COMPREHENSIVE!P1056)","v":""},"",null,null,{"$f":"IF(COMPREHENSIVE!P1072=\"\",\"\",COMPREHENSIVE!P1072)","v":""},"",null,null,null,null,{"$f":"COUNTIF(G268,\"*\"&PROFILE!$C$62&\"*\")","v":0},{"$f":"IF(AND(COUNTIF(COMPREHENSIVE!$H$54:$J$55,\"\"\"enabled\")>0,Y268=1),1,0)","v":0}]
[null,null,null,null,null,null,{"$f":"PROFILE!$C$63","v":0},null,null,null,{"$f":"IF(COMPREHENSIVE!P1041=\"\",\"\",COMPREHENSIVE!P1041)","v":""},"",null,null,{"$f":"IF(COMPREHENSIVE!P1057=\"\",\"\",COMPREHENSIVE!P1057)","v":""},"",null,null,{"$f":"IF(COMPREHENSIVE!P1073=\"\",\"\",COMPREHENSIVE!P1073)","v":""},"",null,null,null,null,{"$f":"COUNTIF(G269,\"*\"&PROFILE!$C$63&\"*\")","v":0},{"$f":"IF(AND(COUNTIF(COMPREHENSIVE!$H$54:$J$55,\"\"\"enabled\")>0,Y269=1),1,0)","v":0}]
[null,null,null,null,null,null,{"$f":"PROFILE!$C$64","v":0},null,null,null,{"$f":"IF(COMPREHENSIVE!P1042=\"\",\"\",COMPREHENSIVE!P1042)","v":""},"",null,null,{"$f":"IF(COMPREHENSIVE!P1058=\"\",\"\",COMPREHENSIVE!P1058)","v":""},"",null,null,{"$f":"IF(COMPREHENSIVE!P1074=\"\",\"\",COMPREHENSIVE!P1074)","v":""},"",null,null,null,null,{"$f":"COUNTIF(G270,\"*\"&PROFILE!$C$64&\"*\")","v":0},{"$f":"IF(AND(COUNTIF(COMPREHENSIVE!$H$54:$J$55,\"\"\"enabled\")>0,Y270=1),1,0)","v":0}]
[null,null,null,null,null,null,{"$f":"PROFILE!$C$65","v":0},null,null,null,{"$f":"IF(COMPREHENSIVE!P1043=\"\",\"\",COMPREHENSIVE!P1043)","v":""},"",null,null,{"$f":"IF(COMPREHENSIVE!P1059=\"\",\"\",COMPREHENSIVE!P1059)","v":""},"",null,null,{"$f":"IF(COMPREHENSIVE!P1075=\"\",\"\",COMPREHENSIVE!P1075)","v":""},"",null,null,null,null,{"$f":"COUNTIF(G271,\"*\"&PROFILE!$C$65&\"*\")","v":0},{"$f":"IF(AND(COUNTIF(COMPREHENSIVE!$H$54:$J$55,\"\"\"enabled\")>0,Y271=1),1,0)","v":0}]
[null,null,null,null,null,null,{"$f":"PROFILE!$C$66","v":0},null,null,null,{"$f":"IF(COMPREHENSIVE!P1044=\"\",\"\",COMPREHENSIVE!P1044)","v":""},"",null,null,{"$f":"IF(COMPREHENSIVE!P1060=\"\",\"\",COMPREHENSIVE!P1060)","v":""},"",null,null,{"$f":"IF(COMPREHENSIVE!P1076=\"\",\"\",COMPREHENSIVE!P1076)","v":""},"",null,null,null,null,{"$f":"COUNTIF(G272,\"*\"&PROFILE!$C$66&\"*\")","v":0},{"$f":"IF(AND(COUNTIF(COMPREHENSIVE!$H$54:$J$55,\"\"\"enabled\")>0,Y272=1),1,0)","v":0}]
[null,null,null,null,null,null,{"$f":"PROFILE!$C$67","v":0},null,null,null,{"$f":"IF(COMPREHENSIVE!P1045=\"\",\"\",COMPREHENSIVE!P1045)","v":""},"",null,null,{"$f":"IF(COMPREHENSIVE!P1061=\"\",\"\",COMPREHENSIVE!P1061)","v":""},"",null,null,{"$f":"IF(COMPREHENSIVE!P1077=\"\",\"\",COMPREHENSIVE!P1077)","v":""},"",null,null,null,null,{"$f":"COUNTIF(G273,\"*\"&PROFILE!$C$67&\"*\")","v":0},{"$f":"IF(AND(COUNTIF(COMPREHENSIVE!$H$54:$J$55,\"\"\"enabled\")>0,Y273=1),1,0)","v":0}]
[null,null,null,null,null,null,{"$f":"PROFILE!$C$68","v":0},null,null,null,{"$f":"IF(COMPREHENSIVE!P1046=\"\",\"\",COMPREHENSIVE!P1046)","v":""},"",null,null,{"$f":"IF(COMPREHENSIVE!P1062=\"\",\"\",COMPREHENSIVE!P1062)","v":""},"",null,null,{"$f":"IF(COMPREHENSIVE!P1078=\"\",\"\",COMPREHENSIVE!P1078)","v":""},"",null,null,null,null,{"$f":"COUNTIF(G274,\"*\"&PROFILE!$C$68&\"*\")","v":0},{"$f":"IF(AND(COUNTIF(COMPREHENSIVE!$H$54:$J$55,\"\"\"enabled\")>0,Y274=1),1,0)","v":0}]
[null,null,null,null,null,null,{"$f":"PROFILE!$C$69","v":0},null,null,null,{"$f":"IF(COMPREHENSIVE!P1047=\"\",\"\",COMPREHENSIVE!P1047)","v":""},"",null,null,{"$f":"IF(COMPREHENSIVE!P1063=\"\",\"\",COMPREHENSIVE!P1063)","v":""},"",null,null,{"$f":"IF(COMPREHENSIVE!P1079=\"\",\"\",COMPREHENSIVE!P1079)","v":""},"",null,null,null,null,{"$f":"COUNTIF(G275,\"*\"&PROFILE!$C$69&\"*\")","v":0},{"$f":"IF(AND(COUNTIF(COMPREHENSIVE!$H$54:$J$55,\"\"\"enabled\")>0,Y275=1),1,0)","v":0}]
[null,null,null,null,null,null,{"$f":"PROFILE!$C$70","v":0},null,null,null,{"$f":"IF(COMPREHENSIVE!P1048=\"\",\"\",COMPREHENSIVE!P1048)","v":""},"",null,null,{"$f":"IF(COMPREHENSIVE!P1064=\"\",\"\",COMPREHENSIVE!P1064)","v":""},"",null,null,{"$f":"IF(COMPREHENSIVE!P1080=\"\",\"\",COMPREHENSIVE!P1080)","v":""},"",null,null,null,null,{"$f":"COUNTIF(G276,\"*\"&PROFILE!$C$70&\"*\")","v":0},{"$f":"IF(AND(COUNTIF(COMPREHENSIVE!$H$54:$J$55,\"\"\"enabled\")>0,Y276=1),1,0)","v":0}]
[null,null,null,null,null,null,{"$f":"PROFILE!$C$71","v":0},null,null,null,{"$f":"IF(COMPREHENSIVE!P1049=\"\",\"\",COMPREHENSIVE!P1049)","v":""},"",null,null,{"$f":"IF(COMPREHENSIVE!P1065=\"\",\"\",COMPREHENSIVE!P1065)","v":""},"",null,null,{"$f":"IF(COMPREHENSIVE!P1081=\"\",\"\",COMPREHENSIVE!P1081)","v":""},"",null,null,null,null,{"$f":"COUNTIF(G277,\"*\"&PROFILE!$C$71&\"*\")","v":0},{"$f":"IF(AND(COUNTIF(COMPREHENSIVE!$H$54:$J$55,\"\"\"enabled\")>0,Y277=1),1,0)","v":0}]
[null,null,null,null,null,null,{"$f":"PROFILE!$C$72","v":0},null,null,null,{"$f":"IF(COMPREHENSIVE!P1050=\"\",\"\",COMPREHENSIVE!P1050)","v":""},"",null,null,{"$f":"IF(COMPREHENSIVE!P1066=\"\",\"\",COMPREHENSIVE!P1066)","v":""},"",null,null,{"$f":"IF(COMPREHENSIVE!P1082=\"\",\"\",COMPREHENSIVE!P1082)","v":""},"",null,null,null,null,{"$f":"COUNTIF(G278,\"*\"&PROFILE!$C$72&\"*\")","v":0},{"$f":"IF(AND(COUNTIF(COMPREHENSIVE!$H$54:$J$55,\"\"\"enabled\")>0,Y278=1),1,0)","v":0}]
[null,null,null,null,null,null,null,null,null,null,null,null,null,null,null,null,null,null,null,null,null,null,null,null,null,{"$f":"IF(OR(COUNTIF('IN-DEPTH'!$G$45:$H$46,\"enabled\")>0,COUNTIF(COMPREHENSIVE!$H$59:$J$60,\"enabled\")>0),1,0)","v":0}]
[null,null,null,null,null,null,"Time to Fill",null,null,null,null,null,null,null,null,null,null,null,null,null,null,null,null,null,null,{"$f":"IF(OR(COUNTIF('IN-DEPTH'!$G$45:$H$46,\"enabled\")>0,COUNTIF(COMPREHENSIVE!$H$59:$J$60,\"enabled\")>0),1,0)","v":0}]
[null,null,null,null,null,null,null,null,null,null,null,null,null,null,null,null,null,null,null,null,null,null,null,null,null,{"$f":"IF(OR(COUNTIF('IN-DEPTH'!$G$45:$H$46,\"enabled\")>0,COUNTIF(COMPREHENSIVE!$H$59:$J$60,\"enabled\")>0),1,0)","v":0}]
[null,null,null,null,null,null,null,null,null,null,null,null,null,null,null,null,null,null,null,null,null,null,null,null,null,{"$f":"IF(OR(COUNTIF('IN-DEPTH'!$G$45:$H$46,\"enabled\")>0,COUNTIF(COMPREHENSIVE!$H$59:$J$60,\"enabled\")>0),1,0)","v":0}]
[null,null,null,null,null,null,null,null,null,null,"All Employees",null,null,null,"Leaders",null,null,null,"Executives",null,null,null,null,null,null,{"$f":"IF(OR(COUNTIF('IN-DEPTH'!$G$45:$H$46,\"enabled\")>0,COUNTIF(COMPREHENSIVE!$H$59:$J$60,\"enabled\")>0),1,0)","v":0}]
[null,null,null,null,null,null,null,null,null,null,null,null,null,null,null,null,null,null,null,null,null,null,null,null,null,{"$f":"IF(OR(COUNTIF('IN-DEPTH'!$G$45:$H$46,\"enabled\")>0,COUNTIF(COMPREHENSIVE!$H$59:$J$60,\"enabled\")>0),1,0)","v":0}]
[null,null,"All","Leaders","Exec.",null,null,null,null,null,{"$f":"CONCATENATE(TEXT(FOUNDATIONAL!P100,0),\" Days\")","v":"0 Days"},null,null,null,{"$f":"CONCATENATE(TEXT('IN-DEPTH'!P129,0),\" Days\")","v":"0 Days"},null,null,null,{"$f":"CONCATENATE(TEXT('IN-DEPTH'!P131,0),\" Days\")","v":"0 Days"},null,null,null,null,null,null,{"$f":"IF(COUNTIF('IN-DEPTH'!$G$45:$H$46,\"enabled\")>0,1,0)","v":0}]
[null,null,null,null,null,null,null,null,null,null,null,null,null,null,null,null,null,null,null,null,null,null,null,null,null,{"$f":"IF(COUNTIF('IN-DEPTH'!$G$45:$H$46,\"enabled\")>0,1,0)","v":0}]
[null,null,null,null,null,null,"Officials and Administrators",null,null,null,{"$f":"IF(COMPREHENSIVE!P1087=\"\",\"\",COMPREHENSIVE!P1087)","v":""},{"$f":"K287","v":""},null,null,{"$f":"IF(COMPREHENSIVE!P1098=\"\",\"\",COMPREHENSIVE!P1098)","v":""},{"$f":"O287","v":""},null,null,{"$f":"IF(COMPREHENSIVE!P1109=\"\",\"\",COMPREHENSIVE!P1109)","v":""},{"$f":"S287","v":""},null,null,null,null,null,{"$f":"IF(COUNTIF(COMPREHENSIVE!$H$59:$J$59,\"enabled\")>0,1,0)","v":0}]
[null,null,null,null,null,null,"Professionals",null,null,null,{"$f":"IF(COMPREHENSIVE!P1088=\"\",\"\",COMPREHENSIVE!P1088)","v":""},{"$f":"K288","v":""},null,null,{"$f":"IF(COMPREHENSIVE!P1099=\"\",\"\",COMPREHENSIVE!P1099)","v":""},{"$f":"O288","v":""},null,null,{"$f":"IF(COMPREHENSIVE!P1110=\"\",\"\",COMPREHENSIVE!P1110)","v":""},{"$f":"S288","v":""},null,null,null,null,null,{"$f":"IF(COUNTIF(COMPREHENSIVE!$H$59:$J$59,\"enabled\")>0,1,0)","v":0}]
[null,null,null,null,null,null,"Technicians",null,null,null,{"$f":"IF(COMPREHENSIVE!P1089=\"\",\"\",COMPREHENSIVE!P1089)","v":""},"",null,null,{"$f":"IF(COMPREHENSIVE!P1100=\"\",\"\",COMPREHENSIVE!P1100)","v":""},"",null,null,{"$f":"IF(COMPREHENSIVE!P1111=\"\",\"\",COMPREHENSIVE!P1111)","v":""},"",null,null,null,null,null,{"$f":"IF(COUNTIF(COMPREHENSIVE!$H$59:$J$59,\"enabled\")>0,1,0)","v":0}]
[null,null,null,null,null,null,"Protective Service Workers",null,null,null,{"$f":"IF(COMPREHENSIVE!P1090=\"\",\"\",COMPREHENSIVE!P1090)","v":""},"",null,null,{"$f":"IF(COMPREHENSIVE!P1101=\"\",\"\",COMPREHENSIVE!P1101)","v":""},"",null,null,{"$f":"IF(COMPREHENSIVE!P1112=\"\",\"\",COMPREHENSIVE!P1112)","v":""},"",null,null,null,null,null,{"$f":"IF(COUNTIF(COMPREHENSIVE!$H$59:$J$59,\"enabled\")>0,1,0)","v":0}]
[null,null,null,null,null,null,"Paraprofessionals",null,null,null,{"$f":"IF(COMPREHENSIVE!P1091=\"\",\"\",COMPREHENSIVE!P1091)","v":""},"",null,null,{"$f":"IF(COMPREHENSIVE!P1102=\"\",\"\",COMPREHENSIVE!P1102)","v":""},"",null,null,{"$f":"IF(COMPREHENSIVE!P1113=\"\",\"\",COMPREHENSIVE!P1113)","v":""},"",null,null,null,null,null,{"$f":"IF(COUNTIF(COMPREHENSIVE!$H$59:$J$59,\"enabled\")>0,1,0)","v":0}]
[null,null,null,null,null,null,"Administrative Support",null,null,null,{"$f":"IF(COMPREHENSIVE!P1092=\"\",\"\",COMPREHENSIVE!P1092)","v":""},"",null,null,{"$f":"IF(COMPREHENSIVE!P1103=\"\",\"\",COMPREHENSIVE!P1103)","v":""},"",null,null,{"$f":"IF(COMPREHENSIVE!P1114=\"\",\"\",COMPREHENSIVE!P1114)","v":""},"",null,null,null,null,null,{"$f":"IF(COUNTIF(COMPREHENSIVE!$H$59:$J$59,\"enabled\")>0,1,0)","v":0}]
[null,null,null,null,null,null,"Skilled Craft Workers",null,null,null,{"$f":"IF(COMPREHENSIVE!P1093=\"\",\"\",COMPREHENSIVE!P1093)","v":""},"",null,null,{"$f":"IF(COMPREHENSIVE!P1104=\"\",\"\",COMPREHENSIVE!P1104)","v":""},"",null,null,{"$f":"IF(COMPREHENSIVE!P1115=\"\",\"\",COMPREHENSIVE!P1115)","v":""},"",null,null,null,null,null,{"$f":"IF(COUNTIF(COMPREHENSIVE!$H$59:$J$59,\"enabled\")>0,1,0)","v":0}]
[null,null,null,null,null,null,"Service/Maintenance",null,null,null,{"$f":"IF(COMPREHENSIVE!P1094=\"\",\"\",COMPREHENSIVE!P1094)","v":""},"",null,null,{"$f":"IF(COMPREHENSIVE!P1105=\"\",\"\",COMPREHENSIVE!P1105)","v":""},"",null,null,{"$f":"IF(COMPREHENSIVE!P1116=\"\",\"\",COMPREHENSIVE!P1116)","v":""},"",null,null,null,null,null,{"$f":"IF(COUNTIF(COMPREHENSIVE!$H$59:$J$59,\"enabled\")>0,1,0)","v":0}]
[null,null,null,null,null,null,"Faculty",null,null,null,{"$f":"IF(COMPREHENSIVE!P1095=\"\",\"\",COMPREHENSIVE!P1095)","v":""},"",null,null,{"$f":"IF(COMPREHENSIVE!P1106=\"\",\"\",COMPREHENSIVE!P1106)","v":""},"",null,null,{"$f":"IF(COMPREHENSIVE!P1117=\"\",\"\",COMPREHENSIVE!P1117)","v":""},"",null,null,null,null,null,{"$f":"IF(COUNTIF(COMPREHENSIVE!$H$59:$J$59,\"enabled\")>0,1,0)","v":0}]
[null,null,null,null,null,null,"Other",null,null,null,{"$f":"IF(COMPREHENSIVE!P1096=\"\",\"\",COMPREHENSIVE!P1096)","v":""},"",null,null,{"$f":"IF(COMPREHENSIVE!P1107=\"\",\"\",COMPREHENSIVE!P1107)","v":""},"",null,null,{"$f":"IF(COMPREHENSIVE!P1118=\"\",\"\",COMPREHENSIVE!P1118)","v":""},"",null,null,null,null,null,{"$f":"IF(COUNTIF(COMPREHENSIVE!$H$59:$J$59,\"enabled\")>0,1,0)","v":0}]
[null,null,null,null,null,null,null,null,null,null,null,null,null,null,null,null,null,null,null,null,null,null,null,null,null,{"$f":"IF(COUNTIF(COMPREHENSIVE!$H$59:$J$59,\"enabled\")>0,1,0)","v":0}]
[null,null,null,null,null,null,{"$f":"PROFILE!$C$58","v":0},null,null,null,{"$f":"IF(COMPREHENSIVE!P1123=\"\",\"\",COMPREHENSIVE!P1123)","v":""},{"$f":"K298","v":""},null,null,{"$f":"IF(COMPREHENSIVE!P1139=\"\",\"\",COMPREHENSIVE!P1139)","v":""},{"$f":"O298","v":""},null,null,{"$f":"IF(COMPREHENSIVE!P1155=\"\",\"\",COMPREHENSIVE!P1155)","v":""},{"$f":"S298","v":""},null,null,null,null,{"$f":"COUNTIF(G298,\"*\"&PROFILE!$C$58&\"*\")","v":0},{"$f":"IF(AND(COUNTIF(COMPREHENSIVE!$H$59:$J$60,\"enabled\")>0,Y298=1),1,0)","v":0}]
[null,null,null,null,null,null,{"$f":"PROFILE!$C$59","v":0},null,null,null,{"$f":"IF(COMPREHENSIVE!P1124=\"\",\"\",COMPREHENSIVE!P1124)","v":""},{"$f":"K299","v":""},null,null,{"$f":"IF(COMPREHENSIVE!P1140=\"\",\"\",COMPREHENSIVE!P1140)","v":""},{"$f":"O299","v":""},null,null,{"$f":"IF(COMPREHENSIVE!P1156=\"\",\"\",COMPREHENSIVE!P1156)","v":""},{"$f":"S299","v":""},null,null,null,null,{"$f":"COUNTIF(G299,\"*\"&PROFILE!$C$59&\"*\")","v":0},{"$f":"IF(AND(COUNTIF(COMPREHENSIVE!$H$59:$J$60,\"enabled\")>0,Y299=1),1,0)","v":0}]
[null,null,null,null,null,null,{"$f":"PROFILE!$C$60","v":0},null,null,null,{"$f":"IF(COMPREHENSIVE!P1125=\"\",\"\",COMPREHENSIVE!P1125)","v":""},"",null,null,{"$f":"IF(COMPREHENSIVE!P1141=\"\",\"\",COMPREHENSIVE!P1141)","v":""},"",null,null,{"$f":"IF(COMPREHENSIVE!P1157=\"\",\"\",COMPREHENSIVE!P1157)","v":""},"",null,null,null,null,{"$f":"COUNTIF(G300,\"*\"&PROFILE!$C$60&\"*\")","v":0},{"$f":"IF(AND(COUNTIF(COMPREHENSIVE!$H$59:$J$60,\"enabled\")>0,Y300=1),1,0)","v":0}]
[null,null,null,null,null,null,{"$f":"PROFILE!$C$61","v":0},null,null,null,{"$f":"IF(COMPREHENSIVE!P1126=\"\",\"\",COMPREHENSIVE!P1126)","v":""},"",null,null,{"$f":"IF(COMPREHENSIVE!P1142=\"\",\"\",COMPREHENSIVE!P1142)","v":""},"",null,null,{"$f":"IF(COMPREHENSIVE!P1158=\"\",\"\",COMPREHENSIVE!P1158)","v":""},"",null,null,null,null,{"$f":"COUNTIF(G301,\"*\"&PROFILE!$C$61&\"*\")","v":0},{"$f":"IF(AND(COUNTIF(COMPREHENSIVE!$H$59:$J$60,\"enabled\")>0,Y301=1),1,0)","v":0}]
[null,null,null,null,null,null,{"$f":"PROFILE!$C$62","v":0},null,null,null,{"$f":"IF(COMPREHENSIVE!P1127=\"\",\"\",COMPREHENSIVE!P1127)","v":""},"",null,null,{"$f":"IF(COMPREHENSIVE!P1143=\"\",\"\",COMPREHENSIVE!P1143)","v":""},"",null,null,{"$f":"IF(COMPREHENSIVE!P1159=\"\",\"\",COMPREHENSIVE!P1159)","v":""},"",null,null,null,null,{"$f":"COUNTIF(G302,\"*\"&PROFILE!$C$62&\"*\")","v":0},{"$f":"IF(AND(COUNTIF(COMPREHENSIVE!$H$59:$J$60,\"enabled\")>0,Y302=1),1,0)","v":0}]
[null,null,null,null,null,null,{"$f":"PROFILE!$C$63","v":0},null,null,null,{"$f":"IF(COMPREHENSIVE!P1128=\"\",\"\",COMPREHENSIVE!P1128)","v":""},"",null,null,{"$f":"IF(COMPREHENSIVE!P1144=\"\",\"\",COMPREHENSIVE!P1144)","v":""},"",null,null,{"$f":"IF(COMPREHENSIVE!P1160=\"\",\"\",COMPREHENSIVE!P1160)","v":""},"",null,null,null,null,{"$f":"COUNTIF(G303,\"*\"&PROFILE!$C$63&\"*\")","v":0},{"$f":"IF(AND(COUNTIF(COMPREHENSIVE!$H$59:$J$60,\"enabled\")>0,Y303=1),1,0)","v":0}]
[null,null,null,null,null,null,{"$f":"PROFILE!$C$64","v":0},null,null,null,{"$f":"IF(COMPREHENSIVE!P1129=\"\",\"\",COMPREHENSIVE!P1129)","v":""},"",null,null,{"$f":"IF(COMPREHENSIVE!P1145=\"\",\"\",COMPREHENSIVE!P1145)","v":""},"",null,null,{"$f":"IF(COMPREHENSIVE!P1161=\"\",\"\",COMPREHENSIVE!P1161)","v":""},"",null,null,null,null,{"$f":"COUNTIF(G304,\"*\"&PROFILE!$C$64&\"*\")","v":0},{"$f":"IF(AND(COUNTIF(COMPREHENSIVE!$H$59:$J$60,\"enabled\")>0,Y304=1),1,0)","v":0}]
[null,null,null,null,null,null,{"$f":"PROFILE!$C$65","v":0},null,null,null,{"$f":"IF(COMPREHENSIVE!P1130=\"\",\"\",COMPREHENSIVE!P1130)","v":""},"",null,null,{"$f":"IF(COMPREHENSIVE!P1146=\"\",\"\",COMPREHENSIVE!P1146)","v":""},"",null,null,{"$f":"IF(COMPREHENSIVE!P1162=\"\",\"\",COMPREHENSIVE!P1162)","v":""},"",null,null,null,null,{"$f":"COUNTIF(G305,\"*\"&PROFILE!$C$65&\"*\")","v":0},{"$f":"IF(AND(COUNTIF(COMPREHENSIVE!$H$59:$J$60,\"enabled\")>0,Y305=1),1,0)","v":0}]
[null,null,null,null,null,null,{"$f":"PROFILE!$C$66","v":0},null,null,null,{"$f":"IF(COMPREHENSIVE!P1131=\"\",\"\",COMPREHENSIVE!P1131)","v":""},"",null,null,{"$f":"IF(COMPREHENSIVE!P1147=\"\",\"\",COMPREHENSIVE!P1147)","v":""},"",null,null,{"$f":"IF(COMPREHENSIVE!P1163=\"\",\"\",COMPREHENSIVE!P1163)","v":""},"",null,null,null,null,{"$f":"COUNTIF(G306,\"*\"&PROFILE!$C$66&\"*\")","v":0},{"$f":"IF(AND(COUNTIF(COMPREHENSIVE!$H$59:$J$60,\"enabled\")>0,Y306=1),1,0)","v":0}]
[null,null,null,null,null,null,{"$f":"PROFILE!$C$67","v":0},null,null,null,{"$f":"IF(COMPREHENSIVE!P1132=\"\",\"\",COMPREHENSIVE!P1132)","v":""},"",null,null,{"$f":"IF(COMPREHENSIVE!P1148=\"\",\"\",COMPREHENSIVE!P1148)","v":""},"",null,null,{"$f":"IF(COMPREHENSIVE!P1164=\"\",\"\",COMPREHENSIVE!P1164)","v":""},"",null,null,null,null,{"$f":"COUNTIF(G307,\"*\"&PROFILE!$C$67&\"*\")","v":0},{"$f":"IF(AND(COUNTIF(COMPREHENSIVE!$H$59:$J$60,\"enabled\")>0,Y307=1),1,0)","v":0}]
[null,null,null,null,null,null,{"$f":"PROFILE!$C$68","v":0},null,null,null,{"$f":"IF(COMPREHENSIVE!P1133=\"\",\"\",COMPREHENSIVE!P1133)","v":""},"",null,null,{"$f":"IF(COMPREHENSIVE!P1149=\"\",\"\",COMPREHENSIVE!P1149)","v":""},"",null,null,{"$f":"IF(COMPREHENSIVE!P1165=\"\",\"\",COMPREHENSIVE!P1165)","v":""},"",null,null,null,null,{"$f":"COUNTIF(G308,\"*\"&PROFILE!$C$68&\"*\")","v":0},{"$f":"IF(AND(COUNTIF(COMPREHENSIVE!$H$59:$J$60,\"enabled\")>0,Y308=1),1,0)","v":0}]
[null,null,null,null,null,null,{"$f":"PROFILE!$C$69","v":0},null,null,null,{"$f":"IF(COMPREHENSIVE!P1134=\"\",\"\",COMPREHENSIVE!P1134)","v":""},"",null,null,{"$f":"IF(COMPREHENSIVE!P1150=\"\",\"\",COMPREHENSIVE!P1150)","v":""},"",null,null,{"$f":"IF(COMPREHENSIVE!P1166=\"\",\"\",COMPREHENSIVE!P1166)","v":""},"",null,null,null,null,{"$f":"COUNTIF(G309,\"*\"&PROFILE!$C$69&\"*\")","v":0},{"$f":"IF(AND(COUNTIF(COMPREHENSIVE!$H$59:$J$60,\"enabled\")>0,Y309=1),1,0)","v":0}]
[null,null,null,null,null,null,{"$f":"PROFILE!$C$70","v":0},null,null,null,{"$f":"IF(COMPREHENSIVE!P1135=\"\",\"\",COMPREHENSIVE!P1135)","v":""},"",null,null,{"$f":"IF(COMPREHENSIVE!P1151=\"\",\"\",COMPREHENSIVE!P1151)","v":""},"",null,null,{"$f":"IF(COMPREHENSIVE!P1167=\"\",\"\",COMPREHENSIVE!P1167)","v":""},"",null,null,null,null,{"$f":"COUNTIF(G310,\"*\"&PROFILE!$C$70&\"*\")","v":0},{"$f":"IF(AND(COUNTIF(COMPREHENSIVE!$H$59:$J$60,\"enabled\")>0,Y310=1),1,0)","v":0}]
[null,null,null,null,null,null,{"$f":"PROFILE!$C$71","v":0},null,null,null,{"$f":"IF(COMPREHENSIVE!P1136=\"\",\"\",COMPREHENSIVE!P1136)","v":""},"",null,null,{"$f":"IF(COMPREHENSIVE!P1152=\"\",\"\",COMPREHENSIVE!P1152)","v":""},"",null,null,{"$f":"IF(COMPREHENSIVE!P1168=\"\",\"\",COMPREHENSIVE!P1168)","v":""},"",null,null,null,null,{"$f":"COUNTIF(G311,\"*\"&PROFILE!$C$71&\"*\")","v":0},{"$f":"IF(AND(COUNTIF(COMPREHENSIVE!$H$59:$J$60,\"enabled\")>0,Y311=1),1,0)","v":0}]
[null,null,null,null,null,null,{"$f":"PROFILE!$C$72","v":0},null,null,null,{"$f":"IF(COMPREHENSIVE!P1137=\"\",\"\",COMPREHENSIVE!P1137)","v":""},"",null,null,{"$f":"IF(COMPREHENSIVE!P1153=\"\",\"\",COMPREHENSIVE!P1153)","v":""},"",null,null,{"$f":"IF(COMPREHENSIVE!P1169=\"\",\"\",COMPREHENSIVE!P1169)","v":""},"",null,null,null,null,{"$f":"COUNTIF(G312,\"*\"&PROFILE!$C$72&\"*\")","v":0},{"$f":"IF(AND(COUNTIF(COMPREHENSIVE!$H$59:$J$60,\"enabled\")>0,Y312=1),1,0)","v":0}]
[null,null,null,null,null,null,null,null,null,null,null,null,null,null,null,null,null,null,null,null,null,null,null,null,null,{"$f":"IF(COUNTIF(COMPREHENSIVE!$H$59:$J$60,\"enabled\")>0,1,0)","v":0}]
[null,null,null,null,null,null,"Average Years of Service",null,null,null,null,null,null,null,null,null,null,null,null,null,null,null,null,null,null,{"$f":"IF(OR(COUNTIF('IN-DEPTH'!$K$29:$L$30,\"enabled\")>0,COUNTIF(COMPREHENSIVE!$M$33:$M$37,\"enabled\")>0,COUNTIF(COMPREHENSIVE!$P$33:$Q$37,\"enabled\")>0),1,0)","v":0}]
[null,null,null,null,null,null,null,null,null,null,null,null,null,null,null,null,null,null,null,null,null,null,null,null,null,{"$f":"IF(OR(COUNTIF('IN-DEPTH'!$K$29:$L$30,\"enabled\")>0,COUNTIF(COMPREHENSIVE!$M$33:$M$37,\"enabled\")>0,COUNTIF(COMPREHENSIVE!$P$33:$Q$37,\"enabled\")>0),1,0)","v":0}]
[null,null,null,null,null,null,null,null,null,null,null,null,null,null,null,null,null,null,null,null,null,null,null,null,null,{"$f":"IF(OR(COUNTIF('IN-DEPTH'!$K$29:$L$30,\"enabled\")>0,COUNTIF(COMPREHENSIVE!$M$33:$M$37,\"enabled\")>0,COUNTIF(COMPREHENSIVE!$P$33:$Q$37,\"enabled\")>0),1,0)","v":0}]
[null,null,null,null,null,null,null,null,null,null,"All Employees",null,null,null,"Leaders",null,null,null,"Executives",null,null,null,null,null,null,{"$f":"IF(OR(COUNTIF('IN-DEPTH'!$K$29:$L$30,\"enabled\")>0,COUNTIF(COMPREHENSIVE!$M$33:$M$37,\"enabled\")>0,COUNTIF(COMPREHENSIVE!$P$33:$Q$37,\"enabled\")>0),1,0)","v":0}]
[null,null,null,null,null,null,null,null,null,null,null,null,null,null,null,null,null,null,null,null,null,null,null,null,null,{"$f":"IF(OR(COUNTIF('IN-DEPTH'!$K$29:$L$30,\"enabled\")>0,COUNTIF(COMPREHENSIVE!$M$33:$M$37,\"enabled\")>0,COUNTIF(COMPREHENSIVE!$P$33:$Q$37,\"enabled\")>0),1,0)","v":0}]
[null,null,"All","Leaders","Exec.",null,null,null,null,null,{"$f":"CONCATENATE(TEXT(FOUNDATIONAL!P114,0),\" Average Years of Service\")","v":"0 Average Years of Service"},null,null,null,{"$f":"CONCATENATE(TEXT('IN-DEPTH'!P155,0),\" Leader Avg. Years of Service\")","v":"0 Leader Avg. Years of Service"},null,null,null,{"$f":"CONCATENATE(TEXT('IN-DEPTH'!P161,0),\" Executive Avg. Years of Service\")","v":"0 Executive Avg. Years of Service"},null,null,null,null,null,null,{"$f":"IF(OR(COUNTIF('IN-DEPTH'!$K$29:$L$30,\"enabled\")>0),1,0)","v":0}]
[null,null,null,null,null,null,null,null,null,null,null,null,null,null,null,null,null,null,null,null,null,null,null,null,null,{"$f":"IF(OR(COUNTIF('IN-DEPTH'!$K$29:$L$30,\"enabled\")>0),1,0)","v":0}]
[null,null,null,null,null,null,null,null,"Males",null,{"$f":"IF(COMPREHENSIVE!P1360=\"\",\"\",COMPREHENSIVE!P1360)","v":""},{"$f":"K321","v":""},null,null,{"$f":"IF(COMPREHENSIVE!P1363=\"\",\"\",COMPREHENSIVE!P1363)","v":""},{"$f":"O321","v":""},null,null,{"$f":"IF(COMPREHENSIVE!P1366=\"\",\"\",COMPREHENSIVE!P1366)","v":""},{"$f":"S321","v":""},null,null,null,null,null,{"$f":"IF(OR(COUNTIF(COMPREHENSIVE!$M$35:$M$35,\"enabled\")>0,COUNTIF(COMPREHENSIVE!$P$35:$Q$35,\"enabled\")>0),1,0)","v":0}]
[null,null,null,null,null,null,null,null,"Females",null,{"$f":"IF(COMPREHENSIVE!P1361=\"\",\"\",COMPREHENSIVE!P1361)","v":""},{"$f":"K322","v":""},null,null,{"$f":"IF(COMPREHENSIVE!P1364=\"\",\"\",COMPREHENSIVE!P1364)","v":""},{"$f":"O322","v":""},null,null,{"$f":"IF(COMPREHENSIVE!P1367=\"\",\"\",COMPREHENSIVE!P1367)","v":""},{"$f":"S322","v":""},null,null,null,null,null,{"$f":"IF(OR(COUNTIF(COMPREHENSIVE!$M$35:$M$35,\"enabled\")>0,COUNTIF(COMPREHENSIVE!$P$35:$Q$35,\"enabled\")>0),1,0)","v":0}]
[null,null,null,null,null,null,null,null,null,null,null,null,null,null,null,null,null,null,null,null,null,null,null,null,null,{"$f":"IF(OR(COUNTIF(COMPREHENSIVE!$M$35:$M$35,\"enabled\")>0,COUNTIF(COMPREHENSIVE!$P$35:$Q$35,\"enabled\")>0),1,0)","v":0}]
[null,null,null,null,null,null,null,null,"Minority",null,{"$f":"IF(COMPREHENSIVE!P1372=\"\",\"\",COMPREHENSIVE!P1372)","v":""},{"$f":"K324","v":""},null,null,{"$f":"IF(COMPREHENSIVE!P1375=\"\",\"\",COMPREHENSIVE!P1375)","v":""},{"$f":"O324","v":""},null,null,{"$f":"IF(COMPREHENSIVE!P1378=\"\",\"\",COMPREHENSIVE!P1378)","v":""},{"$f":"S324","v":""},null,null,null,null,null,{"$f":"IF(OR(COUNTIF(COMPREHENSIVE!$M$36:$M$36,\"enabled\")>0,COUNTIF(COMPREHENSIVE!$P$36:$Q$36,\"enabled\")>0),1,0)","v":0}]
[null,null,null,null,null,null,null,null,"Non-Minority",null,{"$f":"IF(COMPREHENSIVE!P1373=\"\",\"\",COMPREHENSIVE!P1373)","v":""},{"$f":"K325","v":""},null,null,{"$f":"IF(COMPREHENSIVE!P1376=\"\",\"\",COMPREHENSIVE!P1376)","v":""},{"$f":"O325","v":""},null,null,{"$f":"IF(COMPREHENSIVE!P1379=\"\",\"\",COMPREHENSIVE!P1379)","v":""},{"$f":"S325","v":""},null,null,null,null,null,{"$f":"IF(OR(COUNTIF(COMPREHENSIVE!$M$36:$M$36,\"enabled\")>0,COUNTIF(COMPREHENSIVE!$P$36:$Q$36,\"enabled\")>0),1,0)","v":0}]
[null,null,null,null,null,null,null,null,null,null,null,null,null,null,null,null,null,null,null,null,null,null,null,null,null,{"$f":"IF(OR(COUNTIF(COMPREHENSIVE!$M$36:$M$36,\"enabled\")>0,COUNTIF(COMPREHENSIVE!$P$36:$Q$36,\"enabled\")>0),1,0)","v":0}]
[null,null,null,null,null,null,null,null," Individuals with Disabilities",null,{"$f":"IF(COMPREHENSIVE!P1384=\"\",\"\",COMPREHENSIVE!P1384)","v":""},{"$f":"K327","v":""},null,null,{"$f":"IF(COMPREHENSIVE!P1387=\"\",\"\",COMPREHENSIVE!P1387)","v":""},{"$f":"O327","v":""},null,null,{"$f":"IF(COMPREHENSIVE!P1390=\"\",\"\",COMPREHENSIVE!P1390)","v":""},{"$f":"S327","v":""},null,null,null,null,null,{"$f":"IF(OR(COUNTIF(COMPREHENSIVE!$M$37:$M$37,\"enabled\")>0,COUNTIF(COMPREHENSIVE!$P$37:$Q$37,\"enabled\")>0),1,0)","v":0}]
[null,null,null,null,null,null,null,null,"Veterans",null,{"$f":"IF(COMPREHENSIVE!P1385=\"\",\"\",COMPREHENSIVE!P1385)","v":""},{"$f":"K328","v":""},null,null,{"$f":"IF(COMPREHENSIVE!P1388=\"\",\"\",COMPREHENSIVE!P1388)","v":""},{"$f":"O328","v":""},null,null,{"$f":"IF(COMPREHENSIVE!P1391=\"\",\"\",COMPREHENSIVE!P1391)","v":""},{"$f":"S328","v":""},null,null,null,null,null,{"$f":"IF(OR(COUNTIF(COMPREHENSIVE!$M$37:$M$37,\"enabled\")>0,COUNTIF(COMPREHENSIVE!$P$37:$Q$37,\"enabled\")>0),1,0)","v":0}]
[null,null,null,null,null,null,null,null,null,null,null,null,null,null,null,null,null,null,null,null,null,null,null,null,null,{"$f":"IF(OR(COUNTIF(COMPREHENSIVE!$M$37:$M$37,\"enabled\")>0,COUNTIF(COMPREHENSIVE!$P$37:$Q$37,\"enabled\")>0),1,0)","v":0}]
[null,null,null,null,null,null,"Officials and Administrators",null,null,null,{"$f":"IF(COMPREHENSIVE!P1273=\"\",\"\",COMPREHENSIVE!P1273)","v":""},{"$f":"K330","v":""},null,null,{"$f":"IF(COMPREHENSIVE!P1284=\"\",\"\",COMPREHENSIVE!P1284)","v":""},{"$f":"O330","v":""},null,null,{"$f":"IF(COMPREHENSIVE!P1295=\"\",\"\",COMPREHENSIVE!P1295)","v":""},{"$f":"S330","v":""},null,null,null,null,null,{"$f":"IF(OR(COUNTIF(COMPREHENSIVE!$M$33:$M$33,\"enabled\")>0,COUNTIF(COMPREHENSIVE!$P$33:$Q$33,\"enabled\")>0),1,0)","v":0}]
[null,null,null,null,null,null,"Professionals",null,null,null,{"$f":"IF(COMPREHENSIVE!P1274=\"\",\"\",COMPREHENSIVE!P1274)","v":""},{"$f":"K331","v":""},null,null,{"$f":"IF(COMPREHENSIVE!P1285=\"\",\"\",COMPREHENSIVE!P1285)","v":""},{"$f":"O331","v":""},null,null,{"$f":"IF(COMPREHENSIVE!P1296=\"\",\"\",COMPREHENSIVE!P1296)","v":""},{"$f":"S331","v":""},null,null,null,null,null,{"$f":"IF(OR(COUNTIF(COMPREHENSIVE!$M$33:$M$33,\"enabled\")>0,COUNTIF(COMPREHENSIVE!$P$33:$Q$33,\"enabled\")>0),1,0)","v":0}]
[null,null,null,null,null,null,"Technicians",null,null,null,{"$f":"IF(COMPREHENSIVE!P1275=\"\",\"\",COMPREHENSIVE!P1275)","v":""},"",null,null,{"$f":"IF(COMPREHENSIVE!P1286=\"\",\"\",COMPREHENSIVE!P1286)","v":""},"",null,null,{"$f":"IF(COMPREHENSIVE!P1297=\"\",\"\",COMPREHENSIVE!P1297)","v":""},"",null,null,null,null,null,{"$f":"IF(OR(COUNTIF(COMPREHENSIVE!$M$33:$M$33,\"enabled\")>0,COUNTIF(COMPREHENSIVE!$P$33:$Q$33,\"enabled\")>0),1,0)","v":0}]
[null,null,null,null,null,null,"Protective Service Workers",null,null,null,{"$f":"IF(COMPREHENSIVE!P1276=\"\",\"\",COMPREHENSIVE!P1276)","v":""},"",null,null,{"$f":"IF(COMPREHENSIVE!P1287=\"\",\"\",COMPREHENSIVE!P1287)","v":""},"",null,null,{"$f":"IF(COMPREHENSIVE!P1298=\"\",\"\",COMPREHENSIVE!P1298)","v":""},"",null,null,null,null,null,{"$f":"IF(OR(COUNTIF(COMPREHENSIVE!$M$33:$M$33,\"enabled\")>0,COUNTIF(COMPREHENSIVE!$P$33:$Q$33,\"enabled\")>0),1,0)","v":0}]
[null,null,null,null,null,null,"Paraprofessionals",null,null,null,{"$f":"IF(COMPREHENSIVE!P1277=\"\",\"\",COMPREHENSIVE!P1277)","v":""},"",null,null,{"$f":"IF(COMPREHENSIVE!P1288=\"\",\"\",COMPREHENSIVE!P1288)","v":""},"",null,null,{"$f":"IF(COMPREHENSIVE!P1299=\"\",\"\",COMPREHENSIVE!P1299)","v":""},"",null,null,null,null,null,{"$f":"IF(OR(COUNTIF(COMPREHENSIVE!$M$33:$M$33,\"enabled\")>0,COUNTIF(COMPREHENSIVE!$P$33:$Q$33,\"enabled\")>0),1,0)","v":0}]
[null,null,null,null,null,null,"Administrative Support",null,null,null,{"$f":"IF(COMPREHENSIVE!P1278=\"\",\"\",COMPREHENSIVE!P1278)","v":""},"",null,null,{"$f":"IF(COMPREHENSIVE!P1289=\"\",\"\",COMPREHENSIVE!P1289)","v":""},"",null,null,{"$f":"IF(COMPREHENSIVE!P1300=\"\",\"\",COMPREHENSIVE!P1300)","v":""},"",null,null,null,null,null,{"$f":"IF(OR(COUNTIF(COMPREHENSIVE!$M$33:$M$33,\"enabled\")>0,COUNTIF(COMPREHENSIVE!$P$33:$Q$33,\"enabled\")>0),1,0)","v":0}]
[null,null,null,null,null,null,"Skilled Craft Workers",null,null,null,{"$f":"IF(COMPREHENSIVE!P1279=\"\",\"\",COMPREHENSIVE!P1279)","v":""},"",null,null,{"$f":"IF(COMPREHENSIVE!P1290=\"\",\"\",COMPREHENSIVE!P1290)","v":""},"",null,null,{"$f":"IF(COMPREHENSIVE!P1301=\"\",\"\",COMPREHENSIVE!P1301)","v":""},"",null,null,null,null,null,{"$f":"IF(OR(COUNTIF(COMPREHENSIVE!$M$33:$M$33,\"enabled\")>0,COUNTIF(COMPREHENSIVE!$P$33:$Q$33,\"enabled\")>0),1,0)","v":0}]
[null,null,null,null,null,null,"Service/Maintenance",null,null,null,{"$f":"IF(COMPREHENSIVE!P1280=\"\",\"\",COMPREHENSIVE!P1280)","v":""},"",null,null,{"$f":"IF(COMPREHENSIVE!P1291=\"\",\"\",COMPREHENSIVE!P1291)","v":""},"",null,null,{"$f":"IF(COMPREHENSIVE!P1302=\"\",\"\",COMPREHENSIVE!P1302)","v":""},"",null,null,null,null,null,{"$f":"IF(OR(COUNTIF(COMPREHENSIVE!$M$33:$M$33,\"enabled\")>0,COUNTIF(COMPREHENSIVE!$P$33:$Q$33,\"enabled\")>0),1,0)","v":0}]
[null,null,null,null,null,null,"Faculty",null,null,null,{"$f":"IF(COMPREHENSIVE!P1281=\"\",\"\",COMPREHENSIVE!P1281)","v":""},"",null,null,{"$f":"IF(COMPREHENSIVE!P1292=\"\",\"\",COMPREHENSIVE!P1292)","v":""},"",null,null,{"$f":"IF(COMPREHENSIVE!P1303=\"\",\"\",COMPREHENSIVE!P1303)","v":""},"",null,null,null,null,null,{"$f":"IF(OR(COUNTIF(COMPREHENSIVE!$M$33:$M$33,\"enabled\")>0,COUNTIF(COMPREHENSIVE!$P$33:$Q$33,\"enabled\")>0),1,0)","v":0}]
[null,null,null,null,null,null,"Other",null,null,null,{"$f":"IF(COMPREHENSIVE!P1282=\"\",\"\",COMPREHENSIVE!P1282)","v":""},"",null,null,{"$f":"IF(COMPREHENSIVE!P1293=\"\",\"\",COMPREHENSIVE!P1293)","v":""},"",null,null,{"$f":"IF(COMPREHENSIVE!P1304=\"\",\"\",COMPREHENSIVE!P1304)","v":""},"",null,null,null,null,null,{"$f":"IF(OR(COUNTIF(COMPREHENSIVE!$M$33:$M$33,\"enabled\")>0,COUNTIF(COMPREHENSIVE!$P$33:$Q$33,\"enabled\")>0),1,0)","v":0}]
[null,null,null,null,null,null,null,null,null,null,null,null,null,null,null,null,null,null,null,null,null,null,null,null,null,{"$f":"IF(OR(COUNTIF(COMPREHENSIVE!$M$33:$M$33,\"enabled\")>0,COUNTIF(COMPREHENSIVE!$P$33:$Q$33,\"enabled\")>0),1,0)","v":0}]
[null,null,null,null,null,null,{"$f":"PROFILE!$C$58","v":0},null,null,null,{"$f":"IF(COMPREHENSIVE!P1309=\"\",\"\",COMPREHENSIVE!P1309)","v":""},{"$f":"K341","v":""},null,null,{"$f":"IF(COMPREHENSIVE!P1325=\"\",\"\",COMPREHENSIVE!P1325)","v":""},{"$f":"O341","v":""},null,null,{"$f":"IF(COMPREHENSIVE!P1341=\"\",\"\",COMPREHENSIVE!P1341)","v":""},{"$f":"S341","v":""},null,null,null,null,{"$f":"COUNTIF(G341,\"*\"&PROFILE!$C$58&\"*\")","v":0},{"$f":"IF(AND(OR(COUNTIF(COMPREHENSIVE!$M$34:$M$34,\"enabled\")>0,COUNTIF(COMPREHENSIVE!$P$34:$Q$34,\"enabled\")>0),Y341=1),1,0)","v":0}]
[null,null,null,null,null,null,{"$f":"PROFILE!$C$59","v":0},null,null,null,{"$f":"IF(COMPREHENSIVE!P1310=\"\",\"\",COMPREHENSIVE!P1310)","v":""},{"$f":"K342","v":""},null,null,{"$f":"IF(COMPREHENSIVE!P1326=\"\",\"\",COMPREHENSIVE!P1326)","v":""},{"$f":"O342","v":""},null,null,{"$f":"IF(COMPREHENSIVE!P1342=\"\",\"\",COMPREHENSIVE!P1342)","v":""},{"$f":"S342","v":""},null,null,null,null,{"$f":"COUNTIF(G342,\"*\"&PROFILE!$C$59&\"*\")","v":0},{"$f":"IF(AND(OR(COUNTIF(COMPREHENSIVE!$M$34:$M$34,\"enabled\")>0,COUNTIF(COMPREHENSIVE!$P$34:$Q$34,\"enabled\")>0),Y342=1),1,0)","v":0}]
[null,null,null,null,null,null,{"$f":"PROFILE!$C$60","v":0},null,null,null,{"$f":"IF(COMPREHENSIVE!P1311=\"\",\"\",COMPREHENSIVE!P1311)","v":""},"",null,null,{"$f":"IF(COMPREHENSIVE!P1327=\"\",\"\",COMPREHENSIVE!P1327)","v":""},"",null,null,{"$f":"IF(COMPREHENSIVE!P1343=\"\",\"\",COMPREHENSIVE!P1343)","v":""},"",null,null,null,null,{"$f":"COUNTIF(G343,\"*\"&PROFILE!$C$60&\"*\")","v":0},{"$f":"IF(AND(OR(COUNTIF(COMPREHENSIVE!$M$34:$M$34,\"enabled\")>0,COUNTIF(COMPREHENSIVE!$P$34:$Q$34,\"enabled\")>0),Y343=1),1,0)","v":0}]
[null,null,null,null,null,null,{"$f":"PROFILE!$C$61","v":0},null,null,null,{"$f":"IF(COMPREHENSIVE!P1312=\"\",\"\",COMPREHENSIVE!P1312)","v":""},"",null,null,{"$f":"IF(COMPREHENSIVE!P1328=\"\",\"\",COMPREHENSIVE!P1328)","v":""},"",null,null,{"$f":"IF(COMPREHENSIVE!P1344=\"\",\"\",COMPREHENSIVE!P1344)","v":""},"",null,null,null,null,{"$f":"COUNTIF(G344,\"*\"&PROFILE!$C$61&\"*\")","v":0},{"$f":"IF(AND(OR(COUNTIF(COMPREHENSIVE!$M$34:$M$34,\"enabled\")>0,COUNTIF(COMPREHENSIVE!$P$34:$Q$34,\"enabled\")>0),Y344=1),1,0)","v":0}]
[null,null,null,null,null,null,{"$f":"PROFILE!$C$62","v":0},null,null,null,{"$f":"IF(COMPREHENSIVE!P1313=\"\",\"\",COMPREHENSIVE!P1313)","v":""},"",null,null,{"$f":"IF(COMPREHENSIVE!P1329=\"\",\"\",COMPREHENSIVE!P1329)","v":""},"",null,null,{"$f":"IF(COMPREHENSIVE!P1345=\"\",\"\",COMPREHENSIVE!P1345)","v":""},"",null,null,null,null,{"$f":"COUNTIF(G345,\"*\"&PROFILE!$C$62&\"*\")","v":0},{"$f":"IF(AND(OR(COUNTIF(COMPREHENSIVE!$M$34:$M$34,\"enabled\")>0,COUNTIF(COMPREHENSIVE!$P$34:$Q$34,\"enabled\")>0),Y345=1),1,0)","v":0}]
[null,null,null,null,null,null,{"$f":"PROFILE!$C$63","v":0},null,null,null,{"$f":"IF(COMPREHENSIVE!P1314=\"\",\"\",COMPREHENSIVE!P1314)","v":""},"",null,null,{"$f":"IF(COMPREHENSIVE!P1330=\"\",\"\",COMPREHENSIVE!P1330)","v":""},"",null,null,{"$f":"IF(COMPREHENSIVE!P1346=\"\",\"\",COMPREHENSIVE!P1346)","v":""},"",null,null,null,null,{"$f":"COUNTIF(G346,\"*\"&PROFILE!$C$63&\"*\")","v":0},{"$f":"IF(AND(OR(COUNTIF(COMPREHENSIVE!$M$34:$M$34,\"enabled\")>0,COUNTIF(COMPREHENSIVE!$P$34:$Q$34,\"enabled\")>0),Y346=1),1,0)","v":0}]
[null,null,null,null,null,null,{"$f":"PROFILE!$C$64","v":0},null,null,null,{"$f":"IF(COMPREHENSIVE!P1315=\"\",\"\",COMPREHENSIVE!P1315)","v":""},"",null,null,{"$f":"IF(COMPREHENSIVE!P1331=\"\",\"\",COMPREHENSIVE!P1331)","v":""},"",null,null,{"$f":"IF(COMPREHENSIVE!P1347=\"\",\"\",COMPREHENSIVE!P1347)","v":""},"",null,null,null,null,{"$f":"COUNTIF(G347,\"*\"&PROFILE!$C$64&\"*\")","v":0},{"$f":"IF(AND(OR(COUNTIF(COMPREHENSIVE!$M$34:$M$34,\"enabled\")>0,COUNTIF(COMPREHENSIVE!$P$34:$Q$34,\"enabled\")>0),Y347=1),1,0)","v":0}]
[null,null,null,null,null,null,{"$f":"PROFILE!$C$65","v":0},null,null,null,{"$f":"IF(COMPREHENSIVE!P1316=\"\",\"\",COMPREHENSIVE!P1316)","v":""},"",null,null,{"$f":"IF(COMPREHENSIVE!P1332=\"\",\"\",COMPREHENSIVE!P1332)","v":""},"",null,null,{"$f":"IF(COMPREHENSIVE!P1348=\"\",\"\",COMPREHENSIVE!P1348)","v":""},"",null,null,null,null,{"$f":"COUNTIF(G348,\"*\"&PROFILE!$C$65&\"*\")","v":0},{"$f":"IF(AND(OR(COUNTIF(COMPREHENSIVE!$M$34:$M$34,\"enabled\")>0,COUNTIF(COMPREHENSIVE!$P$34:$Q$34,\"enabled\")>0),Y348=1),1,0)","v":0}]
[null,null,null,null,null,null,{"$f":"PROFILE!$C$66","v":0},null,null,null,{"$f":"IF(COMPREHENSIVE!P1317=\"\",\"\",COMPREHENSIVE!P1317)","v":""},"",null,null,{"$f":"IF(COMPREHENSIVE!P1333=\"\",\"\",COMPREHENSIVE!P1333)","v":""},"",null,null,{"$f":"IF(COMPREHENSIVE!P1349=\"\",\"\",COMPREHENSIVE!P1349)","v":""},"",null,null,null,null,{"$f":"COUNTIF(G349,\"*\"&PROFILE!$C$66&\"*\")","v":0},{"$f":"IF(AND(OR(COUNTIF(COMPREHENSIVE!$M$34:$M$34,\"enabled\")>0,COUNTIF(COMPREHENSIVE!$P$34:$Q$34,\"enabled\")>0),Y349=1),1,0)","v":0}]
[null,null,null,null,null,null,{"$f":"PROFILE!$C$67","v":0},null,null,null,{"$f":"IF(COMPREHENSIVE!P1318=\"\",\"\",COMPREHENSIVE!P1318)","v":""},"",null,null,{"$f":"IF(COMPREHENSIVE!P1334=\"\",\"\",COMPREHENSIVE!P1334)","v":""},"",null,null,{"$f":"IF(COMPREHENSIVE!P1350=\"\",\"\",COMPREHENSIVE!P1350)","v":""},"",null,null,null,null,{"$f":"COUNTIF(G350,\"*\"&PROFILE!$C$67&\"*\")","v":0},{"$f":"IF(AND(OR(COUNTIF(COMPREHENSIVE!$M$34:$M$34,\"enabled\")>0,COUNTIF(COMPREHENSIVE!$P$34:$Q$34,\"enabled\")>0),Y350=1),1,0)","v":0}]
[null,null,null,null,null,null,{"$f":"PROFILE!$C$68","v":0},null,null,null,{"$f":"IF(COMPREHENSIVE!P1319=\"\",\"\",COMPREHENSIVE!P1319)","v":""},"",null,null,{"$f":"IF(COMPREHENSIVE!P1335=\"\",\"\",COMPREHENSIVE!P1335)","v":""},"",null,null,{"$f":"IF(COMPREHENSIVE!P1351=\"\",\"\",COMPREHENSIVE!P1351)","v":""},"",null,null,null,null,{"$f":"COUNTIF(G351,\"*\"&PROFILE!$C$68&\"*\")","v":0},{"$f":"IF(AND(OR(COUNTIF(COMPREHENSIVE!$M$34:$M$34,\"enabled\")>0,COUNTIF(COMPREHENSIVE!$P$34:$Q$34,\"enabled\")>0),Y351=1),1,0)","v":0}]
[null,null,null,null,null,null,{"$f":"PROFILE!$C$69","v":0},null,null,null,{"$f":"IF(COMPREHENSIVE!P1320=\"\",\"\",COMPREHENSIVE!P1320)","v":""},"",null,null,{"$f":"IF(COMPREHENSIVE!P1336=\"\",\"\",COMPREHENSIVE!P1336)","v":""},"",null,null,{"$f":"IF(COMPREHENSIVE!P1352=\"\",\"\",COMPREHENSIVE!P1352)","v":""},"",null,null,null,null,{"$f":"COUNTIF(G352,\"*\"&PROFILE!$C$69&\"*\")","v":0},{"$f":"IF(AND(OR(COUNTIF(COMPREHENSIVE!$M$34:$M$34,\"enabled\")>0,COUNTIF(COMPREHENSIVE!$P$34:$Q$34,\"enabled\")>0),Y352=1),1,0)","v":0}]
[null,null,null,null,null,null,{"$f":"PROFILE!$C$70","v":0},null,null,null,{"$f":"IF(COMPREHENSIVE!P1321=\"\",\"\",COMPREHENSIVE!P1321)","v":""},"",null,null,{"$f":"IF(COMPREHENSIVE!P1337=\"\",\"\",COMPREHENSIVE!P1337)","v":""},"",null,null,{"$f":"IF(COMPREHENSIVE!P1353=\"\",\"\",COMPREHENSIVE!P1353)","v":""},"",null,null,null,null,{"$f":"COUNTIF(G353,\"*\"&PROFILE!$C$70&\"*\")","v":0},{"$f":"IF(AND(OR(COUNTIF(COMPREHENSIVE!$M$34:$M$34,\"enabled\")>0,COUNTIF(COMPREHENSIVE!$P$34:$Q$34,\"enabled\")>0),Y353=1),1,0)","v":0}]
[null,null,null,null,null,null,{"$f":"PROFILE!$C$71","v":0},null,null,null,{"$f":"IF(COMPREHENSIVE!P1322=\"\",\"\",COMPREHENSIVE!P1322)","v":""},"",null,null,{"$f":"IF(COMPREHENSIVE!P1338=\"\",\"\",COMPREHENSIVE!P1338)","v":""},"",null,null,{"$f":"IF(COMPREHENSIVE!P1354=\"\",\"\",COMPREHENSIVE!P1354)","v":""},"",null,null,null,null,{"$f":"COUNTIF(G354,\"*\"&PROFILE!$C$71&\"*\")","v":0},{"$f":"IF(AND(OR(COUNTIF(COMPREHENSIVE!$M$34:$M$34,\"enabled\")>0,COUNTIF(COMPREHENSIVE!$P$34:$Q$34,\"enabled\")>0),Y354=1),1,0)","v":0}]
[null,null,null,null,null,null,{"$f":"PROFILE!$C$72","v":0},null,null,null,{"$f":"IF(COMPREHENSIVE!P1323=\"\",\"\",COMPREHENSIVE!P1323)","v":""},"",null,null,{"$f":"IF(COMPREHENSIVE!P1339=\"\",\"\",COMPREHENSIVE!P1339)","v":""},"",null,null,{"$f":"IF(COMPREHENSIVE!P1355=\"\",\"\",COMPREHENSIVE!P1355)","v":""},"",null,null,null,null,{"$f":"COUNTIF(G355,\"*\"&PROFILE!$C$72&\"*\")","v":0},{"$f":"IF(AND(OR(COUNTIF(COMPREHENSIVE!$M$34:$M$34,\"enabled\")>0,COUNTIF(COMPREHENSIVE!$P$34:$Q$34,\"enabled\")>0),Y355=1),1,0)","v":0}]
[null,null,null,null,null,null,null,null,null,null,null,null,null,null,null,null,null,null,null,null,null,null,null,null,null,{"$f":"IF(OR(COUNTIF(COMPREHENSIVE!$M$34:$M$34,\"enabled\")>0,COUNTIF(COMPREHENSIVE!$P$34:$Q$34,\"enabled\")>0),1,0)","v":0}]
[null,null,null,null,null,null,"Internal Mobility (Internal Promotions and Transfers)",null,null,null,null,null,null,null,null,null,null,null,null,null,null,null,null,null,null,{"$f":"IF(OR(COUNTIF('IN-DEPTH'!$K$29:$L$30,\"enabled\")>0,COUNTIF(COMPREHENSIVE!$M$41:$M$45,\"enabled\")>0,COUNTIF(COMPREHENSIVE!$P$41:$Q$45,\"enabled\")>0,COUNTIF(COMPREHENSIVE!$M$49:$M$53,\"enabled\")>0,COUNTIF(COMPREHENSIVE!$P$49:$Q$53,\"enabled\")>0),1,0)","v":0}]
[null,null,null,null,null,null,null,null,null,null,null,null,null,null,null,null,null,null,null,null,null,null,null,null,null,{"$f":"IF(OR(COUNTIF('IN-DEPTH'!$K$29:$L$30,\"enabled\")>0,COUNTIF(COMPREHENSIVE!$M$41:$M$45,\"enabled\")>0,COUNTIF(COMPREHENSIVE!$P$41:$Q$45,\"enabled\")>0,COUNTIF(COMPREHENSIVE!$M$49:$M$53,\"enabled\")>0,COUNTIF(COMPREHENSIVE!$P$49:$Q$53,\"enabled\")>0),1,0)","v":0}]
[null,null,null,null,null,null,null,null,null,null,null,null,null,null,null,null,null,null,null,null,null,null,null,null,null,{"$f":"IF(OR(COUNTIF('IN-DEPTH'!$K$29:$L$30,\"enabled\")>0,COUNTIF(COMPREHENSIVE!$M$41:$M$45,\"enabled\")>0,COUNTIF(COMPREHENSIVE!$P$41:$Q$45,\"enabled\")>0,COUNTIF(COMPREHENSIVE!$M$49:$M$53,\"enabled\")>0,COUNTIF(COMPREHENSIVE!$P$49:$Q$53,\"enabled\")>0),1,0)","v":0}]
[null,null,null,null,null,null,null,null,null,null,"All Employees",null,null,null,"Leaders",null,null,null,"Executives",null,null,null,null,null,null,{"$f":"IF(OR(COUNTIF('IN-DEPTH'!$K$29:$L$30,\"enabled\")>0,COUNTIF(COMPREHENSIVE!$M$41:$M$45,\"enabled\")>0,COUNTIF(COMPREHENSIVE!$P$41:$Q$45,\"enabled\")>0,COUNTIF(COMPREHENSIVE!$M$49:$M$53,\"enabled\")>0,COUNTIF(COMPREHENSIVE!$P$49:$Q$53,\"enabled\")>0),1,0)","v":0}]
[null,null,null,null,null,null,null,null,null,null,null,null,null,null,null,null,null,null,null,null,null,null,null,null,null,{"$f":"IF(OR(COUNTIF('IN-DEPTH'!$K$29:$L$30,\"enabled\")>0,COUNTIF(COMPREHENSIVE!$M$41:$M$45,\"enabled\")>0,COUNTIF(COMPREHENSIVE!$P$41:$Q$45,\"enabled\")>0,COUNTIF(COMPREHENSIVE!$M$49:$M$53,\"enabled\")>0,COUNTIF(COMPREHENSIVE!$P$49:$Q$53,\"enabled\")>0),1,0)","v":0}]
[null,null,null,null,null,null,null,null,null,null,{"$f":"IFERROR((FOUNDATIONAL!P115+FOUNDATIONAL!P116)/FOUNDATIONAL!P29,0)","v":0},null,null,null,{"$f":"IFERROR(('IN-DEPTH'!P156+'IN-DEPTH'!P157)/'IN-DEPTH'!P64,0)","v":0},null,null,null,{"$f":"IFERROR(('IN-DEPTH'!P162+'IN-DEPTH'!P163)/FOUNDATIONAL!P38,0)","v":0},null,null,null,null,null,null,{"$f":"IF(OR(COUNTIF('IN-DEPTH'!$K$29:$L$30,\"enabled\")>0),1,0)","v":0}]
[null,null,null,null,null,null,null,null,null,null,null,null,null,null,null,null,null,null,null,null,null,null,null,null,null,{"$f":"IF(OR(COUNTIF('IN-DEPTH'!$K$29:$L$30,\"enabled\")>0),1,0)","v":0}]
[null,null,"All","Leaders","Exec.",null,null,null,null,null,"Overall Internal Mobility",null,null,null,"Leader Internal Mobility",null,null,null,"Executive Internal Mobility",null,null,null,null,null,null,{"$f":"IF(OR(COUNTIF('IN-DEPTH'!$K$29:$L$30,\"enabled\")>0),1,0)","v":0}]
[null,null,null,null,null,null,null,null,null,null,null,null,null,null,null,null,null,null,null,null,null,null,null,null,null,{"$f":"IF(OR(COUNTIF('IN-DEPTH'!$K$29:$L$30,\"enabled\")>0),1,0)","v":0}]
[null,null,null,null,null,null,null,null,"Males",null,{"$f":"IF(AND(COMPREHENSIVE!$P1483=\"\",COMPREHENSIVE!$P1606=\"\"),\"\",COMPREHENSIVE!$P1483+COMPREHENSIVE!$P1606)","v":""},{"$f":"K366","v":""},null,null,{"$f":"IF(AND(COMPREHENSIVE!$P1486=\"\",COMPREHENSIVE!$P1609=\"\"),\"\",COMPREHENSIVE!$P1486+COMPREHENSIVE!$P1609)","v":""},{"$f":"O366","v":""},null,null,{"$f":"IF(AND(COMPREHENSIVE!$P1489=\"\",COMPREHENSIVE!$P1612=\"\"),\"\",COMPREHENSIVE!$P1489+COMPREHENSIVE!$P1612)","v":""},{"$f":"S366","v":""},null,null,null,null,null,{"$f":"IF(OR(COUNTIF(COMPREHENSIVE!$M$43:$M$43,\"enabled\")>0,COUNTIF(COMPREHENSIVE!$P$43:$Q$43,\"enabled\")>0,COUNTIF(COMPREHENSIVE!$M$51:$M$51,\"enabled\")>0,COUNTIF(COMPREHENSIVE!$P$51:$Q$51,\"enabled\")>0),1,0)","v":0}]
[null,null,null,null,null,null,null,null,"Females",null,{"$f":"IF(AND(COMPREHENSIVE!$P1484=\"\",COMPREHENSIVE!$P1607=\"\"),\"\",COMPREHENSIVE!$P1484+COMPREHENSIVE!$P1607)","v":""},{"$f":"K367","v":""},null,null,{"$f":"IF(AND(COMPREHENSIVE!$P1487=\"\",COMPREHENSIVE!$P1610=\"\"),\"\",COMPREHENSIVE!$P1487+COMPREHENSIVE!$P1610)","v":""},{"$f":"O367","v":""},null,null,{"$f":"IF(AND(COMPREHENSIVE!$P1490=\"\",COMPREHENSIVE!$P1613=\"\"),\"\",COMPREHENSIVE!$P1490+COMPREHENSIVE!$P1613)","v":""},{"$f":"S367","v":""},null,null,null,null,null,{"$f":"IF(OR(COUNTIF(COMPREHENSIVE!$M$43:$M$43,\"enabled\")>0,COUNTIF(COMPREHENSIVE!$P$43:$Q$43,\"enabled\")>0,COUNTIF(COMPREHENSIVE!$M$51:$M$51,\"enabled\")>0,COUNTIF(COMPREHENSIVE!$P$51:$Q$51,\"enabled\")>0),1,0)","v":0}]
[null,null,null,null,null,null,null,null,null,null,null,null,null,null,null,null,null,null,null,null,null,null,null,null,null,{"$f":"IF(OR(COUNTIF(COMPREHENSIVE!$M$43:$M$43,\"enabled\")>0,COUNTIF(COMPREHENSIVE!$P$43:$Q$43,\"enabled\")>0,COUNTIF(COMPREHENSIVE!$M$51:$M$51,\"enabled\")>0,COUNTIF(COMPREHENSIVE!$P$51:$Q$51,\"enabled\")>0),1,0)","v":0}]
[null,null,null,null,null,null,null,null,"Minority",null,{"$f":"IF(AND(COMPREHENSIVE!$P1495=\"\",COMPREHENSIVE!$P1618=\"\"),\"\",COMPREHENSIVE!$P1495+COMPREHENSIVE!$P1618)","v":""},{"$f":"K369","v":""},null,null,{"$f":"IF(AND(COMPREHENSIVE!$P1498=\"\",COMPREHENSIVE!$P1621=\"\"),\"\",COMPREHENSIVE!$P1498+COMPREHENSIVE!$P1621)","v":""},{"$f":"O369","v":""},null,null,{"$f":"IF(AND(COMPREHENSIVE!$P1501=\"\",COMPREHENSIVE!$P1624=\"\"),\"\",COMPREHENSIVE!$P1501+COMPREHENSIVE!$P1624)","v":""},{"$f":"S369","v":""},null,null,null,null,null,{"$f":"IF(OR(COUNTIF(COMPREHENSIVE!$M$44:$M$44,\"enabled\")>0,COUNTIF(COMPREHENSIVE!$P$44:$Q$44,\"enabled\")>0,COUNTIF(COMPREHENSIVE!$M$52:$M$52,\"enabled\")>0,COUNTIF(COMPREHENSIVE!$P$52:$Q$52,\"enabled\")>0),1,0)","v":0}]
[null,null,null,null,null,null,null,null,"Non-Minority",null,{"$f":"IF(AND(COMPREHENSIVE!$P1496=\"\",COMPREHENSIVE!$P1619=\"\"),\"\",COMPREHENSIVE!$P1496+COMPREHENSIVE!$P1619)","v":""},{"$f":"K370","v":""},null,null,{"$f":"IF(AND(COMPREHENSIVE!$P1499=\"\",COMPREHENSIVE!$P1622=\"\"),\"\",COMPREHENSIVE!$P1499+COMPREHENSIVE!$P1622)","v":""},{"$f":"O370","v":""},null,null,{"$f":"IF(AND(COMPREHENSIVE!$P1502=\"\",COMPREHENSIVE!$P1625=\"\"),\"\",COMPREHENSIVE!$P1502+COMPREHENSIVE!$P1625)","v":""},{"$f":"S370","v":""},null,null,null,null,null,{"$f":"IF(OR(COUNTIF(COMPREHENSIVE!$M$44:$M$44,\"enabled\")>0,COUNTIF(COMPREHENSIVE!$P$44:$Q$44,\"enabled\")>0,COUNTIF(COMPREHENSIVE!$M$52:$M$52,\"enabled\")>0,COUNTIF(COMPREHENSIVE!$P$52:$Q$52,\"enabled\")>0),1,0)","v":0}]
[null,null,null,null,null,null,null,null,null,null,null,null,null,null,null,null,null,null,null,null,null,null,null,null,null,{"$f":"IF(OR(COUNTIF(COMPREHENSIVE!$M$44:$M$44,\"enabled\")>0,COUNTIF(COMPREHENSIVE!$P$44:$Q$44,\"enabled\")>0,COUNTIF(COMPREHENSIVE!$M$52:$M$52,\"enabled\")>0,COUNTIF(COMPREHENSIVE!$P$52:$Q$52,\"enabled\")>0),1,0)","v":0}]
[null,null,null,null,null,null,null,null," Individuals with Disabilities",null,{"$f":"IF(AND(COMPREHENSIVE!$P1507=\"\",COMPREHENSIVE!$P1630=\"\"),\"\",COMPREHENSIVE!$P1507+COMPREHENSIVE!$P1630)","v":""},{"$f":"K372","v":""},null,null,{"$f":"IF(AND(COMPREHENSIVE!$P1510=\"\",COMPREHENSIVE!$P1633=\"\"),\"\",COMPREHENSIVE!$P1510+COMPREHENSIVE!$P1633)","v":""},{"$f":"O372","v":""},null,null,{"$f":"IF(AND(COMPREHENSIVE!$P1513=\"\",COMPREHENSIVE!$P1636=\"\"),\"\",COMPREHENSIVE!$P1513+COMPREHENSIVE!$P1636)","v":""},{"$f":"S372","v":""},null,null,null,null,null,{"$f":"IF(OR(COUNTIF(COMPREHENSIVE!$M$45:$M$45,\"enabled\")>0,COUNTIF(COMPREHENSIVE!$P$45:$Q$45,\"enabled\")>0,COUNTIF(COMPREHENSIVE!$M$53:$M$53,\"enabled\")>0,COUNTIF(COMPREHENSIVE!$P$53:$Q$53,\"enabled\")>0),1,0)","v":0}]
[null,null,null,null,null,null,null,null,"Veterans",null,{"$f":"IF(AND(COMPREHENSIVE!$P1508=\"\",COMPREHENSIVE!$P1631=\"\"),\"\",COMPREHENSIVE!$P1508+COMPREHENSIVE!$P1631)","v":""},{"$f":"K373","v":""},null,null,{"$f":"IF(AND(COMPREHENSIVE!$P1511=\"\",COMPREHENSIVE!$P1634=\"\"),\"\",COMPREHENSIVE!$P1511+COMPREHENSIVE!$P1634)","v":""},{"$f":"O373","v":""},null,null,{"$f":"IF(AND(COMPREHENSIVE!$P1514=\"\",COMPREHENSIVE!$P1637=\"\"),\"\",COMPREHENSIVE!$P1514+COMPREHENSIVE!$P1637)","v":""},{"$f":"S373","v":""},null,null,null,null,null,{"$f":"IF(OR(COUNTIF(COMPREHENSIVE!$M$45:$M$45,\"enabled\")>0,COUNTIF(COMPREHENSIVE!$P$45:$Q$45,\"enabled\")>0,COUNTIF(COMPREHENSIVE!$M$53:$M$53,\"enabled\")>0,COUNTIF(COMPREHENSIVE!$P$53:$Q$53,\"enabled\")>0),1,0)","v":0}]
[null,null,null,null,null,null,null,null,null,null,null,null,null,null,null,null,null,null,null,null,null,null,null,null,null,{"$f":"IF(OR(COUNTIF(COMPREHENSIVE!$M$45:$M$45,\"enabled\")>0,COUNTIF(COMPREHENSIVE!$P$45:$Q$45,\"enabled\")>0,COUNTIF(COMPREHENSIVE!$M$53:$M$53,\"enabled\")>0,COUNTIF(COMPREHENSIVE!$P$53:$Q$53,\"enabled\")>0),1,0)","v":0}]
[null,null,null,null,null,null,"Officials and Administrators",null,null,null,{"$f":"IF(AND(COMPREHENSIVE!$P1396=\"\",COMPREHENSIVE!$P1519=\"\"),\"\",COMPREHENSIVE!$P1392+COMPREHENSIVE!$P1519)","v":""},{"$f":"K375","v":""},null,null,{"$f":"IF(AND(COMPREHENSIVE!$P1407=\"\",COMPREHENSIVE!$P1530=\"\"),\"\",COMPREHENSIVE!$P1407+COMPREHENSIVE!$P1530)","v":""},{"$f":"O375","v":""},null,null,{"$f":"IF(AND(COMPREHENSIVE!$P1418=\"\",COMPREHENSIVE!$P1541=\"\"),\"\",COMPREHENSIVE!$P1418+COMPREHENSIVE!$P1541)","v":""},{"$f":"S375","v":""},null,null,null,null,null,{"$f":"IF(OR(COUNTIF(COMPREHENSIVE!$M$41:$M$41,\"enabled\")>0,COUNTIF(COMPREHENSIVE!$P$41:$Q$41,\"enabled\")>0,COUNTIF(COMPREHENSIVE!$M$49:$M$49,\"enabled\")>0,COUNTIF(COMPREHENSIVE!$P$49:$Q$49,\"enabled\")>0),1,0)","v":0}]
[null,null,null,null,null,null,"Professionals",null,null,null,{"$f":"IF(AND(COMPREHENSIVE!P1397=\"\",COMPREHENSIVE!P1520=\"\"),\"\",COMPREHENSIVE!P1393+COMPREHENSIVE!P1520)","v":""},{"$f":"K376","v":""},null,null,{"$f":"IF(AND(COMPREHENSIVE!$P1408=\"\",COMPREHENSIVE!$P1531=\"\"),\"\",COMPREHENSIVE!$P1408+COMPREHENSIVE!$P1531)","v":""},{"$f":"O376","v":""},null,null,{"$f":"IF(AND(COMPREHENSIVE!$P1419=\"\",COMPREHENSIVE!$P1542=\"\"),\"\",COMPREHENSIVE!$P1419+COMPREHENSIVE!$P1542)","v":""},{"$f":"S376","v":""},null,null,null,null,null,{"$f":"IF(OR(COUNTIF(COMPREHENSIVE!$M$41:$M$41,\"enabled\")>0,COUNTIF(COMPREHENSIVE!$P$41:$Q$41,\"enabled\")>0,COUNTIF(COMPREHENSIVE!$M$49:$M$49,\"enabled\")>0,COUNTIF(COMPREHENSIVE!$P$49:$Q$49,\"enabled\")>0),1,0)","v":0}]
[null,null,null,null,null,null,"Technicians",null,null,null,{"$f":"IF(AND(COMPREHENSIVE!P1398=\"\",COMPREHENSIVE!P1521=\"\"),\"\",COMPREHENSIVE!P1394+COMPREHENSIVE!P1521)","v":""},"",null,null,{"$f":"IF(AND(COMPREHENSIVE!$P1409=\"\",COMPREHENSIVE!$P1532=\"\"),\"\",COMPREHENSIVE!$P1409+COMPREHENSIVE!$P1532)","v":""},"",null,null,{"$f":"IF(AND(COMPREHENSIVE!$P1420=\"\",COMPREHENSIVE!$P1543=\"\"),\"\",COMPREHENSIVE!$P1420+COMPREHENSIVE!$P1543)","v":""},"",null,null,null,null,null,{"$f":"IF(OR(COUNTIF(COMPREHENSIVE!$M$41:$M$41,\"enabled\")>0,COUNTIF(COMPREHENSIVE!$P$41:$Q$41,\"enabled\")>0,COUNTIF(COMPREHENSIVE!$M$49:$M$49,\"enabled\")>0,COUNTIF(COMPREHENSIVE!$P$49:$Q$49,\"enabled\")>0),1,0)","v":0}]
[null,null,null,null,null,null,"Protective Service Workers",null,null,null,{"$f":"IF(AND(COMPREHENSIVE!P1399=\"\",COMPREHENSIVE!P1522=\"\"),\"\",COMPREHENSIVE!P1395+COMPREHENSIVE!P1522)","v":""},"",null,null,{"$f":"IF(AND(COMPREHENSIVE!$P1410=\"\",COMPREHENSIVE!$P1533=\"\"),\"\",COMPREHENSIVE!$P1410+COMPREHENSIVE!$P1533)","v":""},"",null,null,{"$f":"IF(AND(COMPREHENSIVE!$P1421=\"\",COMPREHENSIVE!$P1544=\"\"),\"\",COMPREHENSIVE!$P1421+COMPREHENSIVE!$P1544)","v":""},"",null,null,null,null,null,{"$f":"IF(OR(COUNTIF(COMPREHENSIVE!$M$41:$M$41,\"enabled\")>0,COUNTIF(COMPREHENSIVE!$P$41:$Q$41,\"enabled\")>0,COUNTIF(COMPREHENSIVE!$M$49:$M$49,\"enabled\")>0,COUNTIF(COMPREHENSIVE!$P$49:$Q$49,\"enabled\")>0),1,0)","v":0}]
[null,null,null,null,null,null,"Paraprofessionals",null,null,null,{"$f":"IF(AND(COMPREHENSIVE!P1400=\"\",COMPREHENSIVE!P1523=\"\"),\"\",COMPREHENSIVE!P1396+COMPREHENSIVE!P1523)","v":""},"",null,null,{"$f":"IF(AND(COMPREHENSIVE!$P1411=\"\",COMPREHENSIVE!$P1534=\"\"),\"\",COMPREHENSIVE!$P1411+COMPREHENSIVE!$P1534)","v":""},"",null,null,{"$f":"IF(AND(COMPREHENSIVE!$P1422=\"\",COMPREHENSIVE!$P1545=\"\"),\"\",COMPREHENSIVE!$P1422+COMPREHENSIVE!$P1545)","v":""},"",null,null,null,null,null,{"$f":"IF(OR(COUNTIF(COMPREHENSIVE!$M$41:$M$41,\"enabled\")>0,COUNTIF(COMPREHENSIVE!$P$41:$Q$41,\"enabled\")>0,COUNTIF(COMPREHENSIVE!$M$49:$M$49,\"enabled\")>0,COUNTIF(COMPREHENSIVE!$P$49:$Q$49,\"enabled\")>0),1,0)","v":0}]
[null,null,null,null,null,null,"Administrative Support",null,null,null,{"$f":"IF(AND(COMPREHENSIVE!P1401=\"\",COMPREHENSIVE!P1524=\"\"),\"\",COMPREHENSIVE!P1397+COMPREHENSIVE!P1524)","v":""},"",null,null,{"$f":"IF(AND(COMPREHENSIVE!$P1412=\"\",COMPREHENSIVE!$P1535=\"\"),\"\",COMPREHENSIVE!$P1412+COMPREHENSIVE!$P1535)","v":""},"",null,null,{"$f":"IF(AND(COMPREHENSIVE!$P1423=\"\",COMPREHENSIVE!$P1546=\"\"),\"\",COMPREHENSIVE!$P1423+COMPREHENSIVE!$P1546)","v":""},"",null,null,null,null,null,{"$f":"IF(OR(COUNTIF(COMPREHENSIVE!$M$41:$M$41,\"enabled\")>0,COUNTIF(COMPREHENSIVE!$P$41:$Q$41,\"enabled\")>0,COUNTIF(COMPREHENSIVE!$M$49:$M$49,\"enabled\")>0,COUNTIF(COMPREHENSIVE!$P$49:$Q$49,\"enabled\")>0),1,0)","v":0}]
[null,null,null,null,null,null,"Skilled Craft Workers",null,null,null,{"$f":"IF(AND(COMPREHENSIVE!P1402=\"\",COMPREHENSIVE!P1525=\"\"),\"\",COMPREHENSIVE!P1398+COMPREHENSIVE!P1525)","v":""},"",null,null,{"$f":"IF(AND(COMPREHENSIVE!$P1413=\"\",COMPREHENSIVE!$P1536=\"\"),\"\",COMPREHENSIVE!$P1413+COMPREHENSIVE!$P1536)","v":""},"",null,null,{"$f":"IF(AND(COMPREHENSIVE!$P1424=\"\",COMPREHENSIVE!$P1547=\"\"),\"\",COMPREHENSIVE!$P1424+COMPREHENSIVE!$P1547)","v":""},"",null,null,null,null,null,{"$f":"IF(OR(COUNTIF(COMPREHENSIVE!$M$41:$M$41,\"enabled\")>0,COUNTIF(COMPREHENSIVE!$P$41:$Q$41,\"enabled\")>0,COUNTIF(COMPREHENSIVE!$M$49:$M$49,\"enabled\")>0,COUNTIF(COMPREHENSIVE!$P$49:$Q$49,\"enabled\")>0),1,0)","v":0}]
[null,null,null,null,null,null,"Service/Maintenance",null,null,null,{"$f":"IF(AND(COMPREHENSIVE!P1403=\"\",COMPREHENSIVE!P1526=\"\"),\"\",COMPREHENSIVE!P1399+COMPREHENSIVE!P1526)","v":""},"",null,null,{"$f":"IF(AND(COMPREHENSIVE!$P1414=\"\",COMPREHENSIVE!$P1537=\"\"),\"\",COMPREHENSIVE!$P1414+COMPREHENSIVE!$P1537)","v":""},"",null,null,{"$f":"IF(AND(COMPREHENSIVE!$P1425=\"\",COMPREHENSIVE!$P1548=\"\"),\"\",COMPREHENSIVE!$P1425+COMPREHENSIVE!$P1548)","v":""},"",null,null,null,null,null,{"$f":"IF(OR(COUNTIF(COMPREHENSIVE!$M$41:$M$41,\"enabled\")>0,COUNTIF(COMPREHENSIVE!$P$41:$Q$41,\"enabled\")>0,COUNTIF(COMPREHENSIVE!$M$49:$M$49,\"enabled\")>0,COUNTIF(COMPREHENSIVE!$P$49:$Q$49,\"enabled\")>0),1,0)","v":0}]
[null,null,null,null,null,null,"Faculty",null,null,null,{"$f":"IF(AND(COMPREHENSIVE!P1404=\"\",COMPREHENSIVE!P1527=\"\"),\"\",COMPREHENSIVE!P1400+COMPREHENSIVE!P1527)","v":""},"",null,null,{"$f":"IF(AND(COMPREHENSIVE!$P1415=\"\",COMPREHENSIVE!$P1538=\"\"),\"\",COMPREHENSIVE!$P1415+COMPREHENSIVE!$P1538)","v":""},"",null,null,{"$f":"IF(AND(COMPREHENSIVE!$P1426=\"\",COMPREHENSIVE!$P1549=\"\"),\"\",COMPREHENSIVE!$P1426+COMPREHENSIVE!$P1549)","v":""},"",null,null,null,null,null,{"$f":"IF(OR(COUNTIF(COMPREHENSIVE!$M$41:$M$41,\"enabled\")>0,COUNTIF(COMPREHENSIVE!$P$41:$Q$41,\"enabled\")>0,COUNTIF(COMPREHENSIVE!$M$49:$M$49,\"enabled\")>0,COUNTIF(COMPREHENSIVE!$P$49:$Q$49,\"enabled\")>0),1,0)","v":0}]
[null,null,null,null,null,null,"Other",null,null,null,{"$f":"IF(AND(COMPREHENSIVE!P1405=\"\",COMPREHENSIVE!P1528=\"\"),\"\",COMPREHENSIVE!P1401+COMPREHENSIVE!P1528)","v":""},"",null,null,{"$f":"IF(AND(COMPREHENSIVE!$P1416=\"\",COMPREHENSIVE!$P1539=\"\"),\"\",COMPREHENSIVE!$P1416+COMPREHENSIVE!$P1539)","v":""},"",null,null,{"$f":"IF(AND(COMPREHENSIVE!$P1427=\"\",COMPREHENSIVE!$P1550=\"\"),\"\",COMPREHENSIVE!$P1427+COMPREHENSIVE!$P1550)","v":""},"",null,null,null,null,null,{"$f":"IF(OR(COUNTIF(COMPREHENSIVE!$M$41:$M$41,\"enabled\")>0,COUNTIF(COMPREHENSIVE!$P$41:$Q$41,\"enabled\")>0,COUNTIF(COMPREHENSIVE!$M$49:$M$49,\"enabled\")>0,COUNTIF(COMPREHENSIVE!$P$49:$Q$49,\"enabled\")>0),1,0)","v":0}]
[null,null,null,null,null,null,null,null,null,null,null,null,null,null,null,null,null,null,null,null,null,null,null,null,null,{"$f":"IF(OR(COUNTIF(COMPREHENSIVE!$M$41:$M$41,\"enabled\")>0,COUNTIF(COMPREHENSIVE!$P$41:$Q$41,\"enabled\")>0,COUNTIF(COMPREHENSIVE!$M$49:$M$49,\"enabled\")>0,COUNTIF(COMPREHENSIVE!$P$49:$Q$49,\"enabled\")>0),1,0)","v":0}]
[null,null,null,null,null,null,{"$f":"PROFILE!$C$58","v":0},null,null,null,{"$f":"IF(AND(COMPREHENSIVE!$P1432=\"\",COMPREHENSIVE!$P1555=\"\"),\"\",COMPREHENSIVE!$P1432+COMPREHENSIVE!$P1555)","v":""},{"$f":"K386","v":""},null,null,{"$f":"IF(AND(COMPREHENSIVE!$P1448=\"\",COMPREHENSIVE!$P1571=\"\"),\"\",COMPREHENSIVE!$P1448+COMPREHENSIVE!$P1571)","v":""},{"$f":"O386","v":""},null,null,{"$f":"IF(AND(COMPREHENSIVE!$P1464=\"\",COMPREHENSIVE!$P1587=\"\"),\"\",COMPREHENSIVE!$P1464+COMPREHENSIVE!$P1587)","v":""},{"$f":"S386","v":""},null,null,null,null,{"$f":"COUNTIF(G386,\"*\"&PROFILE!$C$58&\"*\")","v":0},{"$f":"IF(AND(OR(COUNTIF(COMPREHENSIVE!$M$42:$M$42,\"enabled\")>0,COUNTIF(COMPREHENSIVE!$P$42:$Q$42,\"enabled\")>0,COUNTIF(COMPREHENSIVE!$M$50:$M$50,\"enabled\")>0,COUNTIF(COMPREHENSIVE!$P$50:$Q$50,\"enabled\")>0),Y386=1),1,0)","v":0}]
[null,null,null,null,null,null,{"$f":"PROFILE!$C$59","v":0},null,null,null,{"$f":"IF(AND(COMPREHENSIVE!$P1433=\"\",COMPREHENSIVE!$P1556=\"\"),\"\",COMPREHENSIVE!$P1433+COMPREHENSIVE!$P1556)","v":""},{"$f":"K387","v":""},null,null,{"$f":"IF(AND(COMPREHENSIVE!$P1449=\"\",COMPREHENSIVE!$P1572=\"\"),\"\",COMPREHENSIVE!$P1449+COMPREHENSIVE!$P1572)","v":""},{"$f":"O387","v":""},null,null,{"$f":"IF(AND(COMPREHENSIVE!$P1465=\"\",COMPREHENSIVE!$P1588=\"\"),\"\",COMPREHENSIVE!$P1465+COMPREHENSIVE!$P1588)","v":""},{"$f":"S387","v":""},null,null,null,null,{"$f":"COUNTIF(G387,\"*\"&PROFILE!$C$59&\"*\")","v":0},{"$f":"IF(AND(OR(COUNTIF(COMPREHENSIVE!$M$42:$M$42,\"enabled\")>0,COUNTIF(COMPREHENSIVE!$P$42:$Q$42,\"enabled\")>0,COUNTIF(COMPREHENSIVE!$M$50:$M$50,\"enabled\")>0,COUNTIF(COMPREHENSIVE!$P$50:$Q$50,\"enabled\")>0),Y387=1),1,0)","v":0}]
[null,null,null,null,null,null,{"$f":"PROFILE!$C$60","v":0},null,null,null,{"$f":"IF(AND(COMPREHENSIVE!$P1434=\"\",COMPREHENSIVE!$P1557=\"\"),\"\",COMPREHENSIVE!$P1434+COMPREHENSIVE!$P1557)","v":""},"",null,null,{"$f":"IF(AND(COMPREHENSIVE!$P1450=\"\",COMPREHENSIVE!$P1573=\"\"),\"\",COMPREHENSIVE!$P1450+COMPREHENSIVE!$P1573)","v":""},"",null,null,{"$f":"IF(AND(COMPREHENSIVE!$P1466=\"\",COMPREHENSIVE!$P1589=\"\"),\"\",COMPREHENSIVE!$P1466+COMPREHENSIVE!$P1589)","v":""},"",null,null,null,null,{"$f":"COUNTIF(G388,\"*\"&PROFILE!$C$60&\"*\")","v":0},{"$f":"IF(AND(OR(COUNTIF(COMPREHENSIVE!$M$42:$M$42,\"enabled\")>0,COUNTIF(COMPREHENSIVE!$P$42:$Q$42,\"enabled\")>0,COUNTIF(COMPREHENSIVE!$M$50:$M$50,\"enabled\")>0,COUNTIF(COMPREHENSIVE!$P$50:$Q$50,\"enabled\")>0),Y388=1),1,0)","v":0}]
[null,null,null,null,null,null,{"$f":"PROFILE!$C$61","v":0},null,null,null,{"$f":"IF(AND(COMPREHENSIVE!$P1435=\"\",COMPREHENSIVE!$P1558=\"\"),\"\",COMPREHENSIVE!$P1435+COMPREHENSIVE!$P1558)","v":""},"",null,null,{"$f":"IF(AND(COMPREHENSIVE!$P1451=\"\",COMPREHENSIVE!$P1574=\"\"),\"\",COMPREHENSIVE!$P1451+COMPREHENSIVE!$P1574)","v":""},"",null,null,{"$f":"IF(AND(COMPREHENSIVE!$P1467=\"\",COMPREHENSIVE!$P1590=\"\"),\"\",COMPREHENSIVE!$P1467+COMPREHENSIVE!$P1590)","v":""},"",null,null,null,null,{"$f":"COUNTIF(G389,\"*\"&PROFILE!$C$61&\"*\")","v":0},{"$f":"IF(AND(OR(COUNTIF(COMPREHENSIVE!$M$42:$M$42,\"enabled\")>0,COUNTIF(COMPREHENSIVE!$P$42:$Q$42,\"enabled\")>0,COUNTIF(COMPREHENSIVE!$M$50:$M$50,\"enabled\")>0,COUNTIF(COMPREHENSIVE!$P$50:$Q$50,\"enabled\")>0),Y389=1),1,0)","v":0}]
[null,null,null,null,null,null,{"$f":"PROFILE!$C$62","v":0},null,null,null,{"$f":"IF(AND(COMPREHENSIVE!$P1436=\"\",COMPREHENSIVE!$P1559=\"\"),\"\",COMPREHENSIVE!$P1436+COMPREHENSIVE!$P1559)","v":""},"",null,null,{"$f":"IF(AND(COMPREHENSIVE!$P1452=\"\",COMPREHENSIVE!$P1575=\"\"),\"\",COMPREHENSIVE!$P1452+COMPREHENSIVE!$P1575)","v":""},"",null,null,{"$f":"IF(AND(COMPREHENSIVE!$P1468=\"\",COMPREHENSIVE!$P1591=\"\"),\"\",COMPREHENSIVE!$P1468+COMPREHENSIVE!$P1591)","v":""},"",null,null,null,null,{"$f":"COUNTIF(G390,\"*\"&PROFILE!$C$62&\"*\")","v":0},{"$f":"IF(AND(OR(COUNTIF(COMPREHENSIVE!$M$42:$M$42,\"enabled\")>0,COUNTIF(COMPREHENSIVE!$P$42:$Q$42,\"enabled\")>0,COUNTIF(COMPREHENSIVE!$M$50:$M$50,\"enabled\")>0,COUNTIF(COMPREHENSIVE!$P$50:$Q$50,\"enabled\")>0),Y390=1),1,0)","v":0}]
[null,null,null,null,null,null,{"$f":"PROFILE!$C$63","v":0},null,null,null,{"$f":"IF(AND(COMPREHENSIVE!$P1437=\"\",COMPREHENSIVE!$P1560=\"\"),\"\",COMPREHENSIVE!$P1437+COMPREHENSIVE!$P1560)","v":""},"",null,null,{"$f":"IF(AND(COMPREHENSIVE!$P1453=\"\",COMPREHENSIVE!$P1576=\"\"),\"\",COMPREHENSIVE!$P1453+COMPREHENSIVE!$P1576)","v":""},"",null,null,{"$f":"IF(AND(COMPREHENSIVE!$P1469=\"\",COMPREHENSIVE!$P1592=\"\"),\"\",COMPREHENSIVE!$P1469+COMPREHENSIVE!$P1592)","v":""},"",null,null,null,null,{"$f":"COUNTIF(G391,\"*\"&PROFILE!$C$63&\"*\")","v":0},{"$f":"IF(AND(OR(COUNTIF(COMPREHENSIVE!$M$42:$M$42,\"enabled\")>0,COUNTIF(COMPREHENSIVE!$P$42:$Q$42,\"enabled\")>0,COUNTIF(COMPREHENSIVE!$M$50:$M$50,\"enabled\")>0,COUNTIF(COMPREHENSIVE!$P$50:$Q$50,\"enabled\")>0),Y391=1),1,0)","v":0}]
[null,null,null,null,null,null,{"$f":"PROFILE!$C$64","v":0},null,null,null,{"$f":"IF(AND(COMPREHENSIVE!$P1438=\"\",COMPREHENSIVE!$P1561=\"\"),\"\",COMPREHENSIVE!$P1438+COMPREHENSIVE!$P1561)","v":""},"",null,null,{"$f":"IF(AND(COMPREHENSIVE!$P1454=\"\",COMPREHENSIVE!$P1577=\"\"),\"\",COMPREHENSIVE!$P1454+COMPREHENSIVE!$P1577)","v":""},"",null,null,{"$f":"IF(AND(COMPREHENSIVE!$P1470=\"\",COMPREHENSIVE!$P1593=\"\"),\"\",COMPREHENSIVE!$P1470+COMPREHENSIVE!$P1593)","v":""},"",null,null,null,null,{"$f":"COUNTIF(G392,\"*\"&PROFILE!$C$64&\"*\")","v":0},{"$f":"IF(AND(OR(COUNTIF(COMPREHENSIVE!$M$42:$M$42,\"enabled\")>0,COUNTIF(COMPREHENSIVE!$P$42:$Q$42,\"enabled\")>0,COUNTIF(COMPREHENSIVE!$M$50:$M$50,\"enabled\")>0,COUNTIF(COMPREHENSIVE!$P$50:$Q$50,\"enabled\")>0),Y392=1),1,0)","v":0}]
[null,null,null,null,null,null,{"$f":"PROFILE!$C$65","v":0},null,null,null,{"$f":"IF(AND(COMPREHENSIVE!$P1439=\"\",COMPREHENSIVE!$P1562=\"\"),\"\",COMPREHENSIVE!$P1439+COMPREHENSIVE!$P1562)","v":""},"",null,null,{"$f":"IF(AND(COMPREHENSIVE!$P1455=\"\",COMPREHENSIVE!$P1578=\"\"),\"\",COMPREHENSIVE!$P1455+COMPREHENSIVE!$P1578)","v":""},"",null,null,{"$f":"IF(AND(COMPREHENSIVE!$P1471=\"\",COMPREHENSIVE!$P1594=\"\"),\"\",COMPREHENSIVE!$P1471+COMPREHENSIVE!$P1594)","v":""},"",null,null,null,null,{"$f":"COUNTIF(G393,\"*\"&PROFILE!$C$65&\"*\")","v":0},{"$f":"IF(AND(OR(COUNTIF(COMPREHENSIVE!$M$42:$M$42,\"enabled\")>0,COUNTIF(COMPREHENSIVE!$P$42:$Q$42,\"enabled\")>0,COUNTIF(COMPREHENSIVE!$M$50:$M$50,\"enabled\")>0,COUNTIF(COMPREHENSIVE!$P$50:$Q$50,\"enabled\")>0),Y393=1),1,0)","v":0}]
[null,null,null,null,null,null,{"$f":"PROFILE!$C$66","v":0},null,null,null,{"$f":"IF(AND(COMPREHENSIVE!$P1440=\"\",COMPREHENSIVE!$P1563=\"\"),\"\",COMPREHENSIVE!$P1440+COMPREHENSIVE!$P1563)","v":""},"",null,null,{"$f":"IF(AND(COMPREHENSIVE!$P1456=\"\",COMPREHENSIVE!$P1579=\"\"),\"\",COMPREHENSIVE!$P1456+COMPREHENSIVE!$P1579)","v":""},"",null,null,{"$f":"IF(AND(COMPREHENSIVE!$P1472=\"\",COMPREHENSIVE!$P1595=\"\"),\"\",COMPREHENSIVE!$P1472+COMPREHENSIVE!$P1595)","v":""},"",null,null,null,null,{"$f":"COUNTIF(G394,\"*\"&PROFILE!$C$66&\"*\")","v":0},{"$f":"IF(AND(OR(COUNTIF(COMPREHENSIVE!$M$42:$M$42,\"enabled\")>0,COUNTIF(COMPREHENSIVE!$P$42:$Q$42,\"enabled\")>0,COUNTIF(COMPREHENSIVE!$M$50:$M$50,\"enabled\")>0,COUNTIF(COMPREHENSIVE!$P$50:$Q$50,\"enabled\")>0),Y394=1),1,0)","v":0}]
[null,null,null,null,null,null,{"$f":"PROFILE!$C$67","v":0},null,null,null,{"$f":"IF(AND(COMPREHENSIVE!$P1441=\"\",COMPREHENSIVE!$P1564=\"\"),\"\",COMPREHENSIVE!$P1441+COMPREHENSIVE!$P1564)","v":""},"",null,null,{"$f":"IF(AND(COMPREHENSIVE!$P1457=\"\",COMPREHENSIVE!$P1580=\"\"),\"\",COMPREHENSIVE!$P1457+COMPREHENSIVE!$P1580)","v":""},"",null,null,{"$f":"IF(AND(COMPREHENSIVE!$P1473=\"\",COMPREHENSIVE!$P1596=\"\"),\"\",COMPREHENSIVE!$P1473+COMPREHENSIVE!$P1596)","v":""},"",null,null,null,null,{"$f":"COUNTIF(G395,\"*\"&PROFILE!$C$67&\"*\")","v":0},{"$f":"IF(AND(OR(COUNTIF(COMPREHENSIVE!$M$42:$M$42,\"enabled\")>0,COUNTIF(COMPREHENSIVE!$P$42:$Q$42,\"enabled\")>0,COUNTIF(COMPREHENSIVE!$M$50:$M$50,\"enabled\")>0,COUNTIF(COMPREHENSIVE!$P$50:$Q$50,\"enabled\")>0),Y395=1),1,0)","v":0}]
[null,null,null,null,null,null,{"$f":"PROFILE!$C$68","v":0},null,null,null,{"$f":"IF(AND(COMPREHENSIVE!$P1442=\"\",COMPREHENSIVE!$P1565=\"\"),\"\",COMPREHENSIVE!$P1442+COMPREHENSIVE!$P1565)","v":""},"",null,null,{"$f":"IF(AND(COMPREHENSIVE!$P1458=\"\",COMPREHENSIVE!$P1581=\"\"),\"\",COMPREHENSIVE!$P1458+COMPREHENSIVE!$P1581)","v":""},"",null,null,{"$f":"IF(AND(COMPREHENSIVE!$P1474=\"\",COMPREHENSIVE!$P1597=\"\"),\"\",COMPREHENSIVE!$P1474+COMPREHENSIVE!$P1597)","v":""},"",null,null,null,null,{"$f":"COUNTIF(G396,\"*\"&PROFILE!$C$68&\"*\")","v":0},{"$f":"IF(AND(OR(COUNTIF(COMPREHENSIVE!$M$42:$M$42,\"enabled\")>0,COUNTIF(COMPREHENSIVE!$P$42:$Q$42,\"enabled\")>0,COUNTIF(COMPREHENSIVE!$M$50:$M$50,\"enabled\")>0,COUNTIF(COMPREHENSIVE!$P$50:$Q$50,\"enabled\")>0),Y396=1),1,0)","v":0}]
[null,null,null,null,null,null,{"$f":"PROFILE!$C$69","v":0},null,null,null,{"$f":"IF(AND(COMPREHENSIVE!$P1443=\"\",COMPREHENSIVE!$P1566=\"\"),\"\",COMPREHENSIVE!$P1443+COMPREHENSIVE!$P1566)","v":""},"",null,null,{"$f":"IF(AND(COMPREHENSIVE!$P1459=\"\",COMPREHENSIVE!$P1582=\"\"),\"\",COMPREHENSIVE!$P1459+COMPREHENSIVE!$P1582)","v":""},"",null,null,{"$f":"IF(AND(COMPREHENSIVE!$P1475=\"\",COMPREHENSIVE!$P1598=\"\"),\"\",COMPREHENSIVE!$P1475+COMPREHENSIVE!$P1598)","v":""},"",null,null,null,null,{"$f":"COUNTIF(G397,\"*\"&PROFILE!$C$69&\"*\")","v":0},{"$f":"IF(AND(OR(COUNTIF(COMPREHENSIVE!$M$42:$M$42,\"enabled\")>0,COUNTIF(COMPREHENSIVE!$P$42:$Q$42,\"enabled\")>0,COUNTIF(COMPREHENSIVE!$M$50:$M$50,\"enabled\")>0,COUNTIF(COMPREHENSIVE!$P$50:$Q$50,\"enabled\")>0),Y397=1),1,0)","v":0}]
[null,null,null,null,null,null,{"$f":"PROFILE!$C$70","v":0},null,null,null,{"$f":"IF(AND(COMPREHENSIVE!$P1444=\"\",COMPREHENSIVE!$P1567=\"\"),\"\",COMPREHENSIVE!$P1444+COMPREHENSIVE!$P1567)","v":""},"",null,null,{"$f":"IF(AND(COMPREHENSIVE!$P1460=\"\",COMPREHENSIVE!$P1583=\"\"),\"\",COMPREHENSIVE!$P1460+COMPREHENSIVE!$P1583)","v":""},"",null,null,{"$f":"IF(AND(COMPREHENSIVE!$P1476=\"\",COMPREHENSIVE!$P1599=\"\"),\"\",COMPREHENSIVE!$P1476+COMPREHENSIVE!$P1599)","v":""},"",null,null,null,null,{"$f":"COUNTIF(G398,\"*\"&PROFILE!$C$70&\"*\")","v":0},{"$f":"IF(AND(OR(COUNTIF(COMPREHENSIVE!$M$42:$M$42,\"enabled\")>0,COUNTIF(COMPREHENSIVE!$P$42:$Q$42,\"enabled\")>0,COUNTIF(COMPREHENSIVE!$M$50:$M$50,\"enabled\")>0,COUNTIF(COMPREHENSIVE!$P$50:$Q$50,\"enabled\")>0),Y398=1),1,0)","v":0}]
[null,null,null,null,null,null,{"$f":"PROFILE!$C$71","v":0},null,null,null,{"$f":"IF(AND(COMPREHENSIVE!$P1445=\"\",COMPREHENSIVE!$P1568=\"\"),\"\",COMPREHENSIVE!$P1445+COMPREHENSIVE!$P1568)","v":""},"",null,null,{"$f":"IF(AND(COMPREHENSIVE!$P1461=\"\",COMPREHENSIVE!$P1584=\"\"),\"\",COMPREHENSIVE!$P1461+COMPREHENSIVE!$P1584)","v":""},"",null,null,{"$f":"IF(AND(COMPREHENSIVE!$P1477=\"\",COMPREHENSIVE!$P1600=\"\"),\"\",COMPREHENSIVE!$P1477+COMPREHENSIVE!$P1600)","v":""},"",null,null,null,null,{"$f":"COUNTIF(G399,\"*\"&PROFILE!$C$71&\"*\")","v":0},{"$f":"IF(AND(OR(COUNTIF(COMPREHENSIVE!$M$42:$M$42,\"enabled\")>0,COUNTIF(COMPREHENSIVE!$P$42:$Q$42,\"enabled\")>0,COUNTIF(COMPREHENSIVE!$M$50:$M$50,\"enabled\")>0,COUNTIF(COMPREHENSIVE!$P$50:$Q$50,\"enabled\")>0),Y399=1),1,0)","v":0}]
[null,null,null,null,null,null,{"$f":"PROFILE!$C$72","v":0},null,null,null,{"$f":"IF(AND(COMPREHENSIVE!$P1446=\"\",COMPREHENSIVE!$P1569=\"\"),\"\",COMPREHENSIVE!$P1446+COMPREHENSIVE!$P1569)","v":""},"",null,null,{"$f":"IF(AND(COMPREHENSIVE!$P1462=\"\",COMPREHENSIVE!$P1585=\"\"),\"\",COMPREHENSIVE!$P1462+COMPREHENSIVE!$P1585)","v":""},"",null,null,{"$f":"IF(AND(COMPREHENSIVE!$P1478=\"\",COMPREHENSIVE!$P1601=\"\"),\"\",COMPREHENSIVE!$P1478+COMPREHENSIVE!$P1601)","v":""},"",null,null,null,null,{"$f":"COUNTIF(G400,\"*\"&PROFILE!$C$72&\"*\")","v":0},{"$f":"IF(AND(OR(COUNTIF(COMPREHENSIVE!$M$42:$M$42,\"enabled\")>0,COUNTIF(COMPREHENSIVE!$P$42:$Q$42,\"enabled\")>0,COUNTIF(COMPREHENSIVE!$M$50:$M$50,\"enabled\")>0,COUNTIF(COMPREHENSIVE!$P$50:$Q$50,\"enabled\")>0),Y400=1),1,0)","v":0}]
[null,null,null,null,null,null,null,null,null,null,null,null,null,null,null,null,null,null,null,null,null,null,null,null,null,{"$f":"IF(OR(COUNTIF(COMPREHENSIVE!$M$42:$M$42,\"enabled\")>0,COUNTIF(COMPREHENSIVE!$P$42:$Q$42,\"enabled\")>0,COUNTIF(COMPREHENSIVE!$M$50:$M$50,\"enabled\")>0,COUNTIF(COMPREHENSIVE!$P$50:$Q$50,\"enabled\")>0),1,0)","v":0}]
[null,null,null,null,null,null,"Organizational Exits (External Transfers and Voluntary Separations)",null,null,null,null,null,null,null,null,null,null,null,null,null,null,null,null,null,null,{"$f":"IF(OR(COUNTIF('IN-DEPTH'!$K$29:$L$30,\"enabled\")>0,COUNTIF(COMPREHENSIVE!$M$57:$M$61,\"enabled\")>0,COUNTIF(COMPREHENSIVE!$P$57:$Q$61,\"enabled\")>0,COUNTIF(COMPREHENSIVE!$M$65:$M$69,\"enabled\")>0,COUNTIF(COMPREHENSIVE!$P$65:$Q$69,\"enabled\")>0),1,0)","v":0}]
[null,null,null,null,null,null,null,null,null,null,null,null,null,null,null,null,null,null,null,null,null,null,null,null,null,{"$f":"IF(OR(COUNTIF('IN-DEPTH'!$K$29:$L$30,\"enabled\")>0,COUNTIF(COMPREHENSIVE!$M$57:$M$61,\"enabled\")>0,COUNTIF(COMPREHENSIVE!$P$57:$Q$61,\"enabled\")>0,COUNTIF(COMPREHENSIVE!$M$65:$M$69,\"enabled\")>0,COUNTIF(COMPREHENSIVE!$P$65:$Q$69,\"enabled\")>0),1,0)","v":0}]
[null,null,null,null,null,null,null,null,null,null,null,null,null,null,null,null,null,null,null,null,null,null,null,null,null,{"$f":"IF(OR(COUNTIF('IN-DEPTH'!$K$29:$L$30,\"enabled\")>0,COUNTIF(COMPREHENSIVE!$M$57:$M$61,\"enabled\")>0,COUNTIF(COMPREHENSIVE!$P$57:$Q$61,\"enabled\")>0,COUNTIF(COMPREHENSIVE!$M$65:$M$69,\"enabled\")>0,COUNTIF(COMPREHENSIVE!$P$65:$Q$69,\"enabled\")>0),1,0)","v":0}]
[null,null,null,null,null,null,null,null,null,null,"All Employees",null,null,null,"Leaders",null,null,null,"Executives",null,null,null,null,null,null,{"$f":"IF(OR(COUNTIF('IN-DEPTH'!$K$29:$L$30,\"enabled\")>0,COUNTIF(COMPREHENSIVE!$M$57:$M$61,\"enabled\")>0,COUNTIF(COMPREHENSIVE!$P$57:$Q$61,\"enabled\")>0,COUNTIF(COMPREHENSIVE!$M$65:$M$69,\"enabled\")>0,COUNTIF(COMPREHENSIVE!$P$65:$Q$69,\"enabled\")>0),1,0)","v":0}]
[null,null,null,null,null,null,null,null,null,null,null,null,null,null,null,null,null,null,null,null,null,null,null,null,null,{"$f":"IF(OR(COUNTIF('IN-DEPTH'!$K$29:$L$30,\"enabled\")>0,COUNTIF(COMPREHENSIVE!$M$57:$M$61,\"enabled\")>0,COUNTIF(COMPREHENSIVE!$P$57:$Q$61,\"enabled\")>0,COUNTIF(COMPREHENSIVE!$M$65:$M$69,\"enabled\")>0,COUNTIF(COMPREHENSIVE!$P$65:$Q$69,\"enabled\")>0),1,0)","v":0}]
[null,null,null,null,null,null,null,null,null,null,{"$f":"IFERROR((FOUNDATIONAL!P117+FOUNDATIONAL!P118)/FOUNDATIONAL!P29,0)","v":0},null,null,null,{"$f":"IFERROR(('IN-DEPTH'!P158+'IN-DEPTH'!P159)/'IN-DEPTH'!P64,0)","v":0},null,null,null,{"$f":"IFERROR(('IN-DEPTH'!P164+'IN-DEPTH'!P165)/FOUNDATIONAL!P38,0)","v":0},null,null,null,null,null,null,{"$f":"IF(OR(COUNTIF('IN-DEPTH'!$K$29:$L$30,\"enabled\")>0),1,0)","v":0}]
[null,null,null,null,null,null,null,null,null,null,null,null,null,null,null,null,null,null,null,null,null,null,null,null,null,{"$f":"IF(OR(COUNTIF('IN-DEPTH'!$K$29:$L$30,\"enabled\")>0),1,0)","v":0}]
[null,null,"All","Leaders","Exec.",null,null,null,null,null,"Overall Separation Rate",null,null,null,"Leader Separation Rate",null,null,null,"Executive Separation Rate",null,null,null,null,null,null,{"$f":"IF(OR(COUNTIF('IN-DEPTH'!$K$29:$L$30,\"enabled\")>0),1,0)","v":0}]
[null,null,null,null,null,null,null,null,null,null,null,null,null,null,null,null,null,null,null,null,null,null,null,null,null,{"$f":"IF(OR(COUNTIF('IN-DEPTH'!$K$29:$L$30,\"enabled\")>0),1,0)","v":0}]
[null,null,null,null,null,null,null,null,"Males",null,{"$f":"IF(AND(COMPREHENSIVE!$P1729=\"\",COMPREHENSIVE!$P1852=\"\"),\"\",COMPREHENSIVE!$P1729+COMPREHENSIVE!$P1852)","v":""},{"$f":"K411","v":""},null,null,{"$f":"IF(AND(COMPREHENSIVE!$P1732=\"\",COMPREHENSIVE!$P1855=\"\"),\"\",COMPREHENSIVE!$P1732+COMPREHENSIVE!$P1855)","v":""},{"$f":"O411","v":""},null,null,{"$f":"IF(AND(COMPREHENSIVE!$P1735=\"\",COMPREHENSIVE!$P1858=\"\"),\"\",COMPREHENSIVE!$P1735+COMPREHENSIVE!$P1858)","v":""},{"$f":"S411","v":""},null,null,null,null,null,{"$f":"IF(OR(COUNTIF(COMPREHENSIVE!$M$59:$M$59,\"enabled\")>0,COUNTIF(COMPREHENSIVE!$P$59:$Q$59,\"enabled\")>0,COUNTIF(COMPREHENSIVE!$M$67:$M$67,\"enabled\")>0,COUNTIF(COMPREHENSIVE!$P$67:$Q$67,\"enabled\")>0),1,0)","v":0}]
[null,null,null,null,null,null,null,null,"Females",null,{"$f":"IF(AND(COMPREHENSIVE!$P1730=\"\",COMPREHENSIVE!$P1853=\"\"),\"\",COMPREHENSIVE!$P1730+COMPREHENSIVE!$P1853)","v":""},{"$f":"K412","v":""},null,null,{"$f":"IF(AND(COMPREHENSIVE!$P1733=\"\",COMPREHENSIVE!$P1856=\"\"),\"\",COMPREHENSIVE!$P1733+COMPREHENSIVE!$P1856)","v":""},{"$f":"O412","v":""},null,null,{"$f":"IF(AND(COMPREHENSIVE!$P1736=\"\",COMPREHENSIVE!$P1859=\"\"),\"\",COMPREHENSIVE!$P1736+COMPREHENSIVE!$P1859)","v":""},{"$f":"S412","v":""},null,null,null,null,null,{"$f":"IF(OR(COUNTIF(COMPREHENSIVE!$M$59:$M$59,\"enabled\")>0,COUNTIF(COMPREHENSIVE!$P$59:$Q$59,\"enabled\")>0,COUNTIF(COMPREHENSIVE!$M$67:$M$67,\"enabled\")>0,COUNTIF(COMPREHENSIVE!$P$67:$Q$67,\"enabled\")>0),1,0)","v":0}]
[null,null,null,null,null,null,null,null,null,null,null,null,null,null,null,null,null,null,null,null,null,null,null,null,null,{"$f":"IF(OR(COUNTIF(COMPREHENSIVE!$M$59:$M$59,\"enabled\")>0,COUNTIF(COMPREHENSIVE!$P$59:$Q$59,\"enabled\")>0,COUNTIF(COMPREHENSIVE!$M$67:$M$67,\"enabled\")>0,COUNTIF(COMPREHENSIVE!$P$67:$Q$67,\"enabled\")>0),1,0)","v":0}]
[null,null,null,null,null,null,null,null,"Minority",null,{"$f":"IF(AND(COMPREHENSIVE!$P1741=\"\",COMPREHENSIVE!$P1864=\"\"),\"\",COMPREHENSIVE!$P1741+COMPREHENSIVE!$P1864)","v":""},{"$f":"K414","v":""},null,null,{"$f":"IF(AND(COMPREHENSIVE!$P1744=\"\",COMPREHENSIVE!$P1867=\"\"),\"\",COMPREHENSIVE!$P1744+COMPREHENSIVE!$P1867)","v":""},{"$f":"O414","v":""},null,null,{"$f":"IF(AND(COMPREHENSIVE!$P1747=\"\",COMPREHENSIVE!$P1870=\"\"),\"\",COMPREHENSIVE!$P1747+COMPREHENSIVE!$P1870)","v":""},{"$f":"S414","v":""},null,null,null,null,null,{"$f":"IF(OR(COUNTIF(COMPREHENSIVE!$M$58:$M$58,\"enabled\")>0,COUNTIF(COMPREHENSIVE!$P$58:$Q$58,\"enabled\")>0,COUNTIF(COMPREHENSIVE!$M$68:$M$68,\"enabled\")>0,COUNTIF(COMPREHENSIVE!$P$68:$Q$68,\"enabled\")>0),1,0)","v":0}]
[null,null,null,null,null,null,null,null,"Non-Minority",null,{"$f":"IF(AND(COMPREHENSIVE!$P1742=\"\",COMPREHENSIVE!$P1865=\"\"),\"\",COMPREHENSIVE!$P1742+COMPREHENSIVE!$P1865)","v":""},{"$f":"K415","v":""},null,null,{"$f":"IF(AND(COMPREHENSIVE!$P1745=\"\",COMPREHENSIVE!$P1868=\"\"),\"\",COMPREHENSIVE!$P1745+COMPREHENSIVE!$P1868)","v":""},{"$f":"O415","v":""},null,null,{"$f":"IF(AND(COMPREHENSIVE!$P1748=\"\",COMPREHENSIVE!$P1871=\"\"),\"\",COMPREHENSIVE!$P1748+COMPREHENSIVE!$P1871)","v":""},{"$f":"S415","v":""},null,null,null,null,null,{"$f":"IF(OR(COUNTIF(COMPREHENSIVE!$M$58:$M$58,\"enabled\")>0,COUNTIF(COMPREHENSIVE!$P$58:$Q$58,\"enabled\")>0,COUNTIF(COMPREHENSIVE!$M$68:$M$68,\"enabled\")>0,COUNTIF(COMPREHENSIVE!$P$68:$Q$68,\"enabled\")>0),1,0)","v":0}]
[null,null,null,null,null,null,null,null,null,null,null,null,null,null,null,null,null,null,null,null,null,null,null,null,null,{"$f":"IF(OR(COUNTIF(COMPREHENSIVE!$M$58:$M$58,\"enabled\")>0,COUNTIF(COMPREHENSIVE!$P$58:$Q$58,\"enabled\")>0,COUNTIF(COMPREHENSIVE!$M$68:$M$68,\"enabled\")>0,COUNTIF(COMPREHENSIVE!$P$68:$Q$68,\"enabled\")>0),1,0)","v":0}]
[null,null,null,null,null,null,null,null," Individuals with Disabilities",null,{"$f":"IF(AND(COMPREHENSIVE!$P1753=\"\",COMPREHENSIVE!$P1876=\"\"),\"\",COMPREHENSIVE!$P1753+COMPREHENSIVE!$P1876)","v":""},{"$f":"K417","v":""},null,null,{"$f":"IF(AND(COMPREHENSIVE!$P1756=\"\",COMPREHENSIVE!$P1879=\"\"),\"\",COMPREHENSIVE!$P1756+COMPREHENSIVE!$P1879)","v":""},{"$f":"O417","v":""},null,null,{"$f":"IF(AND(COMPREHENSIVE!$P1759=\"\",COMPREHENSIVE!$P1882=\"\"),\"\",COMPREHENSIVE!$P1759+COMPREHENSIVE!$P1882)","v":""},{"$f":"S417","v":""},null,null,null,null,null,{"$f":"IF(OR(COUNTIF(COMPREHENSIVE!$M$61:$M$61,\"enabled\")>0,COUNTIF(COMPREHENSIVE!$P$61:$Q$61,\"enabled\")>0,COUNTIF(COMPREHENSIVE!$M$69:$M$69,\"enabled\")>0,COUNTIF(COMPREHENSIVE!$P$69:$Q$69,\"enabled\")>0),1,0)","v":0}]
[null,null,null,null,null,null,null,null,"Veterans",null,{"$f":"IF(AND(COMPREHENSIVE!$P1754=\"\",COMPREHENSIVE!$P1877=\"\"),\"\",COMPREHENSIVE!$P1754+COMPREHENSIVE!$P1877)","v":""},{"$f":"K418","v":""},null,null,{"$f":"IF(AND(COMPREHENSIVE!$P1757=\"\",COMPREHENSIVE!$P1880=\"\"),\"\",COMPREHENSIVE!$P1757+COMPREHENSIVE!$P1880)","v":""},{"$f":"O418","v":""},null,null,{"$f":"IF(AND(COMPREHENSIVE!$P1760=\"\",COMPREHENSIVE!$P1883=\"\"),\"\",COMPREHENSIVE!$P1760+COMPREHENSIVE!$P1883)","v":""},{"$f":"S418","v":""},null,null,null,null,null,{"$f":"IF(OR(COUNTIF(COMPREHENSIVE!$M$61:$M$61,\"enabled\")>0,COUNTIF(COMPREHENSIVE!$P$61:$Q$61,\"enabled\")>0,COUNTIF(COMPREHENSIVE!$M$69:$M$69,\"enabled\")>0,COUNTIF(COMPREHENSIVE!$P$69:$Q$69,\"enabled\")>0),1,0)","v":0}]
[null,null,null,null,null,null,null,null,null,null,null,null,null,null,null,null,null,null,null,null,null,null,null,null,null,{"$f":"IF(OR(COUNTIF(COMPREHENSIVE!$M$61:$M$61,\"enabled\")>0,COUNTIF(COMPREHENSIVE!$P$61:$Q$61,\"enabled\")>0,COUNTIF(COMPREHENSIVE!$M$69:$M$69,\"enabled\")>0,COUNTIF(COMPREHENSIVE!$P$69:$Q$69,\"enabled\")>0),1,0)","v":0}]
[null,null,null,null,null,null,"Officials and Administrators",null,null,null,{"$f":"IF(AND(COMPREHENSIVE!$P1642=\"\",COMPREHENSIVE!$P1765=\"\"),\"\",COMPREHENSIVE!$P1642+COMPREHENSIVE!$P1765)","v":""},{"$f":"K420","v":""},null,null,{"$f":"IF(AND(COMPREHENSIVE!$P1653=\"\",COMPREHENSIVE!$P1776=\"\"),\"\",COMPREHENSIVE!$P1653+COMPREHENSIVE!$P1776)","v":""},{"$f":"O420","v":""},null,null,{"$f":"IF(AND(COMPREHENSIVE!$P1664=\"\",COMPREHENSIVE!$P1787=\"\"),\"\",COMPREHENSIVE!$P1664+COMPREHENSIVE!$P1787)","v":""},{"$f":"S420","v":""},null,null,null,null,null,{"$f":"IF(OR(COUNTIF(COMPREHENSIVE!$M$57:$M$57,\"enabled\")>0,COUNTIF(COMPREHENSIVE!$P$57:$Q$57,\"enabled\")>0,COUNTIF(COMPREHENSIVE!$M$65:$M$65,\"enabled\")>0,COUNTIF(COMPREHENSIVE!$P$65:$Q$65,\"enabled\")>0),1,0)","v":0}]
[null,null,null,null,null,null,"Professionals",null,null,null,{"$f":"IF(AND(COMPREHENSIVE!$P1643=\"\",COMPREHENSIVE!$P1766=\"\"),\"\",COMPREHENSIVE!$P1643+COMPREHENSIVE!$P1766)","v":""},{"$f":"K421","v":""},null,null,{"$f":"IF(AND(COMPREHENSIVE!$P1654=\"\",COMPREHENSIVE!$P1777=\"\"),\"\",COMPREHENSIVE!$P1654+COMPREHENSIVE!$P1777)","v":""},{"$f":"O421","v":""},null,null,{"$f":"IF(AND(COMPREHENSIVE!$P1665=\"\",COMPREHENSIVE!$P1788=\"\"),\"\",COMPREHENSIVE!$P1665+COMPREHENSIVE!$P1788)","v":""},{"$f":"S421","v":""},null,null,null,null,null,{"$f":"IF(OR(COUNTIF(COMPREHENSIVE!$M$57:$M$57,\"enabled\")>0,COUNTIF(COMPREHENSIVE!$P$57:$Q$57,\"enabled\")>0,COUNTIF(COMPREHENSIVE!$M$65:$M$65,\"enabled\")>0,COUNTIF(COMPREHENSIVE!$P$65:$Q$65,\"enabled\")>0),1,0)","v":0}]
[null,null,null,null,null,null,"Technicians",null,null,null,{"$f":"IF(AND(COMPREHENSIVE!$P1644=\"\",COMPREHENSIVE!$P1767=\"\"),\"\",COMPREHENSIVE!$P1644+COMPREHENSIVE!$P1767)","v":""},"",null,null,{"$f":"IF(AND(COMPREHENSIVE!$P1655=\"\",COMPREHENSIVE!$P1778=\"\"),\"\",COMPREHENSIVE!$P1655+COMPREHENSIVE!$P1778)","v":""},"",null,null,{"$f":"IF(AND(COMPREHENSIVE!$P1666=\"\",COMPREHENSIVE!$P1789=\"\"),\"\",COMPREHENSIVE!$P1666+COMPREHENSIVE!$P1789)","v":""},"",null,null,null,null,null,{"$f":"IF(OR(COUNTIF(COMPREHENSIVE!$M$57:$M$57,\"enabled\")>0,COUNTIF(COMPREHENSIVE!$P$57:$Q$57,\"enabled\")>0,COUNTIF(COMPREHENSIVE!$M$65:$M$65,\"enabled\")>0,COUNTIF(COMPREHENSIVE!$P$65:$Q$65,\"enabled\")>0),1,0)","v":0}]
[null,null,null,null,null,null,"Protective Service Workers",null,null,null,{"$f":"IF(AND(COMPREHENSIVE!$P1645=\"\",COMPREHENSIVE!$P1768=\"\"),\"\",COMPREHENSIVE!$P1645+COMPREHENSIVE!$P1768)","v":""},"",null,null,{"$f":"IF(AND(COMPREHENSIVE!$P1656=\"\",COMPREHENSIVE!$P1779=\"\"),\"\",COMPREHENSIVE!$P1656+COMPREHENSIVE!$P1779)","v":""},"",null,null,{"$f":"IF(AND(COMPREHENSIVE!$P1667=\"\",COMPREHENSIVE!$P1790=\"\"),\"\",COMPREHENSIVE!$P1667+COMPREHENSIVE!$P1790)","v":""},"",null,null,null,null,null,{"$f":"IF(OR(COUNTIF(COMPREHENSIVE!$M$57:$M$57,\"enabled\")>0,COUNTIF(COMPREHENSIVE!$P$57:$Q$57,\"enabled\")>0,COUNTIF(COMPREHENSIVE!$M$65:$M$65,\"enabled\")>0,COUNTIF(COMPREHENSIVE!$P$65:$Q$65,\"enabled\")>0),1,0)","v":0}]
[null,null,null,null,null,null,"Paraprofessionals",null,null,null,{"$f":"IF(AND(COMPREHENSIVE!$P1646=\"\",COMPREHENSIVE!$P1769=\"\"),\"\",COMPREHENSIVE!$P1646+COMPREHENSIVE!$P1769)","v":""},"",null,null,{"$f":"IF(AND(COMPREHENSIVE!$P1657=\"\",COMPREHENSIVE!$P1780=\"\"),\"\",COMPREHENSIVE!$P1657+COMPREHENSIVE!$P1780)","v":""},"",null,null,{"$f":"IF(AND(COMPREHENSIVE!$P1668=\"\",COMPREHENSIVE!$P1791=\"\"),\"\",COMPREHENSIVE!$P1668+COMPREHENSIVE!$P1791)","v":""},"",null,null,null,null,null,{"$f":"IF(OR(COUNTIF(COMPREHENSIVE!$M$57:$M$57,\"enabled\")>0,COUNTIF(COMPREHENSIVE!$P$57:$Q$57,\"enabled\")>0,COUNTIF(COMPREHENSIVE!$M$65:$M$65,\"enabled\")>0,COUNTIF(COMPREHENSIVE!$P$65:$Q$65,\"enabled\")>0),1,0)","v":0}]
[null,null,null,null,null,null,"Administrative Support",null,null,null,{"$f":"IF(AND(COMPREHENSIVE!$P1647=\"\",COMPREHENSIVE!$P1770=\"\"),\"\",COMPREHENSIVE!$P1647+COMPREHENSIVE!$P1770)","v":""},"",null,null,{"$f":"IF(AND(COMPREHENSIVE!$P1658=\"\",COMPREHENSIVE!$P1781=\"\"),\"\",COMPREHENSIVE!$P1658+COMPREHENSIVE!$P1781)","v":""},"",null,null,{"$f":"IF(AND(COMPREHENSIVE!$P1669=\"\",COMPREHENSIVE!$P1792=\"\"),\"\",COMPREHENSIVE!$P1669+COMPREHENSIVE!$P1792)","v":""},"",null,null,null,null,null,{"$f":"IF(OR(COUNTIF(COMPREHENSIVE!$M$57:$M$57,\"enabled\")>0,COUNTIF(COMPREHENSIVE!$P$57:$Q$57,\"enabled\")>0,COUNTIF(COMPREHENSIVE!$M$65:$M$65,\"enabled\")>0,COUNTIF(COMPREHENSIVE!$P$65:$Q$65,\"enabled\")>0),1,0)","v":0}]
[null,null,null,null,null,null,"Skilled Craft Workers",null,null,null,{"$f":"IF(AND(COMPREHENSIVE!$P1648=\"\",COMPREHENSIVE!$P1771=\"\"),\"\",COMPREHENSIVE!$P1648+COMPREHENSIVE!$P1771)","v":""},"",null,null,{"$f":"IF(AND(COMPREHENSIVE!$P1659=\"\",COMPREHENSIVE!$P1782=\"\"),\"\",COMPREHENSIVE!$P1659+COMPREHENSIVE!$P1782)","v":""},"",null,null,{"$f":"IF(AND(COMPREHENSIVE!$P1670=\"\",COMPREHENSIVE!$P1793=\"\"),\"\",COMPREHENSIVE!$P1670+COMPREHENSIVE!$P1793)","v":""},"",null,null,null,null,null,{"$f":"IF(OR(COUNTIF(COMPREHENSIVE!$M$57:$M$57,\"enabled\")>0,COUNTIF(COMPREHENSIVE!$P$57:$Q$57,\"enabled\")>0,COUNTIF(COMPREHENSIVE!$M$65:$M$65,\"enabled\")>0,COUNTIF(COMPREHENSIVE!$P$65:$Q$65,\"enabled\")>0),1,0)","v":0}]
[null,null,null,null,null,null,"Service/Maintenance",null,null,null,{"$f":"IF(AND(COMPREHENSIVE!$P1649=\"\",COMPREHENSIVE!$P1772=\"\"),\"\",COMPREHENSIVE!$P1649+COMPREHENSIVE!$P1772)","v":""},"",null,null,{"$f":"IF(AND(COMPREHENSIVE!$P1660=\"\",COMPREHENSIVE!$P1783=\"\"),\"\",COMPREHENSIVE!$P1660+COMPREHENSIVE!$P1783)","v":""},"",null,null,{"$f":"IF(AND(COMPREHENSIVE!$P1671=\"\",COMPREHENSIVE!$P1794=\"\"),\"\",COMPREHENSIVE!$P1671+COMPREHENSIVE!$P1794)","v":""},"",null,null,null,null,null,{"$f":"IF(OR(COUNTIF(COMPREHENSIVE!$M$57:$M$57,\"enabled\")>0,COUNTIF(COMPREHENSIVE!$P$57:$Q$57,\"enabled\")>0,COUNTIF(COMPREHENSIVE!$M$65:$M$65,\"enabled\")>0,COUNTIF(COMPREHENSIVE!$P$65:$Q$65,\"enabled\")>0),1,0)","v":0}]
[null,null,null,null,null,null,"Faculty",null,null,null,{"$f":"IF(AND(COMPREHENSIVE!$P1650=\"\",COMPREHENSIVE!$P1773=\"\"),\"\",COMPREHENSIVE!$P1650+COMPREHENSIVE!$P1773)","v":""},"",null,null,{"$f":"IF(AND(COMPREHENSIVE!$P1661=\"\",COMPREHENSIVE!$P1784=\"\"),\"\",COMPREHENSIVE!$P1661+COMPREHENSIVE!$P1784)","v":""},"",null,null,{"$f":"IF(AND(COMPREHENSIVE!$P1672=\"\",COMPREHENSIVE!$P1795=\"\"),\"\",COMPREHENSIVE!$P1672+COMPREHENSIVE!$P1795)","v":""},"",null,null,null,null,null,{"$f":"IF(OR(COUNTIF(COMPREHENSIVE!$M$57:$M$57,\"enabled\")>0,COUNTIF(COMPREHENSIVE!$P$57:$Q$57,\"enabled\")>0,COUNTIF(COMPREHENSIVE!$M$65:$M$65,\"enabled\")>0,COUNTIF(COMPREHENSIVE!$P$65:$Q$65,\"enabled\")>0),1,0)","v":0}]
[null,null,null,null,null,null,"Other",null,null,null,{"$f":"IF(AND(COMPREHENSIVE!$P1651=\"\",COMPREHENSIVE!$P1774=\"\"),\"\",COMPREHENSIVE!$P1651+COMPREHENSIVE!$P1774)","v":""},"",null,null,{"$f":"IF(AND(COMPREHENSIVE!$P1662=\"\",COMPREHENSIVE!$P1785=\"\"),\"\",COMPREHENSIVE!$P1662+COMPREHENSIVE!$P1785)","v":""},"",null,null,{"$f":"IF(AND(COMPREHENSIVE!$P1673=\"\",COMPREHENSIVE!$P1796=\"\"),\"\",COMPREHENSIVE!$P1673+COMPREHENSIVE!$P1796)","v":""},"",null,null,null,null,null,{"$f":"IF(OR(COUNTIF(COMPREHENSIVE!$M$57:$M$57,\"enabled\")>0,COUNTIF(COMPREHENSIVE!$P$57:$Q$57,\"enabled\")>0,COUNTIF(COMPREHENSIVE!$M$65:$M$65,\"enabled\")>0,COUNTIF(COMPREHENSIVE!$P$65:$Q$65,\"enabled\")>0),1,0)","v":0}]
[null,null,null,null,null,null,null,null,null,null,null,null,null,null,null,null,null,null,null,null,null,null,null,null,null,{"$f":"IF(OR(COUNTIF(COMPREHENSIVE!$M$57:$M$57,\"enabled\")>0,COUNTIF(COMPREHENSIVE!$P$57:$Q$57,\"enabled\")>0,COUNTIF(COMPREHENSIVE!$M$65:$M$65,\"enabled\")>0,COUNTIF(COMPREHENSIVE!$P$65:$Q$65,\"enabled\")>0),1,0)","v":0}]
[null,null,null,null,null,null,{"$f":"PROFILE!$C$58","v":0},null,null,null,{"$f":"IF(AND(COMPREHENSIVE!$P1678=\"\",COMPREHENSIVE!$P1801=\"\"),\"\",COMPREHENSIVE!$P1678+COMPREHENSIVE!$P1801)","v":""},{"$f":"K431","v":""},null,null,{"$f":"IF(AND(COMPREHENSIVE!$P1694=\"\",COMPREHENSIVE!$P1817=\"\"),\"\",COMPREHENSIVE!$P1694+COMPREHENSIVE!$P1817)","v":""},{"$f":"O431","v":""},null,null,{"$f":"IF(AND(COMPREHENSIVE!$P1710=\"\",COMPREHENSIVE!$P1833=\"\"),\"\",COMPREHENSIVE!$P1710+COMPREHENSIVE!$P1833)","v":""},{"$f":"S431","v":""},null,null,null,null,{"$f":"COUNTIF(G431,\"*\"&PROFILE!$C$58&\"*\")","v":0},{"$f":"IF(AND(OR(COUNTIF(COMPREHENSIVE!$M$58:$M$58,\"enabled\")>0,COUNTIF(COMPREHENSIVE!$P$58:$Q$58,\"enabled\")>0,COUNTIF(COMPREHENSIVE!$M$66:$M$66,\"enabled\")>0,COUNTIF(COMPREHENSIVE!$P$66:$Q$66,\"enabled\")>0),Y431=1),1,0)","v":0}]
[null,null,null,null,null,null,{"$f":"PROFILE!$C$59","v":0},null,null,null,{"$f":"IF(AND(COMPREHENSIVE!$P1679=\"\",COMPREHENSIVE!$P1802=\"\"),\"\",COMPREHENSIVE!$P1679+COMPREHENSIVE!$P1802)","v":""},{"$f":"K432","v":""},null,null,{"$f":"IF(AND(COMPREHENSIVE!$P1695=\"\",COMPREHENSIVE!$P1818=\"\"),\"\",COMPREHENSIVE!$P1695+COMPREHENSIVE!$P1818)","v":""},{"$f":"O432","v":""},null,null,{"$f":"IF(AND(COMPREHENSIVE!$P1711=\"\",COMPREHENSIVE!$P1834=\"\"),\"\",COMPREHENSIVE!$P1711+COMPREHENSIVE!$P1834)","v":""},{"$f":"S432","v":""},null,null,null,null,{"$f":"COUNTIF(G432,\"*\"&PROFILE!$C$59&\"*\")","v":0},{"$f":"IF(AND(OR(COUNTIF(COMPREHENSIVE!$M$58:$M$58,\"enabled\")>0,COUNTIF(COMPREHENSIVE!$P$58:$Q$58,\"enabled\")>0,COUNTIF(COMPREHENSIVE!$M$66:$M$66,\"enabled\")>0,COUNTIF(COMPREHENSIVE!$P$66:$Q$66,\"enabled\")>0),Y432=1),1,0)","v":0}]
[null,null,null,null,null,null,{"$f":"PROFILE!$C$60","v":0},null,null,null,{"$f":"IF(AND(COMPREHENSIVE!$P1680=\"\",COMPREHENSIVE!$P1803=\"\"),\"\",COMPREHENSIVE!$P1680+COMPREHENSIVE!$P1803)","v":""},"",null,null,{"$f":"IF(AND(COMPREHENSIVE!$P1696=\"\",COMPREHENSIVE!$P1819=\"\"),\"\",COMPREHENSIVE!$P1696+COMPREHENSIVE!$P1819)","v":""},"",null,null,{"$f":"IF(AND(COMPREHENSIVE!$P1712=\"\",COMPREHENSIVE!$P1835=\"\"),\"\",COMPREHENSIVE!$P1712+COMPREHENSIVE!$P1835)","v":""},"",null,null,null,null,{"$f":"COUNTIF(G433,\"*\"&PROFILE!$C$60&\"*\")","v":0},{"$f":"IF(AND(OR(COUNTIF(COMPREHENSIVE!$M$58:$M$58,\"enabled\")>0,COUNTIF(COMPREHENSIVE!$P$58:$Q$58,\"enabled\")>0,COUNTIF(COMPREHENSIVE!$M$66:$M$66,\"enabled\")>0,COUNTIF(COMPREHENSIVE!$P$66:$Q$66,\"enabled\")>0),Y433=1),1,0)","v":0}]
[null,null,null,null,null,null,{"$f":"PROFILE!$C$61","v":0},null,null,null,{"$f":"IF(AND(COMPREHENSIVE!$P1681=\"\",COMPREHENSIVE!$P1804=\"\"),\"\",COMPREHENSIVE!$P1681+COMPREHENSIVE!$P1804)","v":""},"",null,null,{"$f":"IF(AND(COMPREHENSIVE!$P1697=\"\",COMPREHENSIVE!$P1820=\"\"),\"\",COMPREHENSIVE!$P1697+COMPREHENSIVE!$P1820)","v":""},"",null,null,{"$f":"IF(AND(COMPREHENSIVE!$P1713=\"\",COMPREHENSIVE!$P1836=\"\"),\"\",COMPREHENSIVE!$P1713+COMPREHENSIVE!$P1836)","v":""},"",null,null,null,null,{"$f":"COUNTIF(G434,\"*\"&PROFILE!$C$61&\"*\")","v":0},{"$f":"IF(AND(OR(COUNTIF(COMPREHENSIVE!$M$58:$M$58,\"enabled\")>0,COUNTIF(COMPREHENSIVE!$P$58:$Q$58,\"enabled\")>0,COUNTIF(COMPREHENSIVE!$M$66:$M$66,\"enabled\")>0,COUNTIF(COMPREHENSIVE!$P$66:$Q$66,\"enabled\")>0),Y434=1),1,0)","v":0}]
[null,null,null,null,null,null,{"$f":"PROFILE!$C$62","v":0},null,null,null,{"$f":"IF(AND(COMPREHENSIVE!$P1682=\"\",COMPREHENSIVE!$P1805=\"\"),\"\",COMPREHENSIVE!$P1682+COMPREHENSIVE!$P1805)","v":""},"",null,null,{"$f":"IF(AND(COMPREHENSIVE!$P1698=\"\",COMPREHENSIVE!$P1821=\"\"),\"\",COMPREHENSIVE!$P1698+COMPREHENSIVE!$P1821)","v":""},"",null,null,{"$f":"IF(AND(COMPREHENSIVE!$P1714=\"\",COMPREHENSIVE!$P1837=\"\"),\"\",COMPREHENSIVE!$P1714+COMPREHENSIVE!$P1837)","v":""},"",null,null,null,null,{"$f":"COUNTIF(G435,\"*\"&PROFILE!$C$62&\"*\")","v":0},{"$f":"IF(AND(OR(COUNTIF(COMPREHENSIVE!$M$58:$M$58,\"enabled\")>0,COUNTIF(COMPREHENSIVE!$P$58:$Q$58,\"enabled\")>0,COUNTIF(COMPREHENSIVE!$M$66:$M$66,\"enabled\")>0,COUNTIF(COMPREHENSIVE!$P$66:$Q$66,\"enabled\")>0),Y435=1),1,0)","v":0}]
[null,null,null,null,null,null,{"$f":"PROFILE!$C$63","v":0},null,null,null,{"$f":"IF(AND(COMPREHENSIVE!$P1683=\"\",COMPREHENSIVE!$P1806=\"\"),\"\",COMPREHENSIVE!$P1683+COMPREHENSIVE!$P1806)","v":""},"",null,null,{"$f":"IF(AND(COMPREHENSIVE!$P1699=\"\",COMPREHENSIVE!$P1822=\"\"),\"\",COMPREHENSIVE!$P1699+COMPREHENSIVE!$P1822)","v":""},"",null,null,{"$f":"IF(AND(COMPREHENSIVE!$P1715=\"\",COMPREHENSIVE!$P1838=\"\"),\"\",COMPREHENSIVE!$P1715+COMPREHENSIVE!$P1838)","v":""},"",null,null,null,null,{"$f":"COUNTIF(G436,\"*\"&PROFILE!$C$63&\"*\")","v":0},{"$f":"IF(AND(OR(COUNTIF(COMPREHENSIVE!$M$58:$M$58,\"enabled\")>0,COUNTIF(COMPREHENSIVE!$P$58:$Q$58,\"enabled\")>0,COUNTIF(COMPREHENSIVE!$M$66:$M$66,\"enabled\")>0,COUNTIF(COMPREHENSIVE!$P$66:$Q$66,\"enabled\")>0),Y436=1),1,0)","v":0}]
[null,null,null,null,null,null,{"$f":"PROFILE!$C$64","v":0},null,null,null,{"$f":"IF(AND(COMPREHENSIVE!$P1684=\"\",COMPREHENSIVE!$P1807=\"\"),\"\",COMPREHENSIVE!$P1684+COMPREHENSIVE!$P1807)","v":""},"",null,null,{"$f":"IF(AND(COMPREHENSIVE!$P1700=\"\",COMPREHENSIVE!$P1823=\"\"),\"\",COMPREHENSIVE!$P1700+COMPREHENSIVE!$P1823)","v":""},"",null,null,{"$f":"IF(AND(COMPREHENSIVE!$P1716=\"\",COMPREHENSIVE!$P1839=\"\"),\"\",COMPREHENSIVE!$P1716+COMPREHENSIVE!$P1839)","v":""},"",null,null,null,null,{"$f":"COUNTIF(G437,\"*\"&PROFILE!$C$64&\"*\")","v":0},{"$f":"IF(AND(OR(COUNTIF(COMPREHENSIVE!$M$58:$M$58,\"enabled\")>0,COUNTIF(COMPREHENSIVE!$P$58:$Q$58,\"enabled\")>0,COUNTIF(COMPREHENSIVE!$M$66:$M$66,\"enabled\")>0,COUNTIF(COMPREHENSIVE!$P$66:$Q$66,\"enabled\")>0),Y437=1),1,0)","v":0}]
[null,null,null,null,null,null,{"$f":"PROFILE!$C$65","v":0},null,null,null,{"$f":"IF(AND(COMPREHENSIVE!$P1685=\"\",COMPREHENSIVE!$P1808=\"\"),\"\",COMPREHENSIVE!$P1685+COMPREHENSIVE!$P1808)","v":""},"",null,null,{"$f":"IF(AND(COMPREHENSIVE!$P1701=\"\",COMPREHENSIVE!$P1824=\"\"),\"\",COMPREHENSIVE!$P1701+COMPREHENSIVE!$P1824)","v":""},"",null,null,{"$f":"IF(AND(COMPREHENSIVE!$P1717=\"\",COMPREHENSIVE!$P1840=\"\"),\"\",COMPREHENSIVE!$P1717+COMPREHENSIVE!$P1840)","v":""},"",null,null,null,null,{"$f":"COUNTIF(G438,\"*\"&PROFILE!$C$65&\"*\")","v":0},{"$f":"IF(AND(OR(COUNTIF(COMPREHENSIVE!$M$58:$M$58,\"enabled\")>0,COUNTIF(COMPREHENSIVE!$P$58:$Q$58,\"enabled\")>0,COUNTIF(COMPREHENSIVE!$M$66:$M$66,\"enabled\")>0,COUNTIF(COMPREHENSIVE!$P$66:$Q$66,\"enabled\")>0),Y438=1),1,0)","v":0}]
[null,null,null,null,null,null,{"$f":"PROFILE!$C$66","v":0},null,null,null,{"$f":"IF(AND(COMPREHENSIVE!$P1686=\"\",COMPREHENSIVE!$P1809=\"\"),\"\",COMPREHENSIVE!$P1686+COMPREHENSIVE!$P1809)","v":""},"",null,null,{"$f":"IF(AND(COMPREHENSIVE!$P1702=\"\",COMPREHENSIVE!$P1825=\"\"),\"\",COMPREHENSIVE!$P1702+COMPREHENSIVE!$P1825)","v":""},"",null,null,{"$f":"IF(AND(COMPREHENSIVE!$P1718=\"\",COMPREHENSIVE!$P1841=\"\"),\"\",COMPREHENSIVE!$P1718+COMPREHENSIVE!$P1841)","v":""},"",null,null,null,null,{"$f":"COUNTIF(G439,\"*\"&PROFILE!$C$66&\"*\")","v":0},{"$f":"IF(AND(OR(COUNTIF(COMPREHENSIVE!$M$58:$M$58,\"enabled\")>0,COUNTIF(COMPREHENSIVE!$P$58:$Q$58,\"enabled\")>0,COUNTIF(COMPREHENSIVE!$M$66:$M$66,\"enabled\")>0,COUNTIF(COMPREHENSIVE!$P$66:$Q$66,\"enabled\")>0),Y439=1),1,0)","v":0}]
[null,null,null,null,null,null,{"$f":"PROFILE!$C$67","v":0},null,null,null,{"$f":"IF(AND(COMPREHENSIVE!$P1687=\"\",COMPREHENSIVE!$P1810=\"\"),\"\",COMPREHENSIVE!$P1687+COMPREHENSIVE!$P1810)","v":""},"",null,null,{"$f":"IF(AND(COMPREHENSIVE!$P1703=\"\",COMPREHENSIVE!$P1826=\"\"),\"\",COMPREHENSIVE!$P1703+COMPREHENSIVE!$P1826)","v":""},"",null,null,{"$f":"IF(AND(COMPREHENSIVE!$P1719=\"\",COMPREHENSIVE!$P1842=\"\"),\"\",COMPREHENSIVE!$P1719+COMPREHENSIVE!$P1842)","v":""},"",null,null,null,null,{"$f":"COUNTIF(G440,\"*\"&PROFILE!$C$67&\"*\")","v":0},{"$f":"IF(AND(OR(COUNTIF(COMPREHENSIVE!$M$58:$M$58,\"enabled\")>0,COUNTIF(COMPREHENSIVE!$P$58:$Q$58,\"enabled\")>0,COUNTIF(COMPREHENSIVE!$M$66:$M$66,\"enabled\")>0,COUNTIF(COMPREHENSIVE!$P$66:$Q$66,\"enabled\")>0),Y440=1),1,0)","v":0}]
[null,null,null,null,null,null,{"$f":"PROFILE!$C$68","v":0},null,null,null,{"$f":"IF(AND(COMPREHENSIVE!$P1688=\"\",COMPREHENSIVE!$P1811=\"\"),\"\",COMPREHENSIVE!$P1688+COMPREHENSIVE!$P1811)","v":""},"",null,null,{"$f":"IF(AND(COMPREHENSIVE!$P1704=\"\",COMPREHENSIVE!$P1827=\"\"),\"\",COMPREHENSIVE!$P1704+COMPREHENSIVE!$P1827)","v":""},"",null,null,{"$f":"IF(AND(COMPREHENSIVE!$P1720=\"\",COMPREHENSIVE!$P1843=\"\"),\"\",COMPREHENSIVE!$P1720+COMPREHENSIVE!$P1843)","v":""},"",null,null,null,null,{"$f":"COUNTIF(G441,\"*\"&PROFILE!$C$68&\"*\")","v":0},{"$f":"IF(AND(OR(COUNTIF(COMPREHENSIVE!$M$58:$M$58,\"enabled\")>0,COUNTIF(COMPREHENSIVE!$P$58:$Q$58,\"enabled\")>0,COUNTIF(COMPREHENSIVE!$M$66:$M$66,\"enabled\")>0,COUNTIF(COMPREHENSIVE!$P$66:$Q$66,\"enabled\")>0),Y441=1),1,0)","v":0}]
[null,null,null,null,null,null,{"$f":"PROFILE!$C$69","v":0},null,null,null,{"$f":"IF(AND(COMPREHENSIVE!$P1689=\"\",COMPREHENSIVE!$P1812=\"\"),\"\",COMPREHENSIVE!$P1689+COMPREHENSIVE!$P1812)","v":""},"",null,null,{"$f":"IF(AND(COMPREHENSIVE!$P1705=\"\",COMPREHENSIVE!$P1828=\"\"),\"\",COMPREHENSIVE!$P1705+COMPREHENSIVE!$P1828)","v":""},"",null,null,{"$f":"IF(AND(COMPREHENSIVE!$P1721=\"\",COMPREHENSIVE!$P1844=\"\"),\"\",COMPREHENSIVE!$P1721+COMPREHENSIVE!$P1844)","v":""},"",null,null,null,null,{"$f":"COUNTIF(G442,\"*\"&PROFILE!$C$69&\"*\")","v":0},{"$f":"IF(AND(OR(COUNTIF(COMPREHENSIVE!$M$58:$M$58,\"enabled\")>0,COUNTIF(COMPREHENSIVE!$P$58:$Q$58,\"enabled\")>0,COUNTIF(COMPREHENSIVE!$M$66:$M$66,\"enabled\")>0,COUNTIF(COMPREHENSIVE!$P$66:$Q$66,\"enabled\")>0),Y442=1),1,0)","v":0}]
[null,null,null,null,null,null,{"$f":"PROFILE!$C$70","v":0},null,null,null,{"$f":"IF(AND(COMPREHENSIVE!$P1690=\"\",COMPREHENSIVE!$P1813=\"\"),\"\",COMPREHENSIVE!$P1690+COMPREHENSIVE!$P1813)","v":""},"",null,null,{"$f":"IF(AND(COMPREHENSIVE!$P1706=\"\",COMPREHENSIVE!$P1829=\"\"),\"\",COMPREHENSIVE!$P1706+COMPREHENSIVE!$P1829)","v":""},"",null,null,{"$f":"IF(AND(COMPREHENSIVE!$P1722=\"\",COMPREHENSIVE!$P1845=\"\"),\"\",COMPREHENSIVE!$P1722+COMPREHENSIVE!$P1845)","v":""},"",null,null,null,null,{"$f":"COUNTIF(G443,\"*\"&PROFILE!$C$70&\"*\")","v":0},{"$f":"IF(AND(OR(COUNTIF(COMPREHENSIVE!$M$58:$M$58,\"enabled\")>0,COUNTIF(COMPREHENSIVE!$P$58:$Q$58,\"enabled\")>0,COUNTIF(COMPREHENSIVE!$M$66:$M$66,\"enabled\")>0,COUNTIF(COMPREHENSIVE!$P$66:$Q$66,\"enabled\")>0),Y443=1),1,0)","v":0}]
[null,null,null,null,null,null,{"$f":"PROFILE!$C$71","v":0},null,null,null,{"$f":"IF(AND(COMPREHENSIVE!$P1691=\"\",COMPREHENSIVE!$P1814=\"\"),\"\",COMPREHENSIVE!$P1691+COMPREHENSIVE!$P1814)","v":""},"",null,null,{"$f":"IF(AND(COMPREHENSIVE!$P1707=\"\",COMPREHENSIVE!$P1830=\"\"),\"\",COMPREHENSIVE!$P1707+COMPREHENSIVE!$P1830)","v":""},"",null,null,{"$f":"IF(AND(COMPREHENSIVE!$P1723=\"\",COMPREHENSIVE!$P1846=\"\"),\"\",COMPREHENSIVE!$P1723+COMPREHENSIVE!$P1846)","v":""},"",null,null,null,null,{"$f":"COUNTIF(G444,\"*\"&PROFILE!$C$71&\"*\")","v":0},{"$f":"IF(AND(OR(COUNTIF(COMPREHENSIVE!$M$58:$M$58,\"enabled\")>0,COUNTIF(COMPREHENSIVE!$P$58:$Q$58,\"enabled\")>0,COUNTIF(COMPREHENSIVE!$M$66:$M$66,\"enabled\")>0,COUNTIF(COMPREHENSIVE!$P$66:$Q$66,\"enabled\")>0),Y444=1),1,0)","v":0}]
[null,null,null,null,null,null,{"$f":"PROFILE!$C$72","v":0},null,null,null,{"$f":"IF(AND(COMPREHENSIVE!$P1692=\"\",COMPREHENSIVE!$P1815=\"\"),\"\",COMPREHENSIVE!$P1692+COMPREHENSIVE!$P1815)","v":""},"",null,null,{"$f":"IF(AND(COMPREHENSIVE!$P1708=\"\",COMPREHENSIVE!$P1831=\"\"),\"\",COMPREHENSIVE!$P1708+COMPREHENSIVE!$P1831)","v":""},"",null,null,{"$f":"IF(AND(COMPREHENSIVE!$P1724=\"\",COMPREHENSIVE!$P1847=\"\"),\"\",COMPREHENSIVE!$P1724+COMPREHENSIVE!$P1847)","v":""},"",null,null,null,null,{"$f":"COUNTIF(G445,\"*\"&PROFILE!$C$72&\"*\")","v":0},{"$f":"IF(AND(OR(COUNTIF(COMPREHENSIVE!$M$58:$M$58,\"enabled\")>0,COUNTIF(COMPREHENSIVE!$P$58:$Q$58,\"enabled\")>0,COUNTIF(COMPREHENSIVE!$M$66:$M$66,\"enabled\")>0,COUNTIF(COMPREHENSIVE!$P$66:$Q$66,\"enabled\")>0),Y445=1),1,0)","v":0}]
[null,null,null,null,null,null,null,null,null,null,null,null,null,null,null,null,null,null,null,null,null,null,null,null,null,{"$f":"IF(OR(COUNTIF(COMPREHENSIVE!$M$58:$M$58,\"enabled\")>0,COUNTIF(COMPREHENSIVE!$P$58:$Q$58,\"enabled\")>0,COUNTIF(COMPREHENSIVE!$M$66:$M$66,\"enabled\")>0,COUNTIF(COMPREHENSIVE!$P$66:$Q$66,\"enabled\")>0),1,0)","v":0}]
[null,null,null,null,null,null,"Average Years of Service (First Five Years)",null,null,null,null,null,null,null,null,null,null,null,null,null,null,null,null,null,null,{"$f":"IF(OR(COUNTIF('IN-DEPTH'!$K$33:$L$34,\"enabled\")>0,COUNTIF(COMPREHENSIVE!$N$33:$N$37,\"enabled\")>0,COUNTIF(COMPREHENSIVE!$P$33:$Q$37,\"enabled\")>0),1,0)","v":0}]
[null,null,null,null,null,null,null,null,null,null,null,null,null,null,null,null,null,null,null,null,null,null,null,null,null,{"$f":"IF(OR(COUNTIF('IN-DEPTH'!$K$33:$L$34,\"enabled\")>0,COUNTIF(COMPREHENSIVE!$N$33:$N$37,\"enabled\")>0,COUNTIF(COMPREHENSIVE!$P$33:$Q$37,\"enabled\")>0),1,0)","v":0}]
[null,null,null,null,null,null,null,null,null,null,null,null,null,null,null,null,null,null,null,null,null,null,null,null,null,{"$f":"IF(OR(COUNTIF('IN-DEPTH'!$K$33:$L$34,\"enabled\")>0,COUNTIF(COMPREHENSIVE!$N$33:$N$37,\"enabled\")>0,COUNTIF(COMPREHENSIVE!$P$33:$Q$37,\"enabled\")>0),1,0)","v":0}]
[null,null,null,null,null,null,null,null,null,null,"All Employees",null,null,null,"Leaders",null,null,null,"Executives",null,null,null,null,null,null,{"$f":"IF(OR(COUNTIF('IN-DEPTH'!$K$33:$L$34,\"enabled\")>0,COUNTIF(COMPREHENSIVE!$N$33:$N$37,\"enabled\")>0,COUNTIF(COMPREHENSIVE!$P$33:$Q$37,\"enabled\")>0),1,0)","v":0}]
[null,null,null,null,null,null,null,null,null,null,null,null,null,null,null,null,null,null,null,null,null,null,null,null,null,{"$f":"IF(OR(COUNTIF('IN-DEPTH'!$K$33:$L$34,\"enabled\")>0,COUNTIF(COMPREHENSIVE!$N$33:$N$37,\"enabled\")>0,COUNTIF(COMPREHENSIVE!$P$33:$Q$37,\"enabled\")>0),1,0)","v":0}]
[null,null,"All","Leaders","Exec.",null,null,null,null,null,{"$f":"CONCATENATE(TEXT(FOUNDATIONAL!P129,0),\" Average Years of Service\")","v":"0 Average Years of Service"},null,null,null,{"$f":"CONCATENATE(TEXT('IN-DEPTH'!P170,0),\" Leader Avg. Years of Service\")","v":"0 Leader Avg. Years of Service"},null,null,null,{"$f":"CONCATENATE(TEXT('IN-DEPTH'!P176,0),\" Executive Avg. Years of Service\")","v":"0 Executive Avg. Years of Service"},null,null,null,null,null,null,{"$f":"IF(OR(COUNTIF('IN-DEPTH'!$K$33:$L$34,\"enabled\")>0),1,0)","v":0}]
[null,null,null,null,null,null,null,null,null,null,null,null,null,null,null,null,null,null,null,null,null,null,null,null,null,{"$f":"IF(OR(COUNTIF('IN-DEPTH'!$K$33:$L$34,\"enabled\")>0),1,0)","v":0}]
[null,null,null,null,null,null,null,null,"Males",null,{"$f":"IF(COMPREHENSIVE!P1975=\"\",\"\",COMPREHENSIVE!P1975)","v":""},{"$f":"K454","v":""},null,null,{"$f":"IF(COMPREHENSIVE!P1978=\"\",\"\",COMPREHENSIVE!P1978)","v":""},{"$f":"O454","v":""},null,null,{"$f":"IF(COMPREHENSIVE!P1981=\"\",\"\",COMPREHENSIVE!P1981)","v":""},{"$f":"S454","v":""},null,null,null,null,null,{"$f":"IF(OR(COUNTIF(COMPREHENSIVE!$N$35:$N$35,\"enabled\")>0,COUNTIF(COMPREHENSIVE!$P$35:$Q$35,\"enabled\")>0),1,0)","v":0}]
[null,null,null,null,null,null,null,null,"Females",null,{"$f":"IF(COMPREHENSIVE!P1976=\"\",\"\",COMPREHENSIVE!P1976)","v":""},{"$f":"K455","v":""},null,null,{"$f":"IF(COMPREHENSIVE!P1979=\"\",\"\",COMPREHENSIVE!P1979)","v":""},{"$f":"O455","v":""},null,null,{"$f":"IF(COMPREHENSIVE!P1982=\"\",\"\",COMPREHENSIVE!P1982)","v":""},{"$f":"S455","v":""},null,null,null,null,null,{"$f":"IF(OR(COUNTIF(COMPREHENSIVE!$N$35:$N$35,\"enabled\")>0,COUNTIF(COMPREHENSIVE!$P$35:$Q$35,\"enabled\")>0),1,0)","v":0}]
[null,null,null,null,null,null,null,null,null,null,null,null,null,null,null,null,null,null,null,null,null,null,null,null,null,{"$f":"IF(OR(COUNTIF(COMPREHENSIVE!$N$35:$N$35,\"enabled\")>0,COUNTIF(COMPREHENSIVE!$P$35:$Q$35,\"enabled\")>0),1,0)","v":0}]
[null,null,null,null,null,null,null,null,"Minority",null,{"$f":"IF(COMPREHENSIVE!P1987=\"\",\"\",COMPREHENSIVE!P1987)","v":""},{"$f":"K457","v":""},null,null,{"$f":"IF(COMPREHENSIVE!P1990=\"\",\"\",COMPREHENSIVE!P1990)","v":""},{"$f":"O457","v":""},null,null,{"$f":"IF(COMPREHENSIVE!P1993=\"\",\"\",COMPREHENSIVE!P1993)","v":""},{"$f":"S457","v":""},null,null,null,null,null,{"$f":"IF(OR(COUNTIF(COMPREHENSIVE!$N$36:$N$36,\"enabled\")>0,COUNTIF(COMPREHENSIVE!$P$36:$Q$36,\"enabled\")>0),1,0)","v":0}]
[null,null,null,null,null,null,null,null,"Non-Minority",null,{"$f":"IF(COMPREHENSIVE!P1988=\"\",\"\",COMPREHENSIVE!P1988)","v":""},{"$f":"K458","v":""},null,null,{"$f":"IF(COMPREHENSIVE!P1991=\"\",\"\",COMPREHENSIVE!P1991)","v":""},{"$f":"O458","v":""},null,null,{"$f":"IF(COMPREHENSIVE!P1994=\"\",\"\",COMPREHENSIVE!P1994)","v":""},{"$f":"S458","v":""},null,null,null,null,null,{"$f":"IF(OR(COUNTIF(COMPREHENSIVE!$N$36:$N$36,\"enabled\")>0,COUNTIF(COMPREHENSIVE!$P$36:$Q$36,\"enabled\")>0),1,0)","v":0}]
[null,null,null,null,null,null,null,null,null,null,null,null,null,null,null,null,null,null,null,null,null,null,null,null,null,{"$f":"IF(OR(COUNTIF(COMPREHENSIVE!$N$36:$N$36,\"enabled\")>0,COUNTIF(COMPREHENSIVE!$P$36:$Q$36,\"enabled\")>0),1,0)","v":0}]
[null,null,null,null,null,null,null,null," Individuals with Disabilities",null,{"$f":"IF(COMPREHENSIVE!P1999=\"\",\"\",COMPREHENSIVE!P1999)","v":""},{"$f":"K460","v":""},null,null,{"$f":"IF(COMPREHENSIVE!P2002=\"\",\"\",COMPREHENSIVE!P2002)","v":""},{"$f":"O460","v":""},null,null,{"$f":"IF(COMPREHENSIVE!P2005=\"\",\"\",COMPREHENSIVE!P2005)","v":""},{"$f":"S460","v":""},null,null,null,null,null,{"$f":"IF(OR(COUNTIF(COMPREHENSIVE!$N$37:$N$37,\"enabled\")>0,COUNTIF(COMPREHENSIVE!$P$37:$Q$37,\"enabled\")>0),1,0)","v":0}]
[null,null,null,null,null,null,null,null,"Veterans",null,{"$f":"IF(COMPREHENSIVE!P2000=\"\",\"\",COMPREHENSIVE!P2000)","v":""},{"$f":"K461","v":""},null,null,{"$f":"IF(COMPREHENSIVE!P2003=\"\",\"\",COMPREHENSIVE!P2003)","v":""},{"$f":"O461","v":""},null,null,{"$f":"IF(COMPREHENSIVE!P2006=\"\",\"\",COMPREHENSIVE!P2006)","v":""},{"$f":"S461","v":""},null,null,null,null,null,{"$f":"IF(OR(COUNTIF(COMPREHENSIVE!$N$37:$N$37,\"enabled\")>0,COUNTIF(COMPREHENSIVE!$P$37:$Q$37,\"enabled\")>0),1,0)","v":0}]
[null,null,null,null,null,null,null,null,null,null,null,null,null,null,null,null,null,null,null,null,null,null,null,null,null,{"$f":"IF(OR(COUNTIF(COMPREHENSIVE!$N$37:$N$37,\"enabled\")>0,COUNTIF(COMPREHENSIVE!$P$37:$Q$37,\"enabled\")>0),1,0)","v":0}]
[null,null,null,null,null,null,"Officials and Administrators",null,null,null,{"$f":"IF(COMPREHENSIVE!P1888=\"\",\"\",COMPREHENSIVE!P1888)","v":""},{"$f":"K463","v":""},null,null,{"$f":"IF(COMPREHENSIVE!P1899=\"\",\"\",COMPREHENSIVE!P1899)","v":""},{"$f":"O463","v":""},null,null,{"$f":"IF(COMPREHENSIVE!P1910=\"\",\"\",COMPREHENSIVE!P1910)","v":""},{"$f":"S463","v":""},null,null,null,null,null,{"$f":"IF(OR(COUNTIF(COMPREHENSIVE!$N$33:$N$33,\"enabled\")>0,COUNTIF(COMPREHENSIVE!$P$33:$Q$33,\"enabled\")>0),1,0)","v":0}]
[null,null,null,null,null,null,"Professionals",null,null,null,{"$f":"IF(COMPREHENSIVE!P1889=\"\",\"\",COMPREHENSIVE!P1889)","v":""},{"$f":"K464","v":""},null,null,{"$f":"IF(COMPREHENSIVE!P1900=\"\",\"\",COMPREHENSIVE!P1900)","v":""},{"$f":"O464","v":""},null,null,{"$f":"IF(COMPREHENSIVE!P1911=\"\",\"\",COMPREHENSIVE!P1911)","v":""},{"$f":"S464","v":""},null,null,null,null,null,{"$f":"IF(OR(COUNTIF(COMPREHENSIVE!$N$33:$N$33,\"enabled\")>0,COUNTIF(COMPREHENSIVE!$P$33:$Q$33,\"enabled\")>0),1,0)","v":0}]
[null,null,null,null,null,null,"Technicians",null,null,null,{"$f":"IF(COMPREHENSIVE!P1890=\"\",\"\",COMPREHENSIVE!P1890)","v":""},"",null,null,{"$f":"IF(COMPREHENSIVE!P1901=\"\",\"\",COMPREHENSIVE!P1901)","v":""},"",null,null,{"$f":"IF(COMPREHENSIVE!P1912=\"\",\"\",COMPREHENSIVE!P1912)","v":""},"",null,null,null,null,null,{"$f":"IF(OR(COUNTIF(COMPREHENSIVE!$N$33:$N$33,\"enabled\")>0,COUNTIF(COMPREHENSIVE!$P$33:$Q$33,\"enabled\")>0),1,0)","v":0}]
[null,null,null,null,null,null,"Protective Service Workers",null,null,null,{"$f":"IF(COMPREHENSIVE!P1891=\"\",\"\",COMPREHENSIVE!P1891)","v":""},"",null,null,{"$f":"IF(COMPREHENSIVE!P1902=\"\",\"\",COMPREHENSIVE!P1902)","v":""},"",null,null,{"$f":"IF(COMPREHENSIVE!P1913=\"\",\"\",COMPREHENSIVE!P1913)","v":""},"",null,null,null,null,null,{"$f":"IF(OR(COUNTIF(COMPREHENSIVE!$N$33:$N$33,\"enabled\")>0,COUNTIF(COMPREHENSIVE!$P$33:$Q$33,\"enabled\")>0),1,0)","v":0}]
[null,null,null,null,null,null,"Paraprofessionals",null,null,null,{"$f":"IF(COMPREHENSIVE!P1892=\"\",\"\",COMPREHENSIVE!P1892)","v":""},"",null,null,{"$f":"IF(COMPREHENSIVE!P1903=\"\",\"\",COMPREHENSIVE!P1903)","v":""},"",null,null,{"$f":"IF(COMPREHENSIVE!P1914=\"\",\"\",COMPREHENSIVE!P1914)","v":""},"",null,null,null,null,null,{"$f":"IF(OR(COUNTIF(COMPREHENSIVE!$N$33:$N$33,\"enabled\")>0,COUNTIF(COMPREHENSIVE!$P$33:$Q$33,\"enabled\")>0),1,0)","v":0}]
[null,null,null,null,null,null,"Administrative Support",null,null,null,{"$f":"IF(COMPREHENSIVE!P1893=\"\",\"\",COMPREHENSIVE!P1893)","v":""},"",null,null,{"$f":"IF(COMPREHENSIVE!P1904=\"\",\"\",COMPREHENSIVE!P1904)","v":""},"",null,null,{"$f":"IF(COMPREHENSIVE!P1915=\"\",\"\",COMPREHENSIVE!P1915)","v":""},"",null,null,null,null,null,{"$f":"IF(OR(COUNTIF(COMPREHENSIVE!$N$33:$N$33,\"enabled\")>0,COUNTIF(COMPREHENSIVE!$P$33:$Q$33,\"enabled\")>0),1,0)","v":0}]
[null,null,null,null,null,null,"Skilled Craft Workers",null,null,null,{"$f":"IF(COMPREHENSIVE!P1894=\"\",\"\",COMPREHENSIVE!P1894)","v":""},"",null,null,{"$f":"IF(COMPREHENSIVE!P1905=\"\",\"\",COMPREHENSIVE!P1905)","v":""},"",null,null,{"$f":"IF(COMPREHENSIVE!P1916=\"\",\"\",COMPREHENSIVE!P1916)","v":""},"",null,null,null,null,null,{"$f":"IF(OR(COUNTIF(COMPREHENSIVE!$N$33:$N$33,\"enabled\")>0,COUNTIF(COMPREHENSIVE!$P$33:$Q$33,\"enabled\")>0),1,0)","v":0}]
[null,null,null,null,null,null,"Service/Maintenance",null,null,null,{"$f":"IF(COMPREHENSIVE!P1895=\"\",\"\",COMPREHENSIVE!P1895)","v":""},"",null,null,{"$f":"IF(COMPREHENSIVE!P1906=\"\",\"\",COMPREHENSIVE!P1906)","v":""},"",null,null,{"$f":"IF(COMPREHENSIVE!P1917=\"\",\"\",COMPREHENSIVE!P1917)","v":""},"",null,null,null,null,null,{"$f":"IF(OR(COUNTIF(COMPREHENSIVE!$N$33:$N$33,\"enabled\")>0,COUNTIF(COMPREHENSIVE!$P$33:$Q$33,\"enabled\")>0),1,0)","v":0}]
[null,null,null,null,null,null,"Faculty",null,null,null,{"$f":"IF(COMPREHENSIVE!P1896=\"\",\"\",COMPREHENSIVE!P1896)","v":""},"",null,null,{"$f":"IF(COMPREHENSIVE!P1907=\"\",\"\",COMPREHENSIVE!P1907)","v":""},"",null,null,{"$f":"IF(COMPREHENSIVE!P1918=\"\",\"\",COMPREHENSIVE!P1918)","v":""},"",null,null,null,null,null,{"$f":"IF(OR(COUNTIF(COMPREHENSIVE!$N$33:$N$33,\"enabled\")>0,COUNTIF(COMPREHENSIVE!$P$33:$Q$33,\"enabled\")>0),1,0)","v":0}]
[null,null,null,null,null,null,"Other",null,null,null,{"$f":"IF(COMPREHENSIVE!P1897=\"\",\"\",COMPREHENSIVE!P1897)","v":""},"",null,null,{"$f":"IF(COMPREHENSIVE!P1908=\"\",\"\",COMPREHENSIVE!P1908)","v":""},"",null,null,{"$f":"IF(COMPREHENSIVE!P1919=\"\",\"\",COMPREHENSIVE!P1919)","v":""},"",null,null,null,null,null,{"$f":"IF(OR(COUNTIF(COMPREHENSIVE!$N$33:$N$33,\"enabled\")>0,COUNTIF(COMPREHENSIVE!$P$33:$Q$33,\"enabled\")>0),1,0)","v":0}]
[null,null,null,null,null,null,null,null,null,null,null,null,null,null,null,null,null,null,null,null,null,null,null,null,null,{"$f":"IF(OR(COUNTIF(COMPREHENSIVE!$N$33:$N$33,\"enabled\")>0,COUNTIF(COMPREHENSIVE!$P$33:$Q$33,\"enabled\")>0),1,0)","v":0}]
[null,null,null,null,null,null,{"$f":"PROFILE!$C$58","v":0},null,null,null,{"$f":"IF(COMPREHENSIVE!P1924=\"\",\"\",COMPREHENSIVE!P1924)","v":""},{"$f":"K474","v":""},null,null,{"$f":"IF(COMPREHENSIVE!P1940=\"\",\"\",COMPREHENSIVE!P1940)","v":""},{"$f":"O474","v":""},null,null,{"$f":"IF(COMPREHENSIVE!P1956=\"\",\"\",COMPREHENSIVE!P1956)","v":""},{"$f":"S474","v":""},null,null,null,null,{"$f":"COUNTIF(G474,\"*\"&PROFILE!$C$58&\"*\")","v":0},{"$f":"IF(AND(OR(COUNTIF(COMPREHENSIVE!$N$34:$N$34,\"enabled\")>0,COUNTIF(COMPREHENSIVE!$P$34:$Q$34,\"enabled\")>0),Y474=1),1,0)","v":0}]
[null,null,null,null,null,null,{"$f":"PROFILE!$C$59","v":0},null,null,null,{"$f":"IF(COMPREHENSIVE!P1925=\"\",\"\",COMPREHENSIVE!P1925)","v":""},{"$f":"K475","v":""},null,null,{"$f":"IF(COMPREHENSIVE!P1941=\"\",\"\",COMPREHENSIVE!P1941)","v":""},{"$f":"O475","v":""},null,null,{"$f":"IF(COMPREHENSIVE!P1957=\"\",\"\",COMPREHENSIVE!P1957)","v":""},{"$f":"S475","v":""},null,null,null,null,{"$f":"COUNTIF(G475,\"*\"&PROFILE!$C$59&\"*\")","v":0},{"$f":"IF(AND(OR(COUNTIF(COMPREHENSIVE!$N$34:$N$34,\"enabled\")>0,COUNTIF(COMPREHENSIVE!$P$34:$Q$34,\"enabled\")>0),Y475=1),1,0)","v":0}]
[null,null,null,null,null,null,{"$f":"PROFILE!$C$60","v":0},null,null,null,{"$f":"IF(COMPREHENSIVE!P1926=\"\",\"\",COMPREHENSIVE!P1926)","v":""},"",null,null,{"$f":"IF(COMPREHENSIVE!P1942=\"\",\"\",COMPREHENSIVE!P1942)","v":""},"",null,null,{"$f":"IF(COMPREHENSIVE!P1958=\"\",\"\",COMPREHENSIVE!P1958)","v":""},"",null,null,null,null,{"$f":"COUNTIF(G476,\"*\"&PROFILE!$C$60&\"*\")","v":0},{"$f":"IF(AND(OR(COUNTIF(COMPREHENSIVE!$N$34:$N$34,\"enabled\")>0,COUNTIF(COMPREHENSIVE!$P$34:$Q$34,\"enabled\")>0),Y476=1),1,0)","v":0}]
[null,null,null,null,null,null,{"$f":"PROFILE!$C$61","v":0},null,null,null,{"$f":"IF(COMPREHENSIVE!P1927=\"\",\"\",COMPREHENSIVE!P1927)","v":""},"",null,null,{"$f":"IF(COMPREHENSIVE!P1943=\"\",\"\",COMPREHENSIVE!P1943)","v":""},"",null,null,{"$f":"IF(COMPREHENSIVE!P1959=\"\",\"\",COMPREHENSIVE!P1959)","v":""},"",null,null,null,null,{"$f":"COUNTIF(G477,\"*\"&PROFILE!$C$61&\"*\")","v":0},{"$f":"IF(AND(OR(COUNTIF(COMPREHENSIVE!$N$34:$N$34,\"enabled\")>0,COUNTIF(COMPREHENSIVE!$P$34:$Q$34,\"enabled\")>0),Y477=1),1,0)","v":0}]
[null,null,null,null,null,null,{"$f":"PROFILE!$C$62","v":0},null,null,null,{"$f":"IF(COMPREHENSIVE!P1928=\"\",\"\",COMPREHENSIVE!P1928)","v":""},"",null,null,{"$f":"IF(COMPREHENSIVE!P1944=\"\",\"\",COMPREHENSIVE!P1944)","v":""},"",null,null,{"$f":"IF(COMPREHENSIVE!P1960=\"\",\"\",COMPREHENSIVE!P1960)","v":""},"",null,null,null,null,{"$f":"COUNTIF(G478,\"*\"&PROFILE!$C$62&\"*\")","v":0},{"$f":"IF(AND(OR(COUNTIF(COMPREHENSIVE!$N$34:$N$34,\"enabled\")>0,COUNTIF(COMPREHENSIVE!$P$34:$Q$34,\"enabled\")>0),Y478=1),1,0)","v":0}]
[null,null,null,null,null,null,{"$f":"PROFILE!$C$63","v":0},null,null,null,{"$f":"IF(COMPREHENSIVE!P1929=\"\",\"\",COMPREHENSIVE!P1929)","v":""},"",null,null,{"$f":"IF(COMPREHENSIVE!P1945=\"\",\"\",COMPREHENSIVE!P1945)","v":""},"",null,null,{"$f":"IF(COMPREHENSIVE!P1961=\"\",\"\",COMPREHENSIVE!P1961)","v":""},"",null,null,null,null,{"$f":"COUNTIF(G479,\"*\"&PROFILE!$C$63&\"*\")","v":0},{"$f":"IF(AND(OR(COUNTIF(COMPREHENSIVE!$N$34:$N$34,\"enabled\")>0,COUNTIF(COMPREHENSIVE!$P$34:$Q$34,\"enabled\")>0),Y479=1),1,0)","v":0}]
[null,null,null,null,null,null,{"$f":"PROFILE!$C$64","v":0},null,null,null,{"$f":"IF(COMPREHENSIVE!P1930=\"\",\"\",COMPREHENSIVE!P1930)","v":""},"",null,null,{"$f":"IF(COMPREHENSIVE!P1946=\"\",\"\",COMPREHENSIVE!P1946)","v":""},"",null,null,{"$f":"IF(COMPREHENSIVE!P1962=\"\",\"\",COMPREHENSIVE!P1962)","v":""},"",null,null,null,null,{"$f":"COUNTIF(G480,\"*\"&PROFILE!$C$64&\"*\")","v":0},{"$f":"IF(AND(OR(COUNTIF(COMPREHENSIVE!$N$34:$N$34,\"enabled\")>0,COUNTIF(COMPREHENSIVE!$P$34:$Q$34,\"enabled\")>0),Y480=1),1,0)","v":0}]
[null,null,null,null,null,null,{"$f":"PROFILE!$C$65","v":0},null,null,null,{"$f":"IF(COMPREHENSIVE!P1931=\"\",\"\",COMPREHENSIVE!P1931)","v":""},"",null,null,{"$f":"IF(COMPREHENSIVE!P1947=\"\",\"\",COMPREHENSIVE!P1947)","v":""},"",null,null,{"$f":"IF(COMPREHENSIVE!P1963=\"\",\"\",COMPREHENSIVE!P1963)","v":""},"",null,null,null,null,{"$f":"COUNTIF(G481,\"*\"&PROFILE!$C$65&\"*\")","v":0},{"$f":"IF(AND(OR(COUNTIF(COMPREHENSIVE!$N$34:$N$34,\"enabled\")>0,COUNTIF(COMPREHENSIVE!$P$34:$Q$34,\"enabled\")>0),Y481=1),1,0)","v":0}]
[null,null,null,null,null,null,{"$f":"PROFILE!$C$66","v":0},null,null,null,{"$f":"IF(COMPREHENSIVE!P1932=\"\",\"\",COMPREHENSIVE!P1932)","v":""},"",null,null,{"$f":"IF(COMPREHENSIVE!P1948=\"\",\"\",COMPREHENSIVE!P1948)","v":""},"",null,null,{"$f":"IF(COMPREHENSIVE!P1964=\"\",\"\",COMPREHENSIVE!P1964)","v":""},"",null,null,null,null,{"$f":"COUNTIF(G482,\"*\"&PROFILE!$C$66&\"*\")","v":0},{"$f":"IF(AND(OR(COUNTIF(COMPREHENSIVE!$N$34:$N$34,\"enabled\")>0,COUNTIF(COMPREHENSIVE!$P$34:$Q$34,\"enabled\")>0),Y482=1),1,0)","v":0}]
[null,null,null,null,null,null,{"$f":"PROFILE!$C$67","v":0},null,null,null,{"$f":"IF(COMPREHENSIVE!P1933=\"\",\"\",COMPREHENSIVE!P1933)","v":""},"",null,null,{"$f":"IF(COMPREHENSIVE!P1949=\"\",\"\",COMPREHENSIVE!P1949)","v":""},"",null,null,{"$f":"IF(COMPREHENSIVE!P1965=\"\",\"\",COMPREHENSIVE!P1965)","v":""},"",null,null,null,null,{"$f":"COUNTIF(G483,\"*\"&PROFILE!$C$67&\"*\")","v":0},{"$f":"IF(AND(OR(COUNTIF(COMPREHENSIVE!$N$34:$N$34,\"enabled\")>0,COUNTIF(COMPREHENSIVE!$P$34:$Q$34,\"enabled\")>0),Y483=1),1,0)","v":0}]
[null,null,null,null,null,null,{"$f":"PROFILE!$C$68","v":0},null,null,null,{"$f":"IF(COMPREHENSIVE!P1934=\"\",\"\",COMPREHENSIVE!P1934)","v":""},"",null,null,{"$f":"IF(COMPREHENSIVE!P1950=\"\",\"\",COMPREHENSIVE!P1950)","v":""},"",null,null,{"$f":"IF(COMPREHENSIVE!P1966=\"\",\"\",COMPREHENSIVE!P1966)","v":""},"",null,null,null,null,{"$f":"COUNTIF(G484,\"*\"&PROFILE!$C$68&\"*\")","v":0},{"$f":"IF(AND(OR(COUNTIF(COMPREHENSIVE!$N$34:$N$34,\"enabled\")>0,COUNTIF(COMPREHENSIVE!$P$34:$Q$34,\"enabled\")>0),Y484=1),1,0)","v":0}]
[null,null,null,null,null,null,{"$f":"PROFILE!$C$69","v":0},null,null,null,{"$f":"IF(COMPREHENSIVE!P1935=\"\",\"\",COMPREHENSIVE!P1935)","v":""},"",null,null,{"$f":"IF(COMPREHENSIVE!P1951=\"\",\"\",COMPREHENSIVE!P1951)","v":""},"",null,null,{"$f":"IF(COMPREHENSIVE!P1967=\"\",\"\",COMPREHENSIVE!P1967)","v":""},"",null,null,null,null,{"$f":"COUNTIF(G485,\"*\"&PROFILE!$C$69&\"*\")","v":0},{"$f":"IF(AND(OR(COUNTIF(COMPREHENSIVE!$N$34:$N$34,\"enabled\")>0,COUNTIF(COMPREHENSIVE!$P$34:$Q$34,\"enabled\")>0),Y485=1),1,0)","v":0}]
[null,null,null,null,null,null,{"$f":"PROFILE!$C$70","v":0},null,null,null,{"$f":"IF(COMPREHENSIVE!P1936=\"\",\"\",COMPREHENSIVE!P1936)","v":""},"",null,null,{"$f":"IF(COMPREHENSIVE!P1952=\"\",\"\",COMPREHENSIVE!P1952)","v":""},"",null,null,{"$f":"IF(COMPREHENSIVE!P1968=\"\",\"\",COMPREHENSIVE!P1968)","v":""},"",null,null,null,null,{"$f":"COUNTIF(G486,\"*\"&PROFILE!$C$70&\"*\")","v":0},{"$f":"IF(AND(OR(COUNTIF(COMPREHENSIVE!$N$34:$N$34,\"enabled\")>0,COUNTIF(COMPREHENSIVE!$P$34:$Q$34,\"enabled\")>0),Y486=1),1,0)","v":0}]
[null,null,null,null,null,null,{"$f":"PROFILE!$C$71","v":0},null,null,null,{"$f":"IF(COMPREHENSIVE!P1937=\"\",\"\",COMPREHENSIVE!P1937)","v":""},"",null,null,{"$f":"IF(COMPREHENSIVE!P1953=\"\",\"\",COMPREHENSIVE!P1953)","v":""},"",null,null,{"$f":"IF(COMPREHENSIVE!P1969=\"\",\"\",COMPREHENSIVE!P1969)","v":""},"",null,null,null,null,{"$f":"COUNTIF(G487,\"*\"&PROFILE!$C$71&\"*\")","v":0},{"$f":"IF(AND(OR(COUNTIF(COMPREHENSIVE!$N$34:$N$34,\"enabled\")>0,COUNTIF(COMPREHENSIVE!$P$34:$Q$34,\"enabled\")>0),Y487=1),1,0)","v":0}]
[null,null,null,null,null,null,{"$f":"PROFILE!$C$72","v":0},null,null,null,{"$f":"IF(COMPREHENSIVE!P1938=\"\",\"\",COMPREHENSIVE!P1938)","v":""},"",null,null,{"$f":"IF(COMPREHENSIVE!P1954=\"\",\"\",COMPREHENSIVE!P1954)","v":""},"",null,null,{"$f":"IF(COMPREHENSIVE!P1970=\"\",\"\",COMPREHENSIVE!P1970)","v":""},"",null,null,null,null,{"$f":"COUNTIF(G488,\"*\"&PROFILE!$C$72&\"*\")","v":0},{"$f":"IF(AND(OR(COUNTIF(COMPREHENSIVE!$N$34:$N$34,\"enabled\")>0,COUNTIF(COMPREHENSIVE!$P$34:$Q$34,\"enabled\")>0),Y488=1),1,0)","v":0}]
[null,null,null,null,null,null,null,null,null,null,null,null,null,null,null,null,null,null,null,null,null,null,null,null,null,{"$f":"IF(OR(COUNTIF(COMPREHENSIVE!$N$34:$N$34,\"enabled\")>0,COUNTIF(COMPREHENSIVE!$P$34:$Q$34,\"enabled\")>0),1,0)","v":0}]
[null,null,null,null,null,null,"Internal Mobility within First Five Years (Internal Promotions and Transfers) ",null,null,null,null,null,null,null,null,null,null,null,null,null,null,null,null,null,null,{"$f":"IF(OR(COUNTIF('IN-DEPTH'!$K$33:$L$34,\"enabled\")>0,COUNTIF(COMPREHENSIVE!$N$41:$N$45,\"enabled\")>0,COUNTIF(COMPREHENSIVE!$P$41:$Q$45,\"enabled\")>0,COUNTIF(COMPREHENSIVE!$N$49:$N$53,\"enabled\")>0,COUNTIF(COMPREHENSIVE!$P$49:$Q$53,\"enabled\")>0),1,0)","v":0}]
[null,null,null,null,null,null,null,null,null,null,null,null,null,null,null,null,null,null,null,null,null,null,null,null,null,{"$f":"IF(OR(COUNTIF('IN-DEPTH'!$K$33:$L$34,\"enabled\")>0,COUNTIF(COMPREHENSIVE!$N$41:$N$45,\"enabled\")>0,COUNTIF(COMPREHENSIVE!$P$41:$Q$45,\"enabled\")>0,COUNTIF(COMPREHENSIVE!$N$49:$N$53,\"enabled\")>0,COUNTIF(COMPREHENSIVE!$P$49:$Q$53,\"enabled\")>0),1,0)","v":0}]
[null,null,null,null,null,null,null,null,null,null,null,null,null,null,null,null,null,null,null,null,null,null,null,null,null,{"$f":"IF(OR(COUNTIF('IN-DEPTH'!$K$33:$L$34,\"enabled\")>0,COUNTIF(COMPREHENSIVE!$N$41:$N$45,\"enabled\")>0,COUNTIF(COMPREHENSIVE!$P$41:$Q$45,\"enabled\")>0,COUNTIF(COMPREHENSIVE!$N$49:$N$53,\"enabled\")>0,COUNTIF(COMPREHENSIVE!$P$49:$Q$53,\"enabled\")>0),1,0)","v":0}]
[null,null,null,null,null,null,null,null,null,null,"All Employees",null,null,null,"Leaders",null,null,null,"Executives",null,null,null,null,null,null,{"$f":"IF(OR(COUNTIF('IN-DEPTH'!$K$33:$L$34,\"enabled\")>0,COUNTIF(COMPREHENSIVE!$N$41:$N$45,\"enabled\")>0,COUNTIF(COMPREHENSIVE!$P$41:$Q$45,\"enabled\")>0,COUNTIF(COMPREHENSIVE!$N$49:$N$53,\"enabled\")>0,COUNTIF(COMPREHENSIVE!$P$49:$Q$53,\"enabled\")>0),1,0)","v":0}]
[null,null,null,null,null,null,null,null,null,null,null,null,null,null,null,null,null,null,null,null,null,null,null,null,null,{"$f":"IF(OR(COUNTIF('IN-DEPTH'!$K$33:$L$34,\"enabled\")>0,COUNTIF(COMPREHENSIVE!$N$41:$N$45,\"enabled\")>0,COUNTIF(COMPREHENSIVE!$P$41:$Q$45,\"enabled\")>0,COUNTIF(COMPREHENSIVE!$N$49:$N$53,\"enabled\")>0,COUNTIF(COMPREHENSIVE!$P$49:$Q$53,\"enabled\")>0),1,0)","v":0}]
[null,null,null,null,null,null,null,null,null,null,{"$f":"IFERROR((FOUNDATIONAL!P248+FOUNDATIONAL!P249)/FOUNDATIONAL!P161,0)","v":0},null,null,null,{"$f":"IFERROR(('IN-DEPTH'!P288+'IN-DEPTH'!P289)/'IN-DEPTH'!P195,0)","v":0},null,null,null,{"$f":"IFERROR(('IN-DEPTH'!P294+'IN-DEPTH'!P295)/FOUNDATIONAL!P171,0)","v":0},null,null,null,null,null,null,{"$f":"IF(OR(COUNTIF('IN-DEPTH'!$K$33:$L$34,\"enabled\")>0),1,0)","v":0}]
[null,null,null,null,null,null,null,null,null,null,null,null,null,null,null,null,null,null,null,null,null,null,null,null,null,{"$f":"IF(OR(COUNTIF('IN-DEPTH'!$K$33:$L$34,\"enabled\")>0),1,0)","v":0}]
[null,null,"All","Leaders","Exec.",null,null,null,null,null,"Overall Internal Mobility",null,null,null,"Leader Internal Mobility",null,null,null,"Executive Internal Mobility",null,null,null,null,null,null,{"$f":"IF(OR(COUNTIF('IN-DEPTH'!$K$33:$L$34,\"enabled\")>0),1,0)","v":0}]
[null,null,null,null,null,null,null,null,null,null,null,null,null,null,null,null,null,null,null,null,null,null,null,null,null,{"$f":"IF(OR(COUNTIF('IN-DEPTH'!$K$33:$L$34,\"enabled\")>0),1,0)","v":0}]
[null,null,null,null,null,null,null,null,"Males",null,{"$f":"IF(AND(COMPREHENSIVE!$P2098=\"\",COMPREHENSIVE!$P2221=\"\"),\"\",COMPREHENSIVE!$P2098+COMPREHENSIVE!$P2221)","v":""},{"$f":"K499","v":""},null,null,{"$f":"IF(AND(COMPREHENSIVE!$P2101=\"\",COMPREHENSIVE!$P2224=\"\"),\"\",COMPREHENSIVE!$P2101+COMPREHENSIVE!$P2224)","v":""},{"$f":"O499","v":""},null,null,{"$f":"IF(AND(COMPREHENSIVE!$P2104=\"\",COMPREHENSIVE!$P2227=\"\"),\"\",COMPREHENSIVE!$P2104+COMPREHENSIVE!$P2227)","v":""},{"$f":"S499","v":""},null,null,null,null,null,{"$f":"IF(OR(COUNTIF(COMPREHENSIVE!$N$43:$N$43,\"enabled\")>0,COUNTIF(COMPREHENSIVE!$P$43:$Q$43,\"enabled\")>0,COUNTIF(COMPREHENSIVE!$N$51:$N$51,\"enabled\")>0,COUNTIF(COMPREHENSIVE!$P$51:$Q$51,\"enabled\")>0),1,0)","v":0}]
[null,null,null,null,null,null,null,null,"Females",null,{"$f":"IF(AND(COMPREHENSIVE!$P2099=\"\",COMPREHENSIVE!$P2222=\"\"),\"\",COMPREHENSIVE!$P2099+COMPREHENSIVE!$P2222)","v":""},{"$f":"K500","v":""},null,null,{"$f":"IF(AND(COMPREHENSIVE!$P2102=\"\",COMPREHENSIVE!$P2225=\"\"),\"\",COMPREHENSIVE!$P2102+COMPREHENSIVE!$P2225)","v":""},{"$f":"O500","v":""},null,null,{"$f":"IF(AND(COMPREHENSIVE!$P2105=\"\",COMPREHENSIVE!$P2228=\"\"),\"\",COMPREHENSIVE!$P2105+COMPREHENSIVE!$P2228)","v":""},{"$f":"S500","v":""},null,null,null,null,null,{"$f":"IF(OR(COUNTIF(COMPREHENSIVE!$N$43:$N$43,\"enabled\")>0,COUNTIF(COMPREHENSIVE!$P$43:$Q$43,\"enabled\")>0,COUNTIF(COMPREHENSIVE!$N$51:$N$51,\"enabled\")>0,COUNTIF(COMPREHENSIVE!$P$51:$Q$51,\"enabled\")>0),1,0)","v":0}]
[null,null,null,null,null,null,null,null,null,null,null,null,null,null,null,null,null,null,null,null,null,null,null,null,null,{"$f":"IF(OR(COUNTIF(COMPREHENSIVE!$N$43:$N$43,\"enabled\")>0,COUNTIF(COMPREHENSIVE!$P$43:$Q$43,\"enabled\")>0,COUNTIF(COMPREHENSIVE!$N$51:$N$51,\"enabled\")>0,COUNTIF(COMPREHENSIVE!$P$51:$Q$51,\"enabled\")>0),1,0)","v":0}]
[null,null,null,null,null,null,null,null,"Minority",null,{"$f":"IF(AND(COMPREHENSIVE!$P2110=\"\",COMPREHENSIVE!$P2233=\"\"),\"\",COMPREHENSIVE!$P2110+COMPREHENSIVE!$P2233)","v":""},{"$f":"K502","v":""},null,null,{"$f":"IF(AND(COMPREHENSIVE!$P2113=\"\",COMPREHENSIVE!$P2236=\"\"),\"\",COMPREHENSIVE!$P2113+COMPREHENSIVE!$P2236)","v":""},{"$f":"O502","v":""},null,null,{"$f":"IF(AND(COMPREHENSIVE!$P2116=\"\",COMPREHENSIVE!$P2239=\"\"),\"\",COMPREHENSIVE!$P2116+COMPREHENSIVE!$P2239)","v":""},{"$f":"S502","v":""},null,null,null,null,null,{"$f":"IF(OR(COUNTIF(COMPREHENSIVE!$N$44:$N$44,\"enabled\")>0,COUNTIF(COMPREHENSIVE!$P$44:$Q$44,\"enabled\")>0,COUNTIF(COMPREHENSIVE!$N$52:$N$52,\"enabled\")>0,COUNTIF(COMPREHENSIVE!$P$52:$Q$52,\"enabled\")>0),1,0)","v":0}]
[null,null,null,null,null,null,null,null,"Non-Minority",null,{"$f":"IF(AND(COMPREHENSIVE!$P2111=\"\",COMPREHENSIVE!$P2234=\"\"),\"\",COMPREHENSIVE!$P2111+COMPREHENSIVE!$P2234)","v":""},{"$f":"K503","v":""},null,null,{"$f":"IF(AND(COMPREHENSIVE!$P2114=\"\",COMPREHENSIVE!$P2237=\"\"),\"\",COMPREHENSIVE!$P2114+COMPREHENSIVE!$P2237)","v":""},{"$f":"O503","v":""},null,null,{"$f":"IF(AND(COMPREHENSIVE!$P2117=\"\",COMPREHENSIVE!$P2240=\"\"),\"\",COMPREHENSIVE!$P2117+COMPREHENSIVE!$P2240)","v":""},{"$f":"S503","v":""},null,null,null,null,null,{"$f":"IF(OR(COUNTIF(COMPREHENSIVE!$N$44:$N$44,\"enabled\")>0,COUNTIF(COMPREHENSIVE!$P$44:$Q$44,\"enabled\")>0,COUNTIF(COMPREHENSIVE!$N$52:$N$52,\"enabled\")>0,COUNTIF(COMPREHENSIVE!$P$52:$Q$52,\"enabled\")>0),1,0)","v":0}]
[null,null,null,null,null,null,null,null,null,null,null,null,null,null,null,null,null,null,null,null,null,null,null,null,null,{"$f":"IF(OR(COUNTIF(COMPREHENSIVE!$N$44:$N$44,\"enabled\")>0,COUNTIF(COMPREHENSIVE!$P$44:$Q$44,\"enabled\")>0,COUNTIF(COMPREHENSIVE!$N$52:$N$52,\"enabled\")>0,COUNTIF(COMPREHENSIVE!$P$52:$Q$52,\"enabled\")>0),1,0)","v":0}]
[null,null,null,null,null,null,null,null," Individuals with Disabilities",null,{"$f":"IF(AND(COMPREHENSIVE!$P2122=\"\",COMPREHENSIVE!$P2245=\"\"),\"\",COMPREHENSIVE!$P2122+COMPREHENSIVE!$P2245)","v":""},{"$f":"K505","v":""},null,null,{"$f":"IF(AND(COMPREHENSIVE!$P2125=\"\",COMPREHENSIVE!$P2249=\"\"),\"\",COMPREHENSIVE!$P2125+COMPREHENSIVE!$P2249)","v":""},{"$f":"O505","v":""},null,null,{"$f":"IF(AND(COMPREHENSIVE!$P2128=\"\",COMPREHENSIVE!$P2252=\"\"),\"\",COMPREHENSIVE!$P2128+COMPREHENSIVE!$P2252)","v":""},{"$f":"S505","v":""},null,null,null,null,null,{"$f":"IF(OR(COUNTIF(COMPREHENSIVE!$N$45:$N$45,\"enabled\")>0,COUNTIF(COMPREHENSIVE!$P$45:$Q$45,\"enabled\")>0,COUNTIF(COMPREHENSIVE!$N$53:$N$53,\"enabled\")>0,COUNTIF(COMPREHENSIVE!$P$53:$Q$53,\"enabled\")>0),1,0)","v":0}]
[null,null,null,null,null,null,null,null,"Veterans",null,{"$f":"IF(AND(COMPREHENSIVE!$P2123=\"\",COMPREHENSIVE!$P2246=\"\"),\"\",COMPREHENSIVE!$P2123+COMPREHENSIVE!$P2246)","v":""},{"$f":"K506","v":""},null,null,{"$f":"IF(AND(COMPREHENSIVE!$P2126=\"\",COMPREHENSIVE!$P2250=\"\"),\"\",COMPREHENSIVE!$P2126+COMPREHENSIVE!$P2250)","v":""},{"$f":"O506","v":""},null,null,{"$f":"IF(AND(COMPREHENSIVE!$P2129=\"\",COMPREHENSIVE!$P2253=\"\"),\"\",COMPREHENSIVE!$P2129+COMPREHENSIVE!$P2253)","v":""},{"$f":"S506","v":""},null,null,null,null,null,{"$f":"IF(OR(COUNTIF(COMPREHENSIVE!$N$45:$N$45,\"enabled\")>0,COUNTIF(COMPREHENSIVE!$P$45:$Q$45,\"enabled\")>0,COUNTIF(COMPREHENSIVE!$N$53:$N$53,\"enabled\")>0,COUNTIF(COMPREHENSIVE!$P$53:$Q$53,\"enabled\")>0),1,0)","v":0}]
[null,null,null,null,null,null,null,null,null,null,null,null,null,null,null,null,null,null,null,null,null,null,null,null,null,{"$f":"IF(OR(COUNTIF(COMPREHENSIVE!$N$45:$N$45,\"enabled\")>0,COUNTIF(COMPREHENSIVE!$P$45:$Q$45,\"enabled\")>0,COUNTIF(COMPREHENSIVE!$N$53:$N$53,\"enabled\")>0,COUNTIF(COMPREHENSIVE!$P$53:$Q$53,\"enabled\")>0),1,0)","v":0}]
[null,null,null,null,null,null,"Officials and Administrators",null,null,null,{"$f":"IF(AND(COMPREHENSIVE!$P2011=\"\",COMPREHENSIVE!$P2134=\"\"),\"\",COMPREHENSIVE!$P2011+COMPREHENSIVE!$P2134)","v":""},{"$f":"K508","v":""},null,null,{"$f":"IF(AND(COMPREHENSIVE!$P2022=\"\",COMPREHENSIVE!$P2145=\"\"),\"\",COMPREHENSIVE!$P2022+COMPREHENSIVE!$P2145)","v":""},{"$f":"O508","v":""},null,null,{"$f":"IF(AND(COMPREHENSIVE!$P2033=\"\",COMPREHENSIVE!$P2156=\"\"),\"\",COMPREHENSIVE!$P2033+COMPREHENSIVE!$P2156)","v":""},{"$f":"S508","v":""},null,null,null,null,null,{"$f":"IF(OR(COUNTIF(COMPREHENSIVE!$N$41:$N$41,\"enabled\")>0,COUNTIF(COMPREHENSIVE!$P$41:$Q$41,\"enabled\")>0,COUNTIF(COMPREHENSIVE!$N$49:$N$49,\"enabled\")>0,COUNTIF(COMPREHENSIVE!$P$49:$Q$49,\"enabled\")>0),1,0)","v":0}]
[null,null,null,null,null,null,"Professionals",null,null,null,{"$f":"IF(AND(COMPREHENSIVE!$P2012=\"\",COMPREHENSIVE!$P2135=\"\"),\"\",COMPREHENSIVE!$P2012+COMPREHENSIVE!$P2135)","v":""},{"$f":"K509","v":""},null,null,{"$f":"IF(AND(COMPREHENSIVE!$P2023=\"\",COMPREHENSIVE!$P2146=\"\"),\"\",COMPREHENSIVE!$P2023+COMPREHENSIVE!$P2146)","v":""},{"$f":"O509","v":""},null,null,{"$f":"IF(AND(COMPREHENSIVE!$P2034=\"\",COMPREHENSIVE!$P2157=\"\"),\"\",COMPREHENSIVE!$P2034+COMPREHENSIVE!$P2157)","v":""},{"$f":"S509","v":""},null,null,null,null,null,{"$f":"IF(OR(COUNTIF(COMPREHENSIVE!$N$41:$N$41,\"enabled\")>0,COUNTIF(COMPREHENSIVE!$P$41:$Q$41,\"enabled\")>0,COUNTIF(COMPREHENSIVE!$N$49:$N$49,\"enabled\")>0,COUNTIF(COMPREHENSIVE!$P$49:$Q$49,\"enabled\")>0),1,0)","v":0}]
[null,null,null,null,null,null,"Technicians",null,null,null,{"$f":"IF(AND(COMPREHENSIVE!$P2013=\"\",COMPREHENSIVE!$P2136=\"\"),\"\",COMPREHENSIVE!$P2013+COMPREHENSIVE!$P2136)","v":""},"",null,null,{"$f":"IF(AND(COMPREHENSIVE!$P2024=\"\",COMPREHENSIVE!$P2147=\"\"),\"\",COMPREHENSIVE!$P2024+COMPREHENSIVE!$P2147)","v":""},"",null,null,{"$f":"IF(AND(COMPREHENSIVE!$P2035=\"\",COMPREHENSIVE!$P2158=\"\"),\"\",COMPREHENSIVE!$P2035+COMPREHENSIVE!$P2158)","v":""},"",null,null,null,null,null,{"$f":"IF(OR(COUNTIF(COMPREHENSIVE!$N$41:$N$41,\"enabled\")>0,COUNTIF(COMPREHENSIVE!$P$41:$Q$41,\"enabled\")>0,COUNTIF(COMPREHENSIVE!$N$49:$N$49,\"enabled\")>0,COUNTIF(COMPREHENSIVE!$P$49:$Q$49,\"enabled\")>0),1,0)","v":0}]
[null,null,null,null,null,null,"Protective Service Workers",null,null,null,{"$f":"IF(AND(COMPREHENSIVE!$P2014=\"\",COMPREHENSIVE!$P2137=\"\"),\"\",COMPREHENSIVE!$P2014+COMPREHENSIVE!$P2137)","v":""},"",null,null,{"$f":"IF(AND(COMPREHENSIVE!$P2025=\"\",COMPREHENSIVE!$P2148=\"\"),\"\",COMPREHENSIVE!$P2025+COMPREHENSIVE!$P2148)","v":""},"",null,null,{"$f":"IF(AND(COMPREHENSIVE!$P2036=\"\",COMPREHENSIVE!$P2159=\"\"),\"\",COMPREHENSIVE!$P2036+COMPREHENSIVE!$P2159)","v":""},"",null,null,null,null,null,{"$f":"IF(OR(COUNTIF(COMPREHENSIVE!$N$41:$N$41,\"enabled\")>0,COUNTIF(COMPREHENSIVE!$P$41:$Q$41,\"enabled\")>0,COUNTIF(COMPREHENSIVE!$N$49:$N$49,\"enabled\")>0,COUNTIF(COMPREHENSIVE!$P$49:$Q$49,\"enabled\")>0),1,0)","v":0}]
[null,null,null,null,null,null,"Paraprofessionals",null,null,null,{"$f":"IF(AND(COMPREHENSIVE!$P2015=\"\",COMPREHENSIVE!$P2138=\"\"),\"\",COMPREHENSIVE!$P2015+COMPREHENSIVE!$P2138)","v":""},"",null,null,{"$f":"IF(AND(COMPREHENSIVE!$P2026=\"\",COMPREHENSIVE!$P2149=\"\"),\"\",COMPREHENSIVE!$P2026+COMPREHENSIVE!$P2149)","v":""},"",null,null,{"$f":"IF(AND(COMPREHENSIVE!$P2037=\"\",COMPREHENSIVE!$P2160=\"\"),\"\",COMPREHENSIVE!$P2037+COMPREHENSIVE!$P2160)","v":""},"",null,null,null,null,null,{"$f":"IF(OR(COUNTIF(COMPREHENSIVE!$N$41:$N$41,\"enabled\")>0,COUNTIF(COMPREHENSIVE!$P$41:$Q$41,\"enabled\")>0,COUNTIF(COMPREHENSIVE!$N$49:$N$49,\"enabled\")>0,COUNTIF(COMPREHENSIVE!$P$49:$Q$49,\"enabled\")>0),1,0)","v":0}]
[null,null,null,null,null,null,"Administrative Support",null,null,null,{"$f":"IF(AND(COMPREHENSIVE!$P2016=\"\",COMPREHENSIVE!$P2139=\"\"),\"\",COMPREHENSIVE!$P2016+COMPREHENSIVE!$P2139)","v":""},"",null,null,{"$f":"IF(AND(COMPREHENSIVE!$P2027=\"\",COMPREHENSIVE!$P2150=\"\"),\"\",COMPREHENSIVE!$P2027+COMPREHENSIVE!$P2150)","v":""},"",null,null,{"$f":"IF(AND(COMPREHENSIVE!$P2038=\"\",COMPREHENSIVE!$P2161=\"\"),\"\",COMPREHENSIVE!$P2038+COMPREHENSIVE!$P2161)","v":""},"",null,null,null,null,null,{"$f":"IF(OR(COUNTIF(COMPREHENSIVE!$N$41:$N$41,\"enabled\")>0,COUNTIF(COMPREHENSIVE!$P$41:$Q$41,\"enabled\")>0,COUNTIF(COMPREHENSIVE!$N$49:$N$49,\"enabled\")>0,COUNTIF(COMPREHENSIVE!$P$49:$Q$49,\"enabled\")>0),1,0)","v":0}]
[null,null,null,null,null,null,"Skilled Craft Workers",null,null,null,{"$f":"IF(AND(COMPREHENSIVE!$P2017=\"\",COMPREHENSIVE!$P2140=\"\"),\"\",COMPREHENSIVE!$P2017+COMPREHENSIVE!$P2140)","v":""},"",null,null,{"$f":"IF(AND(COMPREHENSIVE!$P2028=\"\",COMPREHENSIVE!$P2151=\"\"),\"\",COMPREHENSIVE!$P2028+COMPREHENSIVE!$P2151)","v":""},"",null,null,{"$f":"IF(AND(COMPREHENSIVE!$P2039=\"\",COMPREHENSIVE!$P2162=\"\"),\"\",COMPREHENSIVE!$P2039+COMPREHENSIVE!$P2162)","v":""},"",null,null,null,null,null,{"$f":"IF(OR(COUNTIF(COMPREHENSIVE!$N$41:$N$41,\"enabled\")>0,COUNTIF(COMPREHENSIVE!$P$41:$Q$41,\"enabled\")>0,COUNTIF(COMPREHENSIVE!$N$49:$N$49,\"enabled\")>0,COUNTIF(COMPREHENSIVE!$P$49:$Q$49,\"enabled\")>0),1,0)","v":0}]
[null,null,null,null,null,null,"Service/Maintenance",null,null,null,{"$f":"IF(AND(COMPREHENSIVE!$P2018=\"\",COMPREHENSIVE!$P2141=\"\"),\"\",COMPREHENSIVE!$P2018+COMPREHENSIVE!$P2141)","v":""},"",null,null,{"$f":"IF(AND(COMPREHENSIVE!$P2029=\"\",COMPREHENSIVE!$P2152=\"\"),\"\",COMPREHENSIVE!$P2029+COMPREHENSIVE!$P2152)","v":""},"",null,null,{"$f":"IF(AND(COMPREHENSIVE!$P2040=\"\",COMPREHENSIVE!$P2163=\"\"),\"\",COMPREHENSIVE!$P2040+COMPREHENSIVE!$P2163)","v":""},"",null,null,null,null,null,{"$f":"IF(OR(COUNTIF(COMPREHENSIVE!$N$41:$N$41,\"enabled\")>0,COUNTIF(COMPREHENSIVE!$P$41:$Q$41,\"enabled\")>0,COUNTIF(COMPREHENSIVE!$N$49:$N$49,\"enabled\")>0,COUNTIF(COMPREHENSIVE!$P$49:$Q$49,\"enabled\")>0),1,0)","v":0}]
[null,null,null,null,null,null,"Faculty",null,null,null,{"$f":"IF(AND(COMPREHENSIVE!$P2019=\"\",COMPREHENSIVE!$P2142=\"\"),\"\",COMPREHENSIVE!$P2019+COMPREHENSIVE!$P2142)","v":""},"",null,null,{"$f":"IF(AND(COMPREHENSIVE!$P2030=\"\",COMPREHENSIVE!$P2153=\"\"),\"\",COMPREHENSIVE!$P2030+COMPREHENSIVE!$P2153)","v":""},"",null,null,{"$f":"IF(AND(COMPREHENSIVE!$P2041=\"\",COMPREHENSIVE!$P2164=\"\"),\"\",COMPREHENSIVE!$P2041+COMPREHENSIVE!$P2164)","v":""},"",null,null,null,null,null,{"$f":"IF(OR(COUNTIF(COMPREHENSIVE!$N$41:$N$41,\"enabled\")>0,COUNTIF(COMPREHENSIVE!$P$41:$Q$41,\"enabled\")>0,COUNTIF(COMPREHENSIVE!$N$49:$N$49,\"enabled\")>0,COUNTIF(COMPREHENSIVE!$P$49:$Q$49,\"enabled\")>0),1,0)","v":0}]
[null,null,null,null,null,null,"Other",null,null,null,{"$f":"IF(AND(COMPREHENSIVE!$P2020=\"\",COMPREHENSIVE!$P2143=\"\"),\"\",COMPREHENSIVE!$P2020+COMPREHENSIVE!$P2143)","v":""},"",null,null,{"$f":"IF(AND(COMPREHENSIVE!$P2031=\"\",COMPREHENSIVE!$P2154=\"\"),\"\",COMPREHENSIVE!$P2031+COMPREHENSIVE!$P2154)","v":""},"",null,null,{"$f":"IF(AND(COMPREHENSIVE!$P2042=\"\",COMPREHENSIVE!$P2165=\"\"),\"\",COMPREHENSIVE!$P2042+COMPREHENSIVE!$P2165)","v":""},"",null,null,null,null,null,{"$f":"IF(OR(COUNTIF(COMPREHENSIVE!$N$41:$N$41,\"enabled\")>0,COUNTIF(COMPREHENSIVE!$P$41:$Q$41,\"enabled\")>0,COUNTIF(COMPREHENSIVE!$N$49:$N$49,\"enabled\")>0,COUNTIF(COMPREHENSIVE!$P$49:$Q$49,\"enabled\")>0),1,0)","v":0}]
[null,null,null,null,null,null,null,null,null,null,null,null,null,null,null,null,null,null,null,null,null,null,null,null,null,{"$f":"IF(OR(COUNTIF(COMPREHENSIVE!$N$41:$N$41,\"enabled\")>0,COUNTIF(COMPREHENSIVE!$P$41:$Q$41,\"enabled\")>0,COUNTIF(COMPREHENSIVE!$N$49:$N$49,\"enabled\")>0,COUNTIF(COMPREHENSIVE!$P$49:$Q$49,\"enabled\")>0),1,0)","v":0}]
[null,null,null,null,null,null,{"$f":"PROFILE!$C$58","v":0},null,null,null,{"$f":"IF(AND(COMPREHENSIVE!$P2047=\"\",COMPREHENSIVE!$P2170=\"\"),\"\",COMPREHENSIVE!$P2047+COMPREHENSIVE!$P2170)","v":""},{"$f":"K519","v":""},null,null,{"$f":"IF(AND(COMPREHENSIVE!$P2063=\"\",COMPREHENSIVE!$P2186=\"\"),\"\",COMPREHENSIVE!$P2063+COMPREHENSIVE!$P2186)","v":""},{"$f":"O519","v":""},null,null,{"$f":"IF(AND(COMPREHENSIVE!$P2079=\"\",COMPREHENSIVE!$P2202=\"\"),\"\",COMPREHENSIVE!$P2079+COMPREHENSIVE!$P2202)","v":""},{"$f":"S519","v":""},null,null,null,null,{"$f":"COUNTIF(G519,\"*\"&PROFILE!$C$58&\"*\")","v":0},{"$f":"IF(AND(OR(COUNTIF(COMPREHENSIVE!$N$42:$N$42,\"enabled\")>0,COUNTIF(COMPREHENSIVE!$P$42:$Q$42,\"enabled\")>0,COUNTIF(COMPREHENSIVE!$N$50:$N$50,\"enabled\")>0,COUNTIF(COMPREHENSIVE!$P$50:$Q$50,\"enabled\")>0),Y519=1),1,0)","v":0}]
[null,null,null,null,null,null,{"$f":"PROFILE!$C$59","v":0},null,null,null,{"$f":"IF(AND(COMPREHENSIVE!$P2048=\"\",COMPREHENSIVE!$P2171=\"\"),\"\",COMPREHENSIVE!$P2048+COMPREHENSIVE!$P2171)","v":""},{"$f":"K520","v":""},null,null,{"$f":"IF(AND(COMPREHENSIVE!$P2064=\"\",COMPREHENSIVE!$P2187=\"\"),\"\",COMPREHENSIVE!$P2064+COMPREHENSIVE!$P2187)","v":""},{"$f":"O520","v":""},null,null,{"$f":"IF(AND(COMPREHENSIVE!$P2080=\"\",COMPREHENSIVE!$P2203=\"\"),\"\",COMPREHENSIVE!$P2080+COMPREHENSIVE!$P2203)","v":""},{"$f":"S520","v":""},null,null,null,null,{"$f":"COUNTIF(G520,\"*\"&PROFILE!$C$59&\"*\")","v":0},{"$f":"IF(AND(OR(COUNTIF(COMPREHENSIVE!$N$42:$N$42,\"enabled\")>0,COUNTIF(COMPREHENSIVE!$P$42:$Q$42,\"enabled\")>0,COUNTIF(COMPREHENSIVE!$N$50:$N$50,\"enabled\")>0,COUNTIF(COMPREHENSIVE!$P$50:$Q$50,\"enabled\")>0),Y520=1),1,0)","v":0}]
[null,null,null,null,null,null,{"$f":"PROFILE!$C$60","v":0},null,null,null,{"$f":"IF(AND(COMPREHENSIVE!$P2049=\"\",COMPREHENSIVE!$P2172=\"\"),\"\",COMPREHENSIVE!$P2049+COMPREHENSIVE!$P2172)","v":""},"",null,null,{"$f":"IF(AND(COMPREHENSIVE!$P2065=\"\",COMPREHENSIVE!$P2188=\"\"),\"\",COMPREHENSIVE!$P2065+COMPREHENSIVE!$P2188)","v":""},"",null,null,{"$f":"IF(AND(COMPREHENSIVE!$P2081=\"\",COMPREHENSIVE!$P2204=\"\"),\"\",COMPREHENSIVE!$P2081+COMPREHENSIVE!$P2204)","v":""},"",null,null,null,null,{"$f":"COUNTIF(G521,\"*\"&PROFILE!$C$60&\"*\")","v":0},{"$f":"IF(AND(OR(COUNTIF(COMPREHENSIVE!$N$42:$N$42,\"enabled\")>0,COUNTIF(COMPREHENSIVE!$P$42:$Q$42,\"enabled\")>0,COUNTIF(COMPREHENSIVE!$N$50:$N$50,\"enabled\")>0,COUNTIF(COMPREHENSIVE!$P$50:$Q$50,\"enabled\")>0),Y521=1),1,0)","v":0}]
[null,null,null,null,null,null,{"$f":"PROFILE!$C$61","v":0},null,null,null,{"$f":"IF(AND(COMPREHENSIVE!$P2050=\"\",COMPREHENSIVE!$P2173=\"\"),\"\",COMPREHENSIVE!$P2050+COMPREHENSIVE!$P2173)","v":""},"",null,null,{"$f":"IF(AND(COMPREHENSIVE!$P2066=\"\",COMPREHENSIVE!$P2189=\"\"),\"\",COMPREHENSIVE!$P2066+COMPREHENSIVE!$P2189)","v":""},"",null,null,{"$f":"IF(AND(COMPREHENSIVE!$P2082=\"\",COMPREHENSIVE!$P2205=\"\"),\"\",COMPREHENSIVE!$P2082+COMPREHENSIVE!$P2205)","v":""},"",null,null,null,null,{"$f":"COUNTIF(G522,\"*\"&PROFILE!$C$61&\"*\")","v":0},{"$f":"IF(AND(OR(COUNTIF(COMPREHENSIVE!$N$42:$N$42,\"enabled\")>0,COUNTIF(COMPREHENSIVE!$P$42:$Q$42,\"enabled\")>0,COUNTIF(COMPREHENSIVE!$N$50:$N$50,\"enabled\")>0,COUNTIF(COMPREHENSIVE!$P$50:$Q$50,\"enabled\")>0),Y522=1),1,0)","v":0}]
[null,null,null,null,null,null,{"$f":"PROFILE!$C$62","v":0},null,null,null,{"$f":"IF(AND(COMPREHENSIVE!$P2051=\"\",COMPREHENSIVE!$P2174=\"\"),\"\",COMPREHENSIVE!$P2051+COMPREHENSIVE!$P2174)","v":""},"",null,null,{"$f":"IF(AND(COMPREHENSIVE!$P2067=\"\",COMPREHENSIVE!$P2190=\"\"),\"\",COMPREHENSIVE!$P2067+COMPREHENSIVE!$P2190)","v":""},"",null,null,{"$f":"IF(AND(COMPREHENSIVE!$P2083=\"\",COMPREHENSIVE!$P2206=\"\"),\"\",COMPREHENSIVE!$P2083+COMPREHENSIVE!$P2206)","v":""},"",null,null,null,null,{"$f":"COUNTIF(G523,\"*\"&PROFILE!$C$62&\"*\")","v":0},{"$f":"IF(AND(OR(COUNTIF(COMPREHENSIVE!$N$42:$N$42,\"enabled\")>0,COUNTIF(COMPREHENSIVE!$P$42:$Q$42,\"enabled\")>0,COUNTIF(COMPREHENSIVE!$N$50:$N$50,\"enabled\")>0,COUNTIF(COMPREHENSIVE!$P$50:$Q$50,\"enabled\")>0),Y523=1),1,0)","v":0}]
[null,null,null,null,null,null,{"$f":"PROFILE!$C$63","v":0},null,null,null,{"$f":"IF(AND(COMPREHENSIVE!$P2052=\"\",COMPREHENSIVE!$P2175=\"\"),\"\",COMPREHENSIVE!$P2052+COMPREHENSIVE!$P2175)","v":""},"",null,null,{"$f":"IF(AND(COMPREHENSIVE!$P2068=\"\",COMPREHENSIVE!$P2191=\"\"),\"\",COMPREHENSIVE!$P2068+COMPREHENSIVE!$P2191)","v":""},"",null,null,{"$f":"IF(AND(COMPREHENSIVE!$P2084=\"\",COMPREHENSIVE!$P2207=\"\"),\"\",COMPREHENSIVE!$P2084+COMPREHENSIVE!$P2207)","v":""},"",null,null,null,null,{"$f":"COUNTIF(G524,\"*\"&PROFILE!$C$63&\"*\")","v":0},{"$f":"IF(AND(OR(COUNTIF(COMPREHENSIVE!$N$42:$N$42,\"enabled\")>0,COUNTIF(COMPREHENSIVE!$P$42:$Q$42,\"enabled\")>0,COUNTIF(COMPREHENSIVE!$N$50:$N$50,\"enabled\")>0,COUNTIF(COMPREHENSIVE!$P$50:$Q$50,\"enabled\")>0),Y524=1),1,0)","v":0}]
[null,null,null,null,null,null,{"$f":"PROFILE!$C$64","v":0},null,null,null,{"$f":"IF(AND(COMPREHENSIVE!$P2053=\"\",COMPREHENSIVE!$P2176=\"\"),\"\",COMPREHENSIVE!$P2053+COMPREHENSIVE!$P2176)","v":""},"",null,null,{"$f":"IF(AND(COMPREHENSIVE!$P2069=\"\",COMPREHENSIVE!$P2192=\"\"),\"\",COMPREHENSIVE!$P2069+COMPREHENSIVE!$P2192)","v":""},"",null,null,{"$f":"IF(AND(COMPREHENSIVE!$P2085=\"\",COMPREHENSIVE!$P2208=\"\"),\"\",COMPREHENSIVE!$P2085+COMPREHENSIVE!$P2208)","v":""},"",null,null,null,null,{"$f":"COUNTIF(G525,\"*\"&PROFILE!$C$64&\"*\")","v":0},{"$f":"IF(AND(OR(COUNTIF(COMPREHENSIVE!$N$42:$N$42,\"enabled\")>0,COUNTIF(COMPREHENSIVE!$P$42:$Q$42,\"enabled\")>0,COUNTIF(COMPREHENSIVE!$N$50:$N$50,\"enabled\")>0,COUNTIF(COMPREHENSIVE!$P$50:$Q$50,\"enabled\")>0),Y525=1),1,0)","v":0}]
[null,null,null,null,null,null,{"$f":"PROFILE!$C$65","v":0},null,null,null,{"$f":"IF(AND(COMPREHENSIVE!$P2054=\"\",COMPREHENSIVE!$P2177=\"\"),\"\",COMPREHENSIVE!$P2054+COMPREHENSIVE!$P2177)","v":""},"",null,null,{"$f":"IF(AND(COMPREHENSIVE!$P2070=\"\",COMPREHENSIVE!$P2193=\"\"),\"\",COMPREHENSIVE!$P2070+COMPREHENSIVE!$P2193)","v":""},"",null,null,{"$f":"IF(AND(COMPREHENSIVE!$P2086=\"\",COMPREHENSIVE!$P2209=\"\"),\"\",COMPREHENSIVE!$P2086+COMPREHENSIVE!$P2209)","v":""},"",null,null,null,null,{"$f":"COUNTIF(G526,\"*\"&PROFILE!$C$65&\"*\")","v":0},{"$f":"IF(AND(OR(COUNTIF(COMPREHENSIVE!$N$42:$N$42,\"enabled\")>0,COUNTIF(COMPREHENSIVE!$P$42:$Q$42,\"enabled\")>0,COUNTIF(COMPREHENSIVE!$N$50:$N$50,\"enabled\")>0,COUNTIF(COMPREHENSIVE!$P$50:$Q$50,\"enabled\")>0),Y526=1),1,0)","v":0}]
[null,null,null,null,null,null,{"$f":"PROFILE!$C$66","v":0},null,null,null,{"$f":"IF(AND(COMPREHENSIVE!$P2055=\"\",COMPREHENSIVE!$P2178=\"\"),\"\",COMPREHENSIVE!$P2055+COMPREHENSIVE!$P2178)","v":""},"",null,null,{"$f":"IF(AND(COMPREHENSIVE!$P2071=\"\",COMPREHENSIVE!$P2194=\"\"),\"\",COMPREHENSIVE!$P2071+COMPREHENSIVE!$P2194)","v":""},"",null,null,{"$f":"IF(AND(COMPREHENSIVE!$P2087=\"\",COMPREHENSIVE!$P2210=\"\"),\"\",COMPREHENSIVE!$P2087+COMPREHENSIVE!$P2210)","v":""},"",null,null,null,null,{"$f":"COUNTIF(G527,\"*\"&PROFILE!$C$66&\"*\")","v":0},{"$f":"IF(AND(OR(COUNTIF(COMPREHENSIVE!$N$42:$N$42,\"enabled\")>0,COUNTIF(COMPREHENSIVE!$P$42:$Q$42,\"enabled\")>0,COUNTIF(COMPREHENSIVE!$N$50:$N$50,\"enabled\")>0,COUNTIF(COMPREHENSIVE!$P$50:$Q$50,\"enabled\")>0),Y527=1),1,0)","v":0}]
[null,null,null,null,null,null,{"$f":"PROFILE!$C$67","v":0},null,null,null,{"$f":"IF(AND(COMPREHENSIVE!$P2056=\"\",COMPREHENSIVE!$P2179=\"\"),\"\",COMPREHENSIVE!$P2056+COMPREHENSIVE!$P2179)","v":""},"",null,null,{"$f":"IF(AND(COMPREHENSIVE!$P2072=\"\",COMPREHENSIVE!$P2195=\"\"),\"\",COMPREHENSIVE!$P2072+COMPREHENSIVE!$P2195)","v":""},"",null,null,{"$f":"IF(AND(COMPREHENSIVE!$P2088=\"\",COMPREHENSIVE!$P2211=\"\"),\"\",COMPREHENSIVE!$P2088+COMPREHENSIVE!$P2211)","v":""},"",null,null,null,null,{"$f":"COUNTIF(G528,\"*\"&PROFILE!$C$67&\"*\")","v":0},{"$f":"IF(AND(OR(COUNTIF(COMPREHENSIVE!$N$42:$N$42,\"enabled\")>0,COUNTIF(COMPREHENSIVE!$P$42:$Q$42,\"enabled\")>0,COUNTIF(COMPREHENSIVE!$N$50:$N$50,\"enabled\")>0,COUNTIF(COMPREHENSIVE!$P$50:$Q$50,\"enabled\")>0),Y528=1),1,0)","v":0}]
[null,null,null,null,null,null,{"$f":"PROFILE!$C$68","v":0},null,null,null,{"$f":"IF(AND(COMPREHENSIVE!$P2057=\"\",COMPREHENSIVE!$P2180=\"\"),\"\",COMPREHENSIVE!$P2057+COMPREHENSIVE!$P2180)","v":""},"",null,null,{"$f":"IF(AND(COMPREHENSIVE!$P2073=\"\",COMPREHENSIVE!$P2196=\"\"),\"\",COMPREHENSIVE!$P2073+COMPREHENSIVE!$P2196)","v":""},"",null,null,{"$f":"IF(AND(COMPREHENSIVE!$P2089=\"\",COMPREHENSIVE!$P2212=\"\"),\"\",COMPREHENSIVE!$P2089+COMPREHENSIVE!$P2212)","v":""},"",null,null,null,null,{"$f":"COUNTIF(G529,\"*\"&PROFILE!$C$68&\"*\")","v":0},{"$f":"IF(AND(OR(COUNTIF(COMPREHENSIVE!$N$42:$N$42,\"enabled\")>0,COUNTIF(COMPREHENSIVE!$P$42:$Q$42,\"enabled\")>0,COUNTIF(COMPREHENSIVE!$N$50:$N$50,\"enabled\")>0,COUNTIF(COMPREHENSIVE!$P$50:$Q$50,\"enabled\")>0),Y529=1),1,0)","v":0}]
[null,null,null,null,null,null,{"$f":"PROFILE!$C$69","v":0},null,null,null,{"$f":"IF(AND(COMPREHENSIVE!$P2058=\"\",COMPREHENSIVE!$P2181=\"\"),\"\",COMPREHENSIVE!$P2058+COMPREHENSIVE!$P2181)","v":""},"",null,null,{"$f":"IF(AND(COMPREHENSIVE!$P2074=\"\",COMPREHENSIVE!$P2197=\"\"),\"\",COMPREHENSIVE!$P2074+COMPREHENSIVE!$P2197)","v":""},"",null,null,{"$f":"IF(AND(COMPREHENSIVE!$P2090=\"\",COMPREHENSIVE!$P2213=\"\"),\"\",COMPREHENSIVE!$P2090+COMPREHENSIVE!$P2213)","v":""},"",null,null,null,null,{"$f":"COUNTIF(G530,\"*\"&PROFILE!$C$69&\"*\")","v":0},{"$f":"IF(AND(OR(COUNTIF(COMPREHENSIVE!$N$42:$N$42,\"enabled\")>0,COUNTIF(COMPREHENSIVE!$P$42:$Q$42,\"enabled\")>0,COUNTIF(COMPREHENSIVE!$N$50:$N$50,\"enabled\")>0,COUNTIF(COMPREHENSIVE!$P$50:$Q$50,\"enabled\")>0),Y530=1),1,0)","v":0}]
[null,null,null,null,null,null,{"$f":"PROFILE!$C$70","v":0},null,null,null,{"$f":"IF(AND(COMPREHENSIVE!$P2059=\"\",COMPREHENSIVE!$P2182=\"\"),\"\",COMPREHENSIVE!$P2059+COMPREHENSIVE!$P2182)","v":""},"",null,null,{"$f":"IF(AND(COMPREHENSIVE!$P2075=\"\",COMPREHENSIVE!$P2198=\"\"),\"\",COMPREHENSIVE!$P2075+COMPREHENSIVE!$P2198)","v":""},"",null,null,{"$f":"IF(AND(COMPREHENSIVE!$P2091=\"\",COMPREHENSIVE!$P2214=\"\"),\"\",COMPREHENSIVE!$P2091+COMPREHENSIVE!$P2214)","v":""},"",null,null,null,null,{"$f":"COUNTIF(G531,\"*\"&PROFILE!$C$70&\"*\")","v":0},{"$f":"IF(AND(OR(COUNTIF(COMPREHENSIVE!$N$42:$N$42,\"enabled\")>0,COUNTIF(COMPREHENSIVE!$P$42:$Q$42,\"enabled\")>0,COUNTIF(COMPREHENSIVE!$N$50:$N$50,\"enabled\")>0,COUNTIF(COMPREHENSIVE!$P$50:$Q$50,\"enabled\")>0),Y531=1),1,0)","v":0}]
[null,null,null,null,null,null,{"$f":"PROFILE!$C$71","v":0},null,null,null,{"$f":"IF(AND(COMPREHENSIVE!$P2060=\"\",COMPREHENSIVE!$P2183=\"\"),\"\",COMPREHENSIVE!$P2060+COMPREHENSIVE!$P2183)","v":""},"",null,null,{"$f":"IF(AND(COMPREHENSIVE!$P2076=\"\",COMPREHENSIVE!$P2199=\"\"),\"\",COMPREHENSIVE!$P2076+COMPREHENSIVE!$P2199)","v":""},"",null,null,{"$f":"IF(AND(COMPREHENSIVE!$P2092=\"\",COMPREHENSIVE!$P2215=\"\"),\"\",COMPREHENSIVE!$P2092+COMPREHENSIVE!$P2215)","v":""},"",null,null,null,null,{"$f":"COUNTIF(G532,\"*\"&PROFILE!$C$71&\"*\")","v":0},{"$f":"IF(AND(OR(COUNTIF(COMPREHENSIVE!$N$42:$N$42,\"enabled\")>0,COUNTIF(COMPREHENSIVE!$P$42:$Q$42,\"enabled\")>0,COUNTIF(COMPREHENSIVE!$N$50:$N$50,\"enabled\")>0,COUNTIF(COMPREHENSIVE!$P$50:$Q$50,\"enabled\")>0),Y532=1),1,0)","v":0}]
[null,null,null,null,null,null,{"$f":"PROFILE!$C$72","v":0},null,null,null,{"$f":"IF(AND(COMPREHENSIVE!$P2061=\"\",COMPREHENSIVE!$P2184=\"\"),\"\",COMPREHENSIVE!$P2061+COMPREHENSIVE!$P2184)","v":""},"",null,null,{"$f":"IF(AND(COMPREHENSIVE!$P2077=\"\",COMPREHENSIVE!$P2200=\"\"),\"\",COMPREHENSIVE!$P2077+COMPREHENSIVE!$P2200)","v":""},"",null,null,{"$f":"IF(AND(COMPREHENSIVE!$P2093=\"\",COMPREHENSIVE!$P2216=\"\"),\"\",COMPREHENSIVE!$P2093+COMPREHENSIVE!$P2216)","v":""},"",null,null,null,null,{"$f":"COUNTIF(G533,\"*\"&PROFILE!$C$72&\"*\")","v":0},{"$f":"IF(AND(OR(COUNTIF(COMPREHENSIVE!$N$42:$N$42,\"enabled\")>0,COUNTIF(COMPREHENSIVE!$P$42:$Q$42,\"enabled\")>0,COUNTIF(COMPREHENSIVE!$N$50:$N$50,\"enabled\")>0,COUNTIF(COMPREHENSIVE!$P$50:$Q$50,\"enabled\")>0),Y533=1),1,0)","v":0}]
[null,null,null,null,null,null,null,null,null,null,null,null,null,null,null,null,null,null,null,null,null,null,null,null,null,{"$f":"IF(OR(COUNTIF(COMPREHENSIVE!$N$42:$N$42,\"enabled\")>0,COUNTIF(COMPREHENSIVE!$P$42:$Q$42,\"enabled\")>0,COUNTIF(COMPREHENSIVE!$N$50:$N$50,\"enabled\")>0,COUNTIF(COMPREHENSIVE!$P$50:$Q$50,\"enabled\")>0),1,0)","v":0}]
[null,null,null,null,null,null,"Organizational Exits within First Five Years (External Transfers and Voluntary Separations)",null,null,null,null,null,null,null,null,null,null,null,null,null,null,null,null,null,null,{"$f":"IF(OR(COUNTIF('IN-DEPTH'!$K$33:$L$34,\"enabled\")>0,COUNTIF(COMPREHENSIVE!$N$57:$N$61,\"enabled\")>0,COUNTIF(COMPREHENSIVE!$P$57:$Q$61,\"enabled\")>0,COUNTIF(COMPREHENSIVE!$N$65:$N$69,\"enabled\")>0,COUNTIF(COMPREHENSIVE!$P$65:$Q$69,\"enabled\")>0),1,0)","v":0}]
[null,null,null,null,null,null,null,null,null,null,null,null,null,null,null,null,null,null,null,null,null,null,null,null,null,{"$f":"IF(OR(COUNTIF('IN-DEPTH'!$K$33:$L$34,\"enabled\")>0,COUNTIF(COMPREHENSIVE!$N$57:$N$61,\"enabled\")>0,COUNTIF(COMPREHENSIVE!$P$57:$Q$61,\"enabled\")>0,COUNTIF(COMPREHENSIVE!$N$65:$N$69,\"enabled\")>0,COUNTIF(COMPREHENSIVE!$P$65:$Q$69,\"enabled\")>0),1,0)","v":0}]
[null,null,null,null,null,null,null,null,null,null,null,null,null,null,null,null,null,null,null,null,null,null,null,null,null,{"$f":"IF(OR(COUNTIF('IN-DEPTH'!$K$33:$L$34,\"enabled\")>0,COUNTIF(COMPREHENSIVE!$N$57:$N$61,\"enabled\")>0,COUNTIF(COMPREHENSIVE!$P$57:$Q$61,\"enabled\")>0,COUNTIF(COMPREHENSIVE!$N$65:$N$69,\"enabled\")>0,COUNTIF(COMPREHENSIVE!$P$65:$Q$69,\"enabled\")>0),1,0)","v":0}]
[null,null,null,null,null,null,null,null,null,null,"All Employees",null,null,null,"Leaders",null,null,null,"Executives",null,null,null,null,null,null,{"$f":"IF(OR(COUNTIF('IN-DEPTH'!$K$33:$L$34,\"enabled\")>0,COUNTIF(COMPREHENSIVE!$N$57:$N$61,\"enabled\")>0,COUNTIF(COMPREHENSIVE!$P$57:$Q$61,\"enabled\")>0,COUNTIF(COMPREHENSIVE!$N$65:$N$69,\"enabled\")>0,COUNTIF(COMPREHENSIVE!$P$65:$Q$69,\"enabled\")>0),1,0)","v":0}]
[null,null,null,null,null,null,null,null,null,null,null,null,null,null,null,null,null,null,null,null,null,null,null,null,null,{"$f":"IF(OR(COUNTIF('IN-DEPTH'!$K$33:$L$34,\"enabled\")>0,COUNTIF(COMPREHENSIVE!$N$57:$N$61,\"enabled\")>0,COUNTIF(COMPREHENSIVE!$P$57:$Q$61,\"enabled\")>0,COUNTIF(COMPREHENSIVE!$N$65:$N$69,\"enabled\")>0,COUNTIF(COMPREHENSIVE!$P$65:$Q$69,\"enabled\")>0),1,0)","v":0}]
[null,null,null,null,null,null,null,null,null,null,{"$f":"IFERROR((FOUNDATIONAL!P250+FOUNDATIONAL!P251)/FOUNDATIONAL!P161,0)","v":0},null,null,null,{"$f":"IFERROR(('IN-DEPTH'!P290+'IN-DEPTH'!P291)/'IN-DEPTH'!P195,0)","v":0},null,null,null,{"$f":"IFERROR(('IN-DEPTH'!P296+'IN-DEPTH'!P297)/FOUNDATIONAL!P171,0)","v":0},null,null,null,null,null,null,{"$f":"IF(OR(COUNTIF('IN-DEPTH'!$K$33:$L$34,\"enabled\")>0),1,0)","v":0}]
[null,null,null,null,null,null,null,null,null,null,null,null,null,null,null,null,null,null,null,null,null,null,null,null,null,{"$f":"IF(OR(COUNTIF('IN-DEPTH'!$K$33:$L$34,\"enabled\")>0),1,0)","v":0}]
[null,null,"All","Leaders","Exec.",null,null,null,null,null,"Overall Separation Rate",null,null,null,"Leader Separation Rate",null,null,null,"Executive Separation Rate",null,null,null,null,null,null,{"$f":"IF(OR(COUNTIF('IN-DEPTH'!$K$33:$L$34,\"enabled\")>0),1,0)","v":0}]
[null,null,null,null,null,null,null,null,null,null,null,null,null,null,null,null,null,null,null,null,null,null,null,null,null,{"$f":"IF(OR(COUNTIF('IN-DEPTH'!$K$33:$L$34,\"enabled\")>0),1,0)","v":0}]
[null,null,null,null,null,null,null,null,"Males",null,{"$f":"IF(AND(COMPREHENSIVE!$P2344=\"\",COMPREHENSIVE!$P2467=\"\"),\"\",COMPREHENSIVE!$P2344+COMPREHENSIVE!$P2467)","v":""},{"$f":"K544","v":""},null,null,{"$f":"IF(AND(COMPREHENSIVE!$P2347=\"\",COMPREHENSIVE!$P2470=\"\"),\"\",COMPREHENSIVE!$P2347+COMPREHENSIVE!$P2470)","v":""},{"$f":"O544","v":""},null,null,{"$f":"IF(AND(COMPREHENSIVE!$P2350=\"\",COMPREHENSIVE!$P2473=\"\"),\"\",COMPREHENSIVE!$P2350+COMPREHENSIVE!$P2473)","v":""},{"$f":"S544","v":""},null,null,null,null,null,{"$f":"IF(OR(COUNTIF(COMPREHENSIVE!$N$59:$N$59,\"enabled\")>0,COUNTIF(COMPREHENSIVE!$P$59:$Q$59,\"enabled\")>0,COUNTIF(COMPREHENSIVE!$N$67:$N$67,\"enabled\")>0,COUNTIF(COMPREHENSIVE!$P$67:$Q$67,\"enabled\")>0),1,0)","v":0}]
[null,null,null,null,null,null,null,null,"Females",null,{"$f":"IF(AND(COMPREHENSIVE!$P2345=\"\",COMPREHENSIVE!$P2468=\"\"),\"\",COMPREHENSIVE!$P2345+COMPREHENSIVE!$P2468)","v":""},{"$f":"K545","v":""},null,null,{"$f":"IF(AND(COMPREHENSIVE!$P2348=\"\",COMPREHENSIVE!$P2471=\"\"),\"\",COMPREHENSIVE!$P2348+COMPREHENSIVE!$P2471)","v":""},{"$f":"O545","v":""},null,null,{"$f":"IF(AND(COMPREHENSIVE!$P2351=\"\",COMPREHENSIVE!$P2474=\"\"),\"\",COMPREHENSIVE!$P2351+COMPREHENSIVE!$P2474)","v":""},{"$f":"S545","v":""},null,null,null,null,null,{"$f":"IF(OR(COUNTIF(COMPREHENSIVE!$N$59:$N$59,\"enabled\")>0,COUNTIF(COMPREHENSIVE!$P$59:$Q$59,\"enabled\")>0,COUNTIF(COMPREHENSIVE!$N$67:$N$67,\"enabled\")>0,COUNTIF(COMPREHENSIVE!$P$67:$Q$67,\"enabled\")>0),1,0)","v":0}]
[null,null,null,null,null,null,null,null,null,null,null,null,null,null,null,null,null,null,null,null,null,null,null,null,null,{"$f":"IF(OR(COUNTIF(COMPREHENSIVE!$N$59:$N$59,\"enabled\")>0,COUNTIF(COMPREHENSIVE!$P$59:$Q$59,\"enabled\")>0,COUNTIF(COMPREHENSIVE!$N$67:$N$67,\"enabled\")>0,COUNTIF(COMPREHENSIVE!$P$67:$Q$67,\"enabled\")>0),1,0)","v":0}]
[null,null,null,null,null,null,null,null,"Minority",null,{"$f":"IF(AND(COMPREHENSIVE!$P2356=\"\",COMPREHENSIVE!$P2479=\"\"),\"\",COMPREHENSIVE!$P2356+COMPREHENSIVE!$P2479)","v":""},{"$f":"K547","v":""},null,null,{"$f":"IF(AND(COMPREHENSIVE!$P2359=\"\",COMPREHENSIVE!$P2482=\"\"),\"\",COMPREHENSIVE!$P2359+COMPREHENSIVE!$P2482)","v":""},{"$f":"O547","v":""},null,null,{"$f":"IF(AND(COMPREHENSIVE!$P2362=\"\",COMPREHENSIVE!$P2485=\"\"),\"\",COMPREHENSIVE!$P2362+COMPREHENSIVE!$P2485)","v":""},{"$f":"S547","v":""},null,null,null,null,null,{"$f":"IF(OR(COUNTIF(COMPREHENSIVE!$N$58:$N$58,\"enabled\")>0,COUNTIF(COMPREHENSIVE!$P$58:$Q$58,\"enabled\")>0,COUNTIF(COMPREHENSIVE!$N$68:$N$68,\"enabled\")>0,COUNTIF(COMPREHENSIVE!$P$68:$Q$68,\"enabled\")>0),1,0)","v":0}]
[null,null,null,null,null,null,null,null,"Non-Minority",null,{"$f":"IF(AND(COMPREHENSIVE!$P2357=\"\",COMPREHENSIVE!$P2480=\"\"),\"\",COMPREHENSIVE!$P2357+COMPREHENSIVE!$P2480)","v":""},{"$f":"K548","v":""},null,null,{"$f":"IF(AND(COMPREHENSIVE!$P2360=\"\",COMPREHENSIVE!$P2483=\"\"),\"\",COMPREHENSIVE!$P2360+COMPREHENSIVE!$P2483)","v":""},{"$f":"O548","v":""},null,null,{"$f":"IF(AND(COMPREHENSIVE!$P2363=\"\",COMPREHENSIVE!$P2486=\"\"),\"\",COMPREHENSIVE!$P2363+COMPREHENSIVE!$P2486)","v":""},{"$f":"S548","v":""},null,null,null,null,null,{"$f":"IF(OR(COUNTIF(COMPREHENSIVE!$N$58:$N$58,\"enabled\")>0,COUNTIF(COMPREHENSIVE!$P$58:$Q$58,\"enabled\")>0,COUNTIF(COMPREHENSIVE!$N$68:$N$68,\"enabled\")>0,COUNTIF(COMPREHENSIVE!$P$68:$Q$68,\"enabled\")>0),1,0)","v":0}]
[null,null,null,null,null,null,null,null,null,null,null,null,null,null,null,null,null,null,null,null,null,null,null,null,null,{"$f":"IF(OR(COUNTIF(COMPREHENSIVE!$N$58:$N$58,\"enabled\")>0,COUNTIF(COMPREHENSIVE!$P$58:$Q$58,\"enabled\")>0,COUNTIF(COMPREHENSIVE!$N$68:$N$68,\"enabled\")>0,COUNTIF(COMPREHENSIVE!$P$68:$Q$68,\"enabled\")>0),1,0)","v":0}]
[null,null,null,null,null,null,null,null," Individuals with Disabilities",null,{"$f":"IF(AND(COMPREHENSIVE!$P2368=\"\",COMPREHENSIVE!$P2491=\"\"),\"\",COMPREHENSIVE!$P2368+COMPREHENSIVE!$P2491)","v":""},{"$f":"K550","v":""},null,null,{"$f":"IF(AND(COMPREHENSIVE!$P2371=\"\",COMPREHENSIVE!$P2495=\"\"),\"\",COMPREHENSIVE!$P2371+COMPREHENSIVE!$P2495)","v":""},{"$f":"O550","v":""},null,null,{"$f":"IF(AND(COMPREHENSIVE!$P2374=\"\",COMPREHENSIVE!$P2498=\"\"),\"\",COMPREHENSIVE!$P2374+COMPREHENSIVE!$P2498)","v":""},{"$f":"S550","v":""},null,null,null,null,null,{"$f":"IF(OR(COUNTIF(COMPREHENSIVE!$N$61:$N$61,\"enabled\")>0,COUNTIF(COMPREHENSIVE!$P$61:$Q$61,\"enabled\")>0,COUNTIF(COMPREHENSIVE!$N$69:$N$69,\"enabled\")>0,COUNTIF(COMPREHENSIVE!$P$69:$Q$69,\"enabled\")>0),1,0)","v":0}]
[null,null,null,null,null,null,null,null,"Veterans",null,{"$f":"IF(AND(COMPREHENSIVE!$P2369=\"\",COMPREHENSIVE!$P2492=\"\"),\"\",COMPREHENSIVE!$P2369+COMPREHENSIVE!$P2492)","v":""},{"$f":"K551","v":""},null,null,{"$f":"IF(AND(COMPREHENSIVE!$P2372=\"\",COMPREHENSIVE!$P2496=\"\"),\"\",COMPREHENSIVE!$P2372+COMPREHENSIVE!$P2496)","v":""},{"$f":"O551","v":""},null,null,{"$f":"IF(AND(COMPREHENSIVE!$P2375=\"\",COMPREHENSIVE!$P2499=\"\"),\"\",COMPREHENSIVE!$P2375+COMPREHENSIVE!$P2499)","v":""},{"$f":"S551","v":""},null,null,null,null,null,{"$f":"IF(OR(COUNTIF(COMPREHENSIVE!$N$61:$N$61,\"enabled\")>0,COUNTIF(COMPREHENSIVE!$P$61:$Q$61,\"enabled\")>0,COUNTIF(COMPREHENSIVE!$N$69:$N$69,\"enabled\")>0,COUNTIF(COMPREHENSIVE!$P$69:$Q$69,\"enabled\")>0),1,0)","v":0}]
[null,null,null,null,null,null,null,null,null,null,null,null,null,null,null,null,null,null,null,null,null,null,null,null,null,{"$f":"IF(OR(COUNTIF(COMPREHENSIVE!$N$61:$N$61,\"enabled\")>0,COUNTIF(COMPREHENSIVE!$P$61:$Q$61,\"enabled\")>0,COUNTIF(COMPREHENSIVE!$N$69:$N$69,\"enabled\")>0,COUNTIF(COMPREHENSIVE!$P$69:$Q$69,\"enabled\")>0),1,0)","v":0}]
[null,null,null,null,null,null,"Officials and Administrators",null,null,null,{"$f":"IF(AND(COMPREHENSIVE!$P2257=\"\",COMPREHENSIVE!$P2380=\"\"),\"\",COMPREHENSIVE!$P2257+COMPREHENSIVE!$P2380)","v":""},{"$f":"K553","v":""},null,null,{"$f":"IF(AND(COMPREHENSIVE!$P2268=\"\",COMPREHENSIVE!$P2391=\"\"),\"\",COMPREHENSIVE!$P2268+COMPREHENSIVE!$P2391)","v":""},{"$f":"O553","v":""},null,null,{"$f":"IF(AND(COMPREHENSIVE!$P2279=\"\",COMPREHENSIVE!$P2402=\"\"),\"\",COMPREHENSIVE!$P2279+COMPREHENSIVE!$P2402)","v":""},{"$f":"S553","v":""},null,null,null,null,null,{"$f":"IF(OR(COUNTIF(COMPREHENSIVE!$N$57:$N$57,\"enabled\")>0,COUNTIF(COMPREHENSIVE!$P$57:$Q$57,\"enabled\")>0,COUNTIF(COMPREHENSIVE!$N$65:$N$65,\"enabled\")>0,COUNTIF(COMPREHENSIVE!$P$65:$Q$65,\"enabled\")>0),1,0)","v":0}]
[null,null,null,null,null,null,"Professionals",null,null,null,{"$f":"IF(AND(COMPREHENSIVE!$P2258=\"\",COMPREHENSIVE!$P2381=\"\"),\"\",COMPREHENSIVE!$P2258+COMPREHENSIVE!$P2381)","v":""},{"$f":"K554","v":""},null,null,{"$f":"IF(AND(COMPREHENSIVE!$P2269=\"\",COMPREHENSIVE!$P2392=\"\"),\"\",COMPREHENSIVE!$P2269+COMPREHENSIVE!$P2392)","v":""},{"$f":"O554","v":""},null,null,{"$f":"IF(AND(COMPREHENSIVE!$P2280=\"\",COMPREHENSIVE!$P2403=\"\"),\"\",COMPREHENSIVE!$P2280+COMPREHENSIVE!$P2403)","v":""},{"$f":"S554","v":""},null,null,null,null,null,{"$f":"IF(OR(COUNTIF(COMPREHENSIVE!$N$57:$N$57,\"enabled\")>0,COUNTIF(COMPREHENSIVE!$P$57:$Q$57,\"enabled\")>0,COUNTIF(COMPREHENSIVE!$N$65:$N$65,\"enabled\")>0,COUNTIF(COMPREHENSIVE!$P$65:$Q$65,\"enabled\")>0),1,0)","v":0}]
[null,null,null,null,null,null,"Technicians",null,null,null,{"$f":"IF(AND(COMPREHENSIVE!$P2259=\"\",COMPREHENSIVE!$P2382=\"\"),\"\",COMPREHENSIVE!$P2259+COMPREHENSIVE!$P2382)","v":""},"",null,null,{"$f":"IF(AND(COMPREHENSIVE!$P2270=\"\",COMPREHENSIVE!$P2393=\"\"),\"\",COMPREHENSIVE!$P2270+COMPREHENSIVE!$P2393)","v":""},"",null,null,{"$f":"IF(AND(COMPREHENSIVE!$P2281=\"\",COMPREHENSIVE!$P2404=\"\"),\"\",COMPREHENSIVE!$P2281+COMPREHENSIVE!$P2404)","v":""},"",null,null,null,null,null,{"$f":"IF(OR(COUNTIF(COMPREHENSIVE!$N$57:$N$57,\"enabled\")>0,COUNTIF(COMPREHENSIVE!$P$57:$Q$57,\"enabled\")>0,COUNTIF(COMPREHENSIVE!$N$65:$N$65,\"enabled\")>0,COUNTIF(COMPREHENSIVE!$P$65:$Q$65,\"enabled\")>0),1,0)","v":0}]
[null,null,null,null,null,null,"Protective Service Workers",null,null,null,{"$f":"IF(AND(COMPREHENSIVE!$P2260=\"\",COMPREHENSIVE!$P2383=\"\"),\"\",COMPREHENSIVE!$P2260+COMPREHENSIVE!$P2383)","v":""},"",null,null,{"$f":"IF(AND(COMPREHENSIVE!$P2271=\"\",COMPREHENSIVE!$P2394=\"\"),\"\",COMPREHENSIVE!$P2271+COMPREHENSIVE!$P2394)","v":""},"",null,null,{"$f":"IF(AND(COMPREHENSIVE!$P2282=\"\",COMPREHENSIVE!$P2405=\"\"),\"\",COMPREHENSIVE!$P2282+COMPREHENSIVE!$P2405)","v":""},"",null,null,null,null,null,{"$f":"IF(OR(COUNTIF(COMPREHENSIVE!$N$57:$N$57,\"enabled\")>0,COUNTIF(COMPREHENSIVE!$P$57:$Q$57,\"enabled\")>0,COUNTIF(COMPREHENSIVE!$N$65:$N$65,\"enabled\")>0,COUNTIF(COMPREHENSIVE!$P$65:$Q$65,\"enabled\")>0),1,0)","v":0}]
[null,null,null,null,null,null,"Paraprofessionals",null,null,null,{"$f":"IF(AND(COMPREHENSIVE!$P2261=\"\",COMPREHENSIVE!$P2384=\"\"),\"\",COMPREHENSIVE!$P2261+COMPREHENSIVE!$P2384)","v":""},"",null,null,{"$f":"IF(AND(COMPREHENSIVE!$P2272=\"\",COMPREHENSIVE!$P2395=\"\"),\"\",COMPREHENSIVE!$P2272+COMPREHENSIVE!$P2395)","v":""},"",null,null,{"$f":"IF(AND(COMPREHENSIVE!$P2283=\"\",COMPREHENSIVE!$P2406=\"\"),\"\",COMPREHENSIVE!$P2283+COMPREHENSIVE!$P2406)","v":""},"",null,null,null,null,null,{"$f":"IF(OR(COUNTIF(COMPREHENSIVE!$N$57:$N$57,\"enabled\")>0,COUNTIF(COMPREHENSIVE!$P$57:$Q$57,\"enabled\")>0,COUNTIF(COMPREHENSIVE!$N$65:$N$65,\"enabled\")>0,COUNTIF(COMPREHENSIVE!$P$65:$Q$65,\"enabled\")>0),1,0)","v":0}]
[null,null,null,null,null,null,"Administrative Support",null,null,null,{"$f":"IF(AND(COMPREHENSIVE!$P2262=\"\",COMPREHENSIVE!$P2385=\"\"),\"\",COMPREHENSIVE!$P2262+COMPREHENSIVE!$P2385)","v":""},"",null,null,{"$f":"IF(AND(COMPREHENSIVE!$P2273=\"\",COMPREHENSIVE!$P2396=\"\"),\"\",COMPREHENSIVE!$P2273+COMPREHENSIVE!$P2396)","v":""},"",null,null,{"$f":"IF(AND(COMPREHENSIVE!$P2284=\"\",COMPREHENSIVE!$P2407=\"\"),\"\",COMPREHENSIVE!$P2284+COMPREHENSIVE!$P2407)","v":""},"",null,null,null,null,null,{"$f":"IF(OR(COUNTIF(COMPREHENSIVE!$N$57:$N$57,\"enabled\")>0,COUNTIF(COMPREHENSIVE!$P$57:$Q$57,\"enabled\")>0,COUNTIF(COMPREHENSIVE!$N$65:$N$65,\"enabled\")>0,COUNTIF(COMPREHENSIVE!$P$65:$Q$65,\"enabled\")>0),1,0)","v":0}]
[null,null,null,null,null,null,"Skilled Craft Workers",null,null,null,{"$f":"IF(AND(COMPREHENSIVE!$P2263=\"\",COMPREHENSIVE!$P2386=\"\"),\"\",COMPREHENSIVE!$P2263+COMPREHENSIVE!$P2386)","v":""},"",null,null,{"$f":"IF(AND(COMPREHENSIVE!$P2274=\"\",COMPREHENSIVE!$P2397=\"\"),\"\",COMPREHENSIVE!$P2274+COMPREHENSIVE!$P2397)","v":""},"",null,null,{"$f":"IF(AND(COMPREHENSIVE!$P2285=\"\",COMPREHENSIVE!$P2408=\"\"),\"\",COMPREHENSIVE!$P2285+COMPREHENSIVE!$P2408)","v":""},"",null,null,null,null,null,{"$f":"IF(OR(COUNTIF(COMPREHENSIVE!$N$57:$N$57,\"enabled\")>0,COUNTIF(COMPREHENSIVE!$P$57:$Q$57,\"enabled\")>0,COUNTIF(COMPREHENSIVE!$N$65:$N$65,\"enabled\")>0,COUNTIF(COMPREHENSIVE!$P$65:$Q$65,\"enabled\")>0),1,0)","v":0}]
[null,null,null,null,null,null,"Service/Maintenance",null,null,null,{"$f":"IF(AND(COMPREHENSIVE!$P2264=\"\",COMPREHENSIVE!$P2387=\"\"),\"\",COMPREHENSIVE!$P2264+COMPREHENSIVE!$P2387)","v":""},"",null,null,{"$f":"IF(AND(COMPREHENSIVE!$P2275=\"\",COMPREHENSIVE!$P2398=\"\"),\"\",COMPREHENSIVE!$P2275+COMPREHENSIVE!$P2398)","v":""},"",null,null,{"$f":"IF(AND(COMPREHENSIVE!$P2286=\"\",COMPREHENSIVE!$P2409=\"\"),\"\",COMPREHENSIVE!$P2286+COMPREHENSIVE!$P2409)","v":""},"",null,null,null,null,null,{"$f":"IF(OR(COUNTIF(COMPREHENSIVE!$N$57:$N$57,\"enabled\")>0,COUNTIF(COMPREHENSIVE!$P$57:$Q$57,\"enabled\")>0,COUNTIF(COMPREHENSIVE!$N$65:$N$65,\"enabled\")>0,COUNTIF(COMPREHENSIVE!$P$65:$Q$65,\"enabled\")>0),1,0)","v":0}]
[null,null,null,null,null,null,"Faculty",null,null,null,{"$f":"IF(AND(COMPREHENSIVE!$P2265=\"\",COMPREHENSIVE!$P2388=\"\"),\"\",COMPREHENSIVE!$P2265+COMPREHENSIVE!$P2388)","v":""},"",null,null,{"$f":"IF(AND(COMPREHENSIVE!$P2276=\"\",COMPREHENSIVE!$P2399=\"\"),\"\",COMPREHENSIVE!$P2276+COMPREHENSIVE!$P2399)","v":""},"",null,null,{"$f":"IF(AND(COMPREHENSIVE!$P2287=\"\",COMPREHENSIVE!$P2410=\"\"),\"\",COMPREHENSIVE!$P2287+COMPREHENSIVE!$P2410)","v":""},"",null,null,null,null,null,{"$f":"IF(OR(COUNTIF(COMPREHENSIVE!$N$57:$N$57,\"enabled\")>0,COUNTIF(COMPREHENSIVE!$P$57:$Q$57,\"enabled\")>0,COUNTIF(COMPREHENSIVE!$N$65:$N$65,\"enabled\")>0,COUNTIF(COMPREHENSIVE!$P$65:$Q$65,\"enabled\")>0),1,0)","v":0}]
[null,null,null,null,null,null,"Other",null,null,null,{"$f":"IF(AND(COMPREHENSIVE!$P2266=\"\",COMPREHENSIVE!$P2389=\"\"),\"\",COMPREHENSIVE!$P2266+COMPREHENSIVE!$P2389)","v":""},"",null,null,{"$f":"IF(AND(COMPREHENSIVE!$P2277=\"\",COMPREHENSIVE!$P2400=\"\"),\"\",COMPREHENSIVE!$P2277+COMPREHENSIVE!$P2400)","v":""},"",null,null,{"$f":"IF(AND(COMPREHENSIVE!$P2288=\"\",COMPREHENSIVE!$P2411=\"\"),\"\",COMPREHENSIVE!$P2288+COMPREHENSIVE!$P2411)","v":""},"",null,null,null,null,null,{"$f":"IF(OR(COUNTIF(COMPREHENSIVE!$N$57:$N$57,\"enabled\")>0,COUNTIF(COMPREHENSIVE!$P$57:$Q$57,\"enabled\")>0,COUNTIF(COMPREHENSIVE!$N$65:$N$65,\"enabled\")>0,COUNTIF(COMPREHENSIVE!$P$65:$Q$65,\"enabled\")>0),1,0)","v":0}]
[null,null,null,null,null,null,null,null,null,null,null,null,null,null,null,null,null,null,null,null,null,null,null,null,null,{"$f":"IF(OR(COUNTIF(COMPREHENSIVE!$N$57:$N$57,\"enabled\")>0,COUNTIF(COMPREHENSIVE!$P$57:$Q$57,\"enabled\")>0,COUNTIF(COMPREHENSIVE!$N$65:$N$65,\"enabled\")>0,COUNTIF(COMPREHENSIVE!$P$65:$Q$65,\"enabled\")>0),1,0)","v":0}]
[null,null,null,null,null,null,{"$f":"PROFILE!$C$58","v":0},null,null,null,{"$f":"IF(AND(COMPREHENSIVE!$P2293=\"\",COMPREHENSIVE!$P2416=\"\"),\"\",COMPREHENSIVE!$P2293+COMPREHENSIVE!$P2416)","v":""},{"$f":"K564","v":""},null,null,{"$f":"IF(AND(COMPREHENSIVE!$P2309=\"\",COMPREHENSIVE!$P2432=\"\"),\"\",COMPREHENSIVE!$P2309+COMPREHENSIVE!$P2432)","v":""},{"$f":"O564","v":""},null,null,{"$f":"IF(AND(COMPREHENSIVE!$P2325=\"\",COMPREHENSIVE!$P2448=\"\"),\"\",COMPREHENSIVE!$P2325+COMPREHENSIVE!$P2448)","v":""},{"$f":"S564","v":""},null,null,null,null,{"$f":"COUNTIF(G564,\"*\"&PROFILE!$C$58&\"*\")","v":0},{"$f":"IF(AND(OR(COUNTIF(COMPREHENSIVE!$N$58:$N$58,\"enabled\")>0,COUNTIF(COMPREHENSIVE!$P$58:$Q$58,\"enabled\")>0,COUNTIF(COMPREHENSIVE!$N$66:$N$66,\"enabled\")>0,COUNTIF(COMPREHENSIVE!$P$66:$Q$66,\"enabled\")>0),Y564=1),1,0)","v":0}]
[null,null,null,null,null,null,{"$f":"PROFILE!$C$59","v":0},null,null,null,{"$f":"IF(AND(COMPREHENSIVE!$P2294=\"\",COMPREHENSIVE!$P2417=\"\"),\"\",COMPREHENSIVE!$P2294+COMPREHENSIVE!$P2417)","v":""},{"$f":"K565","v":""},null,null,{"$f":"IF(AND(COMPREHENSIVE!$P2310=\"\",COMPREHENSIVE!$P2433=\"\"),\"\",COMPREHENSIVE!$P2310+COMPREHENSIVE!$P2433)","v":""},{"$f":"O565","v":""},null,null,{"$f":"IF(AND(COMPREHENSIVE!$P2326=\"\",COMPREHENSIVE!$P2449=\"\"),\"\",COMPREHENSIVE!$P2326+COMPREHENSIVE!$P2449)","v":""},{"$f":"S565","v":""},null,null,null,null,{"$f":"COUNTIF(G565,\"*\"&PROFILE!$C$59&\"*\")","v":0},{"$f":"IF(AND(OR(COUNTIF(COMPREHENSIVE!$N$58:$N$58,\"enabled\")>0,COUNTIF(COMPREHENSIVE!$P$58:$Q$58,\"enabled\")>0,COUNTIF(COMPREHENSIVE!$N$66:$N$66,\"enabled\")>0,COUNTIF(COMPREHENSIVE!$P$66:$Q$66,\"enabled\")>0),Y565=1),1,0)","v":0}]
[null,null,null,null,null,null,{"$f":"PROFILE!$C$60","v":0},null,null,null,{"$f":"IF(AND(COMPREHENSIVE!$P2295=\"\",COMPREHENSIVE!$P2418=\"\"),\"\",COMPREHENSIVE!$P2295+COMPREHENSIVE!$P2418)","v":""},"",null,null,{"$f":"IF(AND(COMPREHENSIVE!$P2311=\"\",COMPREHENSIVE!$P2434=\"\"),\"\",COMPREHENSIVE!$P2311+COMPREHENSIVE!$P2434)","v":""},"",null,null,{"$f":"IF(AND(COMPREHENSIVE!$P2327=\"\",COMPREHENSIVE!$P2450=\"\"),\"\",COMPREHENSIVE!$P2327+COMPREHENSIVE!$P2450)","v":""},"",null,null,null,null,{"$f":"COUNTIF(G566,\"*\"&PROFILE!$C$60&\"*\")","v":0},{"$f":"IF(AND(OR(COUNTIF(COMPREHENSIVE!$N$58:$N$58,\"enabled\")>0,COUNTIF(COMPREHENSIVE!$P$58:$Q$58,\"enabled\")>0,COUNTIF(COMPREHENSIVE!$N$66:$N$66,\"enabled\")>0,COUNTIF(COMPREHENSIVE!$P$66:$Q$66,\"enabled\")>0),Y566=1),1,0)","v":0}]
[null,null,null,null,null,null,{"$f":"PROFILE!$C$61","v":0},null,null,null,{"$f":"IF(AND(COMPREHENSIVE!$P2296=\"\",COMPREHENSIVE!$P2419=\"\"),\"\",COMPREHENSIVE!$P2296+COMPREHENSIVE!$P2419)","v":""},"",null,null,{"$f":"IF(AND(COMPREHENSIVE!$P2312=\"\",COMPREHENSIVE!$P2435=\"\"),\"\",COMPREHENSIVE!$P2312+COMPREHENSIVE!$P2435)","v":""},"",null,null,{"$f":"IF(AND(COMPREHENSIVE!$P2328=\"\",COMPREHENSIVE!$P2451=\"\"),\"\",COMPREHENSIVE!$P2328+COMPREHENSIVE!$P2451)","v":""},"",null,null,null,null,{"$f":"COUNTIF(G567,\"*\"&PROFILE!$C$61&\"*\")","v":0},{"$f":"IF(AND(OR(COUNTIF(COMPREHENSIVE!$N$58:$N$58,\"enabled\")>0,COUNTIF(COMPREHENSIVE!$P$58:$Q$58,\"enabled\")>0,COUNTIF(COMPREHENSIVE!$N$66:$N$66,\"enabled\")>0,COUNTIF(COMPREHENSIVE!$P$66:$Q$66,\"enabled\")>0),Y567=1),1,0)","v":0}]
[null,null,null,null,null,null,{"$f":"PROFILE!$C$62","v":0},null,null,null,{"$f":"IF(AND(COMPREHENSIVE!$P2297=\"\",COMPREHENSIVE!$P2420=\"\"),\"\",COMPREHENSIVE!$P2297+COMPREHENSIVE!$P2420)","v":""},"",null,null,{"$f":"IF(AND(COMPREHENSIVE!$P2313=\"\",COMPREHENSIVE!$P2436=\"\"),\"\",COMPREHENSIVE!$P2313+COMPREHENSIVE!$P2436)","v":""},"",null,null,{"$f":"IF(AND(COMPREHENSIVE!$P2329=\"\",COMPREHENSIVE!$P2452=\"\"),\"\",COMPREHENSIVE!$P2329+COMPREHENSIVE!$P2452)","v":""},"",null,null,null,null,{"$f":"COUNTIF(G568,\"*\"&PROFILE!$C$62&\"*\")","v":0},{"$f":"IF(AND(OR(COUNTIF(COMPREHENSIVE!$N$58:$N$58,\"enabled\")>0,COUNTIF(COMPREHENSIVE!$P$58:$Q$58,\"enabled\")>0,COUNTIF(COMPREHENSIVE!$N$66:$N$66,\"enabled\")>0,COUNTIF(COMPREHENSIVE!$P$66:$Q$66,\"enabled\")>0),Y568=1),1,0)","v":0}]
[null,null,null,null,null,null,{"$f":"PROFILE!$C$63","v":0},null,null,null,{"$f":"IF(AND(COMPREHENSIVE!$P2298=\"\",COMPREHENSIVE!$P2421=\"\"),\"\",COMPREHENSIVE!$P2298+COMPREHENSIVE!$P2421)","v":""},"",null,null,{"$f":"IF(AND(COMPREHENSIVE!$P2314=\"\",COMPREHENSIVE!$P2437=\"\"),\"\",COMPREHENSIVE!$P2314+COMPREHENSIVE!$P2437)","v":""},"",null,null,{"$f":"IF(AND(COMPREHENSIVE!$P2330=\"\",COMPREHENSIVE!$P2453=\"\"),\"\",COMPREHENSIVE!$P2330+COMPREHENSIVE!$P2453)","v":""},"",null,null,null,null,{"$f":"COUNTIF(G569,\"*\"&PROFILE!$C$63&\"*\")","v":0},{"$f":"IF(AND(OR(COUNTIF(COMPREHENSIVE!$N$58:$N$58,\"enabled\")>0,COUNTIF(COMPREHENSIVE!$P$58:$Q$58,\"enabled\")>0,COUNTIF(COMPREHENSIVE!$N$66:$N$66,\"enabled\")>0,COUNTIF(COMPREHENSIVE!$P$66:$Q$66,\"enabled\")>0),Y569=1),1,0)","v":0}]
[null,null,null,null,null,null,{"$f":"PROFILE!$C$64","v":0},null,null,null,{"$f":"IF(AND(COMPREHENSIVE!$P2299=\"\",COMPREHENSIVE!$P2422=\"\"),\"\",COMPREHENSIVE!$P2299+COMPREHENSIVE!$P2422)","v":""},"",null,null,{"$f":"IF(AND(COMPREHENSIVE!$P2315=\"\",COMPREHENSIVE!$P2438=\"\"),\"\",COMPREHENSIVE!$P2315+COMPREHENSIVE!$P2438)","v":""},"",null,null,{"$f":"IF(AND(COMPREHENSIVE!$P2331=\"\",COMPREHENSIVE!$P2454=\"\"),\"\",COMPREHENSIVE!$P2331+COMPREHENSIVE!$P2454)","v":""},"",null,null,null,null,{"$f":"COUNTIF(G570,\"*\"&PROFILE!$C$64&\"*\")","v":0},{"$f":"IF(AND(OR(COUNTIF(COMPREHENSIVE!$N$58:$N$58,\"enabled\")>0,COUNTIF(COMPREHENSIVE!$P$58:$Q$58,\"enabled\")>0,COUNTIF(COMPREHENSIVE!$N$66:$N$66,\"enabled\")>0,COUNTIF(COMPREHENSIVE!$P$66:$Q$66,\"enabled\")>0),Y570=1),1,0)","v":0}]
[null,null,null,null,null,null,{"$f":"PROFILE!$C$65","v":0},null,null,null,{"$f":"IF(AND(COMPREHENSIVE!$P2300=\"\",COMPREHENSIVE!$P2423=\"\"),\"\",COMPREHENSIVE!$P2300+COMPREHENSIVE!$P2423)","v":""},"",null,null,{"$f":"IF(AND(COMPREHENSIVE!$P2316=\"\",COMPREHENSIVE!$P2439=\"\"),\"\",COMPREHENSIVE!$P2316+COMPREHENSIVE!$P2439)","v":""},"",null,null,{"$f":"IF(AND(COMPREHENSIVE!$P2332=\"\",COMPREHENSIVE!$P2455=\"\"),\"\",COMPREHENSIVE!$P2332+COMPREHENSIVE!$P2455)","v":""},"",null,null,null,null,{"$f":"COUNTIF(G571,\"*\"&PROFILE!$C$65&\"*\")","v":0},{"$f":"IF(AND(OR(COUNTIF(COMPREHENSIVE!$N$58:$N$58,\"enabled\")>0,COUNTIF(COMPREHENSIVE!$P$58:$Q$58,\"enabled\")>0,COUNTIF(COMPREHENSIVE!$N$66:$N$66,\"enabled\")>0,COUNTIF(COMPREHENSIVE!$P$66:$Q$66,\"enabled\")>0),Y571=1),1,0)","v":0}]
[null,null,null,null,null,null,{"$f":"PROFILE!$C$66","v":0},null,null,null,{"$f":"IF(AND(COMPREHENSIVE!$P2301=\"\",COMPREHENSIVE!$P2424=\"\"),\"\",COMPREHENSIVE!$P2301+COMPREHENSIVE!$P2424)","v":""},"",null,null,{"$f":"IF(AND(COMPREHENSIVE!$P2317=\"\",COMPREHENSIVE!$P2440=\"\"),\"\",COMPREHENSIVE!$P2317+COMPREHENSIVE!$P2440)","v":""},"",null,null,{"$f":"IF(AND(COMPREHENSIVE!$P2333=\"\",COMPREHENSIVE!$P2456=\"\"),\"\",COMPREHENSIVE!$P2333+COMPREHENSIVE!$P2456)","v":""},"",null,null,null,null,{"$f":"COUNTIF(G572,\"*\"&PROFILE!$C$66&\"*\")","v":0},{"$f":"IF(AND(OR(COUNTIF(COMPREHENSIVE!$N$58:$N$58,\"enabled\")>0,COUNTIF(COMPREHENSIVE!$P$58:$Q$58,\"enabled\")>0,COUNTIF(COMPREHENSIVE!$N$66:$N$66,\"enabled\")>0,COUNTIF(COMPREHENSIVE!$P$66:$Q$66,\"enabled\")>0),Y572=1),1,0)","v":0}]
[null,null,null,null,null,null,{"$f":"PROFILE!$C$67","v":0},null,null,null,{"$f":"IF(AND(COMPREHENSIVE!$P2302=\"\",COMPREHENSIVE!$P2425=\"\"),\"\",COMPREHENSIVE!$P2302+COMPREHENSIVE!$P2425)","v":""},"",null,null,{"$f":"IF(AND(COMPREHENSIVE!$P2318=\"\",COMPREHENSIVE!$P2441=\"\"),\"\",COMPREHENSIVE!$P2318+COMPREHENSIVE!$P2441)","v":""},"",null,null,{"$f":"IF(AND(COMPREHENSIVE!$P2334=\"\",COMPREHENSIVE!$P2457=\"\"),\"\",COMPREHENSIVE!$P2334+COMPREHENSIVE!$P2457)","v":""},"",null,null,null,null,{"$f":"COUNTIF(G573,\"*\"&PROFILE!$C$67&\"*\")","v":0},{"$f":"IF(AND(OR(COUNTIF(COMPREHENSIVE!$N$58:$N$58,\"enabled\")>0,COUNTIF(COMPREHENSIVE!$P$58:$Q$58,\"enabled\")>0,COUNTIF(COMPREHENSIVE!$N$66:$N$66,\"enabled\")>0,COUNTIF(COMPREHENSIVE!$P$66:$Q$66,\"enabled\")>0),Y573=1),1,0)","v":0}]
[null,null,null,null,null,null,{"$f":"PROFILE!$C$68","v":0},null,null,null,{"$f":"IF(AND(COMPREHENSIVE!$P2303=\"\",COMPREHENSIVE!$P2426=\"\"),\"\",COMPREHENSIVE!$P2303+COMPREHENSIVE!$P2426)","v":""},"",null,null,{"$f":"IF(AND(COMPREHENSIVE!$P2319=\"\",COMPREHENSIVE!$P2442=\"\"),\"\",COMPREHENSIVE!$P2319+COMPREHENSIVE!$P2442)","v":""},"",null,null,{"$f":"IF(AND(COMPREHENSIVE!$P2335=\"\",COMPREHENSIVE!$P2458=\"\"),\"\",COMPREHENSIVE!$P2335+COMPREHENSIVE!$P2458)","v":""},"",null,null,null,null,{"$f":"COUNTIF(G574,\"*\"&PROFILE!$C$68&\"*\")","v":0},{"$f":"IF(AND(OR(COUNTIF(COMPREHENSIVE!$N$58:$N$58,\"enabled\")>0,COUNTIF(COMPREHENSIVE!$P$58:$Q$58,\"enabled\")>0,COUNTIF(COMPREHENSIVE!$N$66:$N$66,\"enabled\")>0,COUNTIF(COMPREHENSIVE!$P$66:$Q$66,\"enabled\")>0),Y574=1),1,0)","v":0}]
[null,null,null,null,null,null,{"$f":"PROFILE!$C$69","v":0},null,null,null,{"$f":"IF(AND(COMPREHENSIVE!$P2304=\"\",COMPREHENSIVE!$P2427=\"\"),\"\",COMPREHENSIVE!$P2304+COMPREHENSIVE!$P2427)","v":""},"",null,null,{"$f":"IF(AND(COMPREHENSIVE!$P2320=\"\",COMPREHENSIVE!$P2443=\"\"),\"\",COMPREHENSIVE!$P2320+COMPREHENSIVE!$P2443)","v":""},"",null,null,{"$f":"IF(AND(COMPREHENSIVE!$P2336=\"\",COMPREHENSIVE!$P2459=\"\"),\"\",COMPREHENSIVE!$P2336+COMPREHENSIVE!$P2459)","v":""},"",null,null,null,null,{"$f":"COUNTIF(G575,\"*\"&PROFILE!$C$69&\"*\")","v":0},{"$f":"IF(AND(OR(COUNTIF(COMPREHENSIVE!$N$58:$N$58,\"enabled\")>0,COUNTIF(COMPREHENSIVE!$P$58:$Q$58,\"enabled\")>0,COUNTIF(COMPREHENSIVE!$N$66:$N$66,\"enabled\")>0,COUNTIF(COMPREHENSIVE!$P$66:$Q$66,\"enabled\")>0),Y575=1),1,0)","v":0}]
[null,null,null,null,null,null,{"$f":"PROFILE!$C$70","v":0},null,null,null,{"$f":"IF(AND(COMPREHENSIVE!$P2305=\"\",COMPREHENSIVE!$P2428=\"\"),\"\",COMPREHENSIVE!$P2305+COMPREHENSIVE!$P2428)","v":""},"",null,null,{"$f":"IF(AND(COMPREHENSIVE!$P2321=\"\",COMPREHENSIVE!$P2444=\"\"),\"\",COMPREHENSIVE!$P2321+COMPREHENSIVE!$P2444)","v":""},"",null,null,{"$f":"IF(AND(COMPREHENSIVE!$P2337=\"\",COMPREHENSIVE!$P2460=\"\"),\"\",COMPREHENSIVE!$P2337+COMPREHENSIVE!$P2460)","v":""},"",null,null,null,null,{"$f":"COUNTIF(G576,\"*\"&PROFILE!$C$70&\"*\")","v":0},{"$f":"IF(AND(OR(COUNTIF(COMPREHENSIVE!$N$58:$N$58,\"enabled\")>0,COUNTIF(COMPREHENSIVE!$P$58:$Q$58,\"enabled\")>0,COUNTIF(COMPREHENSIVE!$N$66:$N$66,\"enabled\")>0,COUNTIF(COMPREHENSIVE!$P$66:$Q$66,\"enabled\")>0),Y576=1),1,0)","v":0}]
[null,null,null,null,null,null,{"$f":"PROFILE!$C$71","v":0},null,null,null,{"$f":"IF(AND(COMPREHENSIVE!$P2306=\"\",COMPREHENSIVE!$P2429=\"\"),\"\",COMPREHENSIVE!$P2306+COMPREHENSIVE!$P2429)","v":""},"",null,null,{"$f":"IF(AND(COMPREHENSIVE!$P2322=\"\",COMPREHENSIVE!$P2445=\"\"),\"\",COMPREHENSIVE!$P2322+COMPREHENSIVE!$P2445)","v":""},"",null,null,{"$f":"IF(AND(COMPREHENSIVE!$P2338=\"\",COMPREHENSIVE!$P2461=\"\"),\"\",COMPREHENSIVE!$P2338+COMPREHENSIVE!$P2461)","v":""},"",null,null,null,null,{"$f":"COUNTIF(G577,\"*\"&PROFILE!$C$71&\"*\")","v":0},{"$f":"IF(AND(OR(COUNTIF(COMPREHENSIVE!$N$58:$N$58,\"enabled\")>0,COUNTIF(COMPREHENSIVE!$P$58:$Q$58,\"enabled\")>0,COUNTIF(COMPREHENSIVE!$N$66:$N$66,\"enabled\")>0,COUNTIF(COMPREHENSIVE!$P$66:$Q$66,\"enabled\")>0),Y577=1),1,0)","v":0}]
[null,null,null,null,null,null,{"$f":"PROFILE!$C$72","v":0},null,null,null,{"$f":"IF(AND(COMPREHENSIVE!$P2307=\"\",COMPREHENSIVE!$P2430=\"\"),\"\",COMPREHENSIVE!$P2307+COMPREHENSIVE!$P2430)","v":""},"",null,null,{"$f":"IF(AND(COMPREHENSIVE!$P2323=\"\",COMPREHENSIVE!$P2446=\"\"),\"\",COMPREHENSIVE!$P2323+COMPREHENSIVE!$P2446)","v":""},"",null,null,{"$f":"IF(AND(COMPREHENSIVE!$P2339=\"\",COMPREHENSIVE!$P2462=\"\"),\"\",COMPREHENSIVE!$P2339+COMPREHENSIVE!$P2462)","v":""},"",null,null,null,null,{"$f":"COUNTIF(G578,\"*\"&PROFILE!$C$72&\"*\")","v":0},{"$f":"IF(AND(OR(COUNTIF(COMPREHENSIVE!$N$58:$N$58,\"enabled\")>0,COUNTIF(COMPREHENSIVE!$P$58:$Q$58,\"enabled\")>0,COUNTIF(COMPREHENSIVE!$N$66:$N$66,\"enabled\")>0,COUNTIF(COMPREHENSIVE!$P$66:$Q$66,\"enabled\")>0),Y578=1),1,0)","v":0}]
[null,null,null,null,null,null,null,null,null,null,null,null,null,null,null,null,null,null,null,null,null,null,null,null,null,{"$f":"IF(OR(COUNTIF(COMPREHENSIVE!$N$58:$N$58,\"enabled\")>0,COUNTIF(COMPREHENSIVE!$P$58:$Q$58,\"enabled\")>0,COUNTIF(COMPREHENSIVE!$N$66:$N$66,\"enabled\")>0,COUNTIF(COMPREHENSIVE!$P$66:$Q$66,\"enabled\")>0),1,0)","v":0}]
[null,null,null,null,null,null,"Average Years of Service (First Year)",null,null,null,null,null,null,null,null,null,null,null,null,null,null,null,null,null,null,{"$f":"IF(OR(COUNTIF('IN-DEPTH'!$K$37:$L$38,\"enabled\")>0,COUNTIF(COMPREHENSIVE!$N$33:$N$37,\"enabled\")>0,COUNTIF(COMPREHENSIVE!$P$33:$Q$37,\"enabled\")>0),1,0)","v":0}]
[null,null,null,null,null,null,null,null,null,null,null,null,null,null,null,null,null,null,null,null,null,null,null,null,null,{"$f":"IF(OR(COUNTIF('IN-DEPTH'!$K$37:$L$38,\"enabled\")>0,COUNTIF(COMPREHENSIVE!$N$33:$N$37,\"enabled\")>0,COUNTIF(COMPREHENSIVE!$P$33:$Q$37,\"enabled\")>0),1,0)","v":0}]
[null,null,null,null,null,null,null,null,null,null,null,null,null,null,null,null,null,null,null,null,null,null,null,null,null,{"$f":"IF(OR(COUNTIF('IN-DEPTH'!$K$37:$L$38,\"enabled\")>0,COUNTIF(COMPREHENSIVE!$N$33:$N$37,\"enabled\")>0,COUNTIF(COMPREHENSIVE!$P$33:$Q$37,\"enabled\")>0),1,0)","v":0}]
[null,null,null,null,null,null,null,null,null,null,"All Employees",null,null,null,"Leaders",null,null,null,"Executives",null,null,null,null,null,null,{"$f":"IF(OR(COUNTIF('IN-DEPTH'!$K$37:$L$38,\"enabled\")>0,COUNTIF(COMPREHENSIVE!$N$33:$N$37,\"enabled\")>0,COUNTIF(COMPREHENSIVE!$P$33:$Q$37,\"enabled\")>0),1,0)","v":0}]
[null,null,null,null,null,null,null,null,null,null,null,null,null,null,null,null,null,null,null,null,null,null,null,null,null,{"$f":"IF(OR(COUNTIF('IN-DEPTH'!$K$37:$L$38,\"enabled\")>0,COUNTIF(COMPREHENSIVE!$N$33:$N$37,\"enabled\")>0,COUNTIF(COMPREHENSIVE!$P$33:$Q$37,\"enabled\")>0),1,0)","v":0}]
[null,null,"All","Leaders","Exec.",null,null,null,null,null,{"$f":"CONCATENATE(TEXT(FOUNDATIONAL!P534,0),\" Total Applicants\")","v":"0 Total Applicants"},null,null,null,{"$f":"CONCATENATE(TEXT('IN-DEPTH'!P551,0),\" Leader Applicants\")","v":"0 Leader Applicants"},null,null,null,{"$f":"CONCATENATE(TEXT('IN-DEPTH'!P553,0),\" Executive Applicants\")","v":"0 Executive Applicants"},null,null,null,null,null,null,{"$f":"IF(OR(COUNTIF('IN-DEPTH'!$K$37:$L$38,\"enabled\")>0),1,0)","v":0}]
[null,null,null,null,null,null,null,null,null,null,null,null,null,null,null,null,null,null,null,null,null,null,null,null,null,{"$f":"IF(OR(COUNTIF('IN-DEPTH'!$K$37:$L$38,\"enabled\")>0),1,0)","v":0}]
[null,null,null,null,null,null,null,null,"Males",null,{"$f":"IF(COMPREHENSIVE!P2590=\"\",\"\",COMPREHENSIVE!P2590)","v":""},{"$f":"K587","v":""},null,null,{"$f":"IF(COMPREHENSIVE!P2593=\"\",\"\",COMPREHENSIVE!P2593)","v":""},{"$f":"O587","v":""},null,null,{"$f":"IF(COMPREHENSIVE!P2596=\"\",\"\",COMPREHENSIVE!P2596)","v":""},{"$f":"S587","v":""},null,null,null,null,null,{"$f":"IF(OR(COUNTIF(COMPREHENSIVE!$O$35:$O$35,\"enabled\")>0,COUNTIF(COMPREHENSIVE!$P$35:$Q$35,\"enabled\")>0),1,0)","v":0}]
[null,null,null,null,null,null,null,null,"Females",null,{"$f":"IF(COMPREHENSIVE!P2591=\"\",\"\",COMPREHENSIVE!P2591)","v":""},{"$f":"K588","v":""},null,null,{"$f":"IF(COMPREHENSIVE!P2594=\"\",\"\",COMPREHENSIVE!P2594)","v":""},{"$f":"O588","v":""},null,null,{"$f":"IF(COMPREHENSIVE!P2597=\"\",\"\",COMPREHENSIVE!P2597)","v":""},{"$f":"S588","v":""},null,null,null,null,null,{"$f":"IF(OR(COUNTIF(COMPREHENSIVE!$O$35:$O$35,\"enabled\")>0,COUNTIF(COMPREHENSIVE!$P$35:$Q$35,\"enabled\")>0),1,0)","v":0}]
[null,null,null,null,null,null,null,null,null,null,null,null,null,null,null,null,null,null,null,null,null,null,null,null,null,{"$f":"IF(OR(COUNTIF(COMPREHENSIVE!$O$35:$O$35,\"enabled\")>0,COUNTIF(COMPREHENSIVE!$P$35:$Q$35,\"enabled\")>0),1,0)","v":0}]
[null,null,null,null,null,null,null,null,"Minority",null,{"$f":"IF(COMPREHENSIVE!P2602=\"\",\"\",COMPREHENSIVE!P2602)","v":""},{"$f":"K590","v":""},null,null,{"$f":"IF(COMPREHENSIVE!P2605=\"\",\"\",COMPREHENSIVE!P2605)","v":""},{"$f":"O590","v":""},null,null,{"$f":"IF(COMPREHENSIVE!P2608=\"\",\"\",COMPREHENSIVE!P2608)","v":""},{"$f":"S590","v":""},null,null,null,null,null,{"$f":"IF(OR(COUNTIF(COMPREHENSIVE!$O$36:$O$36,\"enabled\")>0,COUNTIF(COMPREHENSIVE!$P$36:$Q$36,\"enabled\")>0),1,0)","v":0}]
[null,null,null,null,null,null,null,null,"Non-Minority",null,{"$f":"IF(COMPREHENSIVE!P2603=\"\",\"\",COMPREHENSIVE!P2603)","v":""},{"$f":"K591","v":""},null,null,{"$f":"IF(COMPREHENSIVE!P2606=\"\",\"\",COMPREHENSIVE!P2606)","v":""},{"$f":"O591","v":""},null,null,{"$f":"IF(COMPREHENSIVE!P2609=\"\",\"\",COMPREHENSIVE!P2609)","v":""},{"$f":"S591","v":""},null,null,null,null,null,{"$f":"IF(OR(COUNTIF(COMPREHENSIVE!$O$36:$O$36,\"enabled\")>0,COUNTIF(COMPREHENSIVE!$P$36:$Q$36,\"enabled\")>0),1,0)","v":0}]
[null,null,null,null,null,null,null,null,null,null,null,null,null,null,null,null,null,null,null,null,null,null,null,null,null,{"$f":"IF(OR(COUNTIF(COMPREHENSIVE!$O$36:$O$36,\"enabled\")>0,COUNTIF(COMPREHENSIVE!$P$36:$Q$36,\"enabled\")>0),1,0)","v":0}]
[null,null,null,null,null,null,null,null," Individuals with Disabilities",null,{"$f":"IF(COMPREHENSIVE!P2614=\"\",\"\",COMPREHENSIVE!P2614)","v":""},{"$f":"K593","v":""},null,null,{"$f":"IF(COMPREHENSIVE!P2617=\"\",\"\",COMPREHENSIVE!P2617)","v":""},{"$f":"O593","v":""},null,null,{"$f":"IF(COMPREHENSIVE!P2620=\"\",\"\",COMPREHENSIVE!P2620)","v":""},{"$f":"S593","v":""},null,null,null,null,null,{"$f":"IF(OR(COUNTIF(COMPREHENSIVE!$O$37:$O$37,\"enabled\")>0,COUNTIF(COMPREHENSIVE!$P$37:$Q$37,\"enabled\")>0),1,0)","v":0}]
[null,null,null,null,null,null,null,null,"Veterans",null,{"$f":"IF(COMPREHENSIVE!P2615=\"\",\"\",COMPREHENSIVE!P2615)","v":""},{"$f":"K594","v":""},null,null,{"$f":"IF(COMPREHENSIVE!P2618=\"\",\"\",COMPREHENSIVE!P2618)","v":""},{"$f":"O594","v":""},null,null,{"$f":"IF(COMPREHENSIVE!P2621=\"\",\"\",COMPREHENSIVE!P2621)","v":""},{"$f":"S594","v":""},null,null,null,null,null,{"$f":"IF(OR(COUNTIF(COMPREHENSIVE!$O$37:$O$37,\"enabled\")>0,COUNTIF(COMPREHENSIVE!$P$37:$Q$37,\"enabled\")>0),1,0)","v":0}]
[null,null,null,null,null,null,null,null,null,null,null,null,null,null,null,null,null,null,null,null,null,null,null,null,null,{"$f":"IF(OR(COUNTIF(COMPREHENSIVE!$O$37:$O$37,\"enabled\")>0,COUNTIF(COMPREHENSIVE!$P$37:$Q$37,\"enabled\")>0),1,0)","v":0}]
[null,null,null,null,null,null,"Officials and Administrators",null,null,null,{"$f":"IF(COMPREHENSIVE!P2503=\"\",\"\",COMPREHENSIVE!P2503)","v":""},{"$f":"K596","v":""},null,null,{"$f":"IF(COMPREHENSIVE!P2514=\"\",\"\",COMPREHENSIVE!P2514)","v":""},{"$f":"O596","v":""},null,null,{"$f":"IF(COMPREHENSIVE!P2525=\"\",\"\",COMPREHENSIVE!P2525)","v":""},{"$f":"S596","v":""},null,null,null,null,null,{"$f":"IF(OR(COUNTIF(COMPREHENSIVE!$O$33:$O$33,\"enabled\")>0,COUNTIF(COMPREHENSIVE!$P$33:$Q$33,\"enabled\")>0),1,0)","v":0}]
[null,null,null,null,null,null,"Professionals",null,null,null,{"$f":"IF(COMPREHENSIVE!P2504=\"\",\"\",COMPREHENSIVE!P2504)","v":""},{"$f":"K597","v":""},null,null,{"$f":"IF(COMPREHENSIVE!P2515=\"\",\"\",COMPREHENSIVE!P2515)","v":""},{"$f":"O597","v":""},null,null,{"$f":"IF(COMPREHENSIVE!P2526=\"\",\"\",COMPREHENSIVE!P2526)","v":""},{"$f":"S597","v":""},null,null,null,null,null,{"$f":"IF(OR(COUNTIF(COMPREHENSIVE!$O$33:$O$33,\"enabled\")>0,COUNTIF(COMPREHENSIVE!$P$33:$Q$33,\"enabled\")>0),1,0)","v":0}]
[null,null,null,null,null,null,"Technicians",null,null,null,{"$f":"IF(COMPREHENSIVE!P2505=\"\",\"\",COMPREHENSIVE!P2505)","v":""},"",null,null,{"$f":"IF(COMPREHENSIVE!P2516=\"\",\"\",COMPREHENSIVE!P2516)","v":""},"",null,null,{"$f":"IF(COMPREHENSIVE!P2527=\"\",\"\",COMPREHENSIVE!P2527)","v":""},"",null,null,null,null,null,{"$f":"IF(OR(COUNTIF(COMPREHENSIVE!$O$33:$O$33,\"enabled\")>0,COUNTIF(COMPREHENSIVE!$P$33:$Q$33,\"enabled\")>0),1,0)","v":0}]
[null,null,null,null,null,null,"Protective Service Workers",null,null,null,{"$f":"IF(COMPREHENSIVE!P2506=\"\",\"\",COMPREHENSIVE!P2506)","v":""},"",null,null,{"$f":"IF(COMPREHENSIVE!P2517=\"\",\"\",COMPREHENSIVE!P2517)","v":""},"",null,null,{"$f":"IF(COMPREHENSIVE!P2528=\"\",\"\",COMPREHENSIVE!P2528)","v":""},"",null,null,null,null,null,{"$f":"IF(OR(COUNTIF(COMPREHENSIVE!$O$33:$O$33,\"enabled\")>0,COUNTIF(COMPREHENSIVE!$P$33:$Q$33,\"enabled\")>0),1,0)","v":0}]
[null,null,null,null,null,null,"Paraprofessionals",null,null,null,{"$f":"IF(COMPREHENSIVE!P2507=\"\",\"\",COMPREHENSIVE!P2507)","v":""},"",null,null,{"$f":"IF(COMPREHENSIVE!P2518=\"\",\"\",COMPREHENSIVE!P2518)","v":""},"",null,null,{"$f":"IF(COMPREHENSIVE!P2529=\"\",\"\",COMPREHENSIVE!P2529)","v":""},"",null,null,null,null,null,{"$f":"IF(OR(COUNTIF(COMPREHENSIVE!$O$33:$O$33,\"enabled\")>0,COUNTIF(COMPREHENSIVE!$P$33:$Q$33,\"enabled\")>0),1,0)","v":0}]
[null,null,null,null,null,null,"Administrative Support",null,null,null,{"$f":"IF(COMPREHENSIVE!P2508=\"\",\"\",COMPREHENSIVE!P2508)","v":""},"",null,null,{"$f":"IF(COMPREHENSIVE!P2519=\"\",\"\",COMPREHENSIVE!P2519)","v":""},"",null,null,{"$f":"IF(COMPREHENSIVE!P2530=\"\",\"\",COMPREHENSIVE!P2530)","v":""},"",null,null,null,null,null,{"$f":"IF(OR(COUNTIF(COMPREHENSIVE!$O$33:$O$33,\"enabled\")>0,COUNTIF(COMPREHENSIVE!$P$33:$Q$33,\"enabled\")>0),1,0)","v":0}]
[null,null,null,null,null,null,"Skilled Craft Workers",null,null,null,{"$f":"IF(COMPREHENSIVE!P2509=\"\",\"\",COMPREHENSIVE!P2509)","v":""},"",null,null,{"$f":"IF(COMPREHENSIVE!P2520=\"\",\"\",COMPREHENSIVE!P2520)","v":""},"",null,null,{"$f":"IF(COMPREHENSIVE!P2531=\"\",\"\",COMPREHENSIVE!P2531)","v":""},"",null,null,null,null,null,{"$f":"IF(OR(COUNTIF(COMPREHENSIVE!$O$33:$O$33,\"enabled\")>0,COUNTIF(COMPREHENSIVE!$P$33:$Q$33,\"enabled\")>0),1,0)","v":0}]
[null,null,null,null,null,null,"Service/Maintenance",null,null,null,{"$f":"IF(COMPREHENSIVE!P2510=\"\",\"\",COMPREHENSIVE!P2510)","v":""},"",null,null,{"$f":"IF(COMPREHENSIVE!P2521=\"\",\"\",COMPREHENSIVE!P2521)","v":""},"",null,null,{"$f":"IF(COMPREHENSIVE!P2532=\"\",\"\",COMPREHENSIVE!P2532)","v":""},"",null,null,null,null,null,{"$f":"IF(OR(COUNTIF(COMPREHENSIVE!$O$33:$O$33,\"enabled\")>0,COUNTIF(COMPREHENSIVE!$P$33:$Q$33,\"enabled\")>0),1,0)","v":0}]
[null,null,null,null,null,null,"Faculty",null,null,null,{"$f":"IF(COMPREHENSIVE!P2511=\"\",\"\",COMPREHENSIVE!P2511)","v":""},"",null,null,{"$f":"IF(COMPREHENSIVE!P2522=\"\",\"\",COMPREHENSIVE!P2522)","v":""},"",null,null,{"$f":"IF(COMPREHENSIVE!P2533=\"\",\"\",COMPREHENSIVE!P2533)","v":""},"",null,null,null,null,null,{"$f":"IF(OR(COUNTIF(COMPREHENSIVE!$O$33:$O$33,\"enabled\")>0,COUNTIF(COMPREHENSIVE!$P$33:$Q$33,\"enabled\")>0),1,0)","v":0}]
[null,null,null,null,null,null,"Other",null,null,null,{"$f":"IF(COMPREHENSIVE!P2512=\"\",\"\",COMPREHENSIVE!P2512)","v":""},"",null,null,{"$f":"IF(COMPREHENSIVE!P2523=\"\",\"\",COMPREHENSIVE!P2523)","v":""},"",null,null,{"$f":"IF(COMPREHENSIVE!P2534=\"\",\"\",COMPREHENSIVE!P2534)","v":""},"",null,null,null,null,null,{"$f":"IF(OR(COUNTIF(COMPREHENSIVE!$O$33:$O$33,\"enabled\")>0,COUNTIF(COMPREHENSIVE!$P$33:$Q$33,\"enabled\")>0),1,0)","v":0}]
[null,null,null,null,null,null,null,null,null,null,null,null,null,null,null,null,null,null,null,null,null,null,null,null,null,{"$f":"IF(OR(COUNTIF(COMPREHENSIVE!$O$33:$O$33,\"enabled\")>0,COUNTIF(COMPREHENSIVE!$P$33:$Q$33,\"enabled\")>0),1,0)","v":0}]
[null,null,null,null,null,null,{"$f":"PROFILE!$C$58","v":0},null,null,null,{"$f":"IF(COMPREHENSIVE!P2539=\"\",\"\",COMPREHENSIVE!P2539)","v":""},{"$f":"K607","v":""},null,null,{"$f":"IF(COMPREHENSIVE!P2555=\"\",\"\",COMPREHENSIVE!P2555)","v":""},{"$f":"O607","v":""},null,null,{"$f":"IF(COMPREHENSIVE!P2571=\"\",\"\",COMPREHENSIVE!P2571)","v":""},{"$f":"S607","v":""},null,null,null,null,{"$f":"COUNTIF(G607,\"*\"&PROFILE!$C$58&\"*\")","v":0},{"$f":"IF(AND(OR(COUNTIF(COMPREHENSIVE!$O$34:$O$34,\"enabled\")>0,COUNTIF(COMPREHENSIVE!$P$34:$Q$34,\"enabled\")>0),Y607=1),1,0)","v":0}]
[null,null,null,null,null,null,{"$f":"PROFILE!$C$59","v":0},null,null,null,{"$f":"IF(COMPREHENSIVE!P2540=\"\",\"\",COMPREHENSIVE!P2540)","v":""},{"$f":"K608","v":""},null,null,{"$f":"IF(COMPREHENSIVE!P2556=\"\",\"\",COMPREHENSIVE!P2556)","v":""},{"$f":"O608","v":""},null,null,{"$f":"IF(COMPREHENSIVE!P2572=\"\",\"\",COMPREHENSIVE!P2572)","v":""},{"$f":"S608","v":""},null,null,null,null,{"$f":"COUNTIF(G608,\"*\"&PROFILE!$C$59&\"*\")","v":0},{"$f":"IF(AND(OR(COUNTIF(COMPREHENSIVE!$O$34:$O$34,\"enabled\")>0,COUNTIF(COMPREHENSIVE!$P$34:$Q$34,\"enabled\")>0),Y608=1),1,0)","v":0}]
[null,null,null,null,null,null,{"$f":"PROFILE!$C$60","v":0},null,null,null,{"$f":"IF(COMPREHENSIVE!P2541=\"\",\"\",COMPREHENSIVE!P2541)","v":""},"",null,null,{"$f":"IF(COMPREHENSIVE!P2557=\"\",\"\",COMPREHENSIVE!P2557)","v":""},"",null,null,{"$f":"IF(COMPREHENSIVE!P2573=\"\",\"\",COMPREHENSIVE!P2573)","v":""},"",null,null,null,null,{"$f":"COUNTIF(G609,\"*\"&PROFILE!$C$60&\"*\")","v":0},{"$f":"IF(AND(OR(COUNTIF(COMPREHENSIVE!$O$34:$O$34,\"enabled\")>0,COUNTIF(COMPREHENSIVE!$P$34:$Q$34,\"enabled\")>0),Y609=1),1,0)","v":0}]
[null,null,null,null,null,null,{"$f":"PROFILE!$C$61","v":0},null,null,null,{"$f":"IF(COMPREHENSIVE!P2542=\"\",\"\",COMPREHENSIVE!P2542)","v":""},"",null,null,{"$f":"IF(COMPREHENSIVE!P2558=\"\",\"\",COMPREHENSIVE!P2558)","v":""},"",null,null,{"$f":"IF(COMPREHENSIVE!P2574=\"\",\"\",COMPREHENSIVE!P2574)","v":""},"",null,null,null,null,{"$f":"COUNTIF(G610,\"*\"&PROFILE!$C$61&\"*\")","v":0},{"$f":"IF(AND(OR(COUNTIF(COMPREHENSIVE!$O$34:$O$34,\"enabled\")>0,COUNTIF(COMPREHENSIVE!$P$34:$Q$34,\"enabled\")>0),Y610=1),1,0)","v":0}]
[null,null,null,null,null,null,{"$f":"PROFILE!$C$62","v":0},null,null,null,{"$f":"IF(COMPREHENSIVE!P2543=\"\",\"\",COMPREHENSIVE!P2543)","v":""},"",null,null,{"$f":"IF(COMPREHENSIVE!P2559=\"\",\"\",COMPREHENSIVE!P2559)","v":""},"",null,null,{"$f":"IF(COMPREHENSIVE!P2575=\"\",\"\",COMPREHENSIVE!P2575)","v":""},"",null,null,null,null,{"$f":"COUNTIF(G611,\"*\"&PROFILE!$C$62&\"*\")","v":0},{"$f":"IF(AND(OR(COUNTIF(COMPREHENSIVE!$O$34:$O$34,\"enabled\")>0,COUNTIF(COMPREHENSIVE!$P$34:$Q$34,\"enabled\")>0),Y611=1),1,0)","v":0}]
[null,null,null,null,null,null,{"$f":"PROFILE!$C$63","v":0},null,null,null,{"$f":"IF(COMPREHENSIVE!P2544=\"\",\"\",COMPREHENSIVE!P2544)","v":""},"",null,null,{"$f":"IF(COMPREHENSIVE!P2560=\"\",\"\",COMPREHENSIVE!P2560)","v":""},"",null,null,{"$f":"IF(COMPREHENSIVE!P2576=\"\",\"\",COMPREHENSIVE!P2576)","v":""},"",null,null,null,null,{"$f":"COUNTIF(G612,\"*\"&PROFILE!$C$63&\"*\")","v":0},{"$f":"IF(AND(OR(COUNTIF(COMPREHENSIVE!$O$34:$O$34,\"enabled\")>0,COUNTIF(COMPREHENSIVE!$P$34:$Q$34,\"enabled\")>0),Y612=1),1,0)","v":0}]
[null,null,null,null,null,null,{"$f":"PROFILE!$C$64","v":0},null,null,null,{"$f":"IF(COMPREHENSIVE!P2545=\"\",\"\",COMPREHENSIVE!P2545)","v":""},"",null,null,{"$f":"IF(COMPREHENSIVE!P2561=\"\",\"\",COMPREHENSIVE!P2561)","v":""},"",null,null,{"$f":"IF(COMPREHENSIVE!P2577=\"\",\"\",COMPREHENSIVE!P2577)","v":""},"",null,null,null,null,{"$f":"COUNTIF(G613,\"*\"&PROFILE!$C$64&\"*\")","v":0},{"$f":"IF(AND(OR(COUNTIF(COMPREHENSIVE!$O$34:$O$34,\"enabled\")>0,COUNTIF(COMPREHENSIVE!$P$34:$Q$34,\"enabled\")>0),Y613=1),1,0)","v":0}]
[null,null,null,null,null,null,{"$f":"PROFILE!$C$65","v":0},null,null,null,{"$f":"IF(COMPREHENSIVE!P2546=\"\",\"\",COMPREHENSIVE!P2546)","v":""},"",null,null,{"$f":"IF(COMPREHENSIVE!P2562=\"\",\"\",COMPREHENSIVE!P2562)","v":""},"",null,null,{"$f":"IF(COMPREHENSIVE!P2578=\"\",\"\",COMPREHENSIVE!P2578)","v":""},"",null,null,null,null,{"$f":"COUNTIF(G614,\"*\"&PROFILE!$C$65&\"*\")","v":0},{"$f":"IF(AND(OR(COUNTIF(COMPREHENSIVE!$O$34:$O$34,\"enabled\")>0,COUNTIF(COMPREHENSIVE!$P$34:$Q$34,\"enabled\")>0),Y614=1),1,0)","v":0}]
[null,null,null,null,null,null,{"$f":"PROFILE!$C$66","v":0},null,null,null,{"$f":"IF(COMPREHENSIVE!P2547=\"\",\"\",COMPREHENSIVE!P2547)","v":""},"",null,null,{"$f":"IF(COMPREHENSIVE!P2563=\"\",\"\",COMPREHENSIVE!P2563)","v":""},"",null,null,{"$f":"IF(COMPREHENSIVE!P2579=\"\",\"\",COMPREHENSIVE!P2579)","v":""},"",null,null,null,null,{"$f":"COUNTIF(G615,\"*\"&PROFILE!$C$66&\"*\")","v":0},{"$f":"IF(AND(OR(COUNTIF(COMPREHENSIVE!$O$34:$O$34,\"enabled\")>0,COUNTIF(COMPREHENSIVE!$P$34:$Q$34,\"enabled\")>0),Y615=1),1,0)","v":0}]
[null,null,null,null,null,null,{"$f":"PROFILE!$C$67","v":0},null,null,null,{"$f":"IF(COMPREHENSIVE!P2548=\"\",\"\",COMPREHENSIVE!P2548)","v":""},"",null,null,{"$f":"IF(COMPREHENSIVE!P2564=\"\",\"\",COMPREHENSIVE!P2564)","v":""},"",null,null,{"$f":"IF(COMPREHENSIVE!P2580=\"\",\"\",COMPREHENSIVE!P2580)","v":""},"",null,null,null,null,{"$f":"COUNTIF(G616,\"*\"&PROFILE!$C$67&\"*\")","v":0},{"$f":"IF(AND(OR(COUNTIF(COMPREHENSIVE!$O$34:$O$34,\"enabled\")>0,COUNTIF(COMPREHENSIVE!$P$34:$Q$34,\"enabled\")>0),Y616=1),1,0)","v":0}]
[null,null,null,null,null,null,{"$f":"PROFILE!$C$68","v":0},null,null,null,{"$f":"IF(COMPREHENSIVE!P2549=\"\",\"\",COMPREHENSIVE!P2549)","v":""},"",null,null,{"$f":"IF(COMPREHENSIVE!P2565=\"\",\"\",COMPREHENSIVE!P2565)","v":""},"",null,null,{"$f":"IF(COMPREHENSIVE!P2581=\"\",\"\",COMPREHENSIVE!P2581)","v":""},"",null,null,null,null,{"$f":"COUNTIF(G617,\"*\"&PROFILE!$C$68&\"*\")","v":0},{"$f":"IF(AND(OR(COUNTIF(COMPREHENSIVE!$O$34:$O$34,\"enabled\")>0,COUNTIF(COMPREHENSIVE!$P$34:$Q$34,\"enabled\")>0),Y617=1),1,0)","v":0}]
[null,null,null,null,null,null,{"$f":"PROFILE!$C$69","v":0},null,null,null,{"$f":"IF(COMPREHENSIVE!P2550=\"\",\"\",COMPREHENSIVE!P2550)","v":""},"",null,null,{"$f":"IF(COMPREHENSIVE!P2566=\"\",\"\",COMPREHENSIVE!P2566)","v":""},"",null,null,{"$f":"IF(COMPREHENSIVE!P2582=\"\",\"\",COMPREHENSIVE!P2582)","v":""},"",null,null,null,null,{"$f":"COUNTIF(G618,\"*\"&PROFILE!$C$69&\"*\")","v":0},{"$f":"IF(AND(OR(COUNTIF(COMPREHENSIVE!$O$34:$O$34,\"enabled\")>0,COUNTIF(COMPREHENSIVE!$P$34:$Q$34,\"enabled\")>0),Y618=1),1,0)","v":0}]
[null,null,null,null,null,null,{"$f":"PROFILE!$C$70","v":0},null,null,null,{"$f":"IF(COMPREHENSIVE!P2551=\"\",\"\",COMPREHENSIVE!P2551)","v":""},"",null,null,{"$f":"IF(COMPREHENSIVE!P2567=\"\",\"\",COMPREHENSIVE!P2567)","v":""},"",null,null,{"$f":"IF(COMPREHENSIVE!P2583=\"\",\"\",COMPREHENSIVE!P2583)","v":""},"",null,null,null,null,{"$f":"COUNTIF(G619,\"*\"&PROFILE!$C$70&\"*\")","v":0},{"$f":"IF(AND(OR(COUNTIF(COMPREHENSIVE!$O$34:$O$34,\"enabled\")>0,COUNTIF(COMPREHENSIVE!$P$34:$Q$34,\"enabled\")>0),Y619=1),1,0)","v":0}]
[null,null,null,null,null,null,{"$f":"PROFILE!$C$71","v":0},null,null,null,{"$f":"IF(COMPREHENSIVE!P2552=\"\",\"\",COMPREHENSIVE!P2552)","v":""},"",null,null,{"$f":"IF(COMPREHENSIVE!P2568=\"\",\"\",COMPREHENSIVE!P2568)","v":""},"",null,null,{"$f":"IF(COMPREHENSIVE!P2584=\"\",\"\",COMPREHENSIVE!P2584)","v":""},"",null,null,null,null,{"$f":"COUNTIF(G620,\"*\"&PROFILE!$C$71&\"*\")","v":0},{"$f":"IF(AND(OR(COUNTIF(COMPREHENSIVE!$O$34:$O$34,\"enabled\")>0,COUNTIF(COMPREHENSIVE!$P$34:$Q$34,\"enabled\")>0),Y620=1),1,0)","v":0}]
[null,null,null,null,null,null,{"$f":"PROFILE!$C$72","v":0},null,null,null,{"$f":"IF(COMPREHENSIVE!P2553=\"\",\"\",COMPREHENSIVE!P2553)","v":""},"",null,null,{"$f":"IF(COMPREHENSIVE!P2569=\"\",\"\",COMPREHENSIVE!P2569)","v":""},"",null,null,{"$f":"IF(COMPREHENSIVE!P2585=\"\",\"\",COMPREHENSIVE!P2585)","v":""},"",null,null,null,null,{"$f":"COUNTIF(G621,\"*\"&PROFILE!$C$72&\"*\")","v":0},{"$f":"IF(AND(OR(COUNTIF(COMPREHENSIVE!$O$34:$O$34,\"enabled\")>0,COUNTIF(COMPREHENSIVE!$P$34:$Q$34,\"enabled\")>0),Y621=1),1,0)","v":0}]
[null,null,null,null,null,null,null,null,null,null,null,null,null,null,null,null,null,null,null,null,null,null,null,null,null,{"$f":"IF(OR(COUNTIF(COMPREHENSIVE!$O$34:$O$34,\"enabled\")>0,COUNTIF(COMPREHENSIVE!$P$34:$Q$34,\"enabled\")>0),1,0)","v":0}]
[null,null,null,null,null,null,"Internal Mobility within First Year (Internal Promotions and Transfers)",null,null,null,null,null,null,null,null,null,null,null,null,null,null,null,null,null,null,{"$f":"IF(OR(COUNTIF('IN-DEPTH'!$K$37:$L$38,\"enabled\")>0,COUNTIF(COMPREHENSIVE!$O$41:$O$45,\"enabled\")>0,COUNTIF(COMPREHENSIVE!$P$41:$Q$45,\"enabled\")>0,COUNTIF(COMPREHENSIVE!$O$49:$O$53,\"enabled\")>0,COUNTIF(COMPREHENSIVE!$P$49:$Q$53,\"enabled\")>0),1,0)","v":0}]
[null,null,null,null,null,null,null,null,null,null,null,null,null,null,null,null,null,null,null,null,null,null,null,null,null,{"$f":"IF(OR(COUNTIF('IN-DEPTH'!$K$37:$L$38,\"enabled\")>0,COUNTIF(COMPREHENSIVE!$O$41:$O$45,\"enabled\")>0,COUNTIF(COMPREHENSIVE!$P$41:$Q$45,\"enabled\")>0,COUNTIF(COMPREHENSIVE!$O$49:$O$53,\"enabled\")>0,COUNTIF(COMPREHENSIVE!$P$49:$Q$53,\"enabled\")>0),1,0)","v":0}]
[null,null,null,null,null,null,null,null,null,null,null,null,null,null,null,null,null,null,null,null,null,null,null,null,null,{"$f":"IF(OR(COUNTIF('IN-DEPTH'!$K$37:$L$38,\"enabled\")>0,COUNTIF(COMPREHENSIVE!$O$41:$O$45,\"enabled\")>0,COUNTIF(COMPREHENSIVE!$P$41:$Q$45,\"enabled\")>0,COUNTIF(COMPREHENSIVE!$O$49:$O$53,\"enabled\")>0,COUNTIF(COMPREHENSIVE!$P$49:$Q$53,\"enabled\")>0),1,0)","v":0}]
[null,null,null,null,null,null,null,null,null,null,"All Employees",null,null,null,"Leaders",null,null,null,"Executives",null,null,null,null,null,null,{"$f":"IF(OR(COUNTIF('IN-DEPTH'!$K$37:$L$38,\"enabled\")>0,COUNTIF(COMPREHENSIVE!$O$41:$O$45,\"enabled\")>0,COUNTIF(COMPREHENSIVE!$P$41:$Q$45,\"enabled\")>0,COUNTIF(COMPREHENSIVE!$O$49:$O$53,\"enabled\")>0,COUNTIF(COMPREHENSIVE!$P$49:$Q$53,\"enabled\")>0),1,0)","v":0}]
[null,null,null,null,null,null,null,null,null,null,null,null,null,null,null,null,null,null,null,null,null,null,null,null,null,{"$f":"IF(OR(COUNTIF('IN-DEPTH'!$K$37:$L$38,\"enabled\")>0,COUNTIF(COMPREHENSIVE!$O$41:$O$45,\"enabled\")>0,COUNTIF(COMPREHENSIVE!$P$41:$Q$45,\"enabled\")>0,COUNTIF(COMPREHENSIVE!$O$49:$O$53,\"enabled\")>0,COUNTIF(COMPREHENSIVE!$P$49:$Q$53,\"enabled\")>0),1,0)","v":0}]
[null,null,null,null,null,null,null,null,null,null,{"$f":"IFERROR((FOUNDATIONAL!P379+FOUNDATIONAL!P380)/FOUNDATIONAL!P293,0)","v":0},null,null,null,{"$f":"IFERROR(('IN-DEPTH'!P416+'IN-DEPTH'!P417)/'IN-DEPTH'!P328,0)","v":0},null,null,null,{"$f":"IFERROR(('IN-DEPTH'!P422+'IN-DEPTH'!P423)/FOUNDATIONAL!P302,0)","v":0},null,null,null,null,null,null,{"$f":"IF(OR(COUNTIF('IN-DEPTH'!$K$37:$L$38,\"enabled\")>0),1,0)","v":0}]
[null,null,null,null,null,null,null,null,null,null,null,null,null,null,null,null,null,null,null,null,null,null,null,null,null,{"$f":"IF(OR(COUNTIF('IN-DEPTH'!$K$37:$L$38,\"enabled\")>0),1,0)","v":0}]
[null,null,"All","Leaders","Exec.",null,null,null,null,null,"Overall Internal Mobility",null,null,null,"Leader Internal Mobility",null,null,null,"Executive Internal Mobility",null,null,null,null,null,null,{"$f":"IF(OR(COUNTIF('IN-DEPTH'!$K$37:$L$38,\"enabled\")>0),1,0)","v":0}]
[null,null,null,null,null,null,null,null,null,null,null,null,null,null,null,null,null,null,null,null,null,null,null,null,null,{"$f":"IF(OR(COUNTIF('IN-DEPTH'!$K$37:$L$38,\"enabled\")>0),1,0)","v":0}]
[null,null,null,null,null,null,null,null,"Males",null,{"$f":"IF(AND(COMPREHENSIVE!$P2713=\"\",COMPREHENSIVE!$P2836=\"\"),\"\",COMPREHENSIVE!$P2713+COMPREHENSIVE!$P2836)","v":""},{"$f":"K632","v":""},null,null,{"$f":"IF(AND(COMPREHENSIVE!$P2716=\"\",COMPREHENSIVE!$P2839=\"\"),\"\",COMPREHENSIVE!$P2716+COMPREHENSIVE!$P2839)","v":""},{"$f":"O632","v":""},null,null,{"$f":"IF(AND(COMPREHENSIVE!$P2719=\"\",COMPREHENSIVE!$P2842=\"\"),\"\",COMPREHENSIVE!$P2719+COMPREHENSIVE!$P2842)","v":""},{"$f":"S632","v":""},null,null,null,null,null,{"$f":"IF(OR(COUNTIF(COMPREHENSIVE!$O$43:$O$43,\"enabled\")>0,COUNTIF(COMPREHENSIVE!$P$43:$Q$43,\"enabled\")>0,COUNTIF(COMPREHENSIVE!$O$51:$O$51,\"enabled\")>0,COUNTIF(COMPREHENSIVE!$P$51:$Q$51,\"enabled\")>0),1,0)","v":0}]
[null,null,null,null,null,null,null,null,"Females",null,{"$f":"IF(AND(COMPREHENSIVE!$P2714=\"\",COMPREHENSIVE!$P2837=\"\"),\"\",COMPREHENSIVE!$P2714+COMPREHENSIVE!$P2837)","v":""},{"$f":"K633","v":""},null,null,{"$f":"IF(AND(COMPREHENSIVE!$P2717=\"\",COMPREHENSIVE!$P2840=\"\"),\"\",COMPREHENSIVE!$P2717+COMPREHENSIVE!$P2840)","v":""},{"$f":"O633","v":""},null,null,{"$f":"IF(AND(COMPREHENSIVE!$P2720=\"\",COMPREHENSIVE!$P2843=\"\"),\"\",COMPREHENSIVE!$P2720+COMPREHENSIVE!$P2843)","v":""},{"$f":"S633","v":""},null,null,null,null,null,{"$f":"IF(OR(COUNTIF(COMPREHENSIVE!$O$43:$O$43,\"enabled\")>0,COUNTIF(COMPREHENSIVE!$P$43:$Q$43,\"enabled\")>0,COUNTIF(COMPREHENSIVE!$O$51:$O$51,\"enabled\")>0,COUNTIF(COMPREHENSIVE!$P$51:$Q$51,\"enabled\")>0),1,0)","v":0}]
[null,null,null,null,null,null,null,null,null,null,null,null,null,null,null,null,null,null,null,null,null,null,null,null,null,{"$f":"IF(OR(COUNTIF(COMPREHENSIVE!$O$43:$O$43,\"enabled\")>0,COUNTIF(COMPREHENSIVE!$P$43:$Q$43,\"enabled\")>0,COUNTIF(COMPREHENSIVE!$O$51:$O$51,\"enabled\")>0,COUNTIF(COMPREHENSIVE!$P$51:$Q$51,\"enabled\")>0),1,0)","v":0}]
[null,null,null,null,null,null,null,null,"Minority",null,{"$f":"IF(AND(COMPREHENSIVE!$P2725=\"\",COMPREHENSIVE!$P2848=\"\"),\"\",COMPREHENSIVE!$P2725+COMPREHENSIVE!$P2848)","v":""},{"$f":"K635","v":""},null,null,{"$f":"IF(AND(COMPREHENSIVE!$P2728=\"\",COMPREHENSIVE!$P2851=\"\"),\"\",COMPREHENSIVE!$P2728+COMPREHENSIVE!$P2851)","v":""},{"$f":"O635","v":""},null,null,{"$f":"IF(AND(COMPREHENSIVE!$P2731=\"\",COMPREHENSIVE!$P2854=\"\"),\"\",COMPREHENSIVE!$P2731+COMPREHENSIVE!$P2854)","v":""},{"$f":"S635","v":""},null,null,null,null,null,{"$f":"IF(OR(COUNTIF(COMPREHENSIVE!$O$44:$O$44,\"enabled\")>0,COUNTIF(COMPREHENSIVE!$P$44:$Q$44,\"enabled\")>0,COUNTIF(COMPREHENSIVE!$O$52:$O$52,\"enabled\")>0,COUNTIF(COMPREHENSIVE!$P$52:$Q$52,\"enabled\")>0),1,0)","v":0}]
[null,null,null,null,null,null,null,null,"Non-Minority",null,{"$f":"IF(AND(COMPREHENSIVE!$P2726=\"\",COMPREHENSIVE!$P2849=\"\"),\"\",COMPREHENSIVE!$P2726+COMPREHENSIVE!$P2849)","v":""},{"$f":"K636","v":""},null,null,{"$f":"IF(AND(COMPREHENSIVE!$P2729=\"\",COMPREHENSIVE!$P2852=\"\"),\"\",COMPREHENSIVE!$P2729+COMPREHENSIVE!$P2852)","v":""},{"$f":"O636","v":""},null,null,{"$f":"IF(AND(COMPREHENSIVE!$P2732=\"\",COMPREHENSIVE!$P2855=\"\"),\"\",COMPREHENSIVE!$P2732+COMPREHENSIVE!$P2855)","v":""},{"$f":"S636","v":""},null,null,null,null,null,{"$f":"IF(OR(COUNTIF(COMPREHENSIVE!$O$44:$O$44,\"enabled\")>0,COUNTIF(COMPREHENSIVE!$P$44:$Q$44,\"enabled\")>0,COUNTIF(COMPREHENSIVE!$O$52:$O$52,\"enabled\")>0,COUNTIF(COMPREHENSIVE!$P$52:$Q$52,\"enabled\")>0),1,0)","v":0}]
[null,null,null,null,null,null,null,null,null,null,null,null,null,null,null,null,null,null,null,null,null,null,null,null,null,{"$f":"IF(OR(COUNTIF(COMPREHENSIVE!$O$44:$O$44,\"enabled\")>0,COUNTIF(COMPREHENSIVE!$P$44:$Q$44,\"enabled\")>0,COUNTIF(COMPREHENSIVE!$O$52:$O$52,\"enabled\")>0,COUNTIF(COMPREHENSIVE!$P$52:$Q$52,\"enabled\")>0),1,0)","v":0}]
[null,null,null,null,null,null,null,null," Individuals with Disabilities",null,{"$f":"IF(AND(COMPREHENSIVE!$P2737=\"\",COMPREHENSIVE!$P2860=\"\"),\"\",COMPREHENSIVE!$P2737+COMPREHENSIVE!$P2860)","v":""},{"$f":"K638","v":""},null,null,{"$f":"IF(AND(COMPREHENSIVE!$P2740=\"\",COMPREHENSIVE!$P2863=\"\"),\"\",COMPREHENSIVE!$P2740+COMPREHENSIVE!$P2863)","v":""},{"$f":"O638","v":""},null,null,{"$f":"IF(AND(COMPREHENSIVE!$P2743=\"\",COMPREHENSIVE!$P2866=\"\"),\"\",COMPREHENSIVE!$P2743+COMPREHENSIVE!$P2866)","v":""},{"$f":"S638","v":""},null,null,null,null,null,{"$f":"IF(OR(COUNTIF(COMPREHENSIVE!$O$45:$O$45,\"enabled\")>0,COUNTIF(COMPREHENSIVE!$P$45:$Q$45,\"enabled\")>0,COUNTIF(COMPREHENSIVE!$O$53:$O$53,\"enabled\")>0,COUNTIF(COMPREHENSIVE!$P$53:$Q$53,\"enabled\")>0),1,0)","v":0}]
[null,null,null,null,null,null,null,null,"Veterans",null,{"$f":"IF(AND(COMPREHENSIVE!$P2738=\"\",COMPREHENSIVE!$P2861=\"\"),\"\",COMPREHENSIVE!$P2738+COMPREHENSIVE!$P2861)","v":""},{"$f":"K639","v":""},null,null,{"$f":"IF(AND(COMPREHENSIVE!$P2741=\"\",COMPREHENSIVE!$P2864=\"\"),\"\",COMPREHENSIVE!$P2741+COMPREHENSIVE!$P2864)","v":""},{"$f":"O639","v":""},null,null,{"$f":"IF(AND(COMPREHENSIVE!$P2744=\"\",COMPREHENSIVE!$P2867=\"\"),\"\",COMPREHENSIVE!$P2744+COMPREHENSIVE!$P2867)","v":""},{"$f":"S639","v":""},null,null,null,null,null,{"$f":"IF(OR(COUNTIF(COMPREHENSIVE!$O$45:$O$45,\"enabled\")>0,COUNTIF(COMPREHENSIVE!$P$45:$Q$45,\"enabled\")>0,COUNTIF(COMPREHENSIVE!$O$53:$O$53,\"enabled\")>0,COUNTIF(COMPREHENSIVE!$P$53:$Q$53,\"enabled\")>0),1,0)","v":0}]
[null,null,null,null,null,null,null,null,null,null,null,null,null,null,null,null,null,null,null,null,null,null,null,null,null,{"$f":"IF(OR(COUNTIF(COMPREHENSIVE!$O$45:$O$45,\"enabled\")>0,COUNTIF(COMPREHENSIVE!$P$45:$Q$45,\"enabled\")>0,COUNTIF(COMPREHENSIVE!$O$53:$O$53,\"enabled\")>0,COUNTIF(COMPREHENSIVE!$P$53:$Q$53,\"enabled\")>0),1,0)","v":0}]
[null,null,null,null,null,null,"Officials and Administrators",null,null,null,{"$f":"IF(AND(COMPREHENSIVE!$P2626=\"\",COMPREHENSIVE!$P2749=\"\"),\"\",COMPREHENSIVE!$P2626+COMPREHENSIVE!$P2749)","v":""},{"$f":"K641","v":""},null,null,{"$f":"IF(AND(COMPREHENSIVE!$P2637=\"\",COMPREHENSIVE!$P2760=\"\"),\"\",COMPREHENSIVE!$P2637+COMPREHENSIVE!$P2760)","v":""},{"$f":"O641","v":""},null,null,{"$f":"IF(AND(COMPREHENSIVE!$P2648=\"\",COMPREHENSIVE!$P2771=\"\"),\"\",COMPREHENSIVE!$P2648+COMPREHENSIVE!$P2771)","v":""},{"$f":"S641","v":""},null,null,null,null,null,{"$f":"IF(OR(COUNTIF(COMPREHENSIVE!$O$41:$O$41,\"enabled\")>0,COUNTIF(COMPREHENSIVE!$P$41:$Q$41,\"enabled\")>0,COUNTIF(COMPREHENSIVE!$O$49:$O$49,\"enabled\")>0,COUNTIF(COMPREHENSIVE!$P$49:$Q$49,\"enabled\")>0),1,0)","v":0}]
[null,null,null,null,null,null,"Professionals",null,null,null,{"$f":"IF(AND(COMPREHENSIVE!$P2627=\"\",COMPREHENSIVE!$P2750=\"\"),\"\",COMPREHENSIVE!$P2627+COMPREHENSIVE!$P2750)","v":""},{"$f":"K642","v":""},null,null,{"$f":"IF(AND(COMPREHENSIVE!$P2638=\"\",COMPREHENSIVE!$P2761=\"\"),\"\",COMPREHENSIVE!$P2638+COMPREHENSIVE!$P2761)","v":""},{"$f":"O642","v":""},null,null,{"$f":"IF(AND(COMPREHENSIVE!$P2649=\"\",COMPREHENSIVE!$P2772=\"\"),\"\",COMPREHENSIVE!$P2649+COMPREHENSIVE!$P2772)","v":""},{"$f":"S642","v":""},null,null,null,null,null,{"$f":"IF(OR(COUNTIF(COMPREHENSIVE!$O$41:$O$41,\"enabled\")>0,COUNTIF(COMPREHENSIVE!$P$41:$Q$41,\"enabled\")>0,COUNTIF(COMPREHENSIVE!$O$49:$O$49,\"enabled\")>0,COUNTIF(COMPREHENSIVE!$P$49:$Q$49,\"enabled\")>0),1,0)","v":0}]
[null,null,null,null,null,null,"Technicians",null,null,null,{"$f":"IF(AND(COMPREHENSIVE!$P2628=\"\",COMPREHENSIVE!$P2751=\"\"),\"\",COMPREHENSIVE!$P2628+COMPREHENSIVE!$P2751)","v":""},"",null,null,{"$f":"IF(AND(COMPREHENSIVE!$P2639=\"\",COMPREHENSIVE!$P2762=\"\"),\"\",COMPREHENSIVE!$P2639+COMPREHENSIVE!$P2762)","v":""},"",null,null,{"$f":"IF(AND(COMPREHENSIVE!$P2650=\"\",COMPREHENSIVE!$P2773=\"\"),\"\",COMPREHENSIVE!$P2650+COMPREHENSIVE!$P2773)","v":""},"",null,null,null,null,null,{"$f":"IF(OR(COUNTIF(COMPREHENSIVE!$O$41:$O$41,\"enabled\")>0,COUNTIF(COMPREHENSIVE!$P$41:$Q$41,\"enabled\")>0,COUNTIF(COMPREHENSIVE!$O$49:$O$49,\"enabled\")>0,COUNTIF(COMPREHENSIVE!$P$49:$Q$49,\"enabled\")>0),1,0)","v":0}]
[null,null,null,null,null,null,"Protective Service Workers",null,null,null,{"$f":"IF(AND(COMPREHENSIVE!$P2629=\"\",COMPREHENSIVE!$P2752=\"\"),\"\",COMPREHENSIVE!$P2629+COMPREHENSIVE!$P2752)","v":""},"",null,null,{"$f":"IF(AND(COMPREHENSIVE!$P2640=\"\",COMPREHENSIVE!$P2763=\"\"),\"\",COMPREHENSIVE!$P2640+COMPREHENSIVE!$P2763)","v":""},"",null,null,{"$f":"IF(AND(COMPREHENSIVE!$P2651=\"\",COMPREHENSIVE!$P2774=\"\"),\"\",COMPREHENSIVE!$P2651+COMPREHENSIVE!$P2774)","v":""},"",null,null,null,null,null,{"$f":"IF(OR(COUNTIF(COMPREHENSIVE!$O$41:$O$41,\"enabled\")>0,COUNTIF(COMPREHENSIVE!$P$41:$Q$41,\"enabled\")>0,COUNTIF(COMPREHENSIVE!$O$49:$O$49,\"enabled\")>0,COUNTIF(COMPREHENSIVE!$P$49:$Q$49,\"enabled\")>0),1,0)","v":0}]
[null,null,null,null,null,null,"Paraprofessionals",null,null,null,{"$f":"IF(AND(COMPREHENSIVE!$P2630=\"\",COMPREHENSIVE!$P2753=\"\"),\"\",COMPREHENSIVE!$P2630+COMPREHENSIVE!$P2753)","v":""},"",null,null,{"$f":"IF(AND(COMPREHENSIVE!$P2641=\"\",COMPREHENSIVE!$P2764=\"\"),\"\",COMPREHENSIVE!$P2641+COMPREHENSIVE!$P2764)","v":""},"",null,null,{"$f":"IF(AND(COMPREHENSIVE!$P2652=\"\",COMPREHENSIVE!$P2775=\"\"),\"\",COMPREHENSIVE!$P2652+COMPREHENSIVE!$P2775)","v":""},"",null,null,null,null,null,{"$f":"IF(OR(COUNTIF(COMPREHENSIVE!$O$41:$O$41,\"enabled\")>0,COUNTIF(COMPREHENSIVE!$P$41:$Q$41,\"enabled\")>0,COUNTIF(COMPREHENSIVE!$O$49:$O$49,\"enabled\")>0,COUNTIF(COMPREHENSIVE!$P$49:$Q$49,\"enabled\")>0),1,0)","v":0}]
[null,null,null,null,null,null,"Administrative Support",null,null,null,{"$f":"IF(AND(COMPREHENSIVE!$P2631=\"\",COMPREHENSIVE!$P2754=\"\"),\"\",COMPREHENSIVE!$P2631+COMPREHENSIVE!$P2754)","v":""},"",null,null,{"$f":"IF(AND(COMPREHENSIVE!$P2642=\"\",COMPREHENSIVE!$P2765=\"\"),\"\",COMPREHENSIVE!$P2642+COMPREHENSIVE!$P2765)","v":""},"",null,null,{"$f":"IF(AND(COMPREHENSIVE!$P2653=\"\",COMPREHENSIVE!$P2776=\"\"),\"\",COMPREHENSIVE!$P2653+COMPREHENSIVE!$P2776)","v":""},"",null,null,null,null,null,{"$f":"IF(OR(COUNTIF(COMPREHENSIVE!$O$41:$O$41,\"enabled\")>0,COUNTIF(COMPREHENSIVE!$P$41:$Q$41,\"enabled\")>0,COUNTIF(COMPREHENSIVE!$O$49:$O$49,\"enabled\")>0,COUNTIF(COMPREHENSIVE!$P$49:$Q$49,\"enabled\")>0),1,0)","v":0}]
[null,null,null,null,null,null,"Skilled Craft Workers",null,null,null,{"$f":"IF(AND(COMPREHENSIVE!$P2632=\"\",COMPREHENSIVE!$P2755=\"\"),\"\",COMPREHENSIVE!$P2632+COMPREHENSIVE!$P2755)","v":""},"",null,null,{"$f":"IF(AND(COMPREHENSIVE!$P2643=\"\",COMPREHENSIVE!$P2766=\"\"),\"\",COMPREHENSIVE!$P2643+COMPREHENSIVE!$P2766)","v":""},"",null,null,{"$f":"IF(AND(COMPREHENSIVE!$P2654=\"\",COMPREHENSIVE!$P2777=\"\"),\"\",COMPREHENSIVE!$P2654+COMPREHENSIVE!$P2777)","v":""},"",null,null,null,null,null,{"$f":"IF(OR(COUNTIF(COMPREHENSIVE!$O$41:$O$41,\"enabled\")>0,COUNTIF(COMPREHENSIVE!$P$41:$Q$41,\"enabled\")>0,COUNTIF(COMPREHENSIVE!$O$49:$O$49,\"enabled\")>0,COUNTIF(COMPREHENSIVE!$P$49:$Q$49,\"enabled\")>0),1,0)","v":0}]
[null,null,null,null,null,null,"Service/Maintenance",null,null,null,{"$f":"IF(AND(COMPREHENSIVE!$P2633=\"\",COMPREHENSIVE!$P2756=\"\"),\"\",COMPREHENSIVE!$P2633+COMPREHENSIVE!$P2756)","v":""},"",null,null,{"$f":"IF(AND(COMPREHENSIVE!$P2644=\"\",COMPREHENSIVE!$P2767=\"\"),\"\",COMPREHENSIVE!$P2644+COMPREHENSIVE!$P2767)","v":""},"",null,null,{"$f":"IF(AND(COMPREHENSIVE!$P2655=\"\",COMPREHENSIVE!$P2778=\"\"),\"\",COMPREHENSIVE!$P2655+COMPREHENSIVE!$P2778)","v":""},"",null,null,null,null,null,{"$f":"IF(OR(COUNTIF(COMPREHENSIVE!$O$41:$O$41,\"enabled\")>0,COUNTIF(COMPREHENSIVE!$P$41:$Q$41,\"enabled\")>0,COUNTIF(COMPREHENSIVE!$O$49:$O$49,\"enabled\")>0,COUNTIF(COMPREHENSIVE!$P$49:$Q$49,\"enabled\")>0),1,0)","v":0}]
[null,null,null,null,null,null,"Faculty",null,null,null,{"$f":"IF(AND(COMPREHENSIVE!$P2634=\"\",COMPREHENSIVE!$P2757=\"\"),\"\",COMPREHENSIVE!$P2634+COMPREHENSIVE!$P2757)","v":""},"",null,null,{"$f":"IF(AND(COMPREHENSIVE!$P2645=\"\",COMPREHENSIVE!$P2768=\"\"),\"\",COMPREHENSIVE!$P2645+COMPREHENSIVE!$P2768)","v":""},"",null,null,{"$f":"IF(AND(COMPREHENSIVE!$P2656=\"\",COMPREHENSIVE!$P2779=\"\"),\"\",COMPREHENSIVE!$P2656+COMPREHENSIVE!$P2779)","v":""},"",null,null,null,null,null,{"$f":"IF(OR(COUNTIF(COMPREHENSIVE!$O$41:$O$41,\"enabled\")>0,COUNTIF(COMPREHENSIVE!$P$41:$Q$41,\"enabled\")>0,COUNTIF(COMPREHENSIVE!$O$49:$O$49,\"enabled\")>0,COUNTIF(COMPREHENSIVE!$P$49:$Q$49,\"enabled\")>0),1,0)","v":0}]
[null,null,null,null,null,null,"Other",null,null,null,{"$f":"IF(AND(COMPREHENSIVE!$P2635=\"\",COMPREHENSIVE!$P2758=\"\"),\"\",COMPREHENSIVE!$P2635+COMPREHENSIVE!$P2758)","v":""},"",null,null,{"$f":"IF(AND(COMPREHENSIVE!$P2646=\"\",COMPREHENSIVE!$P2769=\"\"),\"\",COMPREHENSIVE!$P2646+COMPREHENSIVE!$P2769)","v":""},"",null,null,{"$f":"IF(AND(COMPREHENSIVE!$P2657=\"\",COMPREHENSIVE!$P2780=\"\"),\"\",COMPREHENSIVE!$P2657+COMPREHENSIVE!$P2780)","v":""},"",null,null,null,null,null,{"$f":"IF(OR(COUNTIF(COMPREHENSIVE!$O$41:$O$41,\"enabled\")>0,COUNTIF(COMPREHENSIVE!$P$41:$Q$41,\"enabled\")>0,COUNTIF(COMPREHENSIVE!$O$49:$O$49,\"enabled\")>0,COUNTIF(COMPREHENSIVE!$P$49:$Q$49,\"enabled\")>0),1,0)","v":0}]
[null,null,null,null,null,null,null,null,null,null,null,null,null,null,null,null,null,null,null,null,null,null,null,null,null,{"$f":"IF(OR(COUNTIF(COMPREHENSIVE!$O$41:$O$41,\"enabled\")>0,COUNTIF(COMPREHENSIVE!$P$41:$Q$41,\"enabled\")>0,COUNTIF(COMPREHENSIVE!$O$49:$O$49,\"enabled\")>0,COUNTIF(COMPREHENSIVE!$P$49:$Q$49,\"enabled\")>0),1,0)","v":0}]
[null,null,null,null,null,null,{"$f":"PROFILE!$C$58","v":0},null,null,null,{"$f":"IF(AND(COMPREHENSIVE!$P2662=\"\",COMPREHENSIVE!$P2785=\"\"),\"\",COMPREHENSIVE!$P2662+COMPREHENSIVE!$P2785)","v":""},{"$f":"K652","v":""},null,null,{"$f":"IF(AND(COMPREHENSIVE!$P2678=\"\",COMPREHENSIVE!$P2801=\"\"),\"\",COMPREHENSIVE!$P2678+COMPREHENSIVE!$P2801)","v":""},{"$f":"O652","v":""},null,null,{"$f":"IF(AND(COMPREHENSIVE!$P2694=\"\",COMPREHENSIVE!$P2817=\"\"),\"\",COMPREHENSIVE!$P2694+COMPREHENSIVE!$P2817)","v":""},{"$f":"S652","v":""},null,null,null,null,{"$f":"COUNTIF(G652,\"*\"&PROFILE!$C$58&\"*\")","v":0},{"$f":"IF(AND(OR(COUNTIF(COMPREHENSIVE!$O$42:$O$42,\"enabled\")>0,COUNTIF(COMPREHENSIVE!$P$42:$Q$42,\"enabled\")>0,COUNTIF(COMPREHENSIVE!$O$50:$O$50,\"enabled\")>0,COUNTIF(COMPREHENSIVE!$P$50:$Q$50,\"enabled\")>0),Y652=1),1,0)","v":0}]
[null,null,null,null,null,null,{"$f":"PROFILE!$C$59","v":0},null,null,null,{"$f":"IF(AND(COMPREHENSIVE!$P2663=\"\",COMPREHENSIVE!$P2786=\"\"),\"\",COMPREHENSIVE!$P2663+COMPREHENSIVE!$P2786)","v":""},{"$f":"K653","v":""},null,null,{"$f":"IF(AND(COMPREHENSIVE!$P2679=\"\",COMPREHENSIVE!$P2802=\"\"),\"\",COMPREHENSIVE!$P2679+COMPREHENSIVE!$P2802)","v":""},{"$f":"O653","v":""},null,null,{"$f":"IF(AND(COMPREHENSIVE!$P2695=\"\",COMPREHENSIVE!$P2818=\"\"),\"\",COMPREHENSIVE!$P2695+COMPREHENSIVE!$P2818)","v":""},{"$f":"S653","v":""},null,null,null,null,{"$f":"COUNTIF(G653,\"*\"&PROFILE!$C$59&\"*\")","v":0},{"$f":"IF(AND(OR(COUNTIF(COMPREHENSIVE!$O$42:$O$42,\"enabled\")>0,COUNTIF(COMPREHENSIVE!$P$42:$Q$42,\"enabled\")>0,COUNTIF(COMPREHENSIVE!$O$50:$O$50,\"enabled\")>0,COUNTIF(COMPREHENSIVE!$P$50:$Q$50,\"enabled\")>0),Y653=1),1,0)","v":0}]
[null,null,null,null,null,null,{"$f":"PROFILE!$C$60","v":0},null,null,null,{"$f":"IF(AND(COMPREHENSIVE!$P2664=\"\",COMPREHENSIVE!$P2787=\"\"),\"\",COMPREHENSIVE!$P2664+COMPREHENSIVE!$P2787)","v":""},"",null,null,{"$f":"IF(AND(COMPREHENSIVE!$P2680=\"\",COMPREHENSIVE!$P2803=\"\"),\"\",COMPREHENSIVE!$P2680+COMPREHENSIVE!$P2803)","v":""},"",null,null,{"$f":"IF(AND(COMPREHENSIVE!$P2696=\"\",COMPREHENSIVE!$P2819=\"\"),\"\",COMPREHENSIVE!$P2696+COMPREHENSIVE!$P2819)","v":""},"",null,null,null,null,{"$f":"COUNTIF(G654,\"*\"&PROFILE!$C$60&\"*\")","v":0},{"$f":"IF(AND(OR(COUNTIF(COMPREHENSIVE!$O$42:$O$42,\"enabled\")>0,COUNTIF(COMPREHENSIVE!$P$42:$Q$42,\"enabled\")>0,COUNTIF(COMPREHENSIVE!$O$50:$O$50,\"enabled\")>0,COUNTIF(COMPREHENSIVE!$P$50:$Q$50,\"enabled\")>0),Y654=1),1,0)","v":0}]
[null,null,null,null,null,null,{"$f":"PROFILE!$C$61","v":0},null,null,null,{"$f":"IF(AND(COMPREHENSIVE!$P2665=\"\",COMPREHENSIVE!$P2788=\"\"),\"\",COMPREHENSIVE!$P2665+COMPREHENSIVE!$P2788)","v":""},"",null,null,{"$f":"IF(AND(COMPREHENSIVE!$P2681=\"\",COMPREHENSIVE!$P2804=\"\"),\"\",COMPREHENSIVE!$P2681+COMPREHENSIVE!$P2804)","v":""},"",null,null,{"$f":"IF(AND(COMPREHENSIVE!$P2697=\"\",COMPREHENSIVE!$P2820=\"\"),\"\",COMPREHENSIVE!$P2697+COMPREHENSIVE!$P2820)","v":""},"",null,null,null,null,{"$f":"COUNTIF(G655,\"*\"&PROFILE!$C$61&\"*\")","v":0},{"$f":"IF(AND(OR(COUNTIF(COMPREHENSIVE!$O$42:$O$42,\"enabled\")>0,COUNTIF(COMPREHENSIVE!$P$42:$Q$42,\"enabled\")>0,COUNTIF(COMPREHENSIVE!$O$50:$O$50,\"enabled\")>0,COUNTIF(COMPREHENSIVE!$P$50:$Q$50,\"enabled\")>0),Y655=1),1,0)","v":0}]
[null,null,null,null,null,null,{"$f":"PROFILE!$C$62","v":0},null,null,null,{"$f":"IF(AND(COMPREHENSIVE!$P2666=\"\",COMPREHENSIVE!$P2789=\"\"),\"\",COMPREHENSIVE!$P2666+COMPREHENSIVE!$P2789)","v":""},"",null,null,{"$f":"IF(AND(COMPREHENSIVE!$P2682=\"\",COMPREHENSIVE!$P2805=\"\"),\"\",COMPREHENSIVE!$P2682+COMPREHENSIVE!$P2805)","v":""},"",null,null,{"$f":"IF(AND(COMPREHENSIVE!$P2698=\"\",COMPREHENSIVE!$P2821=\"\"),\"\",COMPREHENSIVE!$P2698+COMPREHENSIVE!$P2821)","v":""},"",null,null,null,null,{"$f":"COUNTIF(G656,\"*\"&PROFILE!$C$62&\"*\")","v":0},{"$f":"IF(AND(OR(COUNTIF(COMPREHENSIVE!$O$42:$O$42,\"enabled\")>0,COUNTIF(COMPREHENSIVE!$P$42:$Q$42,\"enabled\")>0,COUNTIF(COMPREHENSIVE!$O$50:$O$50,\"enabled\")>0,COUNTIF(COMPREHENSIVE!$P$50:$Q$50,\"enabled\")>0),Y656=1),1,0)","v":0}]
[null,null,null,null,null,null,{"$f":"PROFILE!$C$63","v":0},null,null,null,{"$f":"IF(AND(COMPREHENSIVE!$P2667=\"\",COMPREHENSIVE!$P2790=\"\"),\"\",COMPREHENSIVE!$P2667+COMPREHENSIVE!$P2790)","v":""},"",null,null,{"$f":"IF(AND(COMPREHENSIVE!$P2683=\"\",COMPREHENSIVE!$P2806=\"\"),\"\",COMPREHENSIVE!$P2683+COMPREHENSIVE!$P2806)","v":""},"",null,null,{"$f":"IF(AND(COMPREHENSIVE!$P2699=\"\",COMPREHENSIVE!$P2822=\"\"),\"\",COMPREHENSIVE!$P2699+COMPREHENSIVE!$P2822)","v":""},"",null,null,null,null,{"$f":"COUNTIF(G657,\"*\"&PROFILE!$C$63&\"*\")","v":0},{"$f":"IF(AND(OR(COUNTIF(COMPREHENSIVE!$O$42:$O$42,\"enabled\")>0,COUNTIF(COMPREHENSIVE!$P$42:$Q$42,\"enabled\")>0,COUNTIF(COMPREHENSIVE!$O$50:$O$50,\"enabled\")>0,COUNTIF(COMPREHENSIVE!$P$50:$Q$50,\"enabled\")>0),Y657=1),1,0)","v":0}]
[null,null,null,null,null,null,{"$f":"PROFILE!$C$64","v":0},null,null,null,{"$f":"IF(AND(COMPREHENSIVE!$P2668=\"\",COMPREHENSIVE!$P2791=\"\"),\"\",COMPREHENSIVE!$P2668+COMPREHENSIVE!$P2791)","v":""},"",null,null,{"$f":"IF(AND(COMPREHENSIVE!$P2684=\"\",COMPREHENSIVE!$P2807=\"\"),\"\",COMPREHENSIVE!$P2684+COMPREHENSIVE!$P2807)","v":""},"",null,null,{"$f":"IF(AND(COMPREHENSIVE!$P2700=\"\",COMPREHENSIVE!$P2823=\"\"),\"\",COMPREHENSIVE!$P2700+COMPREHENSIVE!$P2823)","v":""},"",null,null,null,null,{"$f":"COUNTIF(G658,\"*\"&PROFILE!$C$64&\"*\")","v":0},{"$f":"IF(AND(OR(COUNTIF(COMPREHENSIVE!$O$42:$O$42,\"enabled\")>0,COUNTIF(COMPREHENSIVE!$P$42:$Q$42,\"enabled\")>0,COUNTIF(COMPREHENSIVE!$O$50:$O$50,\"enabled\")>0,COUNTIF(COMPREHENSIVE!$P$50:$Q$50,\"enabled\")>0),Y658=1),1,0)","v":0}]
[null,null,null,null,null,null,{"$f":"PROFILE!$C$65","v":0},null,null,null,{"$f":"IF(AND(COMPREHENSIVE!$P2669=\"\",COMPREHENSIVE!$P2792=\"\"),\"\",COMPREHENSIVE!$P2669+COMPREHENSIVE!$P2792)","v":""},"",null,null,{"$f":"IF(AND(COMPREHENSIVE!$P2685=\"\",COMPREHENSIVE!$P2808=\"\"),\"\",COMPREHENSIVE!$P2685+COMPREHENSIVE!$P2808)","v":""},"",null,null,{"$f":"IF(AND(COMPREHENSIVE!$P2701=\"\",COMPREHENSIVE!$P2824=\"\"),\"\",COMPREHENSIVE!$P2701+COMPREHENSIVE!$P2824)","v":""},"",null,null,null,null,{"$f":"COUNTIF(G659,\"*\"&PROFILE!$C$65&\"*\")","v":0},{"$f":"IF(AND(OR(COUNTIF(COMPREHENSIVE!$O$42:$O$42,\"enabled\")>0,COUNTIF(COMPREHENSIVE!$P$42:$Q$42,\"enabled\")>0,COUNTIF(COMPREHENSIVE!$O$50:$O$50,\"enabled\")>0,COUNTIF(COMPREHENSIVE!$P$50:$Q$50,\"enabled\")>0),Y659=1),1,0)","v":0}]
[null,null,null,null,null,null,{"$f":"PROFILE!$C$66","v":0},null,null,null,{"$f":"IF(AND(COMPREHENSIVE!$P2670=\"\",COMPREHENSIVE!$P2793=\"\"),\"\",COMPREHENSIVE!$P2670+COMPREHENSIVE!$P2793)","v":""},"",null,null,{"$f":"IF(AND(COMPREHENSIVE!$P2686=\"\",COMPREHENSIVE!$P2809=\"\"),\"\",COMPREHENSIVE!$P2686+COMPREHENSIVE!$P2809)","v":""},"",null,null,{"$f":"IF(AND(COMPREHENSIVE!$P2702=\"\",COMPREHENSIVE!$P2825=\"\"),\"\",COMPREHENSIVE!$P2702+COMPREHENSIVE!$P2825)","v":""},"",null,null,null,null,{"$f":"COUNTIF(G660,\"*\"&PROFILE!$C$66&\"*\")","v":0},{"$f":"IF(AND(OR(COUNTIF(COMPREHENSIVE!$O$42:$O$42,\"enabled\")>0,COUNTIF(COMPREHENSIVE!$P$42:$Q$42,\"enabled\")>0,COUNTIF(COMPREHENSIVE!$O$50:$O$50,\"enabled\")>0,COUNTIF(COMPREHENSIVE!$P$50:$Q$50,\"enabled\")>0),Y660=1),1,0)","v":0}]
[null,null,null,null,null,null,{"$f":"PROFILE!$C$67","v":0},null,null,null,{"$f":"IF(AND(COMPREHENSIVE!$P2671=\"\",COMPREHENSIVE!$P2794=\"\"),\"\",COMPREHENSIVE!$P2671+COMPREHENSIVE!$P2794)","v":""},"",null,null,{"$f":"IF(AND(COMPREHENSIVE!$P2687=\"\",COMPREHENSIVE!$P2810=\"\"),\"\",COMPREHENSIVE!$P2687+COMPREHENSIVE!$P2810)","v":""},"",null,null,{"$f":"IF(AND(COMPREHENSIVE!$P2703=\"\",COMPREHENSIVE!$P2826=\"\"),\"\",COMPREHENSIVE!$P2703+COMPREHENSIVE!$P2826)","v":""},"",null,null,null,null,{"$f":"COUNTIF(G661,\"*\"&PROFILE!$C$67&\"*\")","v":0},{"$f":"IF(AND(OR(COUNTIF(COMPREHENSIVE!$O$42:$O$42,\"enabled\")>0,COUNTIF(COMPREHENSIVE!$P$42:$Q$42,\"enabled\")>0,COUNTIF(COMPREHENSIVE!$O$50:$O$50,\"enabled\")>0,COUNTIF(COMPREHENSIVE!$P$50:$Q$50,\"enabled\")>0),Y661=1),1,0)","v":0}]
[null,null,null,null,null,null,{"$f":"PROFILE!$C$68","v":0},null,null,null,{"$f":"IF(AND(COMPREHENSIVE!$P2672=\"\",COMPREHENSIVE!$P2795=\"\"),\"\",COMPREHENSIVE!$P2672+COMPREHENSIVE!$P2795)","v":""},"",null,null,{"$f":"IF(AND(COMPREHENSIVE!$P2688=\"\",COMPREHENSIVE!$P2811=\"\"),\"\",COMPREHENSIVE!$P2688+COMPREHENSIVE!$P2811)","v":""},"",null,null,{"$f":"IF(AND(COMPREHENSIVE!$P2704=\"\",COMPREHENSIVE!$P2827=\"\"),\"\",COMPREHENSIVE!$P2704+COMPREHENSIVE!$P2827)","v":""},"",null,null,null,null,{"$f":"COUNTIF(G662,\"*\"&PROFILE!$C$68&\"*\")","v":0},{"$f":"IF(AND(OR(COUNTIF(COMPREHENSIVE!$O$42:$O$42,\"enabled\")>0,COUNTIF(COMPREHENSIVE!$P$42:$Q$42,\"enabled\")>0,COUNTIF(COMPREHENSIVE!$O$50:$O$50,\"enabled\")>0,COUNTIF(COMPREHENSIVE!$P$50:$Q$50,\"enabled\")>0),Y662=1),1,0)","v":0}]
[null,null,null,null,null,null,{"$f":"PROFILE!$C$69","v":0},null,null,null,{"$f":"IF(AND(COMPREHENSIVE!$P2673=\"\",COMPREHENSIVE!$P2796=\"\"),\"\",COMPREHENSIVE!$P2673+COMPREHENSIVE!$P2796)","v":""},"",null,null,{"$f":"IF(AND(COMPREHENSIVE!$P2689=\"\",COMPREHENSIVE!$P2812=\"\"),\"\",COMPREHENSIVE!$P2689+COMPREHENSIVE!$P2812)","v":""},"",null,null,{"$f":"IF(AND(COMPREHENSIVE!$P2705=\"\",COMPREHENSIVE!$P2828=\"\"),\"\",COMPREHENSIVE!$P2705+COMPREHENSIVE!$P2828)","v":""},"",null,null,null,null,{"$f":"COUNTIF(G663,\"*\"&PROFILE!$C$69&\"*\")","v":0},{"$f":"IF(AND(OR(COUNTIF(COMPREHENSIVE!$O$42:$O$42,\"enabled\")>0,COUNTIF(COMPREHENSIVE!$P$42:$Q$42,\"enabled\")>0,COUNTIF(COMPREHENSIVE!$O$50:$O$50,\"enabled\")>0,COUNTIF(COMPREHENSIVE!$P$50:$Q$50,\"enabled\")>0),Y663=1),1,0)","v":0}]
[null,null,null,null,null,null,{"$f":"PROFILE!$C$70","v":0},null,null,null,{"$f":"IF(AND(COMPREHENSIVE!$P2674=\"\",COMPREHENSIVE!$P2797=\"\"),\"\",COMPREHENSIVE!$P2674+COMPREHENSIVE!$P2797)","v":""},"",null,null,{"$f":"IF(AND(COMPREHENSIVE!$P2690=\"\",COMPREHENSIVE!$P2813=\"\"),\"\",COMPREHENSIVE!$P2690+COMPREHENSIVE!$P2813)","v":""},"",null,null,{"$f":"IF(AND(COMPREHENSIVE!$P2706=\"\",COMPREHENSIVE!$P2829=\"\"),\"\",COMPREHENSIVE!$P2706+COMPREHENSIVE!$P2829)","v":""},"",null,null,null,null,{"$f":"COUNTIF(G664,\"*\"&PROFILE!$C$70&\"*\")","v":0},{"$f":"IF(AND(OR(COUNTIF(COMPREHENSIVE!$O$42:$O$42,\"enabled\")>0,COUNTIF(COMPREHENSIVE!$P$42:$Q$42,\"enabled\")>0,COUNTIF(COMPREHENSIVE!$O$50:$O$50,\"enabled\")>0,COUNTIF(COMPREHENSIVE!$P$50:$Q$50,\"enabled\")>0),Y664=1),1,0)","v":0}]
[null,null,null,null,null,null,{"$f":"PROFILE!$C$71","v":0},null,null,null,{"$f":"IF(AND(COMPREHENSIVE!$P2675=\"\",COMPREHENSIVE!$P2798=\"\"),\"\",COMPREHENSIVE!$P2675+COMPREHENSIVE!$P2798)","v":""},"",null,null,{"$f":"IF(AND(COMPREHENSIVE!$P2691=\"\",COMPREHENSIVE!$P2814=\"\"),\"\",COMPREHENSIVE!$P2691+COMPREHENSIVE!$P2814)","v":""},"",null,null,{"$f":"IF(AND(COMPREHENSIVE!$P2707=\"\",COMPREHENSIVE!$P2830=\"\"),\"\",COMPREHENSIVE!$P2707+COMPREHENSIVE!$P2830)","v":""},"",null,null,null,null,{"$f":"COUNTIF(G665,\"*\"&PROFILE!$C$71&\"*\")","v":0},{"$f":"IF(AND(OR(COUNTIF(COMPREHENSIVE!$O$42:$O$42,\"enabled\")>0,COUNTIF(COMPREHENSIVE!$P$42:$Q$42,\"enabled\")>0,COUNTIF(COMPREHENSIVE!$O$50:$O$50,\"enabled\")>0,COUNTIF(COMPREHENSIVE!$P$50:$Q$50,\"enabled\")>0),Y665=1),1,0)","v":0}]
[null,null,null,null,null,null,{"$f":"PROFILE!$C$72","v":0},null,null,null,{"$f":"IF(AND(COMPREHENSIVE!$P2676=\"\",COMPREHENSIVE!$P2799=\"\"),\"\",COMPREHENSIVE!$P2676+COMPREHENSIVE!$P2799)","v":""},"",null,null,{"$f":"IF(AND(COMPREHENSIVE!$P2692=\"\",COMPREHENSIVE!$P2815=\"\"),\"\",COMPREHENSIVE!$P2692+COMPREHENSIVE!$P2815)","v":""},"",null,null,{"$f":"IF(AND(COMPREHENSIVE!$P2708=\"\",COMPREHENSIVE!$P2831=\"\"),\"\",COMPREHENSIVE!$P2708+COMPREHENSIVE!$P2831)","v":""},"",null,null,null,null,{"$f":"COUNTIF(G666,\"*\"&PROFILE!$C$72&\"*\")","v":0},{"$f":"IF(AND(OR(COUNTIF(COMPREHENSIVE!$O$42:$O$42,\"enabled\")>0,COUNTIF(COMPREHENSIVE!$P$42:$Q$42,\"enabled\")>0,COUNTIF(COMPREHENSIVE!$O$50:$O$50,\"enabled\")>0,COUNTIF(COMPREHENSIVE!$P$50:$Q$50,\"enabled\")>0),Y666=1),1,0)","v":0}]
[null,null,null,null,null,null,null,null,null,null,null,null,null,null,null,null,null,null,null,null,null,null,null,null,null,{"$f":"IF(OR(COUNTIF(COMPREHENSIVE!$O$42:$O$42,\"enabled\")>0,COUNTIF(COMPREHENSIVE!$P$42:$Q$42,\"enabled\")>0,COUNTIF(COMPREHENSIVE!$O$50:$O$50,\"enabled\")>0,COUNTIF(COMPREHENSIVE!$P$50:$Q$50,\"enabled\")>0),1,0)","v":0}]
[null,null,null,null,null,null,"Organizational Exits within First Year (External Transfers and Voluntary Separations)",null,null,null,null,null,null,null,null,null,null,null,null,null,null,null,null,null,null,{"$f":"IF(OR(COUNTIF('IN-DEPTH'!$K$37:$L$38,\"enabled\")>0,COUNTIF(COMPREHENSIVE!$O$57:$O$61,\"enabled\")>0,COUNTIF(COMPREHENSIVE!$P$57:$Q$61,\"enabled\")>0,COUNTIF(COMPREHENSIVE!$O$65:$O$69,\"enabled\")>0,COUNTIF(COMPREHENSIVE!$P$65:$Q$69,\"enabled\")>0),1,0)","v":0}]
[null,null,null,null,null,null,null,null,null,null,null,null,null,null,null,null,null,null,null,null,null,null,null,null,null,{"$f":"IF(OR(COUNTIF('IN-DEPTH'!$K$37:$L$38,\"enabled\")>0,COUNTIF(COMPREHENSIVE!$O$57:$O$61,\"enabled\")>0,COUNTIF(COMPREHENSIVE!$P$57:$Q$61,\"enabled\")>0,COUNTIF(COMPREHENSIVE!$O$65:$O$69,\"enabled\")>0,COUNTIF(COMPREHENSIVE!$P$65:$Q$69,\"enabled\")>0),1,0)","v":0}]
[null,null,null,null,null,null,null,null,null,null,null,null,null,null,null,null,null,null,null,null,null,null,null,null,null,{"$f":"IF(OR(COUNTIF('IN-DEPTH'!$K$37:$L$38,\"enabled\")>0,COUNTIF(COMPREHENSIVE!$O$57:$O$61,\"enabled\")>0,COUNTIF(COMPREHENSIVE!$P$57:$Q$61,\"enabled\")>0,COUNTIF(COMPREHENSIVE!$O$65:$O$69,\"enabled\")>0,COUNTIF(COMPREHENSIVE!$P$65:$Q$69,\"enabled\")>0),1,0)","v":0}]
[null,null,null,null,null,null,null,null,null,null,"All Employees",null,null,null,"Leaders",null,null,null,"Executives",null,null,null,null,null,null,{"$f":"IF(OR(COUNTIF('IN-DEPTH'!$K$37:$L$38,\"enabled\")>0,COUNTIF(COMPREHENSIVE!$O$57:$O$61,\"enabled\")>0,COUNTIF(COMPREHENSIVE!$P$57:$Q$61,\"enabled\")>0,COUNTIF(COMPREHENSIVE!$O$65:$O$69,\"enabled\")>0,COUNTIF(COMPREHENSIVE!$P$65:$Q$69,\"enabled\")>0),1,0)","v":0}]
[null,null,null,null,null,null,null,null,null,null,null,null,null,null,null,null,null,null,null,null,null,null,null,null,null,{"$f":"IF(OR(COUNTIF('IN-DEPTH'!$K$37:$L$38,\"enabled\")>0,COUNTIF(COMPREHENSIVE!$O$57:$O$61,\"enabled\")>0,COUNTIF(COMPREHENSIVE!$P$57:$Q$61,\"enabled\")>0,COUNTIF(COMPREHENSIVE!$O$65:$O$69,\"enabled\")>0,COUNTIF(COMPREHENSIVE!$P$65:$Q$69,\"enabled\")>0),1,0)","v":0}]
[null,null,null,null,null,null,null,null,null,null,{"$f":"IFERROR((FOUNDATIONAL!P381+FOUNDATIONAL!P382)/FOUNDATIONAL!P293,0)","v":0},null,null,null,{"$f":"IFERROR(('IN-DEPTH'!P418+'IN-DEPTH'!P419)/'IN-DEPTH'!P328,0)","v":0},null,null,null,{"$f":"IFERROR(('IN-DEPTH'!P424+'IN-DEPTH'!P425)/FOUNDATIONAL!P302,0)","v":0},null,null,null,null,null,null,{"$f":"IF(OR(COUNTIF('IN-DEPTH'!$K$37:$L$38,\"enabled\")>0),1,0)","v":0}]
[null,null,null,null,null,null,null,null,null,null,null,null,null,null,null,null,null,null,null,null,null,null,null,null,null,{"$f":"IF(OR(COUNTIF('IN-DEPTH'!$K$37:$L$38,\"enabled\")>0),1,0)","v":0}]
[null,null,"All","Leaders","Exec.",null,null,null,null,null,"Overall Separation Rate",null,null,null,"Leader Separation Rate",null,null,null,"Executive Separation Rate",null,null,null,null,null,null,{"$f":"IF(OR(COUNTIF('IN-DEPTH'!$K$37:$L$38,\"enabled\")>0),1,0)","v":0}]
[null,null,null,null,null,null,null,null,null,null,null,null,null,null,null,null,null,null,null,null,null,null,null,null,null,{"$f":"IF(OR(COUNTIF('IN-DEPTH'!$K$37:$L$38,\"enabled\")>0),1,0)","v":0}]
[null,null,null,null,null,null,null,null,"Males",null,{"$f":"IF(AND(COMPREHENSIVE!$P2959=\"\",COMPREHENSIVE!$P3082=\"\"),\"\",COMPREHENSIVE!$P2959+COMPREHENSIVE!$P3082)","v":""},{"$f":"K677","v":""},null,null,{"$f":"IF(AND(COMPREHENSIVE!$P2962=\"\",COMPREHENSIVE!$P3085=\"\"),\"\",COMPREHENSIVE!$P2962+COMPREHENSIVE!$P3085)","v":""},{"$f":"O677","v":""},null,null,{"$f":"IF(AND(COMPREHENSIVE!$P2938=\"\",COMPREHENSIVE!$P3088=\"\"),\"\",COMPREHENSIVE!$P2965+COMPREHENSIVE!$P3088)","v":""},{"$f":"S677","v":""},null,null,null,null,null,{"$f":"IF(OR(COUNTIF(COMPREHENSIVE!$O$59:$O$59,\"enabled\")>0,COUNTIF(COMPREHENSIVE!$P$59:$Q$59,\"enabled\")>0,COUNTIF(COMPREHENSIVE!$O$67:$O$67,\"enabled\")>0,COUNTIF(COMPREHENSIVE!$P$67:$Q$67,\"enabled\")>0),1,0)","v":0}]
[null,null,null,null,null,null,null,null,"Females",null,{"$f":"IF(AND(COMPREHENSIVE!$P2960=\"\",COMPREHENSIVE!$P3083=\"\"),\"\",COMPREHENSIVE!$P2960+COMPREHENSIVE!$P3083)","v":""},{"$f":"K678","v":""},null,null,{"$f":"IF(AND(COMPREHENSIVE!$P2963=\"\",COMPREHENSIVE!$P3086=\"\"),\"\",COMPREHENSIVE!$P2963+COMPREHENSIVE!$P3086)","v":""},{"$f":"O678","v":""},null,null,{"$f":"IF(AND(COMPREHENSIVE!$P2939=\"\",COMPREHENSIVE!$P3089=\"\"),\"\",COMPREHENSIVE!$P2966+COMPREHENSIVE!$P3089)","v":""},{"$f":"S678","v":""},null,null,null,null,null,{"$f":"IF(OR(COUNTIF(COMPREHENSIVE!$O$59:$O$59,\"enabled\")>0,COUNTIF(COMPREHENSIVE!$P$59:$Q$59,\"enabled\")>0,COUNTIF(COMPREHENSIVE!$O$67:$O$67,\"enabled\")>0,COUNTIF(COMPREHENSIVE!$P$67:$Q$67,\"enabled\")>0),1,0)","v":0}]
[null,null,null,null,null,null,null,null,null,null,null,null,null,null,null,null,null,null,null,null,null,null,null,null,null,{"$f":"IF(OR(COUNTIF(COMPREHENSIVE!$O$59:$O$59,\"enabled\")>0,COUNTIF(COMPREHENSIVE!$P$59:$Q$59,\"enabled\")>0,COUNTIF(COMPREHENSIVE!$O$67:$O$67,\"enabled\")>0,COUNTIF(COMPREHENSIVE!$P$67:$Q$67,\"enabled\")>0),1,0)","v":0}]
[null,null,null,null,null,null,null,null,"Minority",null,{"$f":"IF(AND(COMPREHENSIVE!$P2971=\"\",COMPREHENSIVE!$P3094=\"\"),\"\",COMPREHENSIVE!$P2971+COMPREHENSIVE!$P3094)","v":""},{"$f":"K680","v":""},null,null,{"$f":"IF(AND(COMPREHENSIVE!$P2984=\"\",COMPREHENSIVE!$P3097=\"\"),\"\",COMPREHENSIVE!$P2974+COMPREHENSIVE!$P3097)","v":""},{"$f":"O680","v":""},null,null,{"$f":"IF(AND(COMPREHENSIVE!$P2977=\"\",COMPREHENSIVE!$P3100=\"\"),\"\",COMPREHENSIVE!$P2977+COMPREHENSIVE!$P3100)","v":""},{"$f":"S680","v":""},null,null,null,null,null,{"$f":"IF(OR(COUNTIF(COMPREHENSIVE!$O$58:$O$58,\"enabled\")>0,COUNTIF(COMPREHENSIVE!$P$58:$Q$58,\"enabled\")>0,COUNTIF(COMPREHENSIVE!$O$68:$O$68,\"enabled\")>0,COUNTIF(COMPREHENSIVE!$P$68:$Q$68,\"enabled\")>0),1,0)","v":0}]
[null,null,null,null,null,null,null,null,"Non-Minority",null,{"$f":"IF(AND(COMPREHENSIVE!$P2972=\"\",COMPREHENSIVE!$P3095=\"\"),\"\",COMPREHENSIVE!$P2972+COMPREHENSIVE!$P3095)","v":""},{"$f":"K681","v":""},null,null,{"$f":"IF(AND(COMPREHENSIVE!$P2985=\"\",COMPREHENSIVE!$P3098=\"\"),\"\",COMPREHENSIVE!$P2975+COMPREHENSIVE!$P3098)","v":""},{"$f":"O681","v":""},null,null,{"$f":"IF(AND(COMPREHENSIVE!$P2978=\"\",COMPREHENSIVE!$P3101=\"\"),\"\",COMPREHENSIVE!$P2978+COMPREHENSIVE!$P3101)","v":""},{"$f":"S681","v":""},null,null,null,null,null,{"$f":"IF(OR(COUNTIF(COMPREHENSIVE!$O$58:$O$58,\"enabled\")>0,COUNTIF(COMPREHENSIVE!$P$58:$Q$58,\"enabled\")>0,COUNTIF(COMPREHENSIVE!$O$68:$O$68,\"enabled\")>0,COUNTIF(COMPREHENSIVE!$P$68:$Q$68,\"enabled\")>0),1,0)","v":0}]
[null,null,null,null,null,null,null,null,null,null,null,null,null,null,null,null,null,null,null,null,null,null,null,null,null,{"$f":"IF(OR(COUNTIF(COMPREHENSIVE!$O$58:$O$58,\"enabled\")>0,COUNTIF(COMPREHENSIVE!$P$58:$Q$58,\"enabled\")>0,COUNTIF(COMPREHENSIVE!$O$68:$O$68,\"enabled\")>0,COUNTIF(COMPREHENSIVE!$P$68:$Q$68,\"enabled\")>0),1,0)","v":0}]
[null,null,null,null,null,null,null,null," Individuals with Disabilities",null,{"$f":"IF(AND(COMPREHENSIVE!$P2983=\"\",COMPREHENSIVE!$P3106=\"\"),\"\",COMPREHENSIVE!$P2983+COMPREHENSIVE!$P3106)","v":""},{"$f":"K683","v":""},null,null,{"$f":"IF(AND(COMPREHENSIVE!$P2986=\"\",COMPREHENSIVE!$P3109=\"\"),\"\",COMPREHENSIVE!$P2986+COMPREHENSIVE!$P3109)","v":""},{"$f":"O683","v":""},null,null,{"$f":"IF(AND(COMPREHENSIVE!$P2989=\"\",COMPREHENSIVE!$P3112=\"\"),\"\",COMPREHENSIVE!$P2989+COMPREHENSIVE!$P3112)","v":""},{"$f":"S683","v":""},null,null,null,null,null,{"$f":"IF(OR(COUNTIF(COMPREHENSIVE!$O$61:$O$61,\"enabled\")>0,COUNTIF(COMPREHENSIVE!$P$61:$Q$61,\"enabled\")>0,COUNTIF(COMPREHENSIVE!$O$69:$O$69,\"enabled\")>0,COUNTIF(COMPREHENSIVE!$P$69:$Q$69,\"enabled\")>0),1,0)","v":0}]
[null,null,null,null,null,null,null,null,"Veterans",null,{"$f":"IF(AND(COMPREHENSIVE!$P2984=\"\",COMPREHENSIVE!$P3107=\"\"),\"\",COMPREHENSIVE!$P2984+COMPREHENSIVE!$P3107)","v":""},{"$f":"K684","v":""},null,null,{"$f":"IF(AND(COMPREHENSIVE!$P2987=\"\",COMPREHENSIVE!$P3110=\"\"),\"\",COMPREHENSIVE!$P2987+COMPREHENSIVE!$P3110)","v":""},{"$f":"O684","v":""},null,null,{"$f":"IF(AND(COMPREHENSIVE!$P2990=\"\",COMPREHENSIVE!$P3113=\"\"),\"\",COMPREHENSIVE!$P2990+COMPREHENSIVE!$P3113)","v":""},{"$f":"S684","v":""},null,null,null,null,null,{"$f":"IF(OR(COUNTIF(COMPREHENSIVE!$O$61:$O$61,\"enabled\")>0,COUNTIF(COMPREHENSIVE!$P$61:$Q$61,\"enabled\")>0,COUNTIF(COMPREHENSIVE!$O$69:$O$69,\"enabled\")>0,COUNTIF(COMPREHENSIVE!$P$69:$Q$69,\"enabled\")>0),1,0)","v":0}]
[null,null,null,null,null,null,null,null,null,null,null,null,null,null,null,null,null,null,null,null,null,null,null,null,null,{"$f":"IF(OR(COUNTIF(COMPREHENSIVE!$O$61:$O$61,\"enabled\")>0,COUNTIF(COMPREHENSIVE!$P$61:$Q$61,\"enabled\")>0,COUNTIF(COMPREHENSIVE!$O$69:$O$69,\"enabled\")>0,COUNTIF(COMPREHENSIVE!$P$69:$Q$69,\"enabled\")>0),1,0)","v":0}]
[null,null,null,null,null,null,"Officials and Administrators",null,null,null,{"$f":"IF(AND(COMPREHENSIVE!$P2872=\"\",COMPREHENSIVE!$P2995=\"\"),\"\",COMPREHENSIVE!$P2872+COMPREHENSIVE!$P2995)","v":""},{"$f":"K686","v":""},null,null,{"$f":"IF(AND(COMPREHENSIVE!$P2883=\"\",COMPREHENSIVE!$P3006=\"\"),\"\",COMPREHENSIVE!$P2883+COMPREHENSIVE!$P3006)","v":""},{"$f":"O686","v":""},null,null,{"$f":"IF(AND(COMPREHENSIVE!$P2894=\"\",COMPREHENSIVE!$P3017=\"\"),\"\",COMPREHENSIVE!$P2894+COMPREHENSIVE!$P3017)","v":""},{"$f":"S686","v":""},null,null,null,null,null,{"$f":"IF(OR(COUNTIF(COMPREHENSIVE!$O$57:$O$57,\"enabled\")>0,COUNTIF(COMPREHENSIVE!$P$57:$Q$57,\"enabled\")>0,COUNTIF(COMPREHENSIVE!$O$65:$O$65,\"enabled\")>0,COUNTIF(COMPREHENSIVE!$P$65:$Q$65,\"enabled\")>0),1,0)","v":0}]
[null,null,null,null,null,null,"Professionals",null,null,null,{"$f":"IF(AND(COMPREHENSIVE!$P2873=\"\",COMPREHENSIVE!$P2996=\"\"),\"\",COMPREHENSIVE!$P2873+COMPREHENSIVE!$P2996)","v":""},{"$f":"K687","v":""},null,null,{"$f":"IF(AND(COMPREHENSIVE!$P2884=\"\",COMPREHENSIVE!$P3007=\"\"),\"\",COMPREHENSIVE!$P2884+COMPREHENSIVE!$P3007)","v":""},{"$f":"O687","v":""},null,null,{"$f":"IF(AND(COMPREHENSIVE!$P2895=\"\",COMPREHENSIVE!$P3018=\"\"),\"\",COMPREHENSIVE!$P2895+COMPREHENSIVE!$P3018)","v":""},{"$f":"S687","v":""},null,null,null,null,null,{"$f":"IF(OR(COUNTIF(COMPREHENSIVE!$O$57:$O$57,\"enabled\")>0,COUNTIF(COMPREHENSIVE!$P$57:$Q$57,\"enabled\")>0,COUNTIF(COMPREHENSIVE!$O$65:$O$65,\"enabled\")>0,COUNTIF(COMPREHENSIVE!$P$65:$Q$65,\"enabled\")>0),1,0)","v":0}]
[null,null,null,null,null,null,"Technicians",null,null,null,{"$f":"IF(AND(COMPREHENSIVE!$P2874=\"\",COMPREHENSIVE!$P2997=\"\"),\"\",COMPREHENSIVE!$P2874+COMPREHENSIVE!$P2997)","v":""},"",null,null,{"$f":"IF(AND(COMPREHENSIVE!$P2885=\"\",COMPREHENSIVE!$P3008=\"\"),\"\",COMPREHENSIVE!$P2885+COMPREHENSIVE!$P3008)","v":""},"",null,null,{"$f":"IF(AND(COMPREHENSIVE!$P2896=\"\",COMPREHENSIVE!$P3019=\"\"),\"\",COMPREHENSIVE!$P2896+COMPREHENSIVE!$P3019)","v":""},"",null,null,null,null,null,{"$f":"IF(OR(COUNTIF(COMPREHENSIVE!$O$57:$O$57,\"enabled\")>0,COUNTIF(COMPREHENSIVE!$P$57:$Q$57,\"enabled\")>0,COUNTIF(COMPREHENSIVE!$O$65:$O$65,\"enabled\")>0,COUNTIF(COMPREHENSIVE!$P$65:$Q$65,\"enabled\")>0),1,0)","v":0}]
[null,null,null,null,null,null,"Protective Service Workers",null,null,null,{"$f":"IF(AND(COMPREHENSIVE!$P2875=\"\",COMPREHENSIVE!$P2998=\"\"),\"\",COMPREHENSIVE!$P2875+COMPREHENSIVE!$P2998)","v":""},"",null,null,{"$f":"IF(AND(COMPREHENSIVE!$P2886=\"\",COMPREHENSIVE!$P3009=\"\"),\"\",COMPREHENSIVE!$P2886+COMPREHENSIVE!$P3009)","v":""},"",null,null,{"$f":"IF(AND(COMPREHENSIVE!$P2897=\"\",COMPREHENSIVE!$P3020=\"\"),\"\",COMPREHENSIVE!$P2897+COMPREHENSIVE!$P3020)","v":""},"",null,null,null,null,null,{"$f":"IF(OR(COUNTIF(COMPREHENSIVE!$O$57:$O$57,\"enabled\")>0,COUNTIF(COMPREHENSIVE!$P$57:$Q$57,\"enabled\")>0,COUNTIF(COMPREHENSIVE!$O$65:$O$65,\"enabled\")>0,COUNTIF(COMPREHENSIVE!$P$65:$Q$65,\"enabled\")>0),1,0)","v":0}]
[null,null,null,null,null,null,"Paraprofessionals",null,null,null,{"$f":"IF(AND(COMPREHENSIVE!$P2876=\"\",COMPREHENSIVE!$P2999=\"\"),\"\",COMPREHENSIVE!$P2876+COMPREHENSIVE!$P2999)","v":""},"",null,null,{"$f":"IF(AND(COMPREHENSIVE!$P2887=\"\",COMPREHENSIVE!$P3010=\"\"),\"\",COMPREHENSIVE!$P2887+COMPREHENSIVE!$P3010)","v":""},"",null,null,{"$f":"IF(AND(COMPREHENSIVE!$P2898=\"\",COMPREHENSIVE!$P3021=\"\"),\"\",COMPREHENSIVE!$P2898+COMPREHENSIVE!$P3021)","v":""},"",null,null,null,null,null,{"$f":"IF(OR(COUNTIF(COMPREHENSIVE!$O$57:$O$57,\"enabled\")>0,COUNTIF(COMPREHENSIVE!$P$57:$Q$57,\"enabled\")>0,COUNTIF(COMPREHENSIVE!$O$65:$O$65,\"enabled\")>0,COUNTIF(COMPREHENSIVE!$P$65:$Q$65,\"enabled\")>0),1,0)","v":0}]
[null,null,null,null,null,null,"Administrative Support",null,null,null,{"$f":"IF(AND(COMPREHENSIVE!$P2877=\"\",COMPREHENSIVE!$P3000=\"\"),\"\",COMPREHENSIVE!$P2877+COMPREHENSIVE!$P3000)","v":""},"",null,null,{"$f":"IF(AND(COMPREHENSIVE!$P2888=\"\",COMPREHENSIVE!$P3011=\"\"),\"\",COMPREHENSIVE!$P2888+COMPREHENSIVE!$P3011)","v":""},"",null,null,{"$f":"IF(AND(COMPREHENSIVE!$P2899=\"\",COMPREHENSIVE!$P3022=\"\"),\"\",COMPREHENSIVE!$P2899+COMPREHENSIVE!$P3022)","v":""},"",null,null,null,null,null,{"$f":"IF(OR(COUNTIF(COMPREHENSIVE!$O$57:$O$57,\"enabled\")>0,COUNTIF(COMPREHENSIVE!$P$57:$Q$57,\"enabled\")>0,COUNTIF(COMPREHENSIVE!$O$65:$O$65,\"enabled\")>0,COUNTIF(COMPREHENSIVE!$P$65:$Q$65,\"enabled\")>0),1,0)","v":0}]
[null,null,null,null,null,null,"Skilled Craft Workers",null,null,null,{"$f":"IF(AND(COMPREHENSIVE!$P2878=\"\",COMPREHENSIVE!$P3001=\"\"),\"\",COMPREHENSIVE!$P2878+COMPREHENSIVE!$P3001)","v":""},"",null,null,{"$f":"IF(AND(COMPREHENSIVE!$P2889=\"\",COMPREHENSIVE!$P3012=\"\"),\"\",COMPREHENSIVE!$P2889+COMPREHENSIVE!$P3012)","v":""},"",null,null,{"$f":"IF(AND(COMPREHENSIVE!$P2900=\"\",COMPREHENSIVE!$P3023=\"\"),\"\",COMPREHENSIVE!$P2900+COMPREHENSIVE!$P3023)","v":""},"",null,null,null,null,null,{"$f":"IF(OR(COUNTIF(COMPREHENSIVE!$O$57:$O$57,\"enabled\")>0,COUNTIF(COMPREHENSIVE!$P$57:$Q$57,\"enabled\")>0,COUNTIF(COMPREHENSIVE!$O$65:$O$65,\"enabled\")>0,COUNTIF(COMPREHENSIVE!$P$65:$Q$65,\"enabled\")>0),1,0)","v":0}]
[null,null,null,null,null,null,"Service/Maintenance",null,null,null,{"$f":"IF(AND(COMPREHENSIVE!$P2879=\"\",COMPREHENSIVE!$P3002=\"\"),\"\",COMPREHENSIVE!$P2879+COMPREHENSIVE!$P3002)","v":""},"",null,null,{"$f":"IF(AND(COMPREHENSIVE!$P2890=\"\",COMPREHENSIVE!$P3013=\"\"),\"\",COMPREHENSIVE!$P2890+COMPREHENSIVE!$P3013)","v":""},"",null,null,{"$f":"IF(AND(COMPREHENSIVE!$P2901=\"\",COMPREHENSIVE!$P3024=\"\"),\"\",COMPREHENSIVE!$P2901+COMPREHENSIVE!$P3024)","v":""},"",null,null,null,null,null,{"$f":"IF(OR(COUNTIF(COMPREHENSIVE!$O$57:$O$57,\"enabled\")>0,COUNTIF(COMPREHENSIVE!$P$57:$Q$57,\"enabled\")>0,COUNTIF(COMPREHENSIVE!$O$65:$O$65,\"enabled\")>0,COUNTIF(COMPREHENSIVE!$P$65:$Q$65,\"enabled\")>0),1,0)","v":0}]
[null,null,null,null,null,null,"Faculty",null,null,null,{"$f":"IF(AND(COMPREHENSIVE!$P2880=\"\",COMPREHENSIVE!$P3003=\"\"),\"\",COMPREHENSIVE!$P2880+COMPREHENSIVE!$P3003)","v":""},"",null,null,{"$f":"IF(AND(COMPREHENSIVE!$P2891=\"\",COMPREHENSIVE!$P3014=\"\"),\"\",COMPREHENSIVE!$P2891+COMPREHENSIVE!$P3014)","v":""},"",null,null,{"$f":"IF(AND(COMPREHENSIVE!$P2902=\"\",COMPREHENSIVE!$P3025=\"\"),\"\",COMPREHENSIVE!$P2902+COMPREHENSIVE!$P3025)","v":""},"",null,null,null,null,null,{"$f":"IF(OR(COUNTIF(COMPREHENSIVE!$O$57:$O$57,\"enabled\")>0,COUNTIF(COMPREHENSIVE!$P$57:$Q$57,\"enabled\")>0,COUNTIF(COMPREHENSIVE!$O$65:$O$65,\"enabled\")>0,COUNTIF(COMPREHENSIVE!$P$65:$Q$65,\"enabled\")>0),1,0)","v":0}]
[null,null,null,null,null,null,"Other",null,null,null,{"$f":"IF(AND(COMPREHENSIVE!$P2881=\"\",COMPREHENSIVE!$P3004=\"\"),\"\",COMPREHENSIVE!$P2881+COMPREHENSIVE!$P3004)","v":""},"",null,null,{"$f":"IF(AND(COMPREHENSIVE!$P2892=\"\",COMPREHENSIVE!$P3015=\"\"),\"\",COMPREHENSIVE!$P2892+COMPREHENSIVE!$P3015)","v":""},"",null,null,{"$f":"IF(AND(COMPREHENSIVE!$P2903=\"\",COMPREHENSIVE!$P3026=\"\"),\"\",COMPREHENSIVE!$P2903+COMPREHENSIVE!$P3026)","v":""},"",null,null,null,null,null,{"$f":"IF(OR(COUNTIF(COMPREHENSIVE!$O$57:$O$57,\"enabled\")>0,COUNTIF(COMPREHENSIVE!$P$57:$Q$57,\"enabled\")>0,COUNTIF(COMPREHENSIVE!$O$65:$O$65,\"enabled\")>0,COUNTIF(COMPREHENSIVE!$P$65:$Q$65,\"enabled\")>0),1,0)","v":0}]
[null,null,null,null,null,null,null,null,null,null,null,null,null,null,null,null,null,null,null,null,null,null,null,null,null,{"$f":"IF(OR(COUNTIF(COMPREHENSIVE!$O$57:$O$57,\"enabled\")>0,COUNTIF(COMPREHENSIVE!$P$57:$Q$57,\"enabled\")>0,COUNTIF(COMPREHENSIVE!$O$65:$O$65,\"enabled\")>0,COUNTIF(COMPREHENSIVE!$P$65:$Q$65,\"enabled\")>0),1,0)","v":0}]
[null,null,null,null,null,null,{"$f":"PROFILE!$C$58","v":0},null,null,null,{"$f":"IF(AND(COMPREHENSIVE!$P2908=\"\",COMPREHENSIVE!$P3031=\"\"),\"\",COMPREHENSIVE!$P2908+COMPREHENSIVE!$P3031)","v":""},{"$f":"K697","v":""},null,null,{"$f":"IF(AND(COMPREHENSIVE!$P2924=\"\",COMPREHENSIVE!$P3047=\"\"),\"\",COMPREHENSIVE!$P2924+COMPREHENSIVE!$P3047)","v":""},{"$f":"O697","v":""},null,null,{"$f":"IF(AND(COMPREHENSIVE!$P2940=\"\",COMPREHENSIVE!$P3063=\"\"),\"\",COMPREHENSIVE!$P2940+COMPREHENSIVE!$P3063)","v":""},{"$f":"S697","v":""},null,null,null,null,{"$f":"COUNTIF(G697,\"*\"&PROFILE!$C$58&\"*\")","v":0},{"$f":"IF(AND(OR(COUNTIF(COMPREHENSIVE!$O$58:$O$58,\"enabled\")>0,COUNTIF(COMPREHENSIVE!$P$58:$Q$58,\"enabled\")>0,COUNTIF(COMPREHENSIVE!$O$66:$O$66,\"enabled\")>0,COUNTIF(COMPREHENSIVE!$P$66:$Q$66,\"enabled\")>0),Y697=1),1,0)","v":0}]
[null,null,null,null,null,null,{"$f":"PROFILE!$C$59","v":0},null,null,null,{"$f":"IF(AND(COMPREHENSIVE!$P2909=\"\",COMPREHENSIVE!$P3032=\"\"),\"\",COMPREHENSIVE!$P2909+COMPREHENSIVE!$P3032)","v":""},{"$f":"K698","v":""},null,null,{"$f":"IF(AND(COMPREHENSIVE!$P2925=\"\",COMPREHENSIVE!$P3048=\"\"),\"\",COMPREHENSIVE!$P2925+COMPREHENSIVE!$P3048)","v":""},{"$f":"O698","v":""},null,null,{"$f":"IF(AND(COMPREHENSIVE!$P2941=\"\",COMPREHENSIVE!$P3064=\"\"),\"\",COMPREHENSIVE!$P2941+COMPREHENSIVE!$P3064)","v":""},{"$f":"S698","v":""},null,null,null,null,{"$f":"COUNTIF(G698,\"*\"&PROFILE!$C$59&\"*\")","v":0},{"$f":"IF(AND(OR(COUNTIF(COMPREHENSIVE!$O$58:$O$58,\"enabled\")>0,COUNTIF(COMPREHENSIVE!$P$58:$Q$58,\"enabled\")>0,COUNTIF(COMPREHENSIVE!$O$66:$O$66,\"enabled\")>0,COUNTIF(COMPREHENSIVE!$P$66:$Q$66,\"enabled\")>0),Y698=1),1,0)","v":0}]
[null,null,null,null,null,null,{"$f":"PROFILE!$C$60","v":0},null,null,null,{"$f":"IF(AND(COMPREHENSIVE!$P2910=\"\",COMPREHENSIVE!$P3033=\"\"),\"\",COMPREHENSIVE!$P2910+COMPREHENSIVE!$P3033)","v":""},"",null,null,{"$f":"IF(AND(COMPREHENSIVE!$P2926=\"\",COMPREHENSIVE!$P3049=\"\"),\"\",COMPREHENSIVE!$P2926+COMPREHENSIVE!$P3049)","v":""},"",null,null,{"$f":"IF(AND(COMPREHENSIVE!$P2942=\"\",COMPREHENSIVE!$P3065=\"\"),\"\",COMPREHENSIVE!$P2942+COMPREHENSIVE!$P3065)","v":""},"",null,null,null,null,{"$f":"COUNTIF(G699,\"*\"&PROFILE!$C$60&\"*\")","v":0},{"$f":"IF(AND(OR(COUNTIF(COMPREHENSIVE!$O$58:$O$58,\"enabled\")>0,COUNTIF(COMPREHENSIVE!$P$58:$Q$58,\"enabled\")>0,COUNTIF(COMPREHENSIVE!$O$66:$O$66,\"enabled\")>0,COUNTIF(COMPREHENSIVE!$P$66:$Q$66,\"enabled\")>0),Y699=1),1,0)","v":0}]
[null,null,null,null,null,null,{"$f":"PROFILE!$C$61","v":0},null,null,null,{"$f":"IF(AND(COMPREHENSIVE!$P2911=\"\",COMPREHENSIVE!$P3034=\"\"),\"\",COMPREHENSIVE!$P2911+COMPREHENSIVE!$P3034)","v":""},"",null,null,{"$f":"IF(AND(COMPREHENSIVE!$P2927=\"\",COMPREHENSIVE!$P3050=\"\"),\"\",COMPREHENSIVE!$P2927+COMPREHENSIVE!$P3050)","v":""},"",null,null,{"$f":"IF(AND(COMPREHENSIVE!$P2943=\"\",COMPREHENSIVE!$P3066=\"\"),\"\",COMPREHENSIVE!$P2943+COMPREHENSIVE!$P3066)","v":""},"",null,null,null,null,{"$f":"COUNTIF(G700,\"*\"&PROFILE!$C$61&\"*\")","v":0},{"$f":"IF(AND(OR(COUNTIF(COMPREHENSIVE!$O$58:$O$58,\"enabled\")>0,COUNTIF(COMPREHENSIVE!$P$58:$Q$58,\"enabled\")>0,COUNTIF(COMPREHENSIVE!$O$66:$O$66,\"enabled\")>0,COUNTIF(COMPREHENSIVE!$P$66:$Q$66,\"enabled\")>0),Y700=1),1,0)","v":0}]
[null,null,null,null,null,null,{"$f":"PROFILE!$C$62","v":0},null,null,null,{"$f":"IF(AND(COMPREHENSIVE!$P2912=\"\",COMPREHENSIVE!$P3035=\"\"),\"\",COMPREHENSIVE!$P2912+COMPREHENSIVE!$P3035)","v":""},"",null,null,{"$f":"IF(AND(COMPREHENSIVE!$P2928=\"\",COMPREHENSIVE!$P3051=\"\"),\"\",COMPREHENSIVE!$P2928+COMPREHENSIVE!$P3051)","v":""},"",null,null,{"$f":"IF(AND(COMPREHENSIVE!$P2944=\"\",COMPREHENSIVE!$P3067=\"\"),\"\",COMPREHENSIVE!$P2944+COMPREHENSIVE!$P3067)","v":""},"",null,null,null,null,{"$f":"COUNTIF(G701,\"*\"&PROFILE!$C$62&\"*\")","v":0},{"$f":"IF(AND(OR(COUNTIF(COMPREHENSIVE!$O$58:$O$58,\"enabled\")>0,COUNTIF(COMPREHENSIVE!$P$58:$Q$58,\"enabled\")>0,COUNTIF(COMPREHENSIVE!$O$66:$O$66,\"enabled\")>0,COUNTIF(COMPREHENSIVE!$P$66:$Q$66,\"enabled\")>0),Y701=1),1,0)","v":0}]
[null,null,null,null,null,null,{"$f":"PROFILE!$C$63","v":0},null,null,null,{"$f":"IF(AND(COMPREHENSIVE!$P2913=\"\",COMPREHENSIVE!$P3036=\"\"),\"\",COMPREHENSIVE!$P2913+COMPREHENSIVE!$P3036)","v":""},"",null,null,{"$f":"IF(AND(COMPREHENSIVE!$P2929=\"\",COMPREHENSIVE!$P3052=\"\"),\"\",COMPREHENSIVE!$P2929+COMPREHENSIVE!$P3052)","v":""},"",null,null,{"$f":"IF(AND(COMPREHENSIVE!$P2945=\"\",COMPREHENSIVE!$P3068=\"\"),\"\",COMPREHENSIVE!$P2945+COMPREHENSIVE!$P3068)","v":""},"",null,null,null,null,{"$f":"COUNTIF(G702,\"*\"&PROFILE!$C$63&\"*\")","v":0},{"$f":"IF(AND(OR(COUNTIF(COMPREHENSIVE!$O$58:$O$58,\"enabled\")>0,COUNTIF(COMPREHENSIVE!$P$58:$Q$58,\"enabled\")>0,COUNTIF(COMPREHENSIVE!$O$66:$O$66,\"enabled\")>0,COUNTIF(COMPREHENSIVE!$P$66:$Q$66,\"enabled\")>0),Y702=1),1,0)","v":0}]
[null,null,null,null,null,null,{"$f":"PROFILE!$C$64","v":0},null,null,null,{"$f":"IF(AND(COMPREHENSIVE!$P2914=\"\",COMPREHENSIVE!$P3037=\"\"),\"\",COMPREHENSIVE!$P2914+COMPREHENSIVE!$P3037)","v":""},"",null,null,{"$f":"IF(AND(COMPREHENSIVE!$P2930=\"\",COMPREHENSIVE!$P3053=\"\"),\"\",COMPREHENSIVE!$P2930+COMPREHENSIVE!$P3053)","v":""},"",null,null,{"$f":"IF(AND(COMPREHENSIVE!$P2946=\"\",COMPREHENSIVE!$P3069=\"\"),\"\",COMPREHENSIVE!$P2946+COMPREHENSIVE!$P3069)","v":""},"",null,null,null,null,{"$f":"COUNTIF(G703,\"*\"&PROFILE!$C$64&\"*\")","v":0},{"$f":"IF(AND(OR(COUNTIF(COMPREHENSIVE!$O$58:$O$58,\"enabled\")>0,COUNTIF(COMPREHENSIVE!$P$58:$Q$58,\"enabled\")>0,COUNTIF(COMPREHENSIVE!$O$66:$O$66,\"enabled\")>0,COUNTIF(COMPREHENSIVE!$P$66:$Q$66,\"enabled\")>0),Y703=1),1,0)","v":0}]
[null,null,null,null,null,null,{"$f":"PROFILE!$C$65","v":0},null,null,null,{"$f":"IF(AND(COMPREHENSIVE!$P2915=\"\",COMPREHENSIVE!$P3038=\"\"),\"\",COMPREHENSIVE!$P2915+COMPREHENSIVE!$P3038)","v":""},"",null,null,{"$f":"IF(AND(COMPREHENSIVE!$P2931=\"\",COMPREHENSIVE!$P3054=\"\"),\"\",COMPREHENSIVE!$P2931+COMPREHENSIVE!$P3054)","v":""},"",null,null,{"$f":"IF(AND(COMPREHENSIVE!$P2947=\"\",COMPREHENSIVE!$P3070=\"\"),\"\",COMPREHENSIVE!$P2947+COMPREHENSIVE!$P3070)","v":""},"",null,null,null,null,{"$f":"COUNTIF(G704,\"*\"&PROFILE!$C$65&\"*\")","v":0},{"$f":"IF(AND(OR(COUNTIF(COMPREHENSIVE!$O$58:$O$58,\"enabled\")>0,COUNTIF(COMPREHENSIVE!$P$58:$Q$58,\"enabled\")>0,COUNTIF(COMPREHENSIVE!$O$66:$O$66,\"enabled\")>0,COUNTIF(COMPREHENSIVE!$P$66:$Q$66,\"enabled\")>0),Y704=1),1,0)","v":0}]
[null,null,null,null,null,null,{"$f":"PROFILE!$C$66","v":0},null,null,null,{"$f":"IF(AND(COMPREHENSIVE!$P2916=\"\",COMPREHENSIVE!$P3039=\"\"),\"\",COMPREHENSIVE!$P2916+COMPREHENSIVE!$P3039)","v":""},"",null,null,{"$f":"IF(AND(COMPREHENSIVE!$P2932=\"\",COMPREHENSIVE!$P3055=\"\"),\"\",COMPREHENSIVE!$P2932+COMPREHENSIVE!$P3055)","v":""},"",null,null,{"$f":"IF(AND(COMPREHENSIVE!$P2948=\"\",COMPREHENSIVE!$P3071=\"\"),\"\",COMPREHENSIVE!$P2948+COMPREHENSIVE!$P3071)","v":""},"",null,null,null,null,{"$f":"COUNTIF(G705,\"*\"&PROFILE!$C$66&\"*\")","v":0},{"$f":"IF(AND(OR(COUNTIF(COMPREHENSIVE!$O$58:$O$58,\"enabled\")>0,COUNTIF(COMPREHENSIVE!$P$58:$Q$58,\"enabled\")>0,COUNTIF(COMPREHENSIVE!$O$66:$O$66,\"enabled\")>0,COUNTIF(COMPREHENSIVE!$P$66:$Q$66,\"enabled\")>0),Y705=1),1,0)","v":0}]
[null,null,null,null,null,null,{"$f":"PROFILE!$C$67","v":0},null,null,null,{"$f":"IF(AND(COMPREHENSIVE!$P2917=\"\",COMPREHENSIVE!$P3040=\"\"),\"\",COMPREHENSIVE!$P2917+COMPREHENSIVE!$P3040)","v":""},"",null,null,{"$f":"IF(AND(COMPREHENSIVE!$P2933=\"\",COMPREHENSIVE!$P3056=\"\"),\"\",COMPREHENSIVE!$P2933+COMPREHENSIVE!$P3056)","v":""},"",null,null,{"$f":"IF(AND(COMPREHENSIVE!$P2949=\"\",COMPREHENSIVE!$P3072=\"\"),\"\",COMPREHENSIVE!$P2949+COMPREHENSIVE!$P3072)","v":""},"",null,null,null,null,{"$f":"COUNTIF(G706,\"*\"&PROFILE!$C$67&\"*\")","v":0},{"$f":"IF(AND(OR(COUNTIF(COMPREHENSIVE!$O$58:$O$58,\"enabled\")>0,COUNTIF(COMPREHENSIVE!$P$58:$Q$58,\"enabled\")>0,COUNTIF(COMPREHENSIVE!$O$66:$O$66,\"enabled\")>0,COUNTIF(COMPREHENSIVE!$P$66:$Q$66,\"enabled\")>0),Y706=1),1,0)","v":0}]
[null,null,null,null,null,null,{"$f":"PROFILE!$C$68","v":0},null,null,null,{"$f":"IF(AND(COMPREHENSIVE!$P2918=\"\",COMPREHENSIVE!$P3041=\"\"),\"\",COMPREHENSIVE!$P2918+COMPREHENSIVE!$P3041)","v":""},"",null,null,{"$f":"IF(AND(COMPREHENSIVE!$P2934=\"\",COMPREHENSIVE!$P3057=\"\"),\"\",COMPREHENSIVE!$P2934+COMPREHENSIVE!$P3057)","v":""},"",null,null,{"$f":"IF(AND(COMPREHENSIVE!$P2950=\"\",COMPREHENSIVE!$P3073=\"\"),\"\",COMPREHENSIVE!$P2950+COMPREHENSIVE!$P3073)","v":""},"",null,null,null,null,{"$f":"COUNTIF(G707,\"*\"&PROFILE!$C$68&\"*\")","v":0},{"$f":"IF(AND(OR(COUNTIF(COMPREHENSIVE!$O$58:$O$58,\"enabled\")>0,COUNTIF(COMPREHENSIVE!$P$58:$Q$58,\"enabled\")>0,COUNTIF(COMPREHENSIVE!$O$66:$O$66,\"enabled\")>0,COUNTIF(COMPREHENSIVE!$P$66:$Q$66,\"enabled\")>0),Y707=1),1,0)","v":0}]
[null,null,null,null,null,null,{"$f":"PROFILE!$C$69","v":0},null,null,null,{"$f":"IF(AND(COMPREHENSIVE!$P2919=\"\",COMPREHENSIVE!$P3042=\"\"),\"\",COMPREHENSIVE!$P2919+COMPREHENSIVE!$P3042)","v":""},"",null,null,{"$f":"IF(AND(COMPREHENSIVE!$P2935=\"\",COMPREHENSIVE!$P3058=\"\"),\"\",COMPREHENSIVE!$P2935+COMPREHENSIVE!$P3058)","v":""},"",null,null,{"$f":"IF(AND(COMPREHENSIVE!$P2951=\"\",COMPREHENSIVE!$P3074=\"\"),\"\",COMPREHENSIVE!$P2951+COMPREHENSIVE!$P3074)","v":""},"",null,null,null,null,{"$f":"COUNTIF(G708,\"*\"&PROFILE!$C$69&\"*\")","v":0},{"$f":"IF(AND(OR(COUNTIF(COMPREHENSIVE!$O$58:$O$58,\"enabled\")>0,COUNTIF(COMPREHENSIVE!$P$58:$Q$58,\"enabled\")>0,COUNTIF(COMPREHENSIVE!$O$66:$O$66,\"enabled\")>0,COUNTIF(COMPREHENSIVE!$P$66:$Q$66,\"enabled\")>0),Y708=1),1,0)","v":0}]
[null,null,null,null,null,null,{"$f":"PROFILE!$C$70","v":0},null,null,null,{"$f":"IF(AND(COMPREHENSIVE!$P2920=\"\",COMPREHENSIVE!$P3043=\"\"),\"\",COMPREHENSIVE!$P2920+COMPREHENSIVE!$P3043)","v":""},"",null,null,{"$f":"IF(AND(COMPREHENSIVE!$P2936=\"\",COMPREHENSIVE!$P3059=\"\"),\"\",COMPREHENSIVE!$P2936+COMPREHENSIVE!$P3059)","v":""},"",null,null,{"$f":"IF(AND(COMPREHENSIVE!$P2952=\"\",COMPREHENSIVE!$P3075=\"\"),\"\",COMPREHENSIVE!$P2952+COMPREHENSIVE!$P3075)","v":""},"",null,null,null,null,{"$f":"COUNTIF(G709,\"*\"&PROFILE!$C$70&\"*\")","v":0},{"$f":"IF(AND(OR(COUNTIF(COMPREHENSIVE!$O$58:$O$58,\"enabled\")>0,COUNTIF(COMPREHENSIVE!$P$58:$Q$58,\"enabled\")>0,COUNTIF(COMPREHENSIVE!$O$66:$O$66,\"enabled\")>0,COUNTIF(COMPREHENSIVE!$P$66:$Q$66,\"enabled\")>0),Y709=1),1,0)","v":0}]
[null,null,null,null,null,null,{"$f":"PROFILE!$C$71","v":0},null,null,null,{"$f":"IF(AND(COMPREHENSIVE!$P2921=\"\",COMPREHENSIVE!$P3044=\"\"),\"\",COMPREHENSIVE!$P2921+COMPREHENSIVE!$P3044)","v":""},"",null,null,{"$f":"IF(AND(COMPREHENSIVE!$P2937=\"\",COMPREHENSIVE!$P3060=\"\"),\"\",COMPREHENSIVE!$P2937+COMPREHENSIVE!$P3060)","v":""},"",null,null,{"$f":"IF(AND(COMPREHENSIVE!$P2953=\"\",COMPREHENSIVE!$P3076=\"\"),\"\",COMPREHENSIVE!$P2953+COMPREHENSIVE!$P3076)","v":""},"",null,null,null,null,{"$f":"COUNTIF(G710,\"*\"&PROFILE!$C$71&\"*\")","v":0},{"$f":"IF(AND(OR(COUNTIF(COMPREHENSIVE!$O$58:$O$58,\"enabled\")>0,COUNTIF(COMPREHENSIVE!$P$58:$Q$58,\"enabled\")>0,COUNTIF(COMPREHENSIVE!$O$66:$O$66,\"enabled\")>0,COUNTIF(COMPREHENSIVE!$P$66:$Q$66,\"enabled\")>0),Y710=1),1,0)","v":0}]
[null,null,null,null,null,null,{"$f":"PROFILE!$C$72","v":0},null,null,null,{"$f":"IF(AND(COMPREHENSIVE!$P2922=\"\",COMPREHENSIVE!$P3045=\"\"),\"\",COMPREHENSIVE!$P2922+COMPREHENSIVE!$P3045)","v":""},"",null,null,{"$f":"IF(AND(COMPREHENSIVE!$P2938=\"\",COMPREHENSIVE!$P3061=\"\"),\"\",COMPREHENSIVE!$P2938+COMPREHENSIVE!$P3061)","v":""},"",null,null,{"$f":"IF(AND(COMPREHENSIVE!$P2954=\"\",COMPREHENSIVE!$P3077=\"\"),\"\",COMPREHENSIVE!$P2954+COMPREHENSIVE!$P3077)","v":""},"",null,null,null,null,{"$f":"COUNTIF(G711,\"*\"&PROFILE!$C$72&\"*\")","v":0},{"$f":"IF(AND(OR(COUNTIF(COMPREHENSIVE!$O$58:$O$58,\"enabled\")>0,COUNTIF(COMPREHENSIVE!$P$58:$Q$58,\"enabled\")>0,COUNTIF(COMPREHENSIVE!$O$66:$O$66,\"enabled\")>0,COUNTIF(COMPREHENSIVE!$P$66:$Q$66,\"enabled\")>0),Y711=1),1,0)","v":0}]
[null,null,null,null,null,null,null,null,null,null,null,null,null,null,null,null,null,null,null,null,null,null,null,null,null,{"$f":"IF(OR(COUNTIF(COMPREHENSIVE!$O$58:$O$58,\"enabled\")>0,COUNTIF(COMPREHENSIVE!$P$58:$Q$58,\"enabled\")>0,COUNTIF(COMPREHENSIVE!$O$66:$O$66,\"enabled\")>0,COUNTIF(COMPREHENSIVE!$P$66:$Q$66,\"enabled\")>0),1,0)","v":0}]
[null,null,null,null,null,null,"Commonwealth of Virginia Exit Survey",null,null,null,null,null,null,null,null,null,null,null,null,null,null,null,null,null,null,{"$f":"IF('IN-DEPTH'!$K$41=\"enabled\",1,0)","v":0}]
[null,null,null,null,null,null,null,null,null,null,null,null,null,null,null,null,null,null,null,null,null,null,null,null,null,{"$f":"IF('IN-DEPTH'!$K$41=\"enabled\",1,0)","v":0}]
[null,null,null,null,null,null,"NOTE: Only Voluntary Separations and Transfers of Classified Employees are invited to participate in the COV Exit Survey.",null,null,null,null,null,null,null,null,null,null,null,null,null,null,null,null,null,null,{"$f":"IF('IN-DEPTH'!$K$41=\"enabled\",1,0)","v":0}]
[null,null,null,null,null,null,null,null,null,null,null,null,null,null,null,null,null,null,null,null,null,null,null,null,null,{"$f":"IF('IN-DEPTH'!$K$41=\"enabled\",1,0)","v":0}]
[null,null,null,null,null,null,{"$f":"FOUNDATIONAL!P159","v":0},null,null,null,"Job Experience % Favorable",null,null,null,"Survey Categories",null,null,"% Highly Influenced to Leave",null,null,null,null,null,null,null,{"$f":"IF('IN-DEPTH'!$K$41=\"enabled\",1,0)","v":0}]
[null,null,null,null,null,null,null,null,null,null,{"$f":"'IN-DEPTH'!I209","v":0},null,null,null,"Management / Leadership",null,null,{"$f":"'IN-DEPTH'!P209","v":0},null,null,null,null,null,null,null,{"$f":"IF('IN-DEPTH'!$K$41=\"enabled\",1,0)","v":0}]
[null,null,null,null,null,null,null,null,null,null,{"$f":"'IN-DEPTH'!I210","v":0},null,null,null,"Growth Opportunities",null,null,{"$f":"'IN-DEPTH'!P210","v":0},null,null,null,null,null,null,null,{"$f":"IF('IN-DEPTH'!$K$41=\"enabled\",1,0)","v":0}]
[null,null,null,null,null,null,"Total COV Exit Survey Participants from Agency",null,null,null,{"$f":"'IN-DEPTH'!I211","v":0},null,null,null,"Person / Work Fit",null,null,{"$f":"'IN-DEPTH'!P211","v":0},null,null,null,null,null,null,null,{"$f":"IF('IN-DEPTH'!$K$41=\"enabled\",1,0)","v":0}]
[null,null,null,null,null,null,null,null,null,null,{"$f":"'IN-DEPTH'!I212","v":0},null,null,null,"Work Environment",null,null,{"$f":"'IN-DEPTH'!P212","v":0},null,null,null,null,null,null,null,{"$f":"IF('IN-DEPTH'!$K$41=\"enabled\",1,0)","v":0}]
[null,null,null,null,null,null,{"$f":"IF(FOUNDATIONAL!P161<0,FOUNDATIONAL!P161,CONCATENATE(\"+\",FOUNDATIONAL!P161))","v":"+"},null,null,null,{"$f":"'IN-DEPTH'!I213","v":0},null,null,null,"Rewards",null,null,{"$f":"'IN-DEPTH'!P213","v":0},null,null,null,null,null,null,null,{"$f":"IF('IN-DEPTH'!$K$41=\"enabled\",1,0)","v":0}]
[null,null,null,null,null,null,null,null,null,null,{"$f":"'IN-DEPTH'!I214","v":0},null,null,null,"*Meaningful Work",null,null,null,null,null,null,null,null,null,null,{"$f":"IF('IN-DEPTH'!$K$41=\"enabled\",1,0)","v":0}]
[null,null,null,null,null,null,null,null,null,null,null,null,null,null,null,null,null,null,null,null,null,null,null,null,null,{"$f":"IF('IN-DEPTH'!$K$41=\"enabled\",1,0)","v":0}]
[null,null,null,null,null,null,"Exit Survey Net Promoter Score",null,null,null,null,null,null,null,null,"*Meaningful Work not measured as reason for leaving",null,null,null,null,null,null,null,null,null,{"$f":"IF('IN-DEPTH'!$K$41=\"enabled\",1,0)","v":0}]
[null,null,null,null,null,null,null,null,null,null,null,null,null,null,null,null,null,null,null,null,null,null,null,null,null,{"$f":"IF('IN-DEPTH'!$K$41=\"enabled\",1,0)","v":0}]
[null,null,null,null,null,null,"Agency Exit and Engagement Surveys",null,null,null,null,null,null,null,null,null,null,null,null,null,null,null,null,null,null,{"$f":"IF('IN-DEPTH'!$K$41=\"enabled\",1,0)","v":0}]
[null,null,null,null,null,null,null,null,null,null,null,null,null,null,null,null,null,null,null,null,null,null,null,null,null,{"$f":"IF('IN-DEPTH'!$K$41=\"enabled\",1,0)","v":0}]
[null,null,null,null,null,null,null,null,null,null,null,null,null,null,null,null,null,null,null,null,null,null,null,null,null,{"$f":"IF('IN-DEPTH'!$K$41=\"enabled\",1,0)","v":0}]
[null,null,null,null,null,null,null,null,"Survey Categories",null,null,"% Favorable",null,null,null,null,"Survey Categories",null,null,"% Favorable",null,null,null,null,null,{"$f":"IF('IN-DEPTH'!$K$41=\"enabled\",1,0)","v":0}]
[null,null,null,null,null,null,"",null,{"$f":"'IN-DEPTH'!K230","v":0},null,null,{"$f":"'IN-DEPTH'!P230","v":0},null,null,"",null,{"$f":"'IN-DEPTH'!K242","v":0},null,null,{"$f":"'IN-DEPTH'!P242","v":0},null,null,null,null,null,{"$f":"IF('IN-DEPTH'!$K$41=\"enabled\",1,0)","v":0}]
[null,null,null,null,null,null,{"$f":"'IN-DEPTH'!P222","v":0},null,{"$f":"'IN-DEPTH'!K231","v":0},null,null,{"$f":"'IN-DEPTH'!P231","v":0},null,null,{"$f":"'IN-DEPTH'!P223","v":0},null,{"$f":"'IN-DEPTH'!K243","v":0},null,null,{"$f":"'IN-DEPTH'!P243","v":0},null,null,null,null,null,{"$f":"IF('IN-DEPTH'!$K$41=\"enabled\",1,0)","v":0}]
[null,null,null,null,null,null,null,null,{"$f":"'IN-DEPTH'!K232","v":0},null,null,{"$f":"'IN-DEPTH'!P232","v":0},null,null,null,null,{"$f":"'IN-DEPTH'!K244","v":0},null,null,{"$f":"'IN-DEPTH'!P244","v":0},null,null,null,null,null,{"$f":"IF('IN-DEPTH'!$K$41=\"enabled\",1,0)","v":0}]
[null,null,null,null,null,null,{"$f":"CONCATENATE('IN-DEPTH'!N218,\" Total Participants\")","v":" Total Participants"},null,{"$f":"'IN-DEPTH'!K233","v":0},null,null,{"$f":"'IN-DEPTH'!P233","v":0},null,null,{"$f":"CONCATENATE('IN-DEPTH'!N219,\" Total Participants\")","v":" Total Participants"},null,{"$f":"'IN-DEPTH'!K245","v":0},null,null,{"$f":"'IN-DEPTH'!P245","v":0},null,null,null,null,null,{"$f":"IF('IN-DEPTH'!$K$41=\"enabled\",1,0)","v":0}]
[null,null,null,null,null,null,null,null,{"$f":"'IN-DEPTH'!K234","v":0},null,null,{"$f":"'IN-DEPTH'!P234","v":0},null,null,null,null,{"$f":"'IN-DEPTH'!K246","v":0},null,null,{"$f":"'IN-DEPTH'!P246","v":0},null,null,null,null,null,{"$f":"IF('IN-DEPTH'!$K$41=\"enabled\",1,0)","v":0}]
[null,null,null,null,null,null,0,null,{"$f":"'IN-DEPTH'!K235","v":0},null,null,{"$f":"'IN-DEPTH'!P235","v":0},null,null,0,null,{"$f":"'IN-DEPTH'!K247","v":0},null,null,{"$f":"'IN-DEPTH'!P247","v":0},null,null,null,null,null,{"$f":"IF('IN-DEPTH'!$K$41=\"enabled\",1,0)","v":0}]
[null,null,null,null,null,null,null,null,{"$f":"'IN-DEPTH'!K236","v":0},null,null,{"$f":"'IN-DEPTH'!P236","v":0},null,null,null,null,{"$f":"'IN-DEPTH'!K248","v":0},null,null,{"$f":"'IN-DEPTH'!P248","v":0},null,null,null,null,null,{"$f":"IF('IN-DEPTH'!$K$41=\"enabled\",1,0)","v":0}]
[null,null,null,null,null,null,"Exit Survey Overall Score",null,{"$f":"'IN-DEPTH'!K237","v":0},null,null,{"$f":"'IN-DEPTH'!P237","v":0},null,null,"Engagement Survey Overall Score",null,{"$f":"'IN-DEPTH'!K249","v":0},null,null,{"$f":"'IN-DEPTH'!P249","v":0},null,null,null,null,null,{"$f":"IF('IN-DEPTH'!$K$41=\"enabled\",1,0)","v":0}]
[null,null,null,null,null,null,null,null,{"$f":"'IN-DEPTH'!K238","v":0},null,null,{"$f":"'IN-DEPTH'!P238","v":0},null,null,null,null,{"$f":"'IN-DEPTH'!K250","v":0},null,null,{"$f":"'IN-DEPTH'!P250","v":0},null,null,null,null,null,{"$f":"IF('IN-DEPTH'!$K$41=\"enabled\",1,0)","v":0}]
[null,null,null,null,null,null,null,null,{"$f":"'IN-DEPTH'!K239","v":0},null,null,{"$f":"'IN-DEPTH'!P239","v":0},null,null,null,null,{"$f":"'IN-DEPTH'!K251","v":0},null,null,{"$f":"'IN-DEPTH'!P251","v":0},null,null,null,null,null,{"$f":"IF('IN-DEPTH'!$K$41=\"enabled\",1,0)","v":0}]
[null,null,null,null,null,null,null,null,null,null,null,null,null,null,null,null,null,null,null,null,null,null,null,null,null,{"$f":"IF('IN-DEPTH'!$K$41=\"enabled\",1,0)","v":0}]
[null,null,null,null,null,null,"Agency Engagement Events",null,null,null,null,null,null,null,null,null,null,null,null,null,null,null,null,null,null,{"$f":"IF('IN-DEPTH'!$K$42=\"enabled\",1,0)","v":0}]
[null,null,null,null,null,null,null,null,null,null,null,null,null,null,null,null,null,null,null,null,null,null,null,null,null,{"$f":"IF('IN-DEPTH'!$K$42=\"enabled\",1,0)","v":0}]
[null,null,null,null,null,null,null,null,null,null,null,null,null,null,null,null,null,null,null,null,null,null,null,null,null,{"$f":"IF('IN-DEPTH'!$K$42=\"enabled\",1,0)","v":0}]
[null,null,null,null,null,null,"Event Month",null,"Date Held",null,null,null,"Event Name",null,null,null,null,null,"Event Participation",null,null,null,null,null,null,{"$f":"IF('IN-DEPTH'!$K$42=\"enabled\",1,0)","v":0}]
[null,null,null,null,null,1,{"$f":"IFERROR(VLOOKUP(1,'CENTRAL ANALYSIS'!$A$139:$G$153,7,FALSE),\"\")","v":""},null,{"$f":"IFERROR(VLOOKUP(F746,'CENTRAL ANALYSIS'!$A$139:$G$153,2,FALSE),\"\")","v":""},null,null,null,{"$f":"IFERROR(VLOOKUP(F746,'CENTRAL ANALYSIS'!$A$139:$G$153,3,FALSE),\"\")","v":""},null,null,null,null,null,{"$f":"IFERROR(VLOOKUP(F746,'CENTRAL ANALYSIS'!$A$139:$G$153,5,FALSE),\"\")","v":""},null,null,null,null,null,null,{"$f":"IF('IN-DEPTH'!$K$42=\"enabled\",1,0)","v":0}]
[null,null,null,null,null,2,{"$f":"IFERROR(IF(COUNTIF($G$746,VLOOKUP(2,'CENTRAL ANALYSIS'!$A$139:$G$153,7,FALSE))>0,\"\",VLOOKUP(2,'CENTRAL ANALYSIS'!$A$139:$G$153,7,FALSE)),\"\")","v":""},null,{"$f":"IFERROR(VLOOKUP(F747,'CENTRAL ANALYSIS'!$A$139:$G$153,2,FALSE),\"\")","v":""},null,null,null,{"$f":"IFERROR(VLOOKUP(F747,'CENTRAL ANALYSIS'!$A$139:$G$153,3,FALSE),\"\")","v":""},null,null,null,null,null,{"$f":"IFERROR(VLOOKUP(F747,'CENTRAL ANALYSIS'!$A$139:$G$153,5,FALSE),\"\")","v":""},null,null,null,null,null,null,{"$f":"IF('IN-DEPTH'!$K$42=\"enabled\",1,0)","v":0}]
[null,null,null,null,null,3,{"$f":"IFERROR(IF(COUNTIF($G$746:$H747,VLOOKUP(3,'CENTRAL ANALYSIS'!$A$139:$G$153,7,FALSE))>0,\"\",VLOOKUP(3,'CENTRAL ANALYSIS'!$A$139:$G$153,7,FALSE)),\"\")","v":""},null,{"$f":"IFERROR(VLOOKUP(F748,'CENTRAL ANALYSIS'!$A$139:$G$153,2,FALSE),\"\")","v":""},null,null,null,{"$f":"IFERROR(VLOOKUP(F748,'CENTRAL ANALYSIS'!$A$139:$G$153,3,FALSE),\"\")","v":""},null,null,null,null,null,{"$f":"IFERROR(VLOOKUP(F748,'CENTRAL ANALYSIS'!$A$139:$G$153,5,FALSE),\"\")","v":""},null,null,null,null,null,null,{"$f":"IF('IN-DEPTH'!$K$42=\"enabled\",1,0)","v":0}]
[null,null,null,null,null,4,{"$f":"IFERROR(IF(COUNTIF($G$746:$H748,VLOOKUP(4,'CENTRAL ANALYSIS'!$A$139:$G$153,7,FALSE))>0,\"\",VLOOKUP(4,'CENTRAL ANALYSIS'!$A$139:$G$153,7,FALSE)),\"\")","v":""},null,{"$f":"IFERROR(VLOOKUP(F749,'CENTRAL ANALYSIS'!$A$139:$G$153,2,FALSE),\"\")","v":""},null,null,null,{"$f":"IFERROR(VLOOKUP(F749,'CENTRAL ANALYSIS'!$A$139:$G$153,3,FALSE),\"\")","v":""},null,null,null,null,null,{"$f":"IFERROR(VLOOKUP(F749,'CENTRAL ANALYSIS'!$A$139:$G$153,5,FALSE),\"\")","v":""},null,null,null,null,null,null,{"$f":"IF('IN-DEPTH'!$K$42=\"enabled\",1,0)","v":0}]
[null,null,null,null,null,5,{"$f":"IFERROR(IF(COUNTIF($G$746:$H749,VLOOKUP(5,'CENTRAL ANALYSIS'!$A$139:$G$153,7,FALSE))>0,\"\",VLOOKUP(5,'CENTRAL ANALYSIS'!$A$139:$G$153,7,FALSE)),\"\")","v":""},null,{"$f":"IFERROR(VLOOKUP(F750,'CENTRAL ANALYSIS'!$A$139:$G$153,2,FALSE),\"\")","v":""},null,null,null,{"$f":"IFERROR(VLOOKUP(F750,'CENTRAL ANALYSIS'!$A$139:$G$153,3,FALSE),\"\")","v":""},null,null,null,null,null,{"$f":"IFERROR(VLOOKUP(F750,'CENTRAL ANALYSIS'!$A$139:$G$153,5,FALSE),\"\")","v":""},null,null,null,null,null,null,{"$f":"IF('IN-DEPTH'!$K$42=\"enabled\",1,0)","v":0}]
[null,null,null,null,null,6,{"$f":"IFERROR(IF(COUNTIF($G$746:$H750,VLOOKUP(6,'CENTRAL ANALYSIS'!$A$139:$G$153,7,FALSE))>0,\"\",VLOOKUP(6,'CENTRAL ANALYSIS'!$A$139:$G$153,7,FALSE)),\"\")","v":""},null,{"$f":"IFERROR(VLOOKUP(F751,'CENTRAL ANALYSIS'!$A$139:$G$153,2,FALSE),\"\")","v":""},null,null,null,{"$f":"IFERROR(VLOOKUP(F751,'CENTRAL ANALYSIS'!$A$139:$G$153,3,FALSE),\"\")","v":""},null,null,null,null,null,{"$f":"IFERROR(VLOOKUP(F751,'CENTRAL ANALYSIS'!$A$139:$G$153,5,FALSE),\"\")","v":""},null,null,null,null,null,null,{"$f":"IF('IN-DEPTH'!$K$42=\"enabled\",1,0)","v":0}]
[null,null,null,null,null,7,{"$f":"IFERROR(IF(COUNTIF($G$746:$H751,VLOOKUP(7,'CENTRAL ANALYSIS'!$A$139:$G$153,7,FALSE))>0,\"\",VLOOKUP(7,'CENTRAL ANALYSIS'!$A$139:$G$153,7,FALSE)),\"\")","v":""},null,{"$f":"IFERROR(VLOOKUP(F752,'CENTRAL ANALYSIS'!$A$139:$G$153,2,FALSE),\"\")","v":""},null,null,null,{"$f":"IFERROR(VLOOKUP(F752,'CENTRAL ANALYSIS'!$A$139:$G$153,3,FALSE),\"\")","v":""},null,null,null,null,null,{"$f":"IFERROR(VLOOKUP(F752,'CENTRAL ANALYSIS'!$A$139:$G$153,5,FALSE),\"\")","v":""},null,null,null,null,null,null,{"$f":"IF('IN-DEPTH'!$K$42=\"enabled\",1,0)","v":0}]
[null,null,null,null,null,8,{"$f":"IFERROR(IF(COUNTIF($G$746:$H752,VLOOKUP(8,'CENTRAL ANALYSIS'!$A$139:$G$153,7,FALSE))>0,\"\",VLOOKUP(8,'CENTRAL ANALYSIS'!$A$139:$G$153,7,FALSE)),\"\")","v":""},null,{"$f":"IFERROR(VLOOKUP(F753,'CENTRAL ANALYSIS'!$A$139:$G$153,2,FALSE),\"\")","v":""},null,null,null,{"$f":"IFERROR(VLOOKUP(F753,'CENTRAL ANALYSIS'!$A$139:$G$153,3,FALSE),\"\")","v":""},null,null,null,null,null,{"$f":"IFERROR(VLOOKUP(F753,'CENTRAL ANALYSIS'!$A$139:$G$153,5,FALSE),\"\")","v":""},null,null,null,null,null,null,{"$f":"IF('IN-DEPTH'!$K$42=\"enabled\",1,0)","v":0}]
[null,null,null,null,null,9,{"$f":"IFERROR(IF(COUNTIF($G$746:$H753,VLOOKUP(9,'CENTRAL ANALYSIS'!$A$139:$G$153,7,FALSE))>0,\"\",VLOOKUP(9,'CENTRAL ANALYSIS'!$A$139:$G$153,7,FALSE)),\"\")","v":""},null,{"$f":"IFERROR(VLOOKUP(F754,'CENTRAL ANALYSIS'!$A$139:$G$153,2,FALSE),\"\")","v":""},null,null,null,{"$f":"IFERROR(VLOOKUP(F754,'CENTRAL ANALYSIS'!$A$139:$G$153,3,FALSE),\"\")","v":""},null,null,null,null,null,{"$f":"IFERROR(VLOOKUP(F754,'CENTRAL ANALYSIS'!$A$139:$G$153,5,FALSE),\"\")","v":""},null,null,null,null,null,null,{"$f":"IF('IN-DEPTH'!$K$42=\"enabled\",1,0)","v":0}]
[null,null,null,null,null,10,{"$f":"IFERROR(IF(COUNTIF($G$746:$H754,VLOOKUP(10,'CENTRAL ANALYSIS'!$A$139:$G$153,7,FALSE))>0,\"\",VLOOKUP(10,'CENTRAL ANALYSIS'!$A$139:$G$153,7,FALSE)),\"\")","v":""},null,{"$f":"IFERROR(VLOOKUP(F755,'CENTRAL ANALYSIS'!$A$139:$G$153,2,FALSE),\"\")","v":""},null,null,null,{"$f":"IFERROR(VLOOKUP(F755,'CENTRAL ANALYSIS'!$A$139:$G$153,3,FALSE),\"\")","v":""},null,null,null,null,null,{"$f":"IFERROR(VLOOKUP(F755,'CENTRAL ANALYSIS'!$A$139:$G$153,5,FALSE),\"\")","v":""},null,null,null,null,null,null,{"$f":"IF('IN-DEPTH'!$K$42=\"enabled\",1,0)","v":0}]
[null,null,null,null,null,11,{"$f":"IFERROR(IF(COUNTIF($G$746:$H755,VLOOKUP(11,'CENTRAL ANALYSIS'!$A$139:$G$153,7,FALSE))>0,\"\",VLOOKUP(11,'CENTRAL ANALYSIS'!$A$139:$G$153,7,FALSE)),\"\")","v":""},null,{"$f":"IFERROR(VLOOKUP(F756,'CENTRAL ANALYSIS'!$A$139:$G$153,2,FALSE),\"\")","v":""},null,null,null,{"$f":"IFERROR(VLOOKUP(F756,'CENTRAL ANALYSIS'!$A$139:$G$153,3,FALSE),\"\")","v":""},null,null,null,null,null,{"$f":"IFERROR(VLOOKUP(F756,'CENTRAL ANALYSIS'!$A$139:$G$153,5,FALSE),\"\")","v":""},null,null,null,null,null,null,{"$f":"IF('IN-DEPTH'!$K$42=\"enabled\",1,0)","v":0}]
[null,null,null,null,null,12,{"$f":"IFERROR(IF(COUNTIF($G$746:$H756,VLOOKUP(12,'CENTRAL ANALYSIS'!$A$139:$G$153,7,FALSE))>0,\"\",VLOOKUP(12,'CENTRAL ANALYSIS'!$A$139:$G$153,7,FALSE)),\"\")","v":""},null,{"$f":"IFERROR(VLOOKUP(F757,'CENTRAL ANALYSIS'!$A$139:$G$153,2,FALSE),\"\")","v":""},null,null,null,{"$f":"IFERROR(VLOOKUP(F757,'CENTRAL ANALYSIS'!$A$139:$G$153,3,FALSE),\"\")","v":""},null,null,null,null,null,{"$f":"IFERROR(VLOOKUP(F757,'CENTRAL ANALYSIS'!$A$139:$G$153,5,FALSE),\"\")","v":""},null,null,null,null,null,null,{"$f":"IF('IN-DEPTH'!$K$42=\"enabled\",1,0)","v":0}]
[null,null,null,null,null,13,{"$f":"IFERROR(IF(COUNTIF($G$746:$H757,VLOOKUP(13,'CENTRAL ANALYSIS'!$A$139:$G$153,7,FALSE))>0,\"\",VLOOKUP(13,'CENTRAL ANALYSIS'!$A$139:$G$153,7,FALSE)),\"\")","v":""},null,{"$f":"IFERROR(VLOOKUP(F758,'CENTRAL ANALYSIS'!$A$139:$G$153,2,FALSE),\"\")","v":""},null,null,null,{"$f":"IFERROR(VLOOKUP(F758,'CENTRAL ANALYSIS'!$A$139:$G$153,3,FALSE),\"\")","v":""},null,null,null,null,null,{"$f":"IFERROR(VLOOKUP(F758,'CENTRAL ANALYSIS'!$A$139:$G$153,5,FALSE),\"\")","v":""},null,null,null,null,null,null,{"$f":"IF('IN-DEPTH'!$K$42=\"enabled\",1,0)","v":0}]
[null,null,null,null,null,14,{"$f":"IFERROR(IF(COUNTIF($G$746:$H758,VLOOKUP(14,'CENTRAL ANALYSIS'!$A$139:$G$153,7,FALSE))>0,\"\",VLOOKUP(14,'CENTRAL ANALYSIS'!$A$139:$G$153,7,FALSE)),\"\")","v":""},null,{"$f":"IFERROR(VLOOKUP(F759,'CENTRAL ANALYSIS'!$A$139:$G$153,2,FALSE),\"\")","v":""},null,null,null,{"$f":"IFERROR(VLOOKUP(F759,'CENTRAL ANALYSIS'!$A$139:$G$153,3,FALSE),\"\")","v":""},null,null,null,null,null,{"$f":"IFERROR(VLOOKUP(F759,'CENTRAL ANALYSIS'!$A$139:$G$153,5,FALSE),\"\")","v":""},null,null,null,null,null,null,{"$f":"IF('IN-DEPTH'!$K$42=\"enabled\",1,0)","v":0}]
[null,null,null,null,null,15,{"$f":"IFERROR(IF(COUNTIF($G$746:$H759,VLOOKUP(15,'CENTRAL ANALYSIS'!$A$139:$G$153,7,FALSE))>0,\"\",VLOOKUP(15,'CENTRAL ANALYSIS'!$A$139:$G$153,7,FALSE)),\"\")","v":""},null,{"$f":"IFERROR(VLOOKUP(F760,'CENTRAL ANALYSIS'!$A$139:$G$153,2,FALSE),\"\")","v":""},null,null,null,{"$f":"IFERROR(VLOOKUP(F760,'CENTRAL ANALYSIS'!$A$139:$G$153,3,FALSE),\"\")","v":""},null,null,null,null,null,{"$f":"IFERROR(VLOOKUP(F760,'CENTRAL ANALYSIS'!$A$139:$G$153,5,FALSE),\"\")","v":""},null,null,null,null,null,null,{"$f":"IF('IN-DEPTH'!$K$42=\"enabled\",1,0)","v":0}]
[null,null,null,null,null,null,null,null,null,null,null,null,null,null,null,null,null,null,{"$f":"IFERROR(VLOOKUP(F761,'CENTRAL ANALYSIS'!$A$139:$G$153,5,FALSE),\"\")","v":""},null,null,null,null,null,null,{"$f":"IF('IN-DEPTH'!$K$42=\"enabled\",1,0)","v":0}]
[null,null,null,null,null,null,"Employee Recognition ",null,null,null,null,null,null,null,null,null,null,null,null,null,null,null,null,null,null,{"$f":"IF('IN-DEPTH'!$K$43=\"enabled\",1,0)","v":0}]
[null,null,null,null,null,null,null,null,null,null,null,null,null,null,null,null,null,null,null,null,null,null,null,null,null,{"$f":"IF('IN-DEPTH'!$K$43=\"enabled\",1,0)","v":0}]
[null,null,null,null,null,null,null,null,null,null,null,null,null,null,null,null,null,null,null,null,null,null,null,null,null,{"$f":"IF('IN-DEPTH'!$K$43=\"enabled\",1,0)","v":0}]
[null,null,null,null,null,null,"Recognition Type",null,"Recognition Description",null,null,null,null,null,null,null,null,null,"Number Recognized",null,null,null,null,null,null,{"$f":"IF('IN-DEPTH'!$K$43=\"enabled\",1,0)","v":0}]
[null,null,null,null,null,null,{"$f":"IF('IN-DEPTH'!B288=\"other\",'IN-DEPTH'!E288,'IN-DEPTH'!B288)","v":0},null,{"$f":"'IN-DEPTH'!H288","v":0},null,null,null,null,null,null,null,null,null,{"$f":"IFERROR(VLOOKUP(I766,'IN-DEPTH'!$H$288:$P$307,2,FALSE),\"\")","v":""},null,null,null,null,null,null,{"$f":"IF('IN-DEPTH'!$K$43=\"enabled\",1,0)","v":0}]
[null,null,null,null,null,null,{"$f":"IF('IN-DEPTH'!B289=\"other\",'IN-DEPTH'!E289,'IN-DEPTH'!B289)","v":0},null,{"$f":"'IN-DEPTH'!H289","v":0},null,null,null,null,null,null,null,null,null,{"$f":"IFERROR(VLOOKUP(I767,'IN-DEPTH'!$H$288:$P$307,2,FALSE),\"\")","v":""},null,null,null,null,null,null,{"$f":"IF('IN-DEPTH'!$K$43=\"enabled\",1,0)","v":0}]
[null,null,null,null,null,null,{"$f":"IF('IN-DEPTH'!B290=\"other\",'IN-DEPTH'!E290,'IN-DEPTH'!B290)","v":0},null,{"$f":"'IN-DEPTH'!H290","v":0},null,null,null,null,null,null,null,null,null,{"$f":"IFERROR(VLOOKUP(I768,'IN-DEPTH'!$H$288:$P$307,2,FALSE),\"\")","v":""},null,null,null,null,null,null,{"$f":"IF('IN-DEPTH'!$K$43=\"enabled\",1,0)","v":0}]
[null,null,null,null,null,null,{"$f":"IF('IN-DEPTH'!B291=\"other\",'IN-DEPTH'!E291,'IN-DEPTH'!B291)","v":0},null,{"$f":"'IN-DEPTH'!H291","v":0},null,null,null,null,null,null,null,null,null,{"$f":"IFERROR(VLOOKUP(I769,'IN-DEPTH'!$H$288:$P$307,2,FALSE),\"\")","v":""},null,null,null,null,null,null,{"$f":"IF('IN-DEPTH'!$K$43=\"enabled\",1,0)","v":0}]
[null,null,null,null,null,null,{"$f":"IF('IN-DEPTH'!B292=\"other\",'IN-DEPTH'!E292,'IN-DEPTH'!B292)","v":0},null,{"$f":"'IN-DEPTH'!H292","v":0},null,null,null,null,null,null,null,null,null,{"$f":"IFERROR(VLOOKUP(I770,'IN-DEPTH'!$H$288:$P$307,2,FALSE),\"\")","v":""},null,null,null,null,null,null,{"$f":"IF('IN-DEPTH'!$K$43=\"enabled\",1,0)","v":0}]
[null,null,null,null,null,null,{"$f":"IF('IN-DEPTH'!B293=\"other\",'IN-DEPTH'!E293,'IN-DEPTH'!B293)","v":0},null,{"$f":"'IN-DEPTH'!H293","v":0},null,null,null,null,null,null,null,null,null,{"$f":"IFERROR(VLOOKUP(I771,'IN-DEPTH'!$H$288:$P$307,2,FALSE),\"\")","v":""},null,null,null,null,null,null,{"$f":"IF('IN-DEPTH'!$K$43=\"enabled\",1,0)","v":0}]
[null,null,null,null,null,null,{"$f":"IF('IN-DEPTH'!B294=\"other\",'IN-DEPTH'!E294,'IN-DEPTH'!B294)","v":0},null,{"$f":"'IN-DEPTH'!H294","v":0},null,null,null,null,null,null,null,null,null,{"$f":"IFERROR(VLOOKUP(I772,'IN-DEPTH'!$H$288:$P$307,2,FALSE),\"\")","v":""},null,null,null,null,null,null,{"$f":"IF('IN-DEPTH'!$K$43=\"enabled\",1,0)","v":0}]
[null,null,null,null,null,null,{"$f":"IF('IN-DEPTH'!B295=\"other\",'IN-DEPTH'!E295,'IN-DEPTH'!B295)","v":0},null,{"$f":"'IN-DEPTH'!H295","v":0},null,null,null,null,null,null,null,null,null,{"$f":"IFERROR(VLOOKUP(I773,'IN-DEPTH'!$H$288:$P$307,2,FALSE),\"\")","v":""},null,null,null,null,null,null,{"$f":"IF('IN-DEPTH'!$K$43=\"enabled\",1,0)","v":0}]
[null,null,null,null,null,null,{"$f":"IF('IN-DEPTH'!B296=\"other\",'IN-DEPTH'!E296,'IN-DEPTH'!B296)","v":0},null,{"$f":"'IN-DEPTH'!H296","v":0},null,null,null,null,null,null,null,null,null,{"$f":"IFERROR(VLOOKUP(I774,'IN-DEPTH'!$H$288:$P$307,2,FALSE),\"\")","v":""},null,null,null,null,null,null,{"$f":"IF('IN-DEPTH'!$K$43=\"enabled\",1,0)","v":0}]
[null,null,null,null,null,null,{"$f":"IF('IN-DEPTH'!B297=\"other\",'IN-DEPTH'!E297,'IN-DEPTH'!B297)","v":0},null,{"$f":"'IN-DEPTH'!H297","v":0},null,null,null,null,null,null,null,null,null,{"$f":"IFERROR(VLOOKUP(I775,'IN-DEPTH'!$H$288:$P$307,2,FALSE),\"\")","v":""},null,null,null,null,null,null,{"$f":"IF('IN-DEPTH'!$K$43=\"enabled\",1,0)","v":0}]
[null,null,null,null,null,null,{"$f":"IF('IN-DEPTH'!B298=\"other\",'IN-DEPTH'!E298,'IN-DEPTH'!B298)","v":0},null,{"$f":"'IN-DEPTH'!H298","v":0},null,null,null,null,null,null,null,null,null,{"$f":"IFERROR(VLOOKUP(I776,'IN-DEPTH'!$H$288:$P$307,2,FALSE),\"\")","v":""},null,null,null,null,null,null,{"$f":"IF('IN-DEPTH'!$K$43=\"enabled\",1,0)","v":0}]
[null,null,null,null,null,null,{"$f":"IF('IN-DEPTH'!B299=\"other\",'IN-DEPTH'!E299,'IN-DEPTH'!B299)","v":0},null,{"$f":"'IN-DEPTH'!H299","v":0},null,null,null,null,null,null,null,null,null,{"$f":"IFERROR(VLOOKUP(I777,'IN-DEPTH'!$H$288:$P$307,2,FALSE),\"\")","v":""},null,null,null,null,null,null,{"$f":"IF('IN-DEPTH'!$K$43=\"enabled\",1,0)","v":0}]
[null,null,null,null,null,null,{"$f":"IF('IN-DEPTH'!B300=\"other\",'IN-DEPTH'!E300,'IN-DEPTH'!B300)","v":0},null,{"$f":"'IN-DEPTH'!H300","v":0},null,null,null,null,null,null,null,null,null,{"$f":"IFERROR(VLOOKUP(I778,'IN-DEPTH'!$H$288:$P$307,2,FALSE),\"\")","v":""},null,null,null,null,null,null,{"$f":"IF('IN-DEPTH'!$K$43=\"enabled\",1,0)","v":0}]
[null,null,null,null,null,null,{"$f":"IF('IN-DEPTH'!B301=\"other\",'IN-DEPTH'!E301,'IN-DEPTH'!B301)","v":0},null,{"$f":"'IN-DEPTH'!H301","v":0},null,null,null,null,null,null,null,null,null,{"$f":"IFERROR(VLOOKUP(I779,'IN-DEPTH'!$H$288:$P$307,2,FALSE),\"\")","v":""},null,null,null,null,null,null,{"$f":"IF('IN-DEPTH'!$K$43=\"enabled\",1,0)","v":0}]
[null,null,null,null,null,null,{"$f":"IF('IN-DEPTH'!B302=\"other\",'IN-DEPTH'!E302,'IN-DEPTH'!B302)","v":0},null,{"$f":"'IN-DEPTH'!H302","v":0},null,null,null,null,null,null,null,null,null,{"$f":"IFERROR(VLOOKUP(I780,'IN-DEPTH'!$H$288:$P$307,2,FALSE),\"\")","v":""},null,null,null,null,null,null,{"$f":"IF('IN-DEPTH'!$K$43=\"enabled\",1,0)","v":0}]
[null,null,null,null,null,null,{"$f":"IF('IN-DEPTH'!B303=\"other\",'IN-DEPTH'!E303,'IN-DEPTH'!B303)","v":0},null,{"$f":"'IN-DEPTH'!H303","v":0},null,null,null,null,null,null,null,null,null,{"$f":"IFERROR(VLOOKUP(I781,'IN-DEPTH'!$H$288:$P$307,2,FALSE),\"\")","v":""},null,null,null,null,null,null,{"$f":"IF('IN-DEPTH'!$K$43=\"enabled\",1,0)","v":0}]
[null,null,null,null,null,null,{"$f":"IF('IN-DEPTH'!B304=\"other\",'IN-DEPTH'!E304,'IN-DEPTH'!B304)","v":0},null,{"$f":"'IN-DEPTH'!H304","v":0},null,null,null,null,null,null,null,null,null,{"$f":"IFERROR(VLOOKUP(I782,'IN-DEPTH'!$H$288:$P$307,2,FALSE),\"\")","v":""},null,null,null,null,null,null,{"$f":"IF('IN-DEPTH'!$K$43=\"enabled\",1,0)","v":0}]
[null,null,null,null,null,null,{"$f":"IF('IN-DEPTH'!B305=\"other\",'IN-DEPTH'!E305,'IN-DEPTH'!B305)","v":0},null,{"$f":"'IN-DEPTH'!H305","v":0},null,null,null,null,null,null,null,null,null,{"$f":"IFERROR(VLOOKUP(I783,'IN-DEPTH'!$H$288:$P$307,2,FALSE),\"\")","v":""},null,null,null,null,null,null,{"$f":"IF('IN-DEPTH'!$K$43=\"enabled\",1,0)","v":0}]
[null,null,null,null,null,null,{"$f":"IF('IN-DEPTH'!B306=\"other\",'IN-DEPTH'!E306,'IN-DEPTH'!B306)","v":0},null,{"$f":"'IN-DEPTH'!H306","v":0},null,null,null,null,null,null,null,null,null,{"$f":"IFERROR(VLOOKUP(I784,'IN-DEPTH'!$H$288:$P$307,2,FALSE),\"\")","v":""},null,null,null,null,null,null,{"$f":"IF('IN-DEPTH'!$K$43=\"enabled\",1,0)","v":0}]
[null,null,null,null,null,null,{"$f":"IF('IN-DEPTH'!B307=\"other\",'IN-DEPTH'!E307,'IN-DEPTH'!B307)","v":0},null,{"$f":"'IN-DEPTH'!H307","v":0},null,null,null,null,null,null,null,null,null,{"$f":"IFERROR(VLOOKUP(I785,'IN-DEPTH'!$H$288:$P$307,2,FALSE),\"\")","v":""},null,null,null,null,null,null,{"$f":"IF('IN-DEPTH'!$K$43=\"enabled\",1,0)","v":0}]
[null,null,null,null,null,null,null,null,null,null,null,null,null,null,null,null,null,null,null,null,null,null,null,null,null,{"$f":"IF('IN-DEPTH'!$K$43=\"enabled\",1,0)","v":0}]
[null,null,null,null,null,null,"Employee Development (Internal Opportunities)",null,null,null,null,null,null,null,null,null,null,null,null,null,null,null,null,null,null,{"$f":"IF(OR(COUNTIF('IN-DEPTH'!$O$29:$O$30,\"enabled\")>0,COUNTIF(COMPREHENSIVE!$M$73:$O$77,\"enabled\")>0),1,0)","v":0}]
[null,null,null,null,null,null,null,null,null,null,null,null,null,null,null,null,null,null,null,null,null,null,null,null,null,{"$f":"IF(OR(COUNTIF('IN-DEPTH'!$O$29:$O$30,\"enabled\")>0,COUNTIF(COMPREHENSIVE!$M$73:$O$77,\"enabled\")>0),1,0)","v":0}]
[null,null,null,null,null,null,null,null,null,null,null,null,null,null,null,null,null,null,null,null,null,null,null,null,null,{"$f":"IF(OR(COUNTIF('IN-DEPTH'!$O$29:$O$30,\"enabled\")>0,COUNTIF(COMPREHENSIVE!$M$73:$O$77,\"enabled\")>0),1,0)","v":0}]
[null,null,null,null,null,null,null,null,null,null,"All Employees",null,null,null,"Leaders",null,null,null,"Executives",null,null,null,null,null,null,{"$f":"IF(OR(COUNTIF('IN-DEPTH'!$O$29:$O$30,\"enabled\")>0,COUNTIF(COMPREHENSIVE!$M$73:$O$77,\"enabled\")>0),1,0)","v":0}]
[null,null,null,null,null,null,null,null,null,null,null,null,null,null,null,null,null,null,null,null,null,null,null,null,null,{"$f":"IF(OR(COUNTIF('IN-DEPTH'!$O$29:$O$30,\"enabled\")>0,COUNTIF(COMPREHENSIVE!$M$73:$O$77,\"enabled\")>0),1,0)","v":0}]
[null,null,"All","Leaders","Exec.",null,null,null,null,null,{"$f":"CONCATENATE(TEXT(FOUNDATIONAL!P185,0),\" Total Participants\")","v":"0 Total Participants"},null,null,null,{"$f":"CONCATENATE(TEXT('IN-DEPTH'!P323,0),\" Leader Participants\")","v":"0 Leader Participants"},null,null,null,{"$f":"CONCATENATE(TEXT('IN-DEPTH'!P327,0),\" Executive Participants\")","v":"0 Executive Participants"},null,null,null,null,null,null,{"$f":"IF(OR(COUNTIF('IN-DEPTH'!$O$29:$O$30,\"enabled\")>0),1,0)","v":0}]
[null,null,null,null,null,null,null,null,null,null,null,null,null,null,null,null,null,null,null,null,null,null,null,null,null,{"$f":"IF(OR(COUNTIF('IN-DEPTH'!$O$29:$O$30,\"enabled\")>0),1,0)","v":0}]
[null,null,null,null,null,null,null,null,"Males",null,{"$f":"IF(COMPREHENSIVE!P3213=\"\",\"\",COMPREHENSIVE!P3213)","v":""},{"$f":"K794","v":""},null,null,{"$f":"IF(COMPREHENSIVE!P3216=\"\",\"\",COMPREHENSIVE!P3216)","v":""},{"$f":"O794","v":""},null,null,{"$f":"IF(COMPREHENSIVE!P3219=\"\",\"\",COMPREHENSIVE!P3219)","v":""},{"$f":"S794","v":""},null,null,null,null,null,{"$f":"IF(OR(COUNTIF(COMPREHENSIVE!$M$75:$O$75,\"enabled\")>0),1,0)","v":0}]
[null,null,null,null,null,null,null,null,"Females",null,{"$f":"IF(COMPREHENSIVE!P3214=\"\",\"\",COMPREHENSIVE!P3214)","v":""},{"$f":"K795","v":""},null,null,{"$f":"IF(COMPREHENSIVE!P3217=\"\",\"\",COMPREHENSIVE!P3217)","v":""},{"$f":"O795","v":""},null,null,{"$f":"IF(COMPREHENSIVE!P3220=\"\",\"\",COMPREHENSIVE!P3220)","v":""},{"$f":"S795","v":""},null,null,null,null,null,{"$f":"IF(OR(COUNTIF(COMPREHENSIVE!$M$75:$O$75,\"enabled\")>0),1,0)","v":0}]
[null,null,null,null,null,null,null,null,null,null,null,null,null,null,null,null,null,null,null,null,null,null,null,null,null,{"$f":"IF(OR(COUNTIF(COMPREHENSIVE!$M$75:$O$75,\"enabled\")>0),1,0)","v":0}]
[null,null,null,null,null,null,null,null,"Minority",null,{"$f":"IF(COMPREHENSIVE!P3225=\"\",\"\",COMPREHENSIVE!P3225)","v":""},{"$f":"K797","v":""},null,null,{"$f":"IF(COMPREHENSIVE!P3228=\"\",\"\",COMPREHENSIVE!P3228)","v":""},{"$f":"O797","v":""},null,null,{"$f":"IF(COMPREHENSIVE!P3231=\"\",\"\",COMPREHENSIVE!P3231)","v":""},{"$f":"S797","v":""},null,null,null,null,null,{"$f":"IF(OR(COUNTIF(COMPREHENSIVE!$M$76:$O$76,\"enabled\")>0),1,0)","v":0}]
[null,null,null,null,null,null,null,null,"Non-Minority",null,{"$f":"IF(COMPREHENSIVE!P3226=\"\",\"\",COMPREHENSIVE!P3226)","v":""},{"$f":"K798","v":""},null,null,{"$f":"IF(COMPREHENSIVE!P3229=\"\",\"\",COMPREHENSIVE!P3229)","v":""},{"$f":"O798","v":""},null,null,{"$f":"IF(COMPREHENSIVE!P3232=\"\",\"\",COMPREHENSIVE!P3232)","v":""},{"$f":"S798","v":""},null,null,null,null,null,{"$f":"IF(OR(COUNTIF(COMPREHENSIVE!$M$76:$O$76,\"enabled\")>0),1,0)","v":0}]
[null,null,null,null,null,null,null,null,null,null,null,null,null,null,null,null,null,null,null,null,null,null,null,null,null,{"$f":"IF(OR(COUNTIF(COMPREHENSIVE!$M$76:$O$76,\"enabled\")>0),1,0)","v":0}]
[null,null,null,null,null,null,null,null," Individuals with Disabilities",null,{"$f":"IF(COMPREHENSIVE!P3237=\"\",\"\",COMPREHENSIVE!P3237)","v":""},{"$f":"K800","v":""},null,null,{"$f":"IF(COMPREHENSIVE!P3240=\"\",\"\",COMPREHENSIVE!P3240)","v":""},{"$f":"O800","v":""},null,null,{"$f":"IF(COMPREHENSIVE!P3243=\"\",\"\",COMPREHENSIVE!P3243)","v":""},{"$f":"S800","v":""},null,null,null,null,null,{"$f":"IF(OR(COUNTIF(COMPREHENSIVE!$M$77:$O$77,\"enabled\")>0),1,0)","v":0}]
[null,null,null,null,null,null,null,null,"Veterans",null,{"$f":"IF(COMPREHENSIVE!P3238=\"\",\"\",COMPREHENSIVE!P3238)","v":""},{"$f":"K801","v":""},null,null,{"$f":"IF(COMPREHENSIVE!P3241=\"\",\"\",COMPREHENSIVE!P3241)","v":""},{"$f":"O801","v":""},null,null,{"$f":"IF(COMPREHENSIVE!P3244=\"\",\"\",COMPREHENSIVE!P3244)","v":""},{"$f":"S801","v":""},null,null,null,null,null,{"$f":"IF(OR(COUNTIF(COMPREHENSIVE!$M$77:$O$77,\"enabled\")>0),1,0)","v":0}]
[null,null,null,null,null,null,null,null,null,null,null,null,null,null,null,null,null,null,null,null,null,null,null,null,null,{"$f":"IF(OR(COUNTIF(COMPREHENSIVE!$M$77:$O$77,\"enabled\")>0),1,0)","v":0}]
[null,null,null,null,null,null,"Officials and Administrators",null,null,null,{"$f":"IF(COMPREHENSIVE!P3126=\"\",\"\",COMPREHENSIVE!P3126)","v":""},{"$f":"K803","v":""},null,null,{"$f":"IF(COMPREHENSIVE!P3137=\"\",\"\",COMPREHENSIVE!P3137)","v":""},{"$f":"O803","v":""},null,null,{"$f":"IF(COMPREHENSIVE!P3148=\"\",\"\",COMPREHENSIVE!P3148)","v":""},{"$f":"S803","v":""},null,null,null,null,null,{"$f":"IF(OR(COUNTIF(COMPREHENSIVE!$M$73:$O$79,\"enabled\")>0),1,0)","v":0}]
[null,null,null,null,null,null,"Professionals",null,null,null,{"$f":"IF(COMPREHENSIVE!P3127=\"\",\"\",COMPREHENSIVE!P3127)","v":""},{"$f":"K804","v":""},null,null,{"$f":"IF(COMPREHENSIVE!P3138=\"\",\"\",COMPREHENSIVE!P3138)","v":""},{"$f":"O804","v":""},null,null,{"$f":"IF(COMPREHENSIVE!P3149=\"\",\"\",COMPREHENSIVE!P3149)","v":""},{"$f":"S804","v":""},null,null,null,null,null,{"$f":"IF(OR(COUNTIF(COMPREHENSIVE!$M$73:$O$79,\"enabled\")>0),1,0)","v":0}]
[null,null,null,null,null,null,"Technicians",null,null,null,{"$f":"IF(COMPREHENSIVE!P3128=\"\",\"\",COMPREHENSIVE!P3128)","v":""},"",null,null,{"$f":"IF(COMPREHENSIVE!P3139=\"\",\"\",COMPREHENSIVE!P3139)","v":""},"",null,null,{"$f":"IF(COMPREHENSIVE!P3150=\"\",\"\",COMPREHENSIVE!P3150)","v":""},"",null,null,null,null,null,{"$f":"IF(OR(COUNTIF(COMPREHENSIVE!$M$73:$O$79,\"enabled\")>0),1,0)","v":0}]
[null,null,null,null,null,null,"Protective Service Workers",null,null,null,{"$f":"IF(COMPREHENSIVE!P3129=\"\",\"\",COMPREHENSIVE!P3129)","v":""},"",null,null,{"$f":"IF(COMPREHENSIVE!P3140=\"\",\"\",COMPREHENSIVE!P3140)","v":""},"",null,null,{"$f":"IF(COMPREHENSIVE!P3151=\"\",\"\",COMPREHENSIVE!P3151)","v":""},"",null,null,null,null,null,{"$f":"IF(OR(COUNTIF(COMPREHENSIVE!$M$73:$O$79,\"enabled\")>0),1,0)","v":0}]
[null,null,null,null,null,null,"Paraprofessionals",null,null,null,{"$f":"IF(COMPREHENSIVE!P3130=\"\",\"\",COMPREHENSIVE!P3130)","v":""},"",null,null,{"$f":"IF(COMPREHENSIVE!P3141=\"\",\"\",COMPREHENSIVE!P3141)","v":""},"",null,null,{"$f":"IF(COMPREHENSIVE!P3152=\"\",\"\",COMPREHENSIVE!P3152)","v":""},"",null,null,null,null,null,{"$f":"IF(OR(COUNTIF(COMPREHENSIVE!$M$73:$O$79,\"enabled\")>0),1,0)","v":0}]
[null,null,null,null,null,null,"Administrative Support",null,null,null,{"$f":"IF(COMPREHENSIVE!P3131=\"\",\"\",COMPREHENSIVE!P3131)","v":""},"",null,null,{"$f":"IF(COMPREHENSIVE!P3142=\"\",\"\",COMPREHENSIVE!P3142)","v":""},"",null,null,{"$f":"IF(COMPREHENSIVE!P3153=\"\",\"\",COMPREHENSIVE!P3153)","v":""},"",null,null,null,null,null,{"$f":"IF(OR(COUNTIF(COMPREHENSIVE!$M$73:$O$79,\"enabled\")>0),1,0)","v":0}]
[null,null,null,null,null,null,"Skilled Craft Workers",null,null,null,{"$f":"IF(COMPREHENSIVE!P3132=\"\",\"\",COMPREHENSIVE!P3132)","v":""},"",null,null,{"$f":"IF(COMPREHENSIVE!P3143=\"\",\"\",COMPREHENSIVE!P3143)","v":""},"",null,null,{"$f":"IF(COMPREHENSIVE!P3154=\"\",\"\",COMPREHENSIVE!P3154)","v":""},"",null,null,null,null,null,{"$f":"IF(OR(COUNTIF(COMPREHENSIVE!$M$73:$O$79,\"enabled\")>0),1,0)","v":0}]
[null,null,null,null,null,null,"Service/Maintenance",null,null,null,{"$f":"IF(COMPREHENSIVE!P3133=\"\",\"\",COMPREHENSIVE!P3133)","v":""},"",null,null,{"$f":"IF(COMPREHENSIVE!P3144=\"\",\"\",COMPREHENSIVE!P3144)","v":""},"",null,null,{"$f":"IF(COMPREHENSIVE!P3155=\"\",\"\",COMPREHENSIVE!P3155)","v":""},"",null,null,null,null,null,{"$f":"IF(OR(COUNTIF(COMPREHENSIVE!$M$73:$O$79,\"enabled\")>0),1,0)","v":0}]
[null,null,null,null,null,null,"Faculty",null,null,null,{"$f":"IF(COMPREHENSIVE!P3134=\"\",\"\",COMPREHENSIVE!P3134)","v":""},"",null,null,{"$f":"IF(COMPREHENSIVE!P3145=\"\",\"\",COMPREHENSIVE!P3145)","v":""},"",null,null,{"$f":"IF(COMPREHENSIVE!P3156=\"\",\"\",COMPREHENSIVE!P3156)","v":""},"",null,null,null,null,null,{"$f":"IF(OR(COUNTIF(COMPREHENSIVE!$M$73:$O$79,\"enabled\")>0),1,0)","v":0}]
[null,null,null,null,null,null,"Other",null,null,null,{"$f":"IF(COMPREHENSIVE!P3135=\"\",\"\",COMPREHENSIVE!P3135)","v":""},"",null,null,{"$f":"IF(COMPREHENSIVE!P3146=\"\",\"\",COMPREHENSIVE!P3146)","v":""},"",null,null,{"$f":"IF(COMPREHENSIVE!P3157=\"\",\"\",COMPREHENSIVE!P3157)","v":""},"",null,null,null,null,null,{"$f":"IF(OR(COUNTIF(COMPREHENSIVE!$M$73:$O$79,\"enabled\")>0),1,0)","v":0}]
[null,null,null,null,null,null,null,null,null,null,null,null,null,null,null,null,null,null,null,null,null,null,null,null,null,{"$f":"IF(OR(COUNTIF(COMPREHENSIVE!$M$73:$O$79,\"enabled\")>0),1,0)","v":0}]
[null,null,null,null,null,null,{"$f":"PROFILE!$C$58","v":0},null,null,null,{"$f":"IF(COMPREHENSIVE!P3162=\"\",\"\",COMPREHENSIVE!P3162)","v":""},{"$f":"K814","v":""},null,null,{"$f":"IF(COMPREHENSIVE!P3178=\"\",\"\",COMPREHENSIVE!P3178)","v":""},{"$f":"O814","v":""},null,null,{"$f":"IF(COMPREHENSIVE!P3194=\"\",\"\",COMPREHENSIVE!P3194)","v":""},{"$f":"S814","v":""},null,null,null,null,{"$f":"COUNTIF(G814,\"*\"&PROFILE!$C$58&\"*\")","v":0},{"$f":"IF(AND(OR(COUNTIF(COMPREHENSIVE!$M$74:$O$74,\"enabled\")>0),Y814=1),1,0)","v":0}]
[null,null,null,null,null,null,{"$f":"PROFILE!$C$59","v":0},null,null,null,{"$f":"IF(COMPREHENSIVE!P3163=\"\",\"\",COMPREHENSIVE!P3163)","v":""},{"$f":"K815","v":""},null,null,{"$f":"IF(COMPREHENSIVE!P3179=\"\",\"\",COMPREHENSIVE!P3179)","v":""},{"$f":"O815","v":""},null,null,{"$f":"IF(COMPREHENSIVE!P3195=\"\",\"\",COMPREHENSIVE!P3195)","v":""},{"$f":"S815","v":""},null,null,null,null,{"$f":"COUNTIF(G815,\"*\"&PROFILE!$C$59&\"*\")","v":0},{"$f":"IF(AND(OR(COUNTIF(COMPREHENSIVE!$M$74:$O$74,\"enabled\")>0),Y815=1),1,0)","v":0}]
[null,null,null,null,null,null,{"$f":"PROFILE!$C$60","v":0},null,null,null,{"$f":"IF(COMPREHENSIVE!P3164=\"\",\"\",COMPREHENSIVE!P3164)","v":""},"",null,null,{"$f":"IF(COMPREHENSIVE!P3180=\"\",\"\",COMPREHENSIVE!P3180)","v":""},"",null,null,{"$f":"IF(COMPREHENSIVE!P3196=\"\",\"\",COMPREHENSIVE!P3196)","v":""},"",null,null,null,null,{"$f":"COUNTIF(G816,\"*\"&PROFILE!$C$60&\"*\")","v":0},{"$f":"IF(AND(OR(COUNTIF(COMPREHENSIVE!$M$74:$O$74,\"enabled\")>0),Y816=1),1,0)","v":0}]
[null,null,null,null,null,null,{"$f":"PROFILE!$C$61","v":0},null,null,null,{"$f":"IF(COMPREHENSIVE!P3165=\"\",\"\",COMPREHENSIVE!P3165)","v":""},"",null,null,{"$f":"IF(COMPREHENSIVE!P3181=\"\",\"\",COMPREHENSIVE!P3181)","v":""},"",null,null,{"$f":"IF(COMPREHENSIVE!P3197=\"\",\"\",COMPREHENSIVE!P3197)","v":""},"",null,null,null,null,{"$f":"COUNTIF(G817,\"*\"&PROFILE!$C$61&\"*\")","v":0},{"$f":"IF(AND(OR(COUNTIF(COMPREHENSIVE!$M$74:$O$74,\"enabled\")>0),Y817=1),1,0)","v":0}]
[null,null,null,null,null,null,{"$f":"PROFILE!$C$62","v":0},null,null,null,{"$f":"IF(COMPREHENSIVE!P3166=\"\",\"\",COMPREHENSIVE!P3166)","v":""},"",null,null,{"$f":"IF(COMPREHENSIVE!P3182=\"\",\"\",COMPREHENSIVE!P3182)","v":""},"",null,null,{"$f":"IF(COMPREHENSIVE!P3198=\"\",\"\",COMPREHENSIVE!P3198)","v":""},"",null,null,null,null,{"$f":"COUNTIF(G818,\"*\"&PROFILE!$C$62&\"*\")","v":0},{"$f":"IF(AND(OR(COUNTIF(COMPREHENSIVE!$M$74:$O$74,\"enabled\")>0),Y818=1),1,0)","v":0}]
[null,null,null,null,null,null,{"$f":"PROFILE!$C$63","v":0},null,null,null,{"$f":"IF(COMPREHENSIVE!P3167=\"\",\"\",COMPREHENSIVE!P3167)","v":""},"",null,null,{"$f":"IF(COMPREHENSIVE!P3183=\"\",\"\",COMPREHENSIVE!P3183)","v":""},"",null,null,{"$f":"IF(COMPREHENSIVE!P3199=\"\",\"\",COMPREHENSIVE!P3199)","v":""},"",null,null,null,null,{"$f":"COUNTIF(G819,\"*\"&PROFILE!$C$63&\"*\")","v":0},{"$f":"IF(AND(OR(COUNTIF(COMPREHENSIVE!$M$74:$O$74,\"enabled\")>0),Y819=1),1,0)","v":0}]
[null,null,null,null,null,null,{"$f":"PROFILE!$C$64","v":0},null,null,null,{"$f":"IF(COMPREHENSIVE!P3168=\"\",\"\",COMPREHENSIVE!P3168)","v":""},"",null,null,{"$f":"IF(COMPREHENSIVE!P3184=\"\",\"\",COMPREHENSIVE!P3184)","v":""},"",null,null,{"$f":"IF(COMPREHENSIVE!P3200=\"\",\"\",COMPREHENSIVE!P3200)","v":""},"",null,null,null,null,{"$f":"COUNTIF(G820,\"*\"&PROFILE!$C$64&\"*\")","v":0},{"$f":"IF(AND(OR(COUNTIF(COMPREHENSIVE!$M$74:$O$74,\"enabled\")>0),Y820=1),1,0)","v":0}]
[null,null,null,null,null,null,{"$f":"PROFILE!$C$65","v":0},null,null,null,{"$f":"IF(COMPREHENSIVE!P3169=\"\",\"\",COMPREHENSIVE!P3169)","v":""},"",null,null,{"$f":"IF(COMPREHENSIVE!P3185=\"\",\"\",COMPREHENSIVE!P3185)","v":""},"",null,null,{"$f":"IF(COMPREHENSIVE!P3201=\"\",\"\",COMPREHENSIVE!P3201)","v":""},"",null,null,null,null,{"$f":"COUNTIF(G821,\"*\"&PROFILE!$C$65&\"*\")","v":0},{"$f":"IF(AND(OR(COUNTIF(COMPREHENSIVE!$M$74:$O$74,\"enabled\")>0),Y821=1),1,0)","v":0}]
[null,null,null,null,null,null,{"$f":"PROFILE!$C$66","v":0},null,null,null,{"$f":"IF(COMPREHENSIVE!P3170=\"\",\"\",COMPREHENSIVE!P3170)","v":""},"",null,null,{"$f":"IF(COMPREHENSIVE!P3186=\"\",\"\",COMPREHENSIVE!P3186)","v":""},"",null,null,{"$f":"IF(COMPREHENSIVE!P3202=\"\",\"\",COMPREHENSIVE!P3202)","v":""},"",null,null,null,null,{"$f":"COUNTIF(G822,\"*\"&PROFILE!$C$66&\"*\")","v":0},{"$f":"IF(AND(OR(COUNTIF(COMPREHENSIVE!$M$74:$O$74,\"enabled\")>0),Y822=1),1,0)","v":0}]
[null,null,null,null,null,null,{"$f":"PROFILE!$C$67","v":0},null,null,null,{"$f":"IF(COMPREHENSIVE!P3171=\"\",\"\",COMPREHENSIVE!P3171)","v":""},"",null,null,{"$f":"IF(COMPREHENSIVE!P3187=\"\",\"\",COMPREHENSIVE!P3187)","v":""},"",null,null,{"$f":"IF(COMPREHENSIVE!P3203=\"\",\"\",COMPREHENSIVE!P3203)","v":""},"",null,null,null,null,{"$f":"COUNTIF(G823,\"*\"&PROFILE!$C$67&\"*\")","v":0},{"$f":"IF(AND(OR(COUNTIF(COMPREHENSIVE!$M$74:$O$74,\"enabled\")>0),Y823=1),1,0)","v":0}]
[null,null,null,null,null,null,{"$f":"PROFILE!$C$68","v":0},null,null,null,{"$f":"IF(COMPREHENSIVE!P3172=\"\",\"\",COMPREHENSIVE!P3172)","v":""},"",null,null,{"$f":"IF(COMPREHENSIVE!P3188=\"\",\"\",COMPREHENSIVE!P3188)","v":""},"",null,null,{"$f":"IF(COMPREHENSIVE!P3204=\"\",\"\",COMPREHENSIVE!P3204)","v":""},"",null,null,null,null,{"$f":"COUNTIF(G824,\"*\"&PROFILE!$C$68&\"*\")","v":0},{"$f":"IF(AND(OR(COUNTIF(COMPREHENSIVE!$M$74:$O$74,\"enabled\")>0),Y824=1),1,0)","v":0}]
[null,null,null,null,null,null,{"$f":"PROFILE!$C$69","v":0},null,null,null,{"$f":"IF(COMPREHENSIVE!P3173=\"\",\"\",COMPREHENSIVE!P3173)","v":""},"",null,null,{"$f":"IF(COMPREHENSIVE!P3189=\"\",\"\",COMPREHENSIVE!P3189)","v":""},"",null,null,{"$f":"IF(COMPREHENSIVE!P3205=\"\",\"\",COMPREHENSIVE!P3205)","v":""},"",null,null,null,null,{"$f":"COUNTIF(G825,\"*\"&PROFILE!$C$69&\"*\")","v":0},{"$f":"IF(AND(OR(COUNTIF(COMPREHENSIVE!$M$74:$O$74,\"enabled\")>0),Y825=1),1,0)","v":0}]
[null,null,null,null,null,null,{"$f":"PROFILE!$C$70","v":0},null,null,null,{"$f":"IF(COMPREHENSIVE!P3174=\"\",\"\",COMPREHENSIVE!P3174)","v":""},"",null,null,{"$f":"IF(COMPREHENSIVE!P3190=\"\",\"\",COMPREHENSIVE!P3190)","v":""},"",null,null,{"$f":"IF(COMPREHENSIVE!P3206=\"\",\"\",COMPREHENSIVE!P3206)","v":""},"",null,null,null,null,{"$f":"COUNTIF(G826,\"*\"&PROFILE!$C$70&\"*\")","v":0},{"$f":"IF(AND(OR(COUNTIF(COMPREHENSIVE!$M$74:$O$74,\"enabled\")>0),Y826=1),1,0)","v":0}]
[null,null,null,null,null,null,{"$f":"PROFILE!$C$71","v":0},null,null,null,{"$f":"IF(COMPREHENSIVE!P3175=\"\",\"\",COMPREHENSIVE!P3175)","v":""},"",null,null,{"$f":"IF(COMPREHENSIVE!P3191=\"\",\"\",COMPREHENSIVE!P3191)","v":""},"",null,null,{"$f":"IF(COMPREHENSIVE!P3207=\"\",\"\",COMPREHENSIVE!P3207)","v":""},"",null,null,null,null,{"$f":"COUNTIF(G827,\"*\"&PROFILE!$C$71&\"*\")","v":0},{"$f":"IF(AND(OR(COUNTIF(COMPREHENSIVE!$M$74:$O$74,\"enabled\")>0),Y827=1),1,0)","v":0}]
[null,null,null,null,null,null,{"$f":"PROFILE!$C$72","v":0},null,null,null,{"$f":"IF(COMPREHENSIVE!P3176=\"\",\"\",COMPREHENSIVE!P3176)","v":""},"",null,null,{"$f":"IF(COMPREHENSIVE!P3192=\"\",\"\",COMPREHENSIVE!P3192)","v":""},"",null,null,{"$f":"IF(COMPREHENSIVE!P3208=\"\",\"\",COMPREHENSIVE!P3208)","v":""},"",null,null,null,null,{"$f":"COUNTIF(G828,\"*\"&PROFILE!$C$72&\"*\")","v":0},{"$f":"IF(AND(OR(COUNTIF(COMPREHENSIVE!$M$74:$O$74,\"enabled\")>0),Y828=1),1,0)","v":0}]
[null,null,null,null,null,null,null,null,null,null,null,null,null,null,null,null,null,null,null,null,null,null,null,null,null,{"$f":"IF(OR(COUNTIF(COMPREHENSIVE!$M$74:$O$74,\"enabled\")>0),1,0)","v":0}]
[null,null,null,null,null,null,"Employee Development (External Opportunities)",null,null,null,null,null,null,null,null,null,null,null,null,null,null,null,null,null,null,{"$f":"IF(OR(COUNTIF('IN-DEPTH'!$O$33:$O$34,\"enabled\")>0,COUNTIF(COMPREHENSIVE!$M$81:$O$85,\"enabled\")>0),1,0)","v":0}]
[null,null,null,null,null,null,null,null,null,null,null,null,null,null,null,null,null,null,null,null,null,null,null,null,null,{"$f":"IF(OR(COUNTIF('IN-DEPTH'!$O$33:$O$34,\"enabled\")>0,COUNTIF(COMPREHENSIVE!$M$81:$O$85,\"enabled\")>0),1,0)","v":0}]
[null,null,null,null,null,null,null,null,null,null,null,null,null,null,null,null,null,null,null,null,null,null,null,null,null,{"$f":"IF(OR(COUNTIF('IN-DEPTH'!$O$33:$O$34,\"enabled\")>0,COUNTIF(COMPREHENSIVE!$M$81:$O$85,\"enabled\")>0),1,0)","v":0}]
[null,null,null,null,null,null,null,null,null,null,"All Employees",null,null,null,"Leaders",null,null,null,"Executives",null,null,null,null,null,null,{"$f":"IF(OR(COUNTIF('IN-DEPTH'!$O$33:$O$34,\"enabled\")>0,COUNTIF(COMPREHENSIVE!$M$81:$O$85,\"enabled\")>0),1,0)","v":0}]
[null,null,null,null,null,null,null,null,null,null,null,null,null,null,null,null,null,null,null,null,null,null,null,null,null,{"$f":"IF(OR(COUNTIF('IN-DEPTH'!$O$33:$O$34,\"enabled\")>0,COUNTIF(COMPREHENSIVE!$M$81:$O$85,\"enabled\")>0),1,0)","v":0}]
[null,null,"All","Leaders","Exec.",null,null,null,null,null,{"$f":"CONCATENATE(TEXT(FOUNDATIONAL!P191,0),\" Total Participants\")","v":"0 Total Participants"},null,null,null,{"$f":"CONCATENATE(TEXT('IN-DEPTH'!P334,0),\" Leader Participants\")","v":"0 Leader Participants"},null,null,null,{"$f":"CONCATENATE(TEXT('IN-DEPTH'!P338,0),\" Executive Participants\")","v":"0 Executive Participants"},null,null,null,null,null,null,{"$f":"IF(OR(COUNTIF('IN-DEPTH'!$O$33:$O$34,\"enabled\")>0),1,0)","v":0}]
[null,null,null,null,null,null,null,null,null,null,null,null,null,null,null,null,null,null,null,null,null,null,null,null,null,{"$f":"IF(OR(COUNTIF('IN-DEPTH'!$O$33:$O$34,\"enabled\")>0),1,0)","v":0}]
[null,null,null,null,null,null,null,null,"Males",null,{"$f":"IF(COMPREHENSIVE!P3336=\"\",\"\",COMPREHENSIVE!P3336)","v":""},{"$f":"K837","v":""},null,null,{"$f":"IF(COMPREHENSIVE!P3339=\"\",\"\",COMPREHENSIVE!P3339)","v":""},{"$f":"O837","v":""},null,null,{"$f":"IF(COMPREHENSIVE!P3342=\"\",\"\",COMPREHENSIVE!P3342)","v":""},{"$f":"S837","v":""},null,null,null,null,null,{"$f":"IF(OR(COUNTIF(COMPREHENSIVE!$M$83:$O$83,\"enabled\")>0),1,0)","v":0}]
[null,null,null,null,null,null,null,null,"Females",null,{"$f":"IF(COMPREHENSIVE!P3337=\"\",\"\",COMPREHENSIVE!P3337)","v":""},{"$f":"K838","v":""},null,null,{"$f":"IF(COMPREHENSIVE!P3340=\"\",\"\",COMPREHENSIVE!P3340)","v":""},{"$f":"O838","v":""},null,null,{"$f":"IF(COMPREHENSIVE!P3343=\"\",\"\",COMPREHENSIVE!P3343)","v":""},{"$f":"S838","v":""},null,null,null,null,null,{"$f":"IF(OR(COUNTIF(COMPREHENSIVE!$M$83:$O$83,\"enabled\")>0),1,0)","v":0}]
[null,null,null,null,null,null,null,null,null,null,null,null,null,null,null,null,null,null,null,null,null,null,null,null,null,{"$f":"IF(OR(COUNTIF(COMPREHENSIVE!$M$83:$O$83,\"enabled\")>0),1,0)","v":0}]
[null,null,null,null,null,null,null,null,"Minority",null,{"$f":"IF(COMPREHENSIVE!P3348=\"\",\"\",COMPREHENSIVE!P3348)","v":""},{"$f":"K840","v":""},null,null,{"$f":"IF(COMPREHENSIVE!P3351=\"\",\"\",COMPREHENSIVE!P3351)","v":""},{"$f":"O840","v":""},null,null,{"$f":"IF(COMPREHENSIVE!P3354=\"\",\"\",COMPREHENSIVE!P3354)","v":""},{"$f":"S840","v":""},null,null,null,null,null,{"$f":"IF(OR(COUNTIF(COMPREHENSIVE!$M$84:$O$84,\"enabled\")>0),1,0)","v":0}]
[null,null,null,null,null,null,null,null,"Non-Minority",null,{"$f":"IF(COMPREHENSIVE!P3349=\"\",\"\",COMPREHENSIVE!P3349)","v":""},{"$f":"K841","v":""},null,null,{"$f":"IF(COMPREHENSIVE!P3352=\"\",\"\",COMPREHENSIVE!P3352)","v":""},{"$f":"O841","v":""},null,null,{"$f":"IF(COMPREHENSIVE!P3355=\"\",\"\",COMPREHENSIVE!P3355)","v":""},{"$f":"S841","v":""},null,null,null,null,null,{"$f":"IF(OR(COUNTIF(COMPREHENSIVE!$M$84:$O$84,\"enabled\")>0),1,0)","v":0}]
[null,null,null,null,null,null,null,null,null,null,null,null,null,null,null,null,null,null,null,null,null,null,null,null,null,{"$f":"IF(OR(COUNTIF(COMPREHENSIVE!$M$84:$O$84,\"enabled\")>0),1,0)","v":0}]
[null,null,null,null,null,null,null,null," Individuals with Disabilities",null,{"$f":"IF(COMPREHENSIVE!P3360=\"\",\"\",COMPREHENSIVE!P3360)","v":""},{"$f":"K843","v":""},null,null,{"$f":"IF(COMPREHENSIVE!P3363=\"\",\"\",COMPREHENSIVE!P3363)","v":""},{"$f":"O843","v":""},null,null,{"$f":"IF(COMPREHENSIVE!P3366=\"\",\"\",COMPREHENSIVE!P3366)","v":""},{"$f":"S843","v":""},null,null,null,null,null,{"$f":"IF(OR(COUNTIF(COMPREHENSIVE!$M$85:$O$85,\"enabled\")>0),1,0)","v":0}]
[null,null,null,null,null,null,null,null,"Veterans",null,{"$f":"IF(COMPREHENSIVE!P3361=\"\",\"\",COMPREHENSIVE!P3361)","v":""},{"$f":"K844","v":""},null,null,{"$f":"IF(COMPREHENSIVE!P3364=\"\",\"\",COMPREHENSIVE!P3364)","v":""},{"$f":"O844","v":""},null,null,{"$f":"IF(COMPREHENSIVE!P3367=\"\",\"\",COMPREHENSIVE!P3367)","v":""},{"$f":"S844","v":""},null,null,null,null,null,{"$f":"IF(OR(COUNTIF(COMPREHENSIVE!$M$85:$O$85,\"enabled\")>0),1,0)","v":0}]
[null,null,null,null,null,null,null,null,null,null,null,null,null,null,null,null,null,null,null,null,null,null,null,null,null,{"$f":"IF(OR(COUNTIF(COMPREHENSIVE!$M$85:$O$85,\"enabled\")>0),1,0)","v":0}]
[null,null,null,null,null,null,"Officials and Administrators",null,null,null,{"$f":"IF(COMPREHENSIVE!P3249=\"\",\"\",COMPREHENSIVE!P3249)","v":""},{"$f":"K846","v":""},null,null,{"$f":"IF(COMPREHENSIVE!P3260=\"\",\"\",COMPREHENSIVE!P3260)","v":""},{"$f":"O846","v":""},null,null,{"$f":"IF(COMPREHENSIVE!P3271=\"\",\"\",COMPREHENSIVE!P3271)","v":""},{"$f":"S846","v":""},null,null,null,null,null,{"$f":"IF(OR(COUNTIF(COMPREHENSIVE!$M$81:$O$81,\"enabled\")>0),1,0)","v":0}]
[null,null,null,null,null,null,"Professionals",null,null,null,{"$f":"IF(COMPREHENSIVE!P3250=\"\",\"\",COMPREHENSIVE!P3250)","v":""},{"$f":"K847","v":""},null,null,{"$f":"IF(COMPREHENSIVE!P3261=\"\",\"\",COMPREHENSIVE!P3261)","v":""},{"$f":"O847","v":""},null,null,{"$f":"IF(COMPREHENSIVE!P3272=\"\",\"\",COMPREHENSIVE!P3272)","v":""},{"$f":"S847","v":""},null,null,null,null,null,{"$f":"IF(OR(COUNTIF(COMPREHENSIVE!$M$81:$O$81,\"enabled\")>0),1,0)","v":0}]
[null,null,null,null,null,null,"Technicians",null,null,null,{"$f":"IF(COMPREHENSIVE!P3251=\"\",\"\",COMPREHENSIVE!P3251)","v":""},"",null,null,{"$f":"IF(COMPREHENSIVE!P3262=\"\",\"\",COMPREHENSIVE!P3262)","v":""},"",null,null,{"$f":"IF(COMPREHENSIVE!P3273=\"\",\"\",COMPREHENSIVE!P3273)","v":""},"",null,null,null,null,null,{"$f":"IF(OR(COUNTIF(COMPREHENSIVE!$M$81:$O$81,\"enabled\")>0),1,0)","v":0}]
[null,null,null,null,null,null,"Protective Service Workers",null,null,null,{"$f":"IF(COMPREHENSIVE!P3252=\"\",\"\",COMPREHENSIVE!P3252)","v":""},"",null,null,{"$f":"IF(COMPREHENSIVE!P3263=\"\",\"\",COMPREHENSIVE!P3263)","v":""},"",null,null,{"$f":"IF(COMPREHENSIVE!P3274=\"\",\"\",COMPREHENSIVE!P3274)","v":""},"",null,null,null,null,null,{"$f":"IF(OR(COUNTIF(COMPREHENSIVE!$M$81:$O$81,\"enabled\")>0),1,0)","v":0}]
[null,null,null,null,null,null,"Paraprofessionals",null,null,null,{"$f":"IF(COMPREHENSIVE!P3253=\"\",\"\",COMPREHENSIVE!P3253)","v":""},"",null,null,{"$f":"IF(COMPREHENSIVE!P3264=\"\",\"\",COMPREHENSIVE!P3264)","v":""},"",null,null,{"$f":"IF(COMPREHENSIVE!P3275=\"\",\"\",COMPREHENSIVE!P3275)","v":""},"",null,null,null,null,null,{"$f":"IF(OR(COUNTIF(COMPREHENSIVE!$M$81:$O$81,\"enabled\")>0),1,0)","v":0}]
[null,null,null,null,null,null,"Administrative Support",null,null,null,{"$f":"IF(COMPREHENSIVE!P3254=\"\",\"\",COMPREHENSIVE!P3254)","v":""},"",null,null,{"$f":"IF(COMPREHENSIVE!P3265=\"\",\"\",COMPREHENSIVE!P3265)","v":""},"",null,null,{"$f":"IF(COMPREHENSIVE!P3276=\"\",\"\",COMPREHENSIVE!P3276)","v":""},"",null,null,null,null,null,{"$f":"IF(OR(COUNTIF(COMPREHENSIVE!$M$81:$O$81,\"enabled\")>0),1,0)","v":0}]
[null,null,null,null,null,null,"Skilled Craft Workers",null,null,null,{"$f":"IF(COMPREHENSIVE!P3255=\"\",\"\",COMPREHENSIVE!P3255)","v":""},"",null,null,{"$f":"IF(COMPREHENSIVE!P3266=\"\",\"\",COMPREHENSIVE!P3266)","v":""},"",null,null,{"$f":"IF(COMPREHENSIVE!P3277=\"\",\"\",COMPREHENSIVE!P3277)","v":""},"",null,null,null,null,null,{"$f":"IF(OR(COUNTIF(COMPREHENSIVE!$M$81:$O$81,\"enabled\")>0),1,0)","v":0}]
[null,null,null,null,null,null,"Service/Maintenance",null,null,null,{"$f":"IF(COMPREHENSIVE!P3256=\"\",\"\",COMPREHENSIVE!P3256)","v":""},"",null,null,{"$f":"IF(COMPREHENSIVE!P3267=\"\",\"\",COMPREHENSIVE!P3267)","v":""},"",null,null,{"$f":"IF(COMPREHENSIVE!P3278=\"\",\"\",COMPREHENSIVE!P3278)","v":""},"",null,null,null,null,null,{"$f":"IF(OR(COUNTIF(COMPREHENSIVE!$M$81:$O$81,\"enabled\")>0),1,0)","v":0}]
[null,null,null,null,null,null,"Faculty",null,null,null,{"$f":"IF(COMPREHENSIVE!P3257=\"\",\"\",COMPREHENSIVE!P3257)","v":""},"",null,null,{"$f":"IF(COMPREHENSIVE!P3268=\"\",\"\",COMPREHENSIVE!P3268)","v":""},"",null,null,{"$f":"IF(COMPREHENSIVE!P3279=\"\",\"\",COMPREHENSIVE!P3279)","v":""},"",null,null,null,null,null,{"$f":"IF(OR(COUNTIF(COMPREHENSIVE!$M$81:$O$81,\"enabled\")>0),1,0)","v":0}]
[null,null,null,null,null,null,"Other",null,null,null,{"$f":"IF(COMPREHENSIVE!P3258=\"\",\"\",COMPREHENSIVE!P3258)","v":""},"",null,null,{"$f":"IF(COMPREHENSIVE!P3269=\"\",\"\",COMPREHENSIVE!P3269)","v":""},"",null,null,{"$f":"IF(COMPREHENSIVE!P3280=\"\",\"\",COMPREHENSIVE!P3280)","v":""},"",null,null,null,null,null,{"$f":"IF(OR(COUNTIF(COMPREHENSIVE!$M$81:$O$81,\"enabled\")>0),1,0)","v":0}]
[null,null,null,null,null,null,null,null,null,null,null,null,null,null,null,null,null,null,null,null,null,null,null,null,null,{"$f":"IF(OR(COUNTIF(COMPREHENSIVE!$M$81:$O$81,\"enabled\")>0),1,0)","v":0}]
[null,null,null,null,null,null,{"$f":"PROFILE!$C$58","v":0},null,null,null,{"$f":"IF(COMPREHENSIVE!P3285=\"\",\"\",COMPREHENSIVE!P3285)","v":""},{"$f":"K857","v":""},null,null,{"$f":"IF(COMPREHENSIVE!P3301=\"\",\"\",COMPREHENSIVE!P3301)","v":""},{"$f":"O857","v":""},null,null,{"$f":"IF(COMPREHENSIVE!P3317=\"\",\"\",COMPREHENSIVE!P3317)","v":""},{"$f":"S857","v":""},null,null,null,null,{"$f":"COUNTIF(G857,\"*\"&PROFILE!$C$58&\"*\")","v":0},{"$f":"IF(AND(OR(COUNTIF(COMPREHENSIVE!$M$82:$O$82,\"enabled\")>0),Y857=1),1,0)","v":0}]
[null,null,null,null,null,null,{"$f":"PROFILE!$C$59","v":0},null,null,null,{"$f":"IF(COMPREHENSIVE!P3286=\"\",\"\",COMPREHENSIVE!P3286)","v":""},{"$f":"K858","v":""},null,null,{"$f":"IF(COMPREHENSIVE!P3302=\"\",\"\",COMPREHENSIVE!P3302)","v":""},{"$f":"O858","v":""},null,null,{"$f":"IF(COMPREHENSIVE!P3318=\"\",\"\",COMPREHENSIVE!P3318)","v":""},{"$f":"S858","v":""},null,null,null,null,{"$f":"COUNTIF(G858,\"*\"&PROFILE!$C$59&\"*\")","v":0},{"$f":"IF(AND(OR(COUNTIF(COMPREHENSIVE!$M$82:$O$82,\"enabled\")>0),Y858=1),1,0)","v":0}]
[null,null,null,null,null,null,{"$f":"PROFILE!$C$60","v":0},null,null,null,{"$f":"IF(COMPREHENSIVE!P3287=\"\",\"\",COMPREHENSIVE!P3287)","v":""},"",null,null,{"$f":"IF(COMPREHENSIVE!P3303=\"\",\"\",COMPREHENSIVE!P3303)","v":""},"",null,null,{"$f":"IF(COMPREHENSIVE!P3319=\"\",\"\",COMPREHENSIVE!P3319)","v":""},"",null,null,null,null,{"$f":"COUNTIF(G859,\"*\"&PROFILE!$C$60&\"*\")","v":0},{"$f":"IF(AND(OR(COUNTIF(COMPREHENSIVE!$M$82:$O$82,\"enabled\")>0),Y859=1),1,0)","v":0}]
[null,null,null,null,null,null,{"$f":"PROFILE!$C$61","v":0},null,null,null,{"$f":"IF(COMPREHENSIVE!P3288=\"\",\"\",COMPREHENSIVE!P3288)","v":""},"",null,null,{"$f":"IF(COMPREHENSIVE!P3304=\"\",\"\",COMPREHENSIVE!P3304)","v":""},"",null,null,{"$f":"IF(COMPREHENSIVE!P3320=\"\",\"\",COMPREHENSIVE!P3320)","v":""},"",null,null,null,null,{"$f":"COUNTIF(G860,\"*\"&PROFILE!$C$61&\"*\")","v":0},{"$f":"IF(AND(OR(COUNTIF(COMPREHENSIVE!$M$82:$O$82,\"enabled\")>0),Y860=1),1,0)","v":0}]
[null,null,null,null,null,null,{"$f":"PROFILE!$C$62","v":0},null,null,null,{"$f":"IF(COMPREHENSIVE!P3289=\"\",\"\",COMPREHENSIVE!P3289)","v":""},"",null,null,{"$f":"IF(COMPREHENSIVE!P3305=\"\",\"\",COMPREHENSIVE!P3305)","v":""},"",null,null,{"$f":"IF(COMPREHENSIVE!P3321=\"\",\"\",COMPREHENSIVE!P3321)","v":""},"",null,null,null,null,{"$f":"COUNTIF(G861,\"*\"&PROFILE!$C$62&\"*\")","v":0},{"$f":"IF(AND(OR(COUNTIF(COMPREHENSIVE!$M$82:$O$82,\"enabled\")>0),Y861=1),1,0)","v":0}]
[null,null,null,null,null,null,{"$f":"PROFILE!$C$63","v":0},null,null,null,{"$f":"IF(COMPREHENSIVE!P3290=\"\",\"\",COMPREHENSIVE!P3290)","v":""},"",null,null,{"$f":"IF(COMPREHENSIVE!P3306=\"\",\"\",COMPREHENSIVE!P3306)","v":""},"",null,null,{"$f":"IF(COMPREHENSIVE!P3322=\"\",\"\",COMPREHENSIVE!P3322)","v":""},"",null,null,null,null,{"$f":"COUNTIF(G862,\"*\"&PROFILE!$C$63&\"*\")","v":0},{"$f":"IF(AND(OR(COUNTIF(COMPREHENSIVE!$M$82:$O$82,\"enabled\")>0),Y862=1),1,0)","v":0}]
[null,null,null,null,null,null,{"$f":"PROFILE!$C$64","v":0},null,null,null,{"$f":"IF(COMPREHENSIVE!P3291=\"\",\"\",COMPREHENSIVE!P3291)","v":""},"",null,null,{"$f":"IF(COMPREHENSIVE!P3307=\"\",\"\",COMPREHENSIVE!P3307)","v":""},"",null,null,{"$f":"IF(COMPREHENSIVE!P3323=\"\",\"\",COMPREHENSIVE!P3323)","v":""},"",null,null,null,null,{"$f":"COUNTIF(G863,\"*\"&PROFILE!$C$64&\"*\")","v":0},{"$f":"IF(AND(OR(COUNTIF(COMPREHENSIVE!$M$82:$O$82,\"enabled\")>0),Y863=1),1,0)","v":0}]
[null,null,null,null,null,null,{"$f":"PROFILE!$C$65","v":0},null,null,null,{"$f":"IF(COMPREHENSIVE!P3292=\"\",\"\",COMPREHENSIVE!P3292)","v":""},"",null,null,{"$f":"IF(COMPREHENSIVE!P3308=\"\",\"\",COMPREHENSIVE!P3308)","v":""},"",null,null,{"$f":"IF(COMPREHENSIVE!P3324=\"\",\"\",COMPREHENSIVE!P3324)","v":""},"",null,null,null,null,{"$f":"COUNTIF(G864,\"*\"&PROFILE!$C$65&\"*\")","v":0},{"$f":"IF(AND(OR(COUNTIF(COMPREHENSIVE!$M$82:$O$82,\"enabled\")>0),Y864=1),1,0)","v":0}]
[null,null,null,null,null,null,{"$f":"PROFILE!$C$66","v":0},null,null,null,{"$f":"IF(COMPREHENSIVE!P3293=\"\",\"\",COMPREHENSIVE!P3293)","v":""},"",null,null,{"$f":"IF(COMPREHENSIVE!P3309=\"\",\"\",COMPREHENSIVE!P3309)","v":""},"",null,null,{"$f":"IF(COMPREHENSIVE!P3325=\"\",\"\",COMPREHENSIVE!P3325)","v":""},"",null,null,null,null,{"$f":"COUNTIF(G865,\"*\"&PROFILE!$C$66&\"*\")","v":0},{"$f":"IF(AND(OR(COUNTIF(COMPREHENSIVE!$M$82:$O$82,\"enabled\")>0),Y865=1),1,0)","v":0}]
[null,null,null,null,null,null,{"$f":"PROFILE!$C$67","v":0},null,null,null,{"$f":"IF(COMPREHENSIVE!P3294=\"\",\"\",COMPREHENSIVE!P3294)","v":""},"",null,null,{"$f":"IF(COMPREHENSIVE!P3310=\"\",\"\",COMPREHENSIVE!P3310)","v":""},"",null,null,{"$f":"IF(COMPREHENSIVE!P3326=\"\",\"\",COMPREHENSIVE!P3326)","v":""},"",null,null,null,null,{"$f":"COUNTIF(G866,\"*\"&PROFILE!$C$67&\"*\")","v":0},{"$f":"IF(AND(OR(COUNTIF(COMPREHENSIVE!$M$82:$O$82,\"enabled\")>0),Y866=1),1,0)","v":0}]
[null,null,null,null,null,null,{"$f":"PROFILE!$C$68","v":0},null,null,null,{"$f":"IF(COMPREHENSIVE!P3295=\"\",\"\",COMPREHENSIVE!P3295)","v":""},"",null,null,{"$f":"IF(COMPREHENSIVE!P3311=\"\",\"\",COMPREHENSIVE!P3311)","v":""},"",null,null,{"$f":"IF(COMPREHENSIVE!P3327=\"\",\"\",COMPREHENSIVE!P3327)","v":""},"",null,null,null,null,{"$f":"COUNTIF(G867,\"*\"&PROFILE!$C$68&\"*\")","v":0},{"$f":"IF(AND(OR(COUNTIF(COMPREHENSIVE!$M$82:$O$82,\"enabled\")>0),Y867=1),1,0)","v":0}]
[null,null,null,null,null,null,{"$f":"PROFILE!$C$69","v":0},null,null,null,{"$f":"IF(COMPREHENSIVE!P3296=\"\",\"\",COMPREHENSIVE!P3296)","v":""},"",null,null,{"$f":"IF(COMPREHENSIVE!P3312=\"\",\"\",COMPREHENSIVE!P3312)","v":""},"",null,null,{"$f":"IF(COMPREHENSIVE!P3328=\"\",\"\",COMPREHENSIVE!P3328)","v":""},"",null,null,null,null,{"$f":"COUNTIF(G868,\"*\"&PROFILE!$C$69&\"*\")","v":0},{"$f":"IF(AND(OR(COUNTIF(COMPREHENSIVE!$M$82:$O$82,\"enabled\")>0),Y868=1),1,0)","v":0}]
[null,null,null,null,null,null,{"$f":"PROFILE!$C$70","v":0},null,null,null,{"$f":"IF(COMPREHENSIVE!P3297=\"\",\"\",COMPREHENSIVE!P3297)","v":""},"",null,null,{"$f":"IF(COMPREHENSIVE!P3313=\"\",\"\",COMPREHENSIVE!P3313)","v":""},"",null,null,{"$f":"IF(COMPREHENSIVE!P3329=\"\",\"\",COMPREHENSIVE!P3329)","v":""},"",null,null,null,null,{"$f":"COUNTIF(G869,\"*\"&PROFILE!$C$70&\"*\")","v":0},{"$f":"IF(AND(OR(COUNTIF(COMPREHENSIVE!$M$82:$O$82,\"enabled\")>0),Y869=1),1,0)","v":0}]
[null,null,null,null,null,null,{"$f":"PROFILE!$C$71","v":0},null,null,null,{"$f":"IF(COMPREHENSIVE!P3298=\"\",\"\",COMPREHENSIVE!P3298)","v":""},"",null,null,{"$f":"IF(COMPREHENSIVE!P3314=\"\",\"\",COMPREHENSIVE!P3314)","v":""},"",null,null,{"$f":"IF(COMPREHENSIVE!P3330=\"\",\"\",COMPREHENSIVE!P3330)","v":""},"",null,null,null,null,{"$f":"COUNTIF(G870,\"*\"&PROFILE!$C$71&\"*\")","v":0},{"$f":"IF(AND(OR(COUNTIF(COMPREHENSIVE!$M$82:$O$82,\"enabled\")>0),Y870=1),1,0)","v":0}]
[null,null,null,null,null,null,{"$f":"PROFILE!$C$72","v":0},null,null,null,{"$f":"IF(COMPREHENSIVE!P3299=\"\",\"\",COMPREHENSIVE!P3299)","v":""},"",null,null,{"$f":"IF(COMPREHENSIVE!P3315=\"\",\"\",COMPREHENSIVE!P3315)","v":""},"",null,null,{"$f":"IF(COMPREHENSIVE!P3251=\"\",\"\",COMPREHENSIVE!P3251)","v":""},"",null,null,null,null,{"$f":"COUNTIF(G871,\"*\"&PROFILE!$C$72&\"*\")","v":0},{"$f":"IF(AND(OR(COUNTIF(COMPREHENSIVE!$M$82:$O$82,\"enabled\")>0),Y871=1),1,0)","v":0}]
[null,null,null,null,null,null,null,null,null,null,null,null,null,null,null,null,null,null,null,null,null,null,null,null,null,{"$f":"IF(OR(COUNTIF(COMPREHENSIVE!$M$82:$O$82,\"enabled\")>0),1,0)","v":0}]
[null,null,null,null,null,null,null,null,null,null,null,null,null,null,null,null,null,null,null,null,null,null,null,null,null,1]
[null,null,"Step 2: Ensure the Appendix is Up to Date",null,null,null,null,null,null,null,null,null,null,null,null,null,null,null,null,null,null,null,null,null,null,1]
[null,null,null,null,null,null,null,null,null,null,null,null,null,null,null,null,null,null,null,null,null,null,null,null,null,1]
[null,null,"INSTRUCTIONS: If the report needs to be refreshed, indicated below, click the \"Refresh Report\" purple button. This will adjust the report to remove any items omitted in the optional settings and ensure the agency strategy reflects only the objectives and action items entered. ",null,null,null,null,null,null,null,null,null,null,null,null,null,null,null,null,null,null,null,null,null,null,1]
[null,null,null,null,null,null,null,null,null,null,null,null,null,null,null,null,null,null,null,null,null,null,null,null,null,1]
[null,null,null,null,null,null,null,null,null,null,null,null,null,null,null,null,null,null,null,null,null,null,null,null,null,1]
[null,null,null,null,null,{"$f":"IF(SUMIF($Z$1:$Z$893,1)<>SUBTOTAL(103,$Z$1:$Z$893),\"Appendix Needs to be Refreshed. Click the Refresh Button to the Right.\",\"Appendix is Up to Date.\")","v":"Appendix is Up to Date."},null,null,null,null,null,null,null,null,null,null,null,null,null,null,null,null,null,null,null,1]
[null,null,null,null,null,null,null,null,null,null,null,null,null,null,null,null,null,null,null,null,null,null,null,null,null,1]
[null,null,null,null,null,null,null,null,null,null,null,null,null,null,null,null,null,null,null,null,null,null,null,null,null,1]
[null,null,null,null,null,null,null,null,null,null,null,null,null,null,null,null,null,null,null,null,null,null,null,null,null,1]
[null,null,"Step 3: Export the Appendix to PDF",null,null,null,null,null,null,null,null,null,null,null,null,null,null,null,null,null,null,null,null,null,null,1]
[null,null,null,null,null,null,null,null,null,null,null,null,null,null,null,null,null,null,null,null,null,null,null,null,null,1]
[null,null,"INSTRUCTIONS: Click the blue button below to Export the report to a PDF. ",null,null,null,null,null,null,null,null,null,null,null,null,null,null,null,null,null,null,null,null,null,null,1]
[null,null,null,null,null,null,null,null,null,null,null,null,null,null,null,null,null,null,null,null,null,null,null,null,null,1]
[null,null,null,null,null,null,null,null,null,null,null,null,null,null,null,null,null,null,null,null,null,null,null,null,null,1]
[null,null,null,null,null,null,null,null,null,null,null,null,null,null,null,null,null,null,null,null,null,null,null,null,null,1]
[null,null,null,null,null,null,null,null,null,null,null,null,null,null,null,null,null,null,null,null,null,null,null,null,null,1]
[null,null,"NOTE: If the \"Export Report to PDF to Sign\" button prints the report, it can be exported to PDF manually by going to File and Print. Select the \"Microsoft Print to PDF\" as the printer and then click the Print button. This will then open a Save As dialogue box for you to save the report as a PDF.  ",null,null,null,null,null,null,null,null,null,null,null,null,null,null,null,null,null,null,null,null,null,null,1]
[null,null,null,null,null,null,null,null,null,null,null,null,null,null,null,null,null,null,null,null,null,null,null,null,null,1]
[null,null,null,null,null,null,null,null,null,null,null,null,null,null,null,null,null,null,null,null,null,null,null,null,null,1]
[null,null,null,null,null,null,null,null,null,null,null,null,null,null,null,null,null,null,null,null,null,null,null,null,null,1]
[null,null,null,null,null,null,null,null,null,null,null,null,null,null,null,null,null,null,null,null,null,null,null,null,null,0]

{"sheet":"IMPLEMENTATION NOTES","index":11,"n_rows":1400,"n_cols":23,"rows_kept":1400,"cut":false,"hidden":false,"merged":[[14,3,16,10],[22,2,23,15],[45,9,45,15],[46,9,46,15],[47,6,47,8],[47,9,47,15],[48,6,48,8],[48,9,48,15],[44,1,45,2],[37,3,37,5],[28,9,28,15],[29,9,29,15],[33,9,33,15],[34,9,34,15],[35,9,35,15],[36,9,36,15],[33,3,33,5],[33,6,33,8],[34,3,34,5],[26,1,27,2],[30,3,30,5],[30,6,30,8],[30,9,30,15],[39,6,39,8],[65,1,66,12],[65,13,66,15],[67,1,69,16],[41,3,41,5],[42,3,42,5],[35,3,35,5],[36,3,36,5],[46,6,46,8],[43,3,43,5],[43,6,43,8],[44,3,44,5],[44,6,44,8],[39,3,39,5],[44,9,44,15],[36,6,36,8],[54,3,54,5],[54,6,54,8],[52,3,52,5],[52,6,52,8],[53,3,53,5],[32,9,32,15],[50,1,51,2],[38,6,38,8],[45,3,45,5],[45,6,45,8],[46,3,46,5],[47,3,47,5],[48,3,48,5],[32,1,33,2],[35,6,35,8],[32,3,32,5],[32,6,32,8],[51,3,51,5],[51,6,51,8],[49,3,49,5],[49,6,49,8],[50,3,50,5],[50,6,50,8],[37,6,37,8],[34,6,34,8],[175,14,175,16],[176,8,178,16],[180,14,180,16],[208,14,208,16],[209,14,209,16],[210,14,210,16],[211,8,213,16],[203,14,203,16],[204,8,206,16],[196,14,196,16],[197,8,199,16],[201,14,201,16],[202,14,202,16],[182,14,182,16],[183,8,185,16],[187,14,187,16],[188,14,188,16],[189,14,189,16],[190,8,192,16],[71,6,73,16],[72,4,73,5],[94,8,96,16],[81,14,81,16],[82,14,82,16],[83,14,83,16],[88,14,88,16],[173,14,173,16],[174,14,174,16],[76,8,78,16],[167,14,167,16],[168,14,168,16],[169,8,171,16],[152,14,152,16],[153,14,153,16],[154,14,154,16],[155,8,157,16],[159,14,159,16],[80,14,80,16],[89,14,89,16],[98,14,98,16],[85,8,87,16],[160,14,160,16],[140,14,140,16],[236,14,236,16],[237,14,237,16],[238,14,238,16],[224,14,224,16],[225,8,227,16],[229,14,229,16],[230,14,230,16],[231,14,231,16],[115,14,115,16],[116,14,116,16],[117,14,117,16],[194,14,194,16],[195,14,195,16],[232,8,234,16],[215,14,215,16],[216,14,216,16],[217,14,217,16],[218,8,220,16],[222,14,222,16],[223,14,223,16],[181,14,181,16],[161,14,161,16],[162,8,164,16],[166,14,166,16],[322,8,326,16],[292,8,296,16],[298,8,302,16],[304,8,308,16],[239,8,241,16],[243,14,243,16],[244,14,244,16],[245,14,245,16],[246,8,248,16],[250,14,250,16],[251,14,251,16],[252,14,252,16],[253,8,255,16],[274,8,278,16],[280,8,284,16],[286,8,290,16],[257,14,257,16],[258,14,258,16],[259,14,259,16],[260,8,262,16],[265,5,266,16],[268,8,272,16],[310,8,314,16],[316,8,320,16],[141,8,143,16],[145,14,145,16],[146,14,146,16],[147,14,147,16],[148,8,150,16],[132,14,132,16],[133,14,133,16],[134,8,136,16],[138,14,138,16],[139,14,139,16],[131,14,131,16],[79,14,79,16],[90,14,90,16],[91,14,91,16],[92,14,92,16],[97,14,97,16],[99,14,99,16],[100,14,100,16],[101,14,101,16],[103,8,105,16],[106,14,106,16],[107,14,107,16],[108,14,108,16],[121,5,122,16],[124,14,124,16],[125,14,125,16],[127,8,129,16],[126,14,126,16],[118,14,118,16],[119,14,119,16],[109,14,109,16],[110,14,110,16],[112,8,114,16],[329,1,330,12],[329,13,330,15],[331,1,333,16],[335,6,337,16],[336,4,337,5],[340,8,342,16],[343,14,343,16],[344,14,344,16],[345,14,345,16],[346,14,346,16],[347,14,347,16],[349,8,351,16],[352,14,352,16],[353,14,353,16],[354,14,354,16],[355,14,355,16],[356,14,356,16],[358,8,360,16],[361,14,361,16],[362,14,362,16],[363,14,363,16],[364,14,364,16],[365,14,365,16],[367,8,369,16],[370,14,370,16],[371,14,371,16],[372,14,372,16],[373,14,373,16],[374,14,374,16],[376,8,378,16],[379,14,379,16],[380,14,380,16],[381,14,381,16],[382,14,382,16],[383,14,383,16],[385,5,386,16],[388,14,388,16],[389,14,389,16],[390,14,390,16],[391,8,393,16],[395,14,395,16],[396,14,396,16],[397,14,397,16],[398,8,400,16],[402,14,402,16],[403,14,403,16],[404,14,404,16],[405,8,407,16],[409,14,409,16],[410,14,410,16],[411,14,411,16],[412,8,414,16],[416,14,416,16],[417,14,417,16],[418,14,418,16],[419,8,421,16],[423,14,423,16],[424,14,424,16],[425,14,425,16],[426,8,428,16],[430,14,430,16],[431,14,431,16],[432,14,432,16],[433,8,435,16],[437,14,437,16],[438,14,438,16],[439,14,439,16],[440,8,442,16],[444,14,444,16],[445,14,445,16],[446,14,446,16],[447,8,449,16],[451,14,451,16],[452,14,452,16],[453,14,453,16],[454,8,456,16],[458,14,458,16],[459,14,459,16],[460,14,460,16],[461,8,463,16],[465,14,465,16],[466,14,466,16],[467,14,467,16],[468,8,470,16],[472,14,472,16],[473,14,473,16],[474,14,474,16],[475,8,477,16],[479,14,479,16],[480,14,480,16],[481,14,481,16],[482,8,484,16],[486,14,486,16],[487,14,487,16],[488,14,488,16],[489,8,491,16],[493,14,493,16],[494,14,494,16],[495,14,495,16],[496,8,498,16],[500,14,500,16],[501,14,501,16],[502,14,502,16],[503,8,505,16],[507,14,507,16],[508,14,508,16],[509,14,509,16],[510,8,512,16],[514,14,514,16],[515,14,515,16],[516,14,516,16],[517,8,519,16],[521,14,521,16],[522,14,522,16],[523,14,523,16],[524,8,526,16],[529,5,530,16],[532,8,536,16],[538,8,542,16],[544,8,548,16],[550,8,554,16],[556,8,560,16],[562,8,566,16],[568,8,572,16],[574,8,578,16],[580,8,584,16],[586,8,590,16],[593,1,594,12],[593,13,594,15],[595,1,597,16],[599,6,601,16],[600,4,601,5],[604,8,606,16],[607,14,607,16],[608,14,608,16],[609,14,609,16],[610,14,610,16],[611,14,611,16],[613,8,615,16],[616,14,616,16],[617,14,617,16],[618,14,618,16],[619,14,619,16],[620,14,620,16],[622,8,624,16],[625,14,625,16],[626,14,626,16],[627,14,627,16],[628,14,628,16],[629,14,629,16],[631,8,633,16],[634,14,634,16],[635,14,635,16],[636,14,636,16],[637,14,637,16],[638,14,638,16],[640,8,642,16],[643,14,643,16],[644,14,644,16],[645,14,645,16],[646,14,646,16],[647,14,647,16],[649,5,650,16],[652,14,652,16],[653,14,653,16],[654,14,654,16],[655,8,657,16],[659,14,659,16],[660,14,660,16],[661,14,661,16],[662,8,664,16],[666,14,666,16],[667,14,667,16],[668,14,668,16],[669,8,671,16],[673,14,673,16],[674,14,674,16],[675,14,675,16],[676,8,678,16],[680,14,680,16],[681,14,681,16],[682,14,682,16],[683,8,685,16],[687,14,687,16],[688,14,688,16],[689,14,689,16],[690,8,692,16],[694,14,694,16],[695,14,695,16],[696,14,696,16],[697,8,699,16],[701,14,701,16],[702,14,702,16],[703,14,703,16],[704,8,706,16],[708,14,708,16],[709,14,709,16],[710,14,710,16],[711,8,713,16],[715,14,715,16],[716,14,716,16],[717,14,717,16],[718,8,720,16],[722,14,722,16],[723,14,723,16],[724,14,724,16],[725,8,727,16],[729,14,729,16],[730,14,730,16],[731,14,731,16],[732,8,734,16],[736,14,736,16],[737,14,737,16],[738,14,738,16],[739,8,741,16],[743,14,743,16],[744,14,744,16],[745,14,745,16],[746,8,748,16],[750,14,750,16],[751,14,751,16],[752,14,752,16],[753,8,755,16],[757,14,757,16],[758,14,758,16],[759,14,759,16],[760,8,762,16],[764,14,764,16],[765,14,765,16],[766,14,766,16],[767,8,769,16],[771,14,771,16],[772,14,772,16],[773,14,773,16],[774,8,776,16],[778,14,778,16],[779,14,779,16],[780,14,780,16],[781,8,783,16],[785,14,785,16],[786,14,786,16],[787,14,787,16],[788,8,790,16],[793,5,794,16],[796,8,800,16],[802,8,806,16],[808,8,812,16],[814,8,818,16],[820,8,824,16],[826,8,830,16],[832,8,836,16],[838,8,842,16],[844,8,848,16],[850,8,854,16],[857,1,858,12],[857,13,858,15],[859,1,861,16],[863,6,865,16],[864,4,865,5],[868,8,870,16],[871,14,871,16],[872,14,872,16],[873,14,873,16],[874,14,874,16],[875,14,875,16],[877,8,879,16],[880,14,880,16],[881,14,881,16],[882,14,882,16],[883,14,883,16],[884,14,884,16],[886,8,888,16],[889,14,889,16],[890,14,890,16],[891,14,891,16],[892,14,892,16],[893,14,893,16],[895,8,897,16],[898,14,898,16],[899,14,899,16],[900,14,900,16],[901,14,901,16],[902,14,902,16],[904,8,906,16],[907,14,907,16],[908,14,908,16],[909,14,909,16],[910,14,910,16],[911,14,911,16],[913,5,914,16],[916,14,916,16],[917,14,917,16],[918,14,918,16],[919,8,921,16],[923,14,923,16],[924,14,924,16],[925,14,925,16],[926,8,928,16],[930,14,930,16],[931,14,931,16],[932,14,932,16],[933,8,935,16],[937,14,937,16],[938,14,938,16],[939,14,939,16],[940,8,942,16],[944,14,944,16],[945,14,945,16],[946,14,946,16],[947,8,949,16],[951,14,951,16],[952,14,952,16],[953,14,953,16],[954,8,956,16],[958,14,958,16],[959,14,959,16],[960,14,960,16],[961,8,963,16],[965,14,965,16],[966,14,966,16],[967,14,967,16],[968,8,970,16],[972,14,972,16],[973,14,973,16],[974,14,974,16],[975,8,977,16],[979,14,979,16],[980,14,980,16],[981,14,981,16],[982,8,984,16],[986,14,986,16],[987,14,987,16],[988,14,988,16],[989,8,991,16],[993,14,993,16],[994,14,994,16],[995,14,995,16],[996,8,998,16],[1000,14,1000,16],[1001,14,1001,16],[1002,14,1002,16],[1003,8,1005,16],[1007,14,1007,16],[1008,14,1008,16],[1009,14,1009,16],[1010,8,1012,16],[1014,14,1014,16],[1015,14,1015,16],[1016,14,1016,16],[1017,8,1019,16],[1021,14,1021,16],[1022,14,1022,16],[1023,14,1023,16],[1024,8,1026,16],[1028,14,1028,16],[1029,14,1029,16],[1030,14,1030,16],[1031,8,1033,16],[1035,14,1035,16],[1036,14,1036,16],[1037,14,1037,16],[1038,8,1040,16],[1042,14,1042,16],[1043,14,1043,16],[1044,14,1044,16],[1045,8,1047,16],[1049,14,1049,16],[1050,14,1050,16],[1051,14,1051,16],[1052,8,1054,16],[1057,5,1058,16],[1060,8,1064,16],[1066,8,1070,16],[1072,8,1076,16],[1078,8,1082,16],[1084,8,1088,16],[1090,8,1094,16],[1096,8,1100,16],[1102,8,1106,16],[1108,8,1112,16],[1114,8,1118,16],[1121,1,1122,12],[1121,13,1122,15],[1123,1,1125,16],[1127,6,1129,16],[1128,4,1129,5],[1132,8,1134,16],[1135,14,1135,16],[1136,14,1136,16],[1137,14,1137,16],[1138,14,1138,16],[1139,14,1139,16],[1141,8,1143,16],[1144,14,1144,16],[1145,14,1145,16],[1146,14,1146,16],[1147,14,1147,16],[1148,14,1148,16],[1150,8,1152,16],[1153,14,1153,16],[1154,14,1154,16],[1155,14,1155,16],[1156,14,1156,16],[1157,14,1157,16],[1159,8,1161,16],[1162,14,1162,16],[1163,14,1163,16],[1164,14,1164,16],[1165,14,1165,16],[1166,14,1166,16],[1168,8,1170,16],[1171,14,1171,16],[1172,14,1172,16],[1173,14,1173,16],[1174,14,1174,16],[1175,14,1175,16],[1177,5,1178,16],[1180,14,1180,16],[1181,14,1181,16],[1182,14,1182,16],[1183,8,1185,16],[1187,14,1187,16],[1188,14,1188,16],[1189,14,1189,16],[1190,8,1192,16],[1194,14,1194,16],[1195,14,1195,16],[1196,14,1196,16],[1197,8,1199,16],[1201,14,1201,16],[1202,14,1202,16],[1203,14,1203,16],[1204,8,1206,16],[1208,14,1208,16],[1209,14,1209,16],[1210,14,1210,16],[1211,8,1213,16],[1215,14,1215,16],[1216,14,1216,16],[1217,14,1217,16],[1218,8,1220,16],[1222,14,1222,16],[1223,14,1223,16],[1224,14,1224,16],[1225,8,1227,16],[1229,14,1229,16],[1230,14,1230,16],[1231,14,1231,16],[1232,8,1234,16],[1236,14,1236,16],[1237,14,1237,16],[1238,14,1238,16],[1239,8,1241,16],[1243,14,1243,16],[1244,14,1244,16],[1245,14,1245,16],[1246,8,1248,16],[1250,14,1250,16],[1251,14,1251,16],[1252,14,1252,16],[1253,8,1255,16],[1257,14,1257,16],[1258,14,1258,16],[1259,14,1259,16],[1260,8,1262,16],[1264,14,1264,16],[1265,14,1265,16],[1266,14,1266,16],[1267,8,1269,16],[1271,14,1271,16],[1272,14,1272,16],[1273,14,1273,16],[1274,8,1276,16],[1278,14,1278,16],[1279,14,1279,16],[1280,14,1280,16],[1281,8,1283,16],[6,2,8,16],[9,2,11,16],[38,1,39,2],[41,6,41,8],[42,6,42,8],[38,9,38,15],[39,9,39,15],[40,9,40,15],[41,9,41,15],[42,9,42,15],[26,6,26,8],[26,3,26,5],[27,3,27,5],[27,6,27,8],[29,3,29,5],[29,6,29,8],[40,3,40,5],[40,6,40,8],[25,1,25,2],[25,3,25,5],[25,6,25,8],[26,9,26,15],[28,3,28,5],[28,6,28,8],[1285,14,1285,16],[1286,14,1286,16],[1287,14,1287,16],[1288,8,1290,16],[1292,14,1292,16],[1293,14,1293,16],[1315,14,1315,16],[1300,14,1300,16],[1301,14,1301,16],[1302,8,1304,16],[1306,14,1306,16],[1307,14,1307,16],[1308,14,1308,16],[1309,8,1311,16],[1313,14,1313,16],[1314,14,1314,16],[1294,14,1294,16],[1295,8,1297,16],[1299,14,1299,16],[27,9,27,15],[25,9,25,15],[38,3,38,5],[1385,2,1386,16],[1387,2,1390,16],[50,9,50,15],[51,9,51,15],[52,9,52,15],[53,6,53,8],[53,9,53,15],[54,9,54,15],[61,1,63,16],[1360,8,1364,16],[1366,8,1370,16],[1372,8,1376,16],[1378,8,1382,16],[1316,8,1318,16],[1321,5,1322,16],[1324,8,1328,16],[1330,8,1334,16],[1336,8,1340,16],[1342,8,1346,16],[1348,8,1352,16],[1354,8,1358,16]]}
[null,null,null,null,null,null,null,null,null,null,null,null,null,null,null,null,null,null,null,null,null,null,1]
[null,null,null,null,null,null,null,null,null,null,null,null,null,null,null,null,null,null,null,null,null,null,1]
[null,null,null,null,null,null,null,null,null,null,null,null,null,null,null,null,null,null,null,null,null,null,1]
[null,null,null,null,null,null,null,null,null,null,null,null,null,null,null,null,null,null,null,null,null,null,1]
[null,null,null,null,null,null,null,null,null,null,null,null,null,null,null,null,null,null,null,null,null,null,1]
[null,null,null,null,null,null,null,null,null,null,null,null,null,null,null,null,null,null,null,null,null,null,1]
[null,null,"IMPLEMENTATION NOTES (OPTIONAL)",null,null,null,null,null,null,null,null,null,null,null,null,null,null,null,null,null,null,null,1]
[null,null,null,null,null,null,null,null,null,null,null,null,null,null,null,null,null,null,null,null,null,null,1]
[null,null,null,null,null,null,null,null,null,null,null,null,null,null,null,null,null,null,null,null,null,null,1]
[null,null,"Implementation notes can be added here to include identifying milestones, assigning ownership, creating timelines, tracking progress, or adding any additional notes for each objective and action item outlined in the Agency Strategy.",null,null,null,null,null,null,null,null,null,null,null,null,null,null,null,null,null,null,null,1]
[null,null,null,null,null,null,null,null,null,null,null,null,null,null,null,null,null,null,null,null,null,null,1]
[null,null,null,null,null,null,null,null,null,null,null,null,null,null,null,null,null,null,null,null,null,null,1]
[null,null,null,null,null,null,null,null,null,null,null,null,null,null,null,null,null,null,null,null,null,null,1]
[null,null,null,null,null,null,null,null,null,null,null,null,null,null,null,null,null,null,null,null,null,null,1]
[null,null,null,{"$f":"IF(SUMIF($W$1:$W$1399,1)<>SUBTOTAL(103,$W$1:$W$1399),\"Tab Needs to be Refreshed. Click the Refresh Button to the Right.\",\"Tab is Up to Date.\")","v":"Tab is Up to Date."},null,null,null,null,null,null,null,null,null,null,null,null,null,null,null,null,null,null,1]
[null,null,null,null,null,null,null,null,null,null,null,null,null,null,null,null,null,null,null,null,null,null,1]
[null,null,null,null,null,null,null,null,null,null,null,null,null,null,null,null,null,null,null,null,null,null,1]
[null,null,null,null,null,null,null,null,null,null,null,null,null,null,null,null,null,null,null,null,null,null,1]
[null,null,null,null,null,null,null,null,null,null,null,null,null,null,null,null,null,null,null,null,null,null,1]
[null,null,null,null,null,null,null,null,null,null,null,null,null,null,null,null,null,null,null,null,null,null,1]
[null,null,null,null,null,null,null,null,null,null,null,null,null,null,null,null,null,null,null,null,null,null,1]
[null,null,null,null,null,null,null,null,null,null,null,null,null,null,null,null,null,null,null,null,null,null,1]
[null,null,{"$f":"CONCATENATE(PROFILE!J23,\" Workforce Stategy Implementation\")","v":" Workforce Stategy Implementation"},null,null,null,null,null,null,null,null,null,null,null,null,null,null,null,null,null,null,null,1]
[null,null,null,null,null,null,null,null,null,null,null,null,null,null,null,null,null,null,null,null,null,null,1]
[null,null,null,null,null,null,null,null,null,{"$f":"'CENTRAL ANALYSIS'!D79","v":"00:00:00"},{"$f":"J25+$R$25","v":"00:00:00"},{"$f":"K25+$R$25","v":"00:00:00"},"00:00:00","00:00:00","00:00:00",{"$f":"'CENTRAL ANALYSIS'!E79","v":"00:00:00"},{"$f":"P25","v":"00:00:00"},{"$f":"(P25-J25)/6","v":0},null,null,null,null,1]
[null,"Objective",null,"Action Items",null,null,"Owner",null,null,"Timeline & Progress",null,null,null,null,null,null,"Status",null,null,null,null,null,1]
[null,{"$f":"IF('AGENCY STRATEGY'!L44=\"\",\"\",'AGENCY STRATEGY'!L44)","v":""},null,{"$f":"IF(O80<>\"\",O80,\"\")","v":""},null,null,{"$f":"IF(O81<>\"\",O81,\"\")","v":""},null,null,{"$f":"'CENTRAL ANALYSIS'!N82","v":"                                                                                                                                                   "},null,null,null,null,null,null,{"$f":"'CENTRAL ANALYSIS'!E81","v":0},null,null,null,null,null,1]
[null,null,null,{"$f":"IF(O89<>\"\",O89,\"\")","v":""},null,null,{"$f":"IF(O90<>\"\",O90,\"\")","v":""},null,null,{"$f":"'CENTRAL ANALYSIS'!N84","v":"                                                                                                                                                   "},null,null,null,null,null,null,{"$f":"'CENTRAL ANALYSIS'!E83","v":0},null,null,null,null,null,1]
[null,null,null,{"$f":"IF(O98<>\"\",O98,\"\")","v":""},null,null,{"$f":"IF(O99<>\"\",O99,\"\")","v":""},null,null,{"$f":"'CENTRAL ANALYSIS'!N86","v":"                                                                                                                                                   "},null,null,null,null,null,null,{"$f":"'CENTRAL ANALYSIS'!E85","v":0},null,null,null,null,null,1]
[null,null,null,{"$f":"IF(O107<>\"\",O107,\"\")","v":""},null,null,{"$f":"IF(O108<>\"\",O108,\"\")","v":""},null,null,{"$f":"'CENTRAL ANALYSIS'!N88","v":"                                                                                                                                                   "},null,null,null,null,null,null,{"$f":"'CENTRAL ANALYSIS'!E87","v":0},null,null,null,null,null,1]
[null,null,null,{"$f":"IF(O116<>\"\",O116,\"\")","v":""},null,null,{"$f":"IF(O117<>\"\",O117,\"\")","v":""},null,null,{"$f":"'CENTRAL ANALYSIS'!N90","v":"                                                                                                                                                   "},null,null,null,null,null,null,{"$f":"'CENTRAL ANALYSIS'!E89","v":0},null,null,null,null,null,1]
[null,null,null,null,null,null,null,null,null,null,null,null,null,null,null,null,null,null,null,null,null,null,1]
[null,{"$f":"IF('AGENCY STRATEGY'!L93=\"\",\"\",'AGENCY STRATEGY'!L93)","v":""},null,{"$f":"IF(O344<>\"\",O344,\"\")","v":""},null,null,{"$f":"IF(O345<>\"\",O345,\"\")","v":""},null,null,{"$f":"'CENTRAL ANALYSIS'!N92","v":"                                                                                                                                                   "},null,null,null,null,null,null,{"$f":"'CENTRAL ANALYSIS'!E91","v":0},null,null,null,null,null,1]
[null,null,null,{"$f":"IF(O353<>\"\",O353,\"\")","v":""},null,null,{"$f":"IF(O354<>\"\",O354,\"\")","v":""},null,null,{"$f":"'CENTRAL ANALYSIS'!N94","v":"                                                                                                                                                   "},null,null,null,null,null,null,{"$f":"'CENTRAL ANALYSIS'!E93","v":0},null,null,null,null,null,1]
[null,null,null,{"$f":"IF(O362<>\"\",O362,\"\")","v":""},null,null,{"$f":"IF(O363<>\"\",O363,\"\")","v":""},null,null,{"$f":"'CENTRAL ANALYSIS'!N96","v":"                                                                                                                                                   "},null,null,null,null,null,null,{"$f":"'CENTRAL ANALYSIS'!E95","v":0},null,null,null,null,null,1]
[null,null,null,{"$f":"IF(O371<>\"\",O371,\"\")","v":""},null,null,{"$f":"IF(O372<>\"\",O372,\"\")","v":""},null,null,{"$f":"'CENTRAL ANALYSIS'!N98","v":"                                                                                                                                                   "},null,null,null,null,null,null,{"$f":"'CENTRAL ANALYSIS'!E97","v":0},null,null,null,null,null,1]
[null,null,null,{"$f":"IF(O380<>\"\",O380,\"\")","v":""},null,null,{"$f":"IF(O381<>\"\",O381,\"\")","v":""},null,null,{"$f":"'CENTRAL ANALYSIS'!N100","v":"                                                                                                                                                   "},null,null,null,null,null,null,{"$f":"'CENTRAL ANALYSIS'!E99","v":0},null,null,null,null,null,1]
[null,null,null,null,null,null,null,null,null,null,null,null,null,null,null,null,null,null,null,null,null,null,1]
[null,{"$f":"IF('AGENCY STRATEGY'!L142=\"\",\"\",'AGENCY STRATEGY'!L142)","v":""},null,{"$f":"IF(O608<>\"\",O608,\"\")","v":""},null,null,{"$f":"IF(O609<>\"\",O609,\"\")","v":""},null,null,{"$f":"'CENTRAL ANALYSIS'!N98","v":"                                                                                                                                                   "},null,null,null,null,null,null,{"$f":"'CENTRAL ANALYSIS'!E101","v":0},null,null,null,null,null,1]
[null,null,null,{"$f":"IF(O617<>\"\",O617,\"\")","v":""},null,null,{"$f":"IF(O618<>\"\",O618,\"\")","v":""},null,null,{"$f":"'CENTRAL ANALYSIS'!N100","v":"                                                                                                                                                   "},null,null,null,null,null,null,{"$f":"'CENTRAL ANALYSIS'!E103","v":0},null,null,null,null,null,1]
[null,null,null,{"$f":"IF(O626<>\"\",O626,\"\")","v":""},null,null,{"$f":"IF(O627<>\"\",O627,\"\")","v":""},null,null,{"$f":"'CENTRAL ANALYSIS'!N102","v":"                                                                                                                                                   "},null,null,null,null,null,null,{"$f":"'CENTRAL ANALYSIS'!E105","v":0},null,null,null,null,null,1]
[null,null,null,{"$f":"IF(O635<>\"\",O635,\"\")","v":""},null,null,{"$f":"IF(O636<>\"\",O636,\"\")","v":""},null,null,{"$f":"'CENTRAL ANALYSIS'!N104","v":"                                                                                                                                                   "},null,null,null,null,null,null,{"$f":"'CENTRAL ANALYSIS'!E107","v":0},null,null,null,null,null,1]
[null,null,null,{"$f":"IF(O644<>\"\",O644,\"\")","v":""},null,null,{"$f":"IF(O645<>\"\",O645,\"\")","v":""},null,null,{"$f":"'CENTRAL ANALYSIS'!N106","v":"                                                                                                                                                   "},null,null,null,null,null,null,{"$f":"'CENTRAL ANALYSIS'!E109","v":0},null,null,null,null,null,1]
[null,null,null,null,null,null,null,null,null,null,null,null,null,null,null,null,null,null,null,null,null,null,1]
[null,{"$f":"IF('AGENCY STRATEGY'!L191=\"\",\"\",'AGENCY STRATEGY'!L191)","v":""},null,{"$f":"IF(O872<>\"\",O872,\"\")","v":""},null,null,{"$f":"IF(O873<>\"\",O873,\"\")","v":""},null,null,{"$f":"'CENTRAL ANALYSIS'!N112","v":"                                                                                                                                                   "},null,null,null,null,null,null,{"$f":"'CENTRAL ANALYSIS'!E111","v":0},null,null,null,null,null,1]
[null,null,null,{"$f":"IF(O881<>\"\",O881,\"\")","v":""},null,null,{"$f":"IF(O882<>\"\",O882,\"\")","v":""},null,null,{"$f":"'CENTRAL ANALYSIS'!N114","v":"                                                                                                                                                   "},null,null,null,null,null,null,{"$f":"'CENTRAL ANALYSIS'!E113","v":0},null,null,null,null,null,1]
[null,null,null,{"$f":"IF(O890<>\"\",O890,\"\")","v":""},null,null,{"$f":"IF(O891<>\"\",O891,\"\")","v":""},null,null,{"$f":"'CENTRAL ANALYSIS'!N116","v":"                                                                                                                                                   "},null,null,null,null,null,null,{"$f":"'CENTRAL ANALYSIS'!E115","v":0},null,null,null,null,null,1]
[null,null,null,{"$f":"IF(O899<>\"\",O899,\"\")","v":""},null,null,{"$f":"IF(O900<>\"\",O900,\"\")","v":""},null,null,{"$f":"'CENTRAL ANALYSIS'!N118","v":"                                                                                                                                                   "},null,null,null,null,null,null,{"$f":"'CENTRAL ANALYSIS'!E117","v":0},null,null,null,null,null,1]
[null,null,null,{"$f":"IF(O908<>\"\",O908,\"\")","v":""},null,null,{"$f":"IF(O909<>\"\",O909,\"\")","v":""},null,null,{"$f":"'CENTRAL ANALYSIS'!N120","v":"                                                                                                                                                   "},null,null,null,null,null,null,{"$f":"'CENTRAL ANALYSIS'!E119","v":0},null,null,null,null,null,1]
[null,null,null,null,null,null,null,null,null,null,null,null,null,null,null,null,null,null,null,null,null,null,1]
[null,{"$f":"IF('AGENCY STRATEGY'!L240=\"\",\"\",'AGENCY STRATEGY'!L240)","v":""},null,{"$f":"IF(O1136<>\"\",O1136,\"\")","v":""},null,null,{"$f":"IF(O1137<>\"\",O1137,\"\")","v":""},null,null,{"$f":"'CENTRAL ANALYSIS'!N122","v":"                                                                                                                                                   "},null,null,null,null,null,null,{"$f":"'CENTRAL ANALYSIS'!E121","v":0},null,null,null,null,null,1]
[null,null,null,{"$f":"IF(O1145<>\"\",O1145,\"\")","v":""},null,null,{"$f":"IF(O1146<>\"\",O1146,\"\")","v":""},null,null,{"$f":"'CENTRAL ANALYSIS'!N124","v":"                                                                                                                                                   "},null,null,null,null,null,null,{"$f":"'CENTRAL ANALYSIS'!E123","v":0},null,null,null,null,null,1]
[null,null,null,{"$f":"IF(O1154<>\"\",O1154,\"\")","v":""},null,null,{"$f":"IF(O1155<>\"\",O1155,\"\")","v":""},null,null,{"$f":"'CENTRAL ANALYSIS'!N126","v":"                                                                                                                                                   "},null,null,null,null,null,null,{"$f":"'CENTRAL ANALYSIS'!E125","v":0},null,null,null,null,null,1]
[null,null,null,{"$f":"IF(O1163<>\"\",O1163,\"\")","v":""},null,null,{"$f":"IF(O1164<>\"\",O1164,\"\")","v":""},null,null,{"$f":"'CENTRAL ANALYSIS'!N128","v":"                                                                                                                                                   "},null,null,null,null,null,null,{"$f":"'CENTRAL ANALYSIS'!E127","v":0},null,null,null,null,null,1]
[null,null,null,{"$f":"IF(O1172<>\"\",O1172,\"\")","v":""},null,null,{"$f":"IF(O1173<>\"\",O1173,\"\")","v":""},null,null,{"$f":"'CENTRAL ANALYSIS'!N130","v":"                                                                                                                                                   "},null,null,null,null,null,null,{"$f":"'CENTRAL ANALYSIS'!E129","v":0},null,null,null,null,null,1]
[null,null,null,null,null,null,null,null,null,null,null,null,null,null,null,null,null,null,null,null,null,null,1]
[null,null,null,null,null,null,null,null,null,null,null,null,null,null,null,"**Most Recent Update:",{"$f":"MAX('CENTRAL ANALYSIS'!R81:R100,'CENTRAL ANALYSIS'!AB81:AB100,'CENTRAL ANALYSIS'!AL81:AL100,'CENTRAL ANALYSIS'!AV81:AV100,'CENTRAL ANALYSIS'!BF81:BF100)","v":"00:00:00"},null,null,null,null,null,1]
[null,null,null,null,null,null,null,null,null,null,null,null,null,null,null,null,null,null,null,null,null,null,1]
[null,null,null,null,null,null,null,null,null,null,null,null,null,null,null,null,null,null,null,null,null,null,1]
[null,null,null,null,null,null,null,null,null,null,null,null,null,null,null,null,null,null,null,null,null,null,1]
[null,null,null,null,null,null,null,null,null,null,null,null,null,null,null,null,null,null,null,null,null,null,1]
[null,"NOTE: If the \"Export Report to PDF to Sign\" button prints the chart, it can be exported to PDF manually by going to File and Print. Select the \"Microsoft Print to PDF\" as the printer and then click the Print button. This will then open a Save As dialogue box for you to save the report as a PDF.  ",null,null,null,null,null,null,null,null,null,null,null,null,null,null,null,null,null,null,null,null,1]
[null,null,null,null,null,null,null,null,null,null,null,null,null,null,null,null,null,null,null,null,null,null,1]
[null,null,null,null,null,null,null,null,null,null,null,null,null,null,null,null,null,null,null,null,null,null,1]
[null,null,null,null,null,null,null,null,null,null,null,null,null,null,null,null,null,null,null,null,null,null,1]
[null,"Agency Strategy Objective 1",null,null,null,null,null,null,null,null,null,null,null,null,null,null,null,null,null,null,null,null,{"$f":"IF('CENTRAL ANALYSIS'!$B$28=1,1,0)","v":0}]
[null,null,null,null,null,null,null,null,null,null,null,null,null,null,null,null,null,null,null,null,null,null,{"$f":"IF('CENTRAL ANALYSIS'!$B$28=1,1,0)","v":0}]
[null,"INSTRUCTIONS: For each action item in the objective, enter the information in the yellow boxes to include the action item title, an owner, expected start and expected end date. A color can be assigned to assist with tracking related action items. Updates and Notes can be added for the objective item that can be used to track progress or miletones over time. ",null,null,null,null,null,null,null,null,null,null,null,null,null,null,null,null,null,null,null,null,{"$f":"IF('CENTRAL ANALYSIS'!$B$28=1,1,0)","v":0}]
[null,null,null,null,null,null,null,null,null,null,null,null,null,null,null,null,null,null,null,null,null,null,{"$f":"IF('CENTRAL ANALYSIS'!$B$28=1,1,0)","v":0}]
[null,null,null,null,null,null,null,null,null,null,null,null,null,null,null,null,null,null,null,null,null,null,{"$f":"IF('CENTRAL ANALYSIS'!$B$28=1,1,0)","v":0}]
[null,null,null,null,null,null,null,null,null,null,null,null,null,null,null,null,null,null,null,null,null,null,{"$f":"IF('CENTRAL ANALYSIS'!$B$28=1,1,0)","v":0}]
[null,null,null,null,null,"Overall Objective Statement",{"$f":"'AGENCY STRATEGY'!F46","v":0},null,null,null,null,null,null,null,null,null,null,null,null,null,null,null,{"$f":"IF('CENTRAL ANALYSIS'!$B$28=1,1,0)","v":0}]
[null,null,null,null,null,null,null,null,null,null,null,null,null,null,null,null,null,null,null,null,null,null,{"$f":"IF('CENTRAL ANALYSIS'!$B$28=1,1,0)","v":0}]
[null,null,null,null,null,null,null,null,null,null,null,null,null,null,null,null,null,null,null,null,null,null,{"$f":"IF('CENTRAL ANALYSIS'!$B$28=1,1,0)","v":0}]
[null,null,null,null,null,null,null,null,null,null,null,null,null,null,null,null,null,null,null,null,null,null,{"$f":"IF('CENTRAL ANALYSIS'!$B$28=1,1,0)","v":0}]
[null,null,null,null,null,null,null,null,null,null,null,null,null,null,null,null,null,null,null,null,null,null,{"$f":"IF('CENTRAL ANALYSIS'!$B$29=1,1,0)","v":0}]
[null,null,null,null,null,null,null,"Action Item Description",{"$f":"'AGENCY STRATEGY'!H53","v":0},null,null,null,null,null,null,null,null,null,null,null,null,null,{"$f":"IF('CENTRAL ANALYSIS'!$B$29=1,1,0)","v":0}]
[null,null,null,null,null,null,null,null,null,null,null,null,null,null,null,null,null,null,null,null,null,null,{"$f":"IF('CENTRAL ANALYSIS'!$B$29=1,1,0)","v":0}]
[null,null,null,null,null,null,null,null,null,null,null,null,null,null,null,null,null,null,null,null,null,null,{"$f":"IF('CENTRAL ANALYSIS'!$B$29=1,1,0)","v":0}]
[null,null,null,null,null,null,null,null,null,null,null,null,null,"Action Item Title:",null,null,null,null,null,null,null,null,{"$f":"IF('CENTRAL ANALYSIS'!$B$29=1,1,0)","v":0}]
[null,null,null,null,null,null,null,null,null,null,null,null,null,"Action Item Owner:",null,null,null,null,null,null,null,null,{"$f":"IF('CENTRAL ANALYSIS'!$B$29=1,1,0)","v":0}]
[null,null,null,null,null,null,null,null,null,null,null,null,null,"Expected Start Date:",null,null,null,null,null,null,null,null,{"$f":"IF('CENTRAL ANALYSIS'!$B$29=1,1,0)","v":0}]
[null,null,null,null,null,null,null,null,null,null,null,null,null,"Expected Completion Date:",null,null,null,null,null,null,null,null,{"$f":"IF('CENTRAL ANALYSIS'!$B$29=1,1,0)","v":0}]
[null,null,null,null,null,null,null,null,null,null,null,null,null,"Assign Color (optional):",null,null,null,null,null,null,null,null,{"$f":"IF('CENTRAL ANALYSIS'!$B$29=1,1,0)","v":0}]
[null,null,null,null,null,null,null,null,null,null,null,null,null,null,null,null,null,null,null,null,null,null,{"$f":"IF('CENTRAL ANALYSIS'!$B$29=1,1,0)","v":0}]
[null,null,null,null,null,null,null,"Action Item Description",{"$f":"'AGENCY STRATEGY'!H56","v":0},null,null,null,null,null,null,null,null,null,null,null,null,null,{"$f":"IF('CENTRAL ANALYSIS'!$B$30=1,1,0)","v":0}]
[null,null,null,null,null,null,null,null,null,null,null,null,null,null,null,null,null,null,null,null,null,null,{"$f":"IF('CENTRAL ANALYSIS'!$B$30=1,1,0)","v":0}]
[null,null,null,null,null,null,null,null,null,null,null,null,null,null,null,null,null,null,null,null,null,null,{"$f":"IF('CENTRAL ANALYSIS'!$B$30=1,1,0)","v":0}]
[null,null,null,null,null,null,null,null,null,null,null,null,null,"Action Item Title:",null,null,null,null,null,null,null,null,{"$f":"IF('CENTRAL ANALYSIS'!$B$30=1,1,0)","v":0}]
[null,null,null,null,null,null,null,null,null,null,null,null,null,"Action Item Owner:",null,null,null,null,null,null,null,null,{"$f":"IF('CENTRAL ANALYSIS'!$B$30=1,1,0)","v":0}]
[null,null,null,null,null,null,null,null,null,null,null,null,null,"Expected Start Date:",null,null,null,null,null,null,null,null,{"$f":"IF('CENTRAL ANALYSIS'!$B$30=1,1,0)","v":0}]
[null,null,null,null,null,null,null,null,null,null,null,null,null,"Expected Completion Date:",null,null,null,null,null,null,null,null,{"$f":"IF('CENTRAL ANALYSIS'!$B$30=1,1,0)","v":0}]
[null,null,null,null,null,null,null,null,null,null,null,null,null,"Assign Color (optional):",null,null,null,null,null,null,null,null,{"$f":"IF('CENTRAL ANALYSIS'!$B$30=1,1,0)","v":0}]
[null,null,null,null,null,null,null,null,null,null,null,null,null,null,null,null,null,null,null,null,null,null,{"$f":"IF('CENTRAL ANALYSIS'!$B$30=1,1,0)","v":0}]
[null,null,null,null,null,null,null,"Action Item Description",{"$f":"'AGENCY STRATEGY'!H59","v":""},null,null,null,null,null,null,null,null,null,null,null,null,null,{"$f":"IF('CENTRAL ANALYSIS'!$B$31=1,1,0)","v":0}]
[null,null,null,null,null,null,null,null,null,null,null,null,null,null,null,null,null,null,null,null,null,null,{"$f":"IF('CENTRAL ANALYSIS'!$B$31=1,1,0)","v":0}]
[null,null,null,null,null,null,null,null,null,null,null,null,null,null,null,null,null,null,null,null,null,null,{"$f":"IF('CENTRAL ANALYSIS'!$B$31=1,1,0)","v":0}]
[null,null,null,null,null,null,null,null,null,null,null,null,null,"Action Item Title:",null,null,null,null,null,null,null,null,{"$f":"IF('CENTRAL ANALYSIS'!$B$31=1,1,0)","v":0}]
[null,null,null,null,null,null,null,null,null,null,null,null,null,"Action Item Owner:",null,null,null,null,null,null,null,null,{"$f":"IF('CENTRAL ANALYSIS'!$B$31=1,1,0)","v":0}]
[null,null,null,null,null,null,null,null,null,null,null,null,null,"Expected Start Date:",null,null,null,null,null,null,null,null,{"$f":"IF('CENTRAL ANALYSIS'!$B$31=1,1,0)","v":0}]
[null,null,null,null,null,null,null,null,null,null,null,null,null,"Expected Completion Date:",null,null,null,null,null,null,null,null,{"$f":"IF('CENTRAL ANALYSIS'!$B$31=1,1,0)","v":0}]
[null,null,null,null,null,null,null,null,null,null,null,null,null,"Assign Color (optional):",null,null,null,null,null,null,null,null,{"$f":"IF('CENTRAL ANALYSIS'!$B$31=1,1,0)","v":0}]
[null,null,null,null,null,null,null,null,null,null,null,null,null,null,null,null,null,null,null,null,null,null,{"$f":"IF('CENTRAL ANALYSIS'!$B$31=1,1,0)","v":0}]
[null,null,null,null,null,null,null,"Action Item Description",{"$f":"'AGENCY STRATEGY'!H62","v":""},null,null,null,null,null,null,null,null,null,null,null,null,null,{"$f":"IF('CENTRAL ANALYSIS'!$B$32=1,1,0)","v":0}]
[null,null,null,null,null,null,null,null,null,null,null,null,null,null,null,null,null,null,null,null,null,null,{"$f":"IF('CENTRAL ANALYSIS'!$B$32=1,1,0)","v":0}]
[null,null,null,null,null,null,null,null,null,null,null,null,null,null,null,null,null,null,null,null,null,null,{"$f":"IF('CENTRAL ANALYSIS'!$B$32=1,1,0)","v":0}]
[null,null,null,null,null,null,null,null,null,null,null,null,null,"Action Item Title:",null,null,null,null,null,null,null,null,{"$f":"IF('CENTRAL ANALYSIS'!$B$32=1,1,0)","v":0}]
[null,null,null,null,null,null,null,null,null,null,null,null,null,"Action Item Owner:",null,null,null,null,null,null,null,null,{"$f":"IF('CENTRAL ANALYSIS'!$B$32=1,1,0)","v":0}]
[null,null,null,null,null,null,null,null,null,null,null,null,null,"Expected Start Date:",null,null,null,null,null,null,null,null,{"$f":"IF('CENTRAL ANALYSIS'!$B$32=1,1,0)","v":0}]
[null,null,null,null,null,null,null,null,null,null,null,null,null,"Expected Completion Date:",null,null,null,null,null,null,null,null,{"$f":"IF('CENTRAL ANALYSIS'!$B$32=1,1,0)","v":0}]
[null,null,null,null,null,null,null,null,null,null,null,null,null,"Assign Color (optional):",null,null,null,null,null,null,null,null,{"$f":"IF('CENTRAL ANALYSIS'!$B$32=1,1,0)","v":0}]
[null,null,null,null,null,null,null,null,null,null,null,null,null,null,null,null,null,null,null,null,null,null,{"$f":"IF('CENTRAL ANALYSIS'!$B$32=1,1,0)","v":0}]
[null,null,null,null,null,null,null,"Action Item Description",{"$f":"'AGENCY STRATEGY'!H65","v":""},null,null,null,null,null,null,null,null,null,null,null,null,null,{"$f":"IF('CENTRAL ANALYSIS'!$B$33=1,1,0)","v":0}]
[null,null,null,null,null,null,null,null,null,null,null,null,null,null,null,null,null,null,null,null,null,null,{"$f":"IF('CENTRAL ANALYSIS'!$B$33=1,1,0)","v":0}]
[null,null,null,null,null,null,null,null,null,null,null,null,null,null,null,null,null,null,null,null,null,null,{"$f":"IF('CENTRAL ANALYSIS'!$B$33=1,1,0)","v":0}]
[null,null,null,null,null,null,null,null,null,null,null,null,null,"Action Item Title:",null,null,null,null,null,null,null,null,{"$f":"IF('CENTRAL ANALYSIS'!$B$33=1,1,0)","v":0}]
[null,null,null,null,null,null,null,null,null,null,null,null,null,"Action Item Owner:",null,null,null,null,null,null,null,null,{"$f":"IF('CENTRAL ANALYSIS'!$B$33=1,1,0)","v":0}]
[null,null,null,null,null,null,null,null,null,null,null,null,null,"Expected Start Date:",null,null,null,null,null,null,null,null,{"$f":"IF('CENTRAL ANALYSIS'!$B$33=1,1,0)","v":0}]
[null,null,null,null,null,null,null,null,null,null,null,null,null,"Expected Completion Date:",null,null,null,null,null,null,null,null,{"$f":"IF('CENTRAL ANALYSIS'!$B$33=1,1,0)","v":0}]
[null,null,null,null,null,null,null,null,null,null,null,null,null,"Assign Color (optional):",null,null,null,null,null,null,null,null,{"$f":"IF('CENTRAL ANALYSIS'!$B$33=1,1,0)","v":0}]
[null,null,null,null,null,null,null,null,null,null,null,null,null,null,null,null,null,null,null,null,null,null,{"$f":"IF('CENTRAL ANALYSIS'!$B$33=1,1,0)","v":0}]
[null,null,null,null,null,"Objective 1 Progress Updates (Up to 20 Updates)",null,null,null,null,null,null,null,null,null,null,null,null,null,null,null,null,{"$f":"IF('CENTRAL ANALYSIS'!$B$28=1,1,0)","v":0}]
[null,null,null,null,null,null,null,null,null,null,null,null,null,null,null,null,null,null,null,null,null,null,{"$f":"IF('CENTRAL ANALYSIS'!$B$28=1,1,0)","v":0}]
[null,null,null,null,null,null,null,null,null,null,null,null,null,null,null,null,null,null,null,null,null,null,{"$f":"IF('CENTRAL ANALYSIS'!$B$28=1,1,0)","v":0}]
[null,null,null,null,null,null,null,null,null,null,null,null,null,"Select Action Item:",null,null,null,null,null,null,null,null,{"$f":"IF('CENTRAL ANALYSIS'!$B$134>=1,1,0)","v":0}]
[null,null,null,null,null,null,null,null,null,null,null,null,null,"Date of Update:",null,null,null,null,null,null,null,null,{"$f":"IF('CENTRAL ANALYSIS'!$B$134>=1,1,0)","v":0}]
[null,null,null,null,null,null,null,null,null,null,null,null,null,"Milestone Completion Percent:",null,null,null,null,null,null,null,null,{"$f":"IF('CENTRAL ANALYSIS'!$B$134>=1,1,0)","v":0}]
[null,null,null,null,null,null,null,"Update Details:",null,null,null,null,null,null,null,null,null,null,null,null,null,null,{"$f":"IF('CENTRAL ANALYSIS'!$B$134>=1,1,0)","v":0}]
[null,null,null,null,null,null,null,null,null,null,null,null,null,null,null,null,null,null,null,null,null,null,{"$f":"IF('CENTRAL ANALYSIS'!$B$134>=1,1,0)","v":0}]
[null,null,null,null,null,null,null,null,null,null,null,null,null,null,null,null,null,null,null,null,null,null,{"$f":"IF('CENTRAL ANALYSIS'!$B$134>=1,1,0)","v":0}]
[null,null,null,null,null,null,null,null,null,null,null,null,null,null,null,null,null,null,null,null,null,null,{"$f":"IF('CENTRAL ANALYSIS'!$B$134>=1,1,0)","v":0}]
[null,null,null,null,null,null,null,null,null,null,null,null,null,"Select Action Item:",null,null,null,null,null,null,null,null,{"$f":"IF('CENTRAL ANALYSIS'!$B$134>=2,1,0)","v":0}]
[null,null,null,null,null,null,null,null,null,null,null,null,null,"Date of Update:",null,null,null,null,null,null,null,null,{"$f":"IF('CENTRAL ANALYSIS'!$B$134>=2,1,0)","v":0}]
[null,null,null,null,null,null,null,null,null,null,null,null,null,"Milestone Completion Percent:",null,null,null,null,null,null,null,null,{"$f":"IF('CENTRAL ANALYSIS'!$B$134>=2,1,0)","v":0}]
[null,null,null,null,null,null,null,"Update Details:",null,null,null,null,null,null,null,null,null,null,null,null,null,null,{"$f":"IF('CENTRAL ANALYSIS'!$B$134>=2,1,0)","v":0}]
[null,null,null,null,null,null,null,null,null,null,null,null,null,null,null,null,null,null,null,null,null,null,{"$f":"IF('CENTRAL ANALYSIS'!$B$134>=2,1,0)","v":0}]
[null,null,null,null,null,null,null,null,null,null,null,null,null,null,null,null,null,null,null,null,null,null,{"$f":"IF('CENTRAL ANALYSIS'!$B$134>=2,1,0)","v":0}]
[null,null,null,null,null,null,null,null,null,null,null,null,null,null,null,null,null,null,null,null,null,null,{"$f":"IF('CENTRAL ANALYSIS'!$B$134>=2,1,0)","v":0}]
[null,null,null,null,null,null,null,null,null,null,null,null,null,"Select Action Item:",null,null,null,null,null,null,null,null,{"$f":"IF('CENTRAL ANALYSIS'!$B$134>=3,1,0)","v":0}]
[null,null,null,null,null,null,null,null,null,null,null,null,null,"Date of Update:",null,null,null,null,null,null,null,null,{"$f":"IF('CENTRAL ANALYSIS'!$B$134>=3,1,0)","v":0}]
[null,null,null,null,null,null,null,null,null,null,null,null,null,"Milestone Completion Percent:",null,null,null,null,null,null,null,null,{"$f":"IF('CENTRAL ANALYSIS'!$B$134>=3,1,0)","v":0}]
[null,null,null,null,null,null,null,"Update Details:",null,null,null,null,null,null,null,null,null,null,null,null,null,null,{"$f":"IF('CENTRAL ANALYSIS'!$B$134>=3,1,0)","v":0}]
[null,null,null,null,null,null,null,null,null,null,null,null,null,null,null,null,null,null,null,null,null,null,{"$f":"IF('CENTRAL ANALYSIS'!$B$134>=3,1,0)","v":0}]
[null,null,null,null,null,null,null,null,null,null,null,null,null,null,null,null,null,null,null,null,null,null,{"$f":"IF('CENTRAL ANALYSIS'!$B$134>=3,1,0)","v":0}]
[null,null,null,null,null,null,null,null,null,null,null,null,null,null,null,null,null,null,null,null,null,null,{"$f":"IF('CENTRAL ANALYSIS'!$B$134>=3,1,0)","v":0}]
[null,null,null,null,null,null,null,null,null,null,null,null,null,"Select Action Item:",null,null,null,null,null,null,null,null,{"$f":"IF('CENTRAL ANALYSIS'!$B$134>=4,1,0)","v":0}]
[null,null,null,null,null,null,null,null,null,null,null,null,null,"Date of Update:",null,null,null,null,null,null,null,null,{"$f":"IF('CENTRAL ANALYSIS'!$B$134>=4,1,0)","v":0}]
[null,null,null,null,null,null,null,null,null,null,null,null,null,"Milestone Completion Percent:",null,null,null,null,null,null,null,null,{"$f":"IF('CENTRAL ANALYSIS'!$B$134>=4,1,0)","v":0}]
[null,null,null,null,null,null,null,"Update Details:",null,null,null,null,null,null,null,null,null,null,null,null,null,null,{"$f":"IF('CENTRAL ANALYSIS'!$B$134>=4,1,0)","v":0}]
[null,null,null,null,null,null,null,null,null,null,null,null,null,null,null,null,null,null,null,null,null,null,{"$f":"IF('CENTRAL ANALYSIS'!$B$134>=4,1,0)","v":0}]
[null,null,null,null,null,null,null,null,null,null,null,null,null,null,null,null,null,null,null,null,null,null,{"$f":"IF('CENTRAL ANALYSIS'!$B$134>=4,1,0)","v":0}]
[null,null,null,null,null,null,null,null,null,null,null,null,null,null,null,null,null,null,null,null,null,null,{"$f":"IF('CENTRAL ANALYSIS'!$B$134>=4,1,0)","v":0}]
[null,null,null,null,null,null,null,null,null,null,null,null,null,"Select Action Item:",null,null,null,null,null,null,null,null,{"$f":"IF('CENTRAL ANALYSIS'!$B$134>=5,1,0)","v":0}]
[null,null,null,null,null,null,null,null,null,null,null,null,null,"Date of Update:",null,null,null,null,null,null,null,null,{"$f":"IF('CENTRAL ANALYSIS'!$B$134>=5,1,0)","v":0}]
[null,null,null,null,null,null,null,null,null,null,null,null,null,"Milestone Completion Percent:",null,null,null,null,null,null,null,null,{"$f":"IF('CENTRAL ANALYSIS'!$B$134>=5,1,0)","v":0}]
[null,null,null,null,null,null,null,"Update Details:",null,null,null,null,null,null,null,null,null,null,null,null,null,null,{"$f":"IF('CENTRAL ANALYSIS'!$B$134>=5,1,0)","v":0}]
[null,null,null,null,null,null,null,null,null,null,null,null,null,null,null,null,null,null,null,null,null,null,{"$f":"IF('CENTRAL ANALYSIS'!$B$134>=5,1,0)","v":0}]
[null,null,null,null,null,null,null,null,null,null,null,null,null,null,null,null,null,null,null,null,null,null,{"$f":"IF('CENTRAL ANALYSIS'!$B$134>=5,1,0)","v":0}]
[null,null,null,null,null,null,null,null,null,null,null,null,null,null,null,null,null,null,null,null,null,null,{"$f":"IF('CENTRAL ANALYSIS'!$B$134>=5,1,0)","v":0}]
[null,null,null,null,null,null,null,null,null,null,null,null,null,"Select Action Item:",null,null,null,null,null,null,null,null,{"$f":"IF('CENTRAL ANALYSIS'!$B$134>=6,1,0)","v":0}]
[null,null,null,null,null,null,null,null,null,null,null,null,null,"Date of Update:",null,null,null,null,null,null,null,null,{"$f":"IF('CENTRAL ANALYSIS'!$B$134>=6,1,0)","v":0}]
[null,null,null,null,null,null,null,null,null,null,null,null,null,"Milestone Completion Percent:",null,null,null,null,null,null,null,null,{"$f":"IF('CENTRAL ANALYSIS'!$B$134>=6,1,0)","v":0}]
[null,null,null,null,null,null,null,"Update Details:",null,null,null,null,null,null,null,null,null,null,null,null,null,null,{"$f":"IF('CENTRAL ANALYSIS'!$B$134>=6,1,0)","v":0}]
[null,null,null,null,null,null,null,null,null,null,null,null,null,null,null,null,null,null,null,null,null,null,{"$f":"IF('CENTRAL ANALYSIS'!$B$134>=6,1,0)","v":0}]
[null,null,null,null,null,null,null,null,null,null,null,null,null,null,null,null,null,null,null,null,null,null,{"$f":"IF('CENTRAL ANALYSIS'!$B$134>=6,1,0)","v":0}]
[null,null,null,null,null,null,null,null,null,null,null,null,null,null,null,null,null,null,null,null,null,null,{"$f":"IF('CENTRAL ANALYSIS'!$B$134>=6,1,0)","v":0}]
[null,null,null,null,null,null,null,null,null,null,null,null,null,"Select Action Item:",null,null,null,null,null,null,null,null,{"$f":"IF('CENTRAL ANALYSIS'!$B$134>=7,1,0)","v":0}]
[null,null,null,null,null,null,null,null,null,null,null,null,null,"Date of Update:",null,null,null,null,null,null,null,null,{"$f":"IF('CENTRAL ANALYSIS'!$B$134>=7,1,0)","v":0}]
[null,null,null,null,null,null,null,null,null,null,null,null,null,"Milestone Completion Percent:",null,null,null,null,null,null,null,null,{"$f":"IF('CENTRAL ANALYSIS'!$B$134>=7,1,0)","v":0}]
[null,null,null,null,null,null,null,"Update Details:",null,null,null,null,null,null,null,null,null,null,null,null,null,null,{"$f":"IF('CENTRAL ANALYSIS'!$B$134>=7,1,0)","v":0}]
[null,null,null,null,null,null,null,null,null,null,null,null,null,null,null,null,null,null,null,null,null,null,{"$f":"IF('CENTRAL ANALYSIS'!$B$134>=7,1,0)","v":0}]
[null,null,null,null,null,null,null,null,null,null,null,null,null,null,null,null,null,null,null,null,null,null,{"$f":"IF('CENTRAL ANALYSIS'!$B$134>=7,1,0)","v":0}]
[null,null,null,null,null,null,null,null,null,null,null,null,null,null,null,null,null,null,null,null,null,null,{"$f":"IF('CENTRAL ANALYSIS'!$B$134>=7,1,0)","v":0}]
[null,null,null,null,null,null,null,null,null,null,null,null,null,"Select Action Item:",null,null,null,null,null,null,null,null,{"$f":"IF('CENTRAL ANALYSIS'!$B$134>=8,1,0)","v":0}]
[null,null,null,null,null,null,null,null,null,null,null,null,null,"Date of Update:",null,null,null,null,null,null,null,null,{"$f":"IF('CENTRAL ANALYSIS'!$B$134>=8,1,0)","v":0}]
[null,null,null,null,null,null,null,null,null,null,null,null,null,"Milestone Completion Percent:",null,null,null,null,null,null,null,null,{"$f":"IF('CENTRAL ANALYSIS'!$B$134>=8,1,0)","v":0}]
[null,null,null,null,null,null,null,"Update Details:",null,null,null,null,null,null,null,null,null,null,null,null,null,null,{"$f":"IF('CENTRAL ANALYSIS'!$B$134>=8,1,0)","v":0}]
[null,null,null,null,null,null,null,null,null,null,null,null,null,null,null,null,null,null,null,null,null,null,{"$f":"IF('CENTRAL ANALYSIS'!$B$134>=8,1,0)","v":0}]
[null,null,null,null,null,null,null,null,null,null,null,null,null,null,null,null,null,null,null,null,null,null,{"$f":"IF('CENTRAL ANALYSIS'!$B$134>=8,1,0)","v":0}]
[null,null,null,null,null,null,null,null,null,null,null,null,null,null,null,null,null,null,null,null,null,null,{"$f":"IF('CENTRAL ANALYSIS'!$B$134>=8,1,0)","v":0}]
[null,null,null,null,null,null,null,null,null,null,null,null,null,"Select Action Item:",null,null,null,null,null,null,null,null,{"$f":"IF('CENTRAL ANALYSIS'!$B$134>=9,1,0)","v":0}]
[null,null,null,null,null,null,null,null,null,null,null,null,null,"Date of Update:",null,null,null,null,null,null,null,null,{"$f":"IF('CENTRAL ANALYSIS'!$B$134>=9,1,0)","v":0}]
[null,null,null,null,null,null,null,null,null,null,null,null,null,"Milestone Completion Percent:",null,null,null,null,null,null,null,null,{"$f":"IF('CENTRAL ANALYSIS'!$B$134>=9,1,0)","v":0}]
[null,null,null,null,null,null,null,"Update Details:",null,null,null,null,null,null,null,null,null,null,null,null,null,null,{"$f":"IF('CENTRAL ANALYSIS'!$B$134>=9,1,0)","v":0}]
[null,null,null,null,null,null,null,null,null,null,null,null,null,null,null,null,null,null,null,null,null,null,{"$f":"IF('CENTRAL ANALYSIS'!$B$134>=9,1,0)","v":0}]
[null,null,null,null,null,null,null,null,null,null,null,null,null,null,null,null,null,null,null,null,null,null,{"$f":"IF('CENTRAL ANALYSIS'!$B$134>=9,1,0)","v":0}]
[null,null,null,null,null,null,null,null,null,null,null,null,null,null,null,null,null,null,null,null,null,null,{"$f":"IF('CENTRAL ANALYSIS'!$B$134>=9,1,0)","v":0}]
[null,null,null,null,null,null,null,null,null,null,null,null,null,"Select Action Item:",null,null,null,null,null,null,null,null,{"$f":"IF('CENTRAL ANALYSIS'!$B$134>=10,1,0)","v":0}]
[null,null,null,null,null,null,null,null,null,null,null,null,null,"Date of Update:",null,null,null,null,null,null,null,null,{"$f":"IF('CENTRAL ANALYSIS'!$B$134>=10,1,0)","v":0}]
[null,null,null,null,null,null,null,null,null,null,null,null,null,"Milestone Completion Percent:",null,null,null,null,null,null,null,null,{"$f":"IF('CENTRAL ANALYSIS'!$B$134>=10,1,0)","v":0}]
[null,null,null,null,null,null,null,"Update Details:",null,null,null,null,null,null,null,null,null,null,null,null,null,null,{"$f":"IF('CENTRAL ANALYSIS'!$B$134>=10,1,0)","v":0}]
[null,null,null,null,null,null,null,null,null,null,null,null,null,null,null,null,null,null,null,null,null,null,{"$f":"IF('CENTRAL ANALYSIS'!$B$134>=10,1,0)","v":0}]
[null,null,null,null,null,null,null,null,null,null,null,null,null,null,null,null,null,null,null,null,null,null,{"$f":"IF('CENTRAL ANALYSIS'!$B$134>=10,1,0)","v":0}]
[null,null,null,null,null,null,null,null,null,null,null,null,null,null,null,null,null,null,null,null,null,null,{"$f":"IF('CENTRAL ANALYSIS'!$B$134>=10,1,0)","v":0}]
[null,null,null,null,null,null,null,null,null,null,null,null,null,"Select Action Item:",null,null,null,null,null,null,null,null,{"$f":"IF('CENTRAL ANALYSIS'!$B$134>=11,1,0)","v":0}]
[null,null,null,null,null,null,null,null,null,null,null,null,null,"Date of Update:",null,null,null,null,null,null,null,null,{"$f":"IF('CENTRAL ANALYSIS'!$B$134>=11,1,0)","v":0}]
[null,null,null,null,null,null,null,null,null,null,null,null,null,"Milestone Completion Percent:",null,null,null,null,null,null,null,null,{"$f":"IF('CENTRAL ANALYSIS'!$B$134>=11,1,0)","v":0}]
[null,null,null,null,null,null,null,"Update Details:",null,null,null,null,null,null,null,null,null,null,null,null,null,null,{"$f":"IF('CENTRAL ANALYSIS'!$B$134>=11,1,0)","v":0}]
[null,null,null,null,null,null,null,null,null,null,null,null,null,null,null,null,null,null,null,null,null,null,{"$f":"IF('CENTRAL ANALYSIS'!$B$134>=11,1,0)","v":0}]
[null,null,null,null,null,null,null,null,null,null,null,null,null,null,null,null,null,null,null,null,null,null,{"$f":"IF('CENTRAL ANALYSIS'!$B$134>=11,1,0)","v":0}]
[null,null,null,null,null,null,null,null,null,null,null,null,null,null,null,null,null,null,null,null,null,null,{"$f":"IF('CENTRAL ANALYSIS'!$B$134>=11,1,0)","v":0}]
[null,null,null,null,null,null,null,null,null,null,null,null,null,"Select Action Item:",null,null,null,null,null,null,null,null,{"$f":"IF('CENTRAL ANALYSIS'!$B$134>=12,1,0)","v":0}]
[null,null,null,null,null,null,null,null,null,null,null,null,null,"Date of Update:",null,null,null,null,null,null,null,null,{"$f":"IF('CENTRAL ANALYSIS'!$B$134>=12,1,0)","v":0}]
[null,null,null,null,null,null,null,null,null,null,null,null,null,"Milestone Completion Percent:",null,null,null,null,null,null,null,null,{"$f":"IF('CENTRAL ANALYSIS'!$B$134>=12,1,0)","v":0}]
[null,null,null,null,null,null,null,"Update Details:",null,null,null,null,null,null,null,null,null,null,null,null,null,null,{"$f":"IF('CENTRAL ANALYSIS'!$B$134>=12,1,0)","v":0}]
[null,null,null,null,null,null,null,null,null,null,null,null,null,null,null,null,null,null,null,null,null,null,{"$f":"IF('CENTRAL ANALYSIS'!$B$134>=12,1,0)","v":0}]
[null,null,null,null,null,null,null,null,null,null,null,null,null,null,null,null,null,null,null,null,null,null,{"$f":"IF('CENTRAL ANALYSIS'!$B$134>=12,1,0)","v":0}]
[null,null,null,null,null,null,null,null,null,null,null,null,null,null,null,null,null,null,null,null,null,null,{"$f":"IF('CENTRAL ANALYSIS'!$B$134>=12,1,0)","v":0}]
[null,null,null,null,null,null,null,null,null,null,null,null,null,"Select Action Item:",null,null,null,null,null,null,null,null,{"$f":"IF('CENTRAL ANALYSIS'!$B$134>=13,1,0)","v":0}]
[null,null,null,null,null,null,null,null,null,null,null,null,null,"Date of Update:",null,null,null,null,null,null,null,null,{"$f":"IF('CENTRAL ANALYSIS'!$B$134>=13,1,0)","v":0}]
[null,null,null,null,null,null,null,null,null,null,null,null,null,"Milestone Completion Percent:",null,null,null,null,null,null,null,null,{"$f":"IF('CENTRAL ANALYSIS'!$B$134>=13,1,0)","v":0}]
[null,null,null,null,null,null,null,"Update Details:",null,null,null,null,null,null,null,null,null,null,null,null,null,null,{"$f":"IF('CENTRAL ANALYSIS'!$B$134>=13,1,0)","v":0}]
[null,null,null,null,null,null,null,null,null,null,null,null,null,null,null,null,null,null,null,null,null,null,{"$f":"IF('CENTRAL ANALYSIS'!$B$134>=13,1,0)","v":0}]
[null,null,null,null,null,null,null,null,null,null,null,null,null,null,null,null,null,null,null,null,null,null,{"$f":"IF('CENTRAL ANALYSIS'!$B$134>=13,1,0)","v":0}]
[null,null,null,null,null,null,null,null,null,null,null,null,null,null,null,null,null,null,null,null,null,null,{"$f":"IF('CENTRAL ANALYSIS'!$B$134>=13,1,0)","v":0}]
[null,null,null,null,null,null,null,null,null,null,null,null,null,"Select Action Item:",null,null,null,null,null,null,null,null,{"$f":"IF('CENTRAL ANALYSIS'!$B$134>=14,1,0)","v":0}]
[null,null,null,null,null,null,null,null,null,null,null,null,null,"Date of Update:",null,null,null,null,null,null,null,null,{"$f":"IF('CENTRAL ANALYSIS'!$B$134>=14,1,0)","v":0}]
[null,null,null,null,null,null,null,null,null,null,null,null,null,"Milestone Completion Percent:",null,null,null,null,null,null,null,null,{"$f":"IF('CENTRAL ANALYSIS'!$B$134>=14,1,0)","v":0}]
[null,null,null,null,null,null,null,"Update Details:",null,null,null,null,null,null,null,null,null,null,null,null,null,null,{"$f":"IF('CENTRAL ANALYSIS'!$B$134>=14,1,0)","v":0}]
[null,null,null,null,null,null,null,null,null,null,null,null,null,null,null,null,null,null,null,null,null,null,{"$f":"IF('CENTRAL ANALYSIS'!$B$134>=14,1,0)","v":0}]
[null,null,null,null,null,null,null,null,null,null,null,null,null,null,null,null,null,null,null,null,null,null,{"$f":"IF('CENTRAL ANALYSIS'!$B$134>=14,1,0)","v":0}]
[null,null,null,null,null,null,null,null,null,null,null,null,null,null,null,null,null,null,null,null,null,null,{"$f":"IF('CENTRAL ANALYSIS'!$B$134>=14,1,0)","v":0}]
[null,null,null,null,null,null,null,null,null,null,null,null,null,"Select Action Item:",null,null,null,null,null,null,null,null,{"$f":"IF('CENTRAL ANALYSIS'!$B$134>=15,1,0)","v":0}]
[null,null,null,null,null,null,null,null,null,null,null,null,null,"Date of Update:",null,null,null,null,null,null,null,null,{"$f":"IF('CENTRAL ANALYSIS'!$B$134>=15,1,0)","v":0}]
[null,null,null,null,null,null,null,null,null,null,null,null,null,"Milestone Completion Percent:",null,null,null,null,null,null,null,null,{"$f":"IF('CENTRAL ANALYSIS'!$B$134>=15,1,0)","v":0}]
[null,null,null,null,null,null,null,"Update Details:",null,null,null,null,null,null,null,null,null,null,null,null,null,null,{"$f":"IF('CENTRAL ANALYSIS'!$B$134>=15,1,0)","v":0}]
[null,null,null,null,null,null,null,null,null,null,null,null,null,null,null,null,null,null,null,null,null,null,{"$f":"IF('CENTRAL ANALYSIS'!$B$134>=15,1,0)","v":0}]
[null,null,null,null,null,null,null,null,null,null,null,null,null,null,null,null,null,null,null,null,null,null,{"$f":"IF('CENTRAL ANALYSIS'!$B$134>=15,1,0)","v":0}]
[null,null,null,null,null,null,null,null,null,null,null,null,null,null,null,null,null,null,null,null,null,null,{"$f":"IF('CENTRAL ANALYSIS'!$B$134>=15,1,0)","v":0}]
[null,null,null,null,null,null,null,null,null,null,null,null,null,"Select Action Item:",null,null,null,null,null,null,null,null,{"$f":"IF('CENTRAL ANALYSIS'!$B$134>=16,1,0)","v":0}]
[null,null,null,null,null,null,null,null,null,null,null,null,null,"Date of Update:",null,null,null,null,null,null,null,null,{"$f":"IF('CENTRAL ANALYSIS'!$B$134>=16,1,0)","v":0}]
[null,null,null,null,null,null,null,null,null,null,null,null,null,"Milestone Completion Percent:",null,null,null,null,null,null,null,null,{"$f":"IF('CENTRAL ANALYSIS'!$B$134>=16,1,0)","v":0}]
[null,null,null,null,null,null,null,"Update Details:",null,null,null,null,null,null,null,null,null,null,null,null,null,null,{"$f":"IF('CENTRAL ANALYSIS'!$B$134>=16,1,0)","v":0}]
[null,null,null,null,null,null,null,null,null,null,null,null,null,null,null,null,null,null,null,null,null,null,{"$f":"IF('CENTRAL ANALYSIS'!$B$134>=16,1,0)","v":0}]
[null,null,null,null,null,null,null,null,null,null,null,null,null,null,null,null,null,null,null,null,null,null,{"$f":"IF('CENTRAL ANALYSIS'!$B$134>=16,1,0)","v":0}]
[null,null,null,null,null,null,null,null,null,null,null,null,null,null,null,null,null,null,null,null,null,null,{"$f":"IF('CENTRAL ANALYSIS'!$B$134>=16,1,0)","v":0}]
[null,null,null,null,null,null,null,null,null,null,null,null,null,"Select Action Item:",null,null,null,null,null,null,null,null,{"$f":"IF('CENTRAL ANALYSIS'!$B$134>=17,1,0)","v":0}]
[null,null,null,null,null,null,null,null,null,null,null,null,null,"Date of Update:",null,null,null,null,null,null,null,null,{"$f":"IF('CENTRAL ANALYSIS'!$B$134>=17,1,0)","v":0}]
[null,null,null,null,null,null,null,null,null,null,null,null,null,"Milestone Completion Percent:",null,null,null,null,null,null,null,null,{"$f":"IF('CENTRAL ANALYSIS'!$B$134>=17,1,0)","v":0}]
[null,null,null,null,null,null,null,"Update Details:",null,null,null,null,null,null,null,null,null,null,null,null,null,null,{"$f":"IF('CENTRAL ANALYSIS'!$B$134>=17,1,0)","v":0}]
[null,null,null,null,null,null,null,null,null,null,null,null,null,null,null,null,null,null,null,null,null,null,{"$f":"IF('CENTRAL ANALYSIS'!$B$134>=17,1,0)","v":0}]
[null,null,null,null,null,null,null,null,null,null,null,null,null,null,null,null,null,null,null,null,null,null,{"$f":"IF('CENTRAL ANALYSIS'!$B$134>=17,1,0)","v":0}]
[null,null,null,null,null,null,null,null,null,null,null,null,null,null,null,null,null,null,null,null,null,null,{"$f":"IF('CENTRAL ANALYSIS'!$B$134>=17,1,0)","v":0}]
[null,null,null,null,null,null,null,null,null,null,null,null,null,"Select Action Item:",null,null,null,null,null,null,null,null,{"$f":"IF('CENTRAL ANALYSIS'!$B$134>=18,1,0)","v":0}]
[null,null,null,null,null,null,null,null,null,null,null,null,null,"Date of Update:",null,null,null,null,null,null,null,null,{"$f":"IF('CENTRAL ANALYSIS'!$B$134>=18,1,0)","v":0}]
[null,null,null,null,null,null,null,null,null,null,null,null,null,"Milestone Completion Percent:",null,null,null,null,null,null,null,null,{"$f":"IF('CENTRAL ANALYSIS'!$B$134>=18,1,0)","v":0}]
[null,null,null,null,null,null,null,"Update Details:",null,null,null,null,null,null,null,null,null,null,null,null,null,null,{"$f":"IF('CENTRAL ANALYSIS'!$B$134>=18,1,0)","v":0}]
[null,null,null,null,null,null,null,null,null,null,null,null,null,null,null,null,null,null,null,null,null,null,{"$f":"IF('CENTRAL ANALYSIS'!$B$134>=18,1,0)","v":0}]
[null,null,null,null,null,null,null,null,null,null,null,null,null,null,null,null,null,null,null,null,null,null,{"$f":"IF('CENTRAL ANALYSIS'!$B$134>=18,1,0)","v":0}]
[null,null,null,null,null,null,null,null,null,null,null,null,null,null,null,null,null,null,null,null,null,null,{"$f":"IF('CENTRAL ANALYSIS'!$B$134>=18,1,0)","v":0}]
[null,null,null,null,null,null,null,null,null,null,null,null,null,"Select Action Item:",null,null,null,null,null,null,null,null,{"$f":"IF('CENTRAL ANALYSIS'!$B$134>=19,1,0)","v":0}]
[null,null,null,null,null,null,null,null,null,null,null,null,null,"Date of Update:",null,null,null,null,null,null,null,null,{"$f":"IF('CENTRAL ANALYSIS'!$B$134>=19,1,0)","v":0}]
[null,null,null,null,null,null,null,null,null,null,null,null,null,"Milestone Completion Percent:",null,null,null,null,null,null,null,null,{"$f":"IF('CENTRAL ANALYSIS'!$B$134>=19,1,0)","v":0}]
[null,null,null,null,null,null,null,"Update Details:",null,null,null,null,null,null,null,null,null,null,null,null,null,null,{"$f":"IF('CENTRAL ANALYSIS'!$B$134>=19,1,0)","v":0}]
[null,null,null,null,null,null,null,null,null,null,null,null,null,null,null,null,null,null,null,null,null,null,{"$f":"IF('CENTRAL ANALYSIS'!$B$134>=19,1,0)","v":0}]
[null,null,null,null,null,null,null,null,null,null,null,null,null,null,null,null,null,null,null,null,null,null,{"$f":"IF('CENTRAL ANALYSIS'!$B$134>=19,1,0)","v":0}]
[null,null,null,null,null,null,null,null,null,null,null,null,null,null,null,null,null,null,null,null,null,null,{"$f":"IF('CENTRAL ANALYSIS'!$B$134>=19,1,0)","v":0}]
[null,null,null,null,null,null,null,null,null,null,null,null,null,"Select Action Item:",null,null,null,null,null,null,null,null,{"$f":"IF('CENTRAL ANALYSIS'!$B$134>=20,1,0)","v":0}]
[null,null,null,null,null,null,null,null,null,null,null,null,null,"Date of Update:",null,null,null,null,null,null,null,null,{"$f":"IF('CENTRAL ANALYSIS'!$B$134>=20,1,0)","v":0}]
[null,null,null,null,null,null,null,null,null,null,null,null,null,"Milestone Completion Percent:",null,null,null,null,null,null,null,null,{"$f":"IF('CENTRAL ANALYSIS'!$B$134>=20,1,0)","v":0}]
[null,null,null,null,null,null,null,"Update Details:",null,null,null,null,null,null,null,null,null,null,null,null,null,null,{"$f":"IF('CENTRAL ANALYSIS'!$B$134>=20,1,0)","v":0}]
[null,null,null,null,null,null,null,null,null,null,null,null,null,null,null,null,null,null,null,null,null,null,{"$f":"IF('CENTRAL ANALYSIS'!$B$134>=20,1,0)","v":0}]
[null,null,null,null,null,null,null,null,null,null,null,null,null,null,null,null,null,null,null,null,null,null,{"$f":"IF('CENTRAL ANALYSIS'!$B$134>=20,1,0)","v":0}]
[null,null,null,null,null,null,null,null,null,null,null,null,null,null,null,null,null,null,null,null,null,null,{"$f":"IF('CENTRAL ANALYSIS'!$B$134>=20,1,0)","v":0}]
[null,null,null,null,null,null,null,null,null,null,null,null,null,null,null,null,null,null,null,null,null,null,{"$f":"IF('CENTRAL ANALYSIS'!$B$28=1,1,0)","v":0}]
[null,null,null,null,null,"Objective 1 Additional Notes (Up to 10)",null,null,null,null,null,null,null,null,null,null,null,null,null,null,null,null,{"$f":"IF('CENTRAL ANALYSIS'!$B$28=1,1,0)","v":0}]
[null,null,null,null,null,null,null,null,null,null,null,null,null,null,null,null,null,null,null,null,null,null,{"$f":"IF('CENTRAL ANALYSIS'!$B$28=1,1,0)","v":0}]
[null,null,null,null,null,null,null,null,null,null,null,null,null,null,null,null,null,null,null,null,null,null,{"$f":"IF('CENTRAL ANALYSIS'!$B$28=1,1,0)","v":0}]
[null,null,null,null,null,null,null,"Note 1",null,null,null,null,null,null,null,null,null,null,null,null,null,null,{"$f":"IF('CENTRAL ANALYSIS'!$B$135>=1,1,0)","v":0}]
[null,null,null,null,null,null,null,null,null,null,null,null,null,null,null,null,null,null,null,null,null,null,{"$f":"IF('CENTRAL ANALYSIS'!$B$135>=1,1,0)","v":0}]
[null,null,null,null,null,null,null,null,null,null,null,null,null,null,null,null,null,null,null,null,null,null,{"$f":"IF('CENTRAL ANALYSIS'!$B$135>=1,1,0)","v":0}]
[null,null,null,null,null,null,null,null,null,null,null,null,null,null,null,null,null,null,null,null,null,null,{"$f":"IF('CENTRAL ANALYSIS'!$B$135>=1,1,0)","v":0}]
[null,null,null,null,null,null,null,null,null,null,null,null,null,null,null,null,null,null,null,null,null,null,{"$f":"IF('CENTRAL ANALYSIS'!$B$135>=1,1,0)","v":0}]
[null,null,null,null,null,null,null,null,null,null,null,null,null,null,null,null,null,null,null,null,null,null,{"$f":"IF('CENTRAL ANALYSIS'!$B$135>=1,1,0)","v":0}]
[null,null,null,null,null,null,null,"Note 2",null,null,null,null,null,null,null,null,null,null,null,null,null,null,{"$f":"IF('CENTRAL ANALYSIS'!$B$135>=2,1,0)","v":0}]
[null,null,null,null,null,null,null,null,null,null,null,null,null,null,null,null,null,null,null,null,null,null,{"$f":"IF('CENTRAL ANALYSIS'!$B$135>=2,1,0)","v":0}]
[null,null,null,null,null,null,null,null,null,null,null,null,null,null,null,null,null,null,null,null,null,null,{"$f":"IF('CENTRAL ANALYSIS'!$B$135>=2,1,0)","v":0}]
[null,null,null,null,null,null,null,null,null,null,null,null,null,null,null,null,null,null,null,null,null,null,{"$f":"IF('CENTRAL ANALYSIS'!$B$135>=2,1,0)","v":0}]
[null,null,null,null,null,null,null,null,null,null,null,null,null,null,null,null,null,null,null,null,null,null,{"$f":"IF('CENTRAL ANALYSIS'!$B$135>=2,1,0)","v":0}]
[null,null,null,null,null,null,null,null,null,null,null,null,null,null,null,null,null,null,null,null,null,null,{"$f":"IF('CENTRAL ANALYSIS'!$B$135>=2,1,0)","v":0}]
[null,null,null,null,null,null,null,"Note 3",null,null,null,null,null,null,null,null,null,null,null,null,null,null,{"$f":"IF('CENTRAL ANALYSIS'!$B$135>=3,1,0)","v":0}]
[null,null,null,null,null,null,null,null,null,null,null,null,null,null,null,null,null,null,null,null,null,null,{"$f":"IF('CENTRAL ANALYSIS'!$B$135>=3,1,0)","v":0}]
[null,null,null,null,null,null,null,null,null,null,null,null,null,null,null,null,null,null,null,null,null,null,{"$f":"IF('CENTRAL ANALYSIS'!$B$135>=3,1,0)","v":0}]
[null,null,null,null,null,null,null,null,null,null,null,null,null,null,null,null,null,null,null,null,null,null,{"$f":"IF('CENTRAL ANALYSIS'!$B$135>=3,1,0)","v":0}]
[null,null,null,null,null,null,null,null,null,null,null,null,null,null,null,null,null,null,null,null,null,null,{"$f":"IF('CENTRAL ANALYSIS'!$B$135>=3,1,0)","v":0}]
[null,null,null,null,null,null,null,null,null,null,null,null,null,null,null,null,null,null,null,null,null,null,{"$f":"IF('CENTRAL ANALYSIS'!$B$135>=3,1,0)","v":0}]
[null,null,null,null,null,null,null,"Note 4",null,null,null,null,null,null,null,null,null,null,null,null,null,null,{"$f":"IF('CENTRAL ANALYSIS'!$B$135>=4,1,0)","v":0}]
[null,null,null,null,null,null,null,null,null,null,null,null,null,null,null,null,null,null,null,null,null,null,{"$f":"IF('CENTRAL ANALYSIS'!$B$135>=4,1,0)","v":0}]
[null,null,null,null,null,null,null,null,null,null,null,null,null,null,null,null,null,null,null,null,null,null,{"$f":"IF('CENTRAL ANALYSIS'!$B$135>=4,1,0)","v":0}]
[null,null,null,null,null,null,null,null,null,null,null,null,null,null,null,null,null,null,null,null,null,null,{"$f":"IF('CENTRAL ANALYSIS'!$B$135>=4,1,0)","v":0}]
[null,null,null,null,null,null,null,null,null,null,null,null,null,null,null,null,null,null,null,null,null,null,{"$f":"IF('CENTRAL ANALYSIS'!$B$135>=4,1,0)","v":0}]
[null,null,null,null,null,null,null,null,null,null,null,null,null,null,null,null,null,null,null,null,null,null,{"$f":"IF('CENTRAL ANALYSIS'!$B$135>=4,1,0)","v":0}]
[null,null,null,null,null,null,null,"Note 5",null,null,null,null,null,null,null,null,null,null,null,null,null,null,{"$f":"IF('CENTRAL ANALYSIS'!$B$135>=5,1,0)","v":0}]
[null,null,null,null,null,null,null,null,null,null,null,null,null,null,null,null,null,null,null,null,null,null,{"$f":"IF('CENTRAL ANALYSIS'!$B$135>=5,1,0)","v":0}]
[null,null,null,null,null,null,null,null,null,null,null,null,null,null,null,null,null,null,null,null,null,null,{"$f":"IF('CENTRAL ANALYSIS'!$B$135>=5,1,0)","v":0}]
[null,null,null,null,null,null,null,null,null,null,null,null,null,null,null,null,null,null,null,null,null,null,{"$f":"IF('CENTRAL ANALYSIS'!$B$135>=5,1,0)","v":0}]
[null,null,null,null,null,null,null,null,null,null,null,null,null,null,null,null,null,null,null,null,null,null,{"$f":"IF('CENTRAL ANALYSIS'!$B$135>=5,1,0)","v":0}]
[null,null,null,null,null,null,null,null,null,null,null,null,null,null,null,null,null,null,null,null,null,null,{"$f":"IF('CENTRAL ANALYSIS'!$B$135>=5,1,0)","v":0}]
[null,null,null,null,null,null,null,"Note 6",null,null,null,null,null,null,null,null,null,null,null,null,null,null,{"$f":"IF('CENTRAL ANALYSIS'!$B$135>=6,1,0)","v":0}]
[null,null,null,null,null,null,null,null,null,null,null,null,null,null,null,null,null,null,null,null,null,null,{"$f":"IF('CENTRAL ANALYSIS'!$B$135>=6,1,0)","v":0}]
[null,null,null,null,null,null,null,null,null,null,null,null,null,null,null,null,null,null,null,null,null,null,{"$f":"IF('CENTRAL ANALYSIS'!$B$135>=6,1,0)","v":0}]
[null,null,null,null,null,null,null,null,null,null,null,null,null,null,null,null,null,null,null,null,null,null,{"$f":"IF('CENTRAL ANALYSIS'!$B$135>=6,1,0)","v":0}]
[null,null,null,null,null,null,null,null,null,null,null,null,null,null,null,null,null,null,null,null,null,null,{"$f":"IF('CENTRAL ANALYSIS'!$B$135>=6,1,0)","v":0}]
[null,null,null,null,null,null,null,null,null,null,null,null,null,null,null,null,null,null,null,null,null,null,{"$f":"IF('CENTRAL ANALYSIS'!$B$135>=6,1,0)","v":0}]
[null,null,null,null,null,null,null,"Note 7",null,null,null,null,null,null,null,null,null,null,null,null,null,null,{"$f":"IF('CENTRAL ANALYSIS'!$B$135>=7,1,0)","v":0}]
[null,null,null,null,null,null,null,null,null,null,null,null,null,null,null,null,null,null,null,null,null,null,{"$f":"IF('CENTRAL ANALYSIS'!$B$135>=7,1,0)","v":0}]
[null,null,null,null,null,null,null,null,null,null,null,null,null,null,null,null,null,null,null,null,null,null,{"$f":"IF('CENTRAL ANALYSIS'!$B$135>=7,1,0)","v":0}]
[null,null,null,null,null,null,null,null,null,null,null,null,null,null,null,null,null,null,null,null,null,null,{"$f":"IF('CENTRAL ANALYSIS'!$B$135>=7,1,0)","v":0}]
[null,null,null,null,null,null,null,null,null,null,null,null,null,null,null,null,null,null,null,null,null,null,{"$f":"IF('CENTRAL ANALYSIS'!$B$135>=7,1,0)","v":0}]
[null,null,null,null,null,null,null,null,null,null,null,null,null,null,null,null,null,null,null,null,null,null,{"$f":"IF('CENTRAL ANALYSIS'!$B$135>=7,1,0)","v":0}]
[null,null,null,null,null,null,null,"Note 8",null,null,null,null,null,null,null,null,null,null,null,null,null,null,{"$f":"IF('CENTRAL ANALYSIS'!$B$135>=8,1,0)","v":0}]
[null,null,null,null,null,null,null,null,null,null,null,null,null,null,null,null,null,null,null,null,null,null,{"$f":"IF('CENTRAL ANALYSIS'!$B$135>=8,1,0)","v":0}]
[null,null,null,null,null,null,null,null,null,null,null,null,null,null,null,null,null,null,null,null,null,null,{"$f":"IF('CENTRAL ANALYSIS'!$B$135>=8,1,0)","v":0}]
[null,null,null,null,null,null,null,null,null,null,null,null,null,null,null,null,null,null,null,null,null,null,{"$f":"IF('CENTRAL ANALYSIS'!$B$135>=8,1,0)","v":0}]
[null,null,null,null,null,null,null,null,null,null,null,null,null,null,null,null,null,null,null,null,null,null,{"$f":"IF('CENTRAL ANALYSIS'!$B$135>=8,1,0)","v":0}]
[null,null,null,null,null,null,null,null,null,null,null,null,null,null,null,null,null,null,null,null,null,null,{"$f":"IF('CENTRAL ANALYSIS'!$B$135>=8,1,0)","v":0}]
[null,null,null,null,null,null,null,"Note 9",null,null,null,null,null,null,null,null,null,null,null,null,null,null,{"$f":"IF('CENTRAL ANALYSIS'!$B$135>=9,1,0)","v":0}]
[null,null,null,null,null,null,null,null,null,null,null,null,null,null,null,null,null,null,null,null,null,null,{"$f":"IF('CENTRAL ANALYSIS'!$B$135>=9,1,0)","v":0}]
[null,null,null,null,null,null,null,null,null,null,null,null,null,null,null,null,null,null,null,null,null,null,{"$f":"IF('CENTRAL ANALYSIS'!$B$135>=9,1,0)","v":0}]
[null,null,null,null,null,null,null,null,null,null,null,null,null,null,null,null,null,null,null,null,null,null,{"$f":"IF('CENTRAL ANALYSIS'!$B$135>=9,1,0)","v":0}]
[null,null,null,null,null,null,null,null,null,null,null,null,null,null,null,null,null,null,null,null,null,null,{"$f":"IF('CENTRAL ANALYSIS'!$B$135>=9,1,0)","v":0}]
[null,null,null,null,null,null,null,null,null,null,null,null,null,null,null,null,null,null,null,null,null,null,{"$f":"IF('CENTRAL ANALYSIS'!$B$135>=9,1,0)","v":0}]
[null,null,null,null,null,null,null,"Note 10",null,null,null,null,null,null,null,null,null,null,null,null,null,null,{"$f":"IF('CENTRAL ANALYSIS'!$B$135>=10,1,0)","v":0}]
[null,null,null,null,null,null,null,null,null,null,null,null,null,null,null,null,null,null,null,null,null,null,{"$f":"IF('CENTRAL ANALYSIS'!$B$135>=10,1,0)","v":0}]
[null,null,null,null,null,null,null,null,null,null,null,null,null,null,null,null,null,null,null,null,null,null,{"$f":"IF('CENTRAL ANALYSIS'!$B$135>=10,1,0)","v":0}]
[null,null,null,null,null,null,null,null,null,null,null,null,null,null,null,null,null,null,null,null,null,null,{"$f":"IF('CENTRAL ANALYSIS'!$B$135>=10,1,0)","v":0}]
[null,null,null,null,null,null,null,null,null,null,null,null,null,null,null,null,null,null,null,null,null,null,{"$f":"IF('CENTRAL ANALYSIS'!$B$135>=10,1,0)","v":0}]
[null,null,null,null,null,null,null,null,null,null,null,null,null,null,null,null,null,null,null,null,null,null,{"$f":"IF('CENTRAL ANALYSIS'!$B$135>=10,1,0)","v":0}]
[null,null,null,null,null,null,null,null,null,null,null,null,null,null,null,null,null,null,null,null,null,null,{"$f":"IF('CENTRAL ANALYSIS'!$B$135>=10,1,0)","v":0}]
[null,"Agency Strategy Objective 2",null,null,null,null,null,null,null,null,null,null,null,null,null,null,null,null,null,null,null,null,{"$f":"IF('CENTRAL ANALYSIS'!$E$28=1,1,0)","v":0}]
[null,null,null,null,null,null,null,null,null,null,null,null,null,null,null,null,null,null,null,null,null,null,{"$f":"IF('CENTRAL ANALYSIS'!$E$28=1,1,0)","v":0}]
[null,"INSTRUCTIONS: For each action item in the objective, enter the information in the yellow boxes to include the action item title, an owner, expected start and expected end date. A color can be assigned to assist with tracking related action items. Updates and Notes can be added for the objective item that can be used to track progress or miletones over time. ",null,null,null,null,null,null,null,null,null,null,null,null,null,null,null,null,null,null,null,null,{"$f":"IF('CENTRAL ANALYSIS'!$E$28=1,1,0)","v":0}]
[null,null,null,null,null,null,null,null,null,null,null,null,null,null,null,null,null,null,null,null,null,null,{"$f":"IF('CENTRAL ANALYSIS'!$E$28=1,1,0)","v":0}]
[null,null,null,null,null,null,null,null,null,null,null,null,null,null,null,null,null,null,null,null,null,null,{"$f":"IF('CENTRAL ANALYSIS'!$E$28=1,1,0)","v":0}]
[null,null,null,null,null,null,null,null,null,null,null,null,null,null,null,null,null,null,null,null,null,null,{"$f":"IF('CENTRAL ANALYSIS'!$E$28=1,1,0)","v":0}]
[null,null,null,null,null,"Overall Objective Statement",{"$f":"'AGENCY STRATEGY'!F95","v":0},null,null,null,null,null,null,null,null,null,null,null,null,null,null,null,{"$f":"IF('CENTRAL ANALYSIS'!$E$28=1,1,0)","v":0}]
[null,null,null,null,null,null,null,null,null,null,null,null,null,null,null,null,null,null,null,null,null,null,{"$f":"IF('CENTRAL ANALYSIS'!$E$28=1,1,0)","v":0}]
[null,null,null,null,null,null,null,null,null,null,null,null,null,null,null,null,null,null,null,null,null,null,{"$f":"IF('CENTRAL ANALYSIS'!$E$28=1,1,0)","v":0}]
[null,null,null,null,null,null,null,null,null,null,null,null,null,null,null,null,null,null,null,null,null,null,{"$f":"IF('CENTRAL ANALYSIS'!$E$28=1,1,0)","v":0}]
[null,null,null,null,null,null,null,null,null,null,null,null,null,null,null,null,null,null,null,null,null,null,{"$f":"IF('CENTRAL ANALYSIS'!$E$29=1,1,0)","v":0}]
[null,null,null,null,null,null,null,"Action Item Description",{"$f":"'AGENCY STRATEGY'!H102","v":0},null,null,null,null,null,null,null,null,null,null,null,null,null,{"$f":"IF('CENTRAL ANALYSIS'!$E$29=1,1,0)","v":0}]
[null,null,null,null,null,null,null,null,null,null,null,null,null,null,null,null,null,null,null,null,null,null,{"$f":"IF('CENTRAL ANALYSIS'!$E$29=1,1,0)","v":0}]
[null,null,null,null,null,null,null,null,null,null,null,null,null,null,null,null,null,null,null,null,null,null,{"$f":"IF('CENTRAL ANALYSIS'!$E$29=1,1,0)","v":0}]
[null,null,null,null,null,null,null,null,null,null,null,null,null,"Action Item Title:",null,null,null,null,null,null,null,null,{"$f":"IF('CENTRAL ANALYSIS'!$E$29=1,1,0)","v":0}]
[null,null,null,null,null,null,null,null,null,null,null,null,null,"Action Item Owner:",null,null,null,null,null,null,null,null,{"$f":"IF('CENTRAL ANALYSIS'!$E$29=1,1,0)","v":0}]
[null,null,null,null,null,null,null,null,null,null,null,null,null,"Expected Start Date:",null,null,null,null,null,null,null,null,{"$f":"IF('CENTRAL ANALYSIS'!$E$29=1,1,0)","v":0}]
[null,null,null,null,null,null,null,null,null,null,null,null,null,"Expected Completion Date:",null,null,null,null,null,null,null,null,{"$f":"IF('CENTRAL ANALYSIS'!$E$29=1,1,0)","v":0}]
[null,null,null,null,null,null,null,null,null,null,null,null,null,"Assign Color (optional):",null,null,null,null,null,null,null,null,{"$f":"IF('CENTRAL ANALYSIS'!$E$29=1,1,0)","v":0}]
[null,null,null,null,null,null,null,null,null,null,null,null,null,null,null,null,null,null,null,null,null,null,{"$f":"IF('CENTRAL ANALYSIS'!$E$29=1,1,0)","v":0}]
[null,null,null,null,null,null,null,"Action Item Description",{"$f":"'AGENCY STRATEGY'!H105","v":0},null,null,null,null,null,null,null,null,null,null,null,null,null,{"$f":"IF('CENTRAL ANALYSIS'!$E$30=1,1,0)","v":0}]
[null,null,null,null,null,null,null,null,null,null,null,null,null,null,null,null,null,null,null,null,null,null,{"$f":"IF('CENTRAL ANALYSIS'!$E$30=1,1,0)","v":0}]
[null,null,null,null,null,null,null,null,null,null,null,null,null,null,null,null,null,null,null,null,null,null,{"$f":"IF('CENTRAL ANALYSIS'!$E$30=1,1,0)","v":0}]
[null,null,null,null,null,null,null,null,null,null,null,null,null,"Action Item Title:",null,null,null,null,null,null,null,null,{"$f":"IF('CENTRAL ANALYSIS'!$E$30=1,1,0)","v":0}]
[null,null,null,null,null,null,null,null,null,null,null,null,null,"Action Item Owner:",null,null,null,null,null,null,null,null,{"$f":"IF('CENTRAL ANALYSIS'!$E$30=1,1,0)","v":0}]
[null,null,null,null,null,null,null,null,null,null,null,null,null,"Expected Start Date:",null,null,null,null,null,null,null,null,{"$f":"IF('CENTRAL ANALYSIS'!$E$30=1,1,0)","v":0}]
[null,null,null,null,null,null,null,null,null,null,null,null,null,"Expected Completion Date:",null,null,null,null,null,null,null,null,{"$f":"IF('CENTRAL ANALYSIS'!$E$30=1,1,0)","v":0}]
[null,null,null,null,null,null,null,null,null,null,null,null,null,"Assign Color (optional):",null,null,null,null,null,null,null,null,{"$f":"IF('CENTRAL ANALYSIS'!$E$30=1,1,0)","v":0}]
[null,null,null,null,null,null,null,null,null,null,null,null,null,null,null,null,null,null,null,null,null,null,{"$f":"IF('CENTRAL ANALYSIS'!$E$30=1,1,0)","v":0}]
[null,null,null,null,null,null,null,"Action Item Description",{"$f":"'AGENCY STRATEGY'!H108","v":""},null,null,null,null,null,null,null,null,null,null,null,null,null,{"$f":"IF('CENTRAL ANALYSIS'!$E$31=1,1,0)","v":0}]
[null,null,null,null,null,null,null,null,null,null,null,null,null,null,null,null,null,null,null,null,null,null,{"$f":"IF('CENTRAL ANALYSIS'!$E$31=1,1,0)","v":0}]
[null,null,null,null,null,null,null,null,null,null,null,null,null,null,null,null,null,null,null,null,null,null,{"$f":"IF('CENTRAL ANALYSIS'!$E$31=1,1,0)","v":0}]
[null,null,null,null,null,null,null,null,null,null,null,null,null,"Action Item Title:",null,null,null,null,null,null,null,null,{"$f":"IF('CENTRAL ANALYSIS'!$E$31=1,1,0)","v":0}]
[null,null,null,null,null,null,null,null,null,null,null,null,null,"Action Item Owner:",null,null,null,null,null,null,null,null,{"$f":"IF('CENTRAL ANALYSIS'!$E$31=1,1,0)","v":0}]
[null,null,null,null,null,null,null,null,null,null,null,null,null,"Expected Start Date:",null,null,null,null,null,null,null,null,{"$f":"IF('CENTRAL ANALYSIS'!$E$31=1,1,0)","v":0}]
[null,null,null,null,null,null,null,null,null,null,null,null,null,"Expected Completion Date:",null,null,null,null,null,null,null,null,{"$f":"IF('CENTRAL ANALYSIS'!$E$31=1,1,0)","v":0}]
[null,null,null,null,null,null,null,null,null,null,null,null,null,"Assign Color (optional):",null,null,null,null,null,null,null,null,{"$f":"IF('CENTRAL ANALYSIS'!$E$31=1,1,0)","v":0}]
[null,null,null,null,null,null,null,null,null,null,null,null,null,null,null,null,null,null,null,null,null,null,{"$f":"IF('CENTRAL ANALYSIS'!$E$31=1,1,0)","v":0}]
[null,null,null,null,null,null,null,"Action Item Description",{"$f":"'AGENCY STRATEGY'!H111","v":""},null,null,null,null,null,null,null,null,null,null,null,null,null,{"$f":"IF('CENTRAL ANALYSIS'!$E$32=1,1,0)","v":0}]
[null,null,null,null,null,null,null,null,null,null,null,null,null,null,null,null,null,null,null,null,null,null,{"$f":"IF('CENTRAL ANALYSIS'!$E$32=1,1,0)","v":0}]
[null,null,null,null,null,null,null,null,null,null,null,null,null,null,null,null,null,null,null,null,null,null,{"$f":"IF('CENTRAL ANALYSIS'!$E$32=1,1,0)","v":0}]
[null,null,null,null,null,null,null,null,null,null,null,null,null,"Action Item Title:",null,null,null,null,null,null,null,null,{"$f":"IF('CENTRAL ANALYSIS'!$E$32=1,1,0)","v":0}]
[null,null,null,null,null,null,null,null,null,null,null,null,null,"Action Item Owner:",null,null,null,null,null,null,null,null,{"$f":"IF('CENTRAL ANALYSIS'!$E$32=1,1,0)","v":0}]
[null,null,null,null,null,null,null,null,null,null,null,null,null,"Expected Start Date:",null,null,null,null,null,null,null,null,{"$f":"IF('CENTRAL ANALYSIS'!$E$32=1,1,0)","v":0}]
[null,null,null,null,null,null,null,null,null,null,null,null,null,"Expected Completion Date:",null,null,null,null,null,null,null,null,{"$f":"IF('CENTRAL ANALYSIS'!$E$32=1,1,0)","v":0}]
[null,null,null,null,null,null,null,null,null,null,null,null,null,"Assign Color (optional):",null,null,null,null,null,null,null,null,{"$f":"IF('CENTRAL ANALYSIS'!$E$32=1,1,0)","v":0}]
[null,null,null,null,null,null,null,null,null,null,null,null,null,null,null,null,null,null,null,null,null,null,{"$f":"IF('CENTRAL ANALYSIS'!$E$32=1,1,0)","v":0}]
[null,null,null,null,null,null,null,"Action Item Description",{"$f":"'AGENCY STRATEGY'!H114","v":""},null,null,null,null,null,null,null,null,null,null,null,null,null,{"$f":"IF('CENTRAL ANALYSIS'!$E$33=1,1,0)","v":0}]
[null,null,null,null,null,null,null,null,null,null,null,null,null,null,null,null,null,null,null,null,null,null,{"$f":"IF('CENTRAL ANALYSIS'!$E$33=1,1,0)","v":0}]
[null,null,null,null,null,null,null,null,null,null,null,null,null,null,null,null,null,null,null,null,null,null,{"$f":"IF('CENTRAL ANALYSIS'!$E$33=1,1,0)","v":0}]
[null,null,null,null,null,null,null,null,null,null,null,null,null,"Action Item Title:",null,null,null,null,null,null,null,null,{"$f":"IF('CENTRAL ANALYSIS'!$E$33=1,1,0)","v":0}]
[null,null,null,null,null,null,null,null,null,null,null,null,null,"Action Item Owner:",null,null,null,null,null,null,null,null,{"$f":"IF('CENTRAL ANALYSIS'!$E$33=1,1,0)","v":0}]
[null,null,null,null,null,null,null,null,null,null,null,null,null,"Expected Start Date:",null,null,null,null,null,null,null,null,{"$f":"IF('CENTRAL ANALYSIS'!$E$33=1,1,0)","v":0}]
[null,null,null,null,null,null,null,null,null,null,null,null,null,"Expected Completion Date:",null,null,null,null,null,null,null,null,{"$f":"IF('CENTRAL ANALYSIS'!$E$33=1,1,0)","v":0}]
[null,null,null,null,null,null,null,null,null,null,null,null,null,"Assign Color (optional):",null,null,null,null,null,null,null,null,{"$f":"IF('CENTRAL ANALYSIS'!$E$33=1,1,0)","v":0}]
[null,null,null,null,null,null,null,null,null,null,null,null,null,null,null,null,null,null,null,null,null,null,{"$f":"IF('CENTRAL ANALYSIS'!$E$33=1,1,0)","v":0}]
[null,null,null,null,null,"Objective 2 Progress Updates (Up to 20 Updates)",null,null,null,null,null,null,null,null,null,null,null,null,null,null,null,null,{"$f":"IF('CENTRAL ANALYSIS'!$E$28=1,1,0)","v":0}]
[null,null,null,null,null,null,null,null,null,null,null,null,null,null,null,null,null,null,null,null,null,null,{"$f":"IF('CENTRAL ANALYSIS'!$E$28=1,1,0)","v":0}]
[null,null,null,null,null,null,null,null,null,null,null,null,null,null,null,null,null,null,null,null,null,null,{"$f":"IF('CENTRAL ANALYSIS'!$E$28=1,1,0)","v":0}]
[null,null,null,null,null,null,null,null,null,null,null,null,null,"Select Action Item:",null,null,null,null,null,null,null,null,{"$f":"IF('CENTRAL ANALYSIS'!$E$134>=1,1,0)","v":0}]
[null,null,null,null,null,null,null,null,null,null,null,null,null,"Date of Update:",null,null,null,null,null,null,null,null,{"$f":"IF('CENTRAL ANALYSIS'!$E$134>=1,1,0)","v":0}]
[null,null,null,null,null,null,null,null,null,null,null,null,null,"Milestone Completion Percent:",null,null,null,null,null,null,null,null,{"$f":"IF('CENTRAL ANALYSIS'!$E$134>=1,1,0)","v":0}]
[null,null,null,null,null,null,null,"Update Details:",null,null,null,null,null,null,null,null,null,null,null,null,null,null,{"$f":"IF('CENTRAL ANALYSIS'!$E$134>=1,1,0)","v":0}]
[null,null,null,null,null,null,null,null,null,null,null,null,null,null,null,null,null,null,null,null,null,null,{"$f":"IF('CENTRAL ANALYSIS'!$E$134>=1,1,0)","v":0}]
[null,null,null,null,null,null,null,null,null,null,null,null,null,null,null,null,null,null,null,null,null,null,{"$f":"IF('CENTRAL ANALYSIS'!$E$134>=1,1,0)","v":0}]
[null,null,null,null,null,null,null,null,null,null,null,null,null,null,null,null,null,null,null,null,null,null,{"$f":"IF('CENTRAL ANALYSIS'!$E$134>=1,1,0)","v":0}]
[null,null,null,null,null,null,null,null,null,null,null,null,null,"Select Action Item:",null,null,null,null,null,null,null,null,{"$f":"IF('CENTRAL ANALYSIS'!$E$134>=2,1,0)","v":0}]
[null,null,null,null,null,null,null,null,null,null,null,null,null,"Date of Update:",null,null,null,null,null,null,null,null,{"$f":"IF('CENTRAL ANALYSIS'!$E$134>=2,1,0)","v":0}]
[null,null,null,null,null,null,null,null,null,null,null,null,null,"Milestone Completion Percent:",null,null,null,null,null,null,null,null,{"$f":"IF('CENTRAL ANALYSIS'!$E$134>=2,1,0)","v":0}]
[null,null,null,null,null,null,null,"Update Details:",null,null,null,null,null,null,null,null,null,null,null,null,null,null,{"$f":"IF('CENTRAL ANALYSIS'!$E$134>=2,1,0)","v":0}]
[null,null,null,null,null,null,null,null,null,null,null,null,null,null,null,null,null,null,null,null,null,null,{"$f":"IF('CENTRAL ANALYSIS'!$E$134>=2,1,0)","v":0}]
[null,null,null,null,null,null,null,null,null,null,null,null,null,null,null,null,null,null,null,null,null,null,{"$f":"IF('CENTRAL ANALYSIS'!$E$134>=2,1,0)","v":0}]
[null,null,null,null,null,null,null,null,null,null,null,null,null,null,null,null,null,null,null,null,null,null,{"$f":"IF('CENTRAL ANALYSIS'!$E$134>=2,1,0)","v":0}]
[null,null,null,null,null,null,null,null,null,null,null,null,null,"Select Action Item:",null,null,null,null,null,null,null,null,{"$f":"IF('CENTRAL ANALYSIS'!$E$134>=3,1,0)","v":0}]
[null,null,null,null,null,null,null,null,null,null,null,null,null,"Date of Update:",null,null,null,null,null,null,null,null,{"$f":"IF('CENTRAL ANALYSIS'!$E$134>=3,1,0)","v":0}]
[null,null,null,null,null,null,null,null,null,null,null,null,null,"Milestone Completion Percent:",null,null,null,null,null,null,null,null,{"$f":"IF('CENTRAL ANALYSIS'!$E$134>=3,1,0)","v":0}]
[null,null,null,null,null,null,null,"Update Details:",null,null,null,null,null,null,null,null,null,null,null,null,null,null,{"$f":"IF('CENTRAL ANALYSIS'!$E$134>=3,1,0)","v":0}]
[null,null,null,null,null,null,null,null,null,null,null,null,null,null,null,null,null,null,null,null,null,null,{"$f":"IF('CENTRAL ANALYSIS'!$E$134>=3,1,0)","v":0}]
[null,null,null,null,null,null,null,null,null,null,null,null,null,null,null,null,null,null,null,null,null,null,{"$f":"IF('CENTRAL ANALYSIS'!$E$134>=3,1,0)","v":0}]
[null,null,null,null,null,null,null,null,null,null,null,null,null,null,null,null,null,null,null,null,null,null,{"$f":"IF('CENTRAL ANALYSIS'!$E$134>=3,1,0)","v":0}]
[null,null,null,null,null,null,null,null,null,null,null,null,null,"Select Action Item:",null,null,null,null,null,null,null,null,{"$f":"IF('CENTRAL ANALYSIS'!$E$134>=4,1,0)","v":0}]
[null,null,null,null,null,null,null,null,null,null,null,null,null,"Date of Update:",null,null,null,null,null,null,null,null,{"$f":"IF('CENTRAL ANALYSIS'!$E$134>=4,1,0)","v":0}]
[null,null,null,null,null,null,null,null,null,null,null,null,null,"Milestone Completion Percent:",null,null,null,null,null,null,null,null,{"$f":"IF('CENTRAL ANALYSIS'!$E$134>=4,1,0)","v":0}]
[null,null,null,null,null,null,null,"Update Details:",null,null,null,null,null,null,null,null,null,null,null,null,null,null,{"$f":"IF('CENTRAL ANALYSIS'!$E$134>=4,1,0)","v":0}]
[null,null,null,null,null,null,null,null,null,null,null,null,null,null,null,null,null,null,null,null,null,null,{"$f":"IF('CENTRAL ANALYSIS'!$E$134>=4,1,0)","v":0}]
[null,null,null,null,null,null,null,null,null,null,null,null,null,null,null,null,null,null,null,null,null,null,{"$f":"IF('CENTRAL ANALYSIS'!$E$134>=4,1,0)","v":0}]
[null,null,null,null,null,null,null,null,null,null,null,null,null,null,null,null,null,null,null,null,null,null,{"$f":"IF('CENTRAL ANALYSIS'!$E$134>=4,1,0)","v":0}]
[null,null,null,null,null,null,null,null,null,null,null,null,null,"Select Action Item:",null,null,null,null,null,null,null,null,{"$f":"IF('CENTRAL ANALYSIS'!$E$134>=5,1,0)","v":0}]
[null,null,null,null,null,null,null,null,null,null,null,null,null,"Date of Update:",null,null,null,null,null,null,null,null,{"$f":"IF('CENTRAL ANALYSIS'!$E$134>=5,1,0)","v":0}]
[null,null,null,null,null,null,null,null,null,null,null,null,null,"Milestone Completion Percent:",null,null,null,null,null,null,null,null,{"$f":"IF('CENTRAL ANALYSIS'!$E$134>=5,1,0)","v":0}]
[null,null,null,null,null,null,null,"Update Details:",null,null,null,null,null,null,null,null,null,null,null,null,null,null,{"$f":"IF('CENTRAL ANALYSIS'!$E$134>=5,1,0)","v":0}]
[null,null,null,null,null,null,null,null,null,null,null,null,null,null,null,null,null,null,null,null,null,null,{"$f":"IF('CENTRAL ANALYSIS'!$E$134>=5,1,0)","v":0}]
[null,null,null,null,null,null,null,null,null,null,null,null,null,null,null,null,null,null,null,null,null,null,{"$f":"IF('CENTRAL ANALYSIS'!$E$134>=5,1,0)","v":0}]
[null,null,null,null,null,null,null,null,null,null,null,null,null,null,null,null,null,null,null,null,null,null,{"$f":"IF('CENTRAL ANALYSIS'!$E$134>=5,1,0)","v":0}]
[null,null,null,null,null,null,null,null,null,null,null,null,null,"Select Action Item:",null,null,null,null,null,null,null,null,{"$f":"IF('CENTRAL ANALYSIS'!$E$134>=6,1,0)","v":0}]
[null,null,null,null,null,null,null,null,null,null,null,null,null,"Date of Update:",null,null,null,null,null,null,null,null,{"$f":"IF('CENTRAL ANALYSIS'!$E$134>=6,1,0)","v":0}]
[null,null,null,null,null,null,null,null,null,null,null,null,null,"Milestone Completion Percent:",null,null,null,null,null,null,null,null,{"$f":"IF('CENTRAL ANALYSIS'!$E$134>=6,1,0)","v":0}]
[null,null,null,null,null,null,null,"Update Details:",null,null,null,null,null,null,null,null,null,null,null,null,null,null,{"$f":"IF('CENTRAL ANALYSIS'!$E$134>=6,1,0)","v":0}]
[null,null,null,null,null,null,null,null,null,null,null,null,null,null,null,null,null,null,null,null,null,null,{"$f":"IF('CENTRAL ANALYSIS'!$E$134>=6,1,0)","v":0}]
[null,null,null,null,null,null,null,null,null,null,null,null,null,null,null,null,null,null,null,null,null,null,{"$f":"IF('CENTRAL ANALYSIS'!$E$134>=6,1,0)","v":0}]
[null,null,null,null,null,null,null,null,null,null,null,null,null,null,null,null,null,null,null,null,null,null,{"$f":"IF('CENTRAL ANALYSIS'!$E$134>=6,1,0)","v":0}]
[null,null,null,null,null,null,null,null,null,null,null,null,null,"Select Action Item:",null,null,null,null,null,null,null,null,{"$f":"IF('CENTRAL ANALYSIS'!$E$134>=7,1,0)","v":0}]
[null,null,null,null,null,null,null,null,null,null,null,null,null,"Date of Update:",null,null,null,null,null,null,null,null,{"$f":"IF('CENTRAL ANALYSIS'!$E$134>=7,1,0)","v":0}]
[null,null,null,null,null,null,null,null,null,null,null,null,null,"Milestone Completion Percent:",null,null,null,null,null,null,null,null,{"$f":"IF('CENTRAL ANALYSIS'!$E$134>=7,1,0)","v":0}]
[null,null,null,null,null,null,null,"Update Details:",null,null,null,null,null,null,null,null,null,null,null,null,null,null,{"$f":"IF('CENTRAL ANALYSIS'!$E$134>=7,1,0)","v":0}]
[null,null,null,null,null,null,null,null,null,null,null,null,null,null,null,null,null,null,null,null,null,null,{"$f":"IF('CENTRAL ANALYSIS'!$E$134>=7,1,0)","v":0}]
[null,null,null,null,null,null,null,null,null,null,null,null,null,null,null,null,null,null,null,null,null,null,{"$f":"IF('CENTRAL ANALYSIS'!$E$134>=7,1,0)","v":0}]
[null,null,null,null,null,null,null,null,null,null,null,null,null,null,null,null,null,null,null,null,null,null,{"$f":"IF('CENTRAL ANALYSIS'!$E$134>=7,1,0)","v":0}]
[null,null,null,null,null,null,null,null,null,null,null,null,null,"Select Action Item:",null,null,null,null,null,null,null,null,{"$f":"IF('CENTRAL ANALYSIS'!$E$134>=8,1,0)","v":0}]
[null,null,null,null,null,null,null,null,null,null,null,null,null,"Date of Update:",null,null,null,null,null,null,null,null,{"$f":"IF('CENTRAL ANALYSIS'!$E$134>=8,1,0)","v":0}]
[null,null,null,null,null,null,null,null,null,null,null,null,null,"Milestone Completion Percent:",null,null,null,null,null,null,null,null,{"$f":"IF('CENTRAL ANALYSIS'!$E$134>=8,1,0)","v":0}]
[null,null,null,null,null,null,null,"Update Details:",null,null,null,null,null,null,null,null,null,null,null,null,null,null,{"$f":"IF('CENTRAL ANALYSIS'!$E$134>=8,1,0)","v":0}]
[null,null,null,null,null,null,null,null,null,null,null,null,null,null,null,null,null,null,null,null,null,null,{"$f":"IF('CENTRAL ANALYSIS'!$E$134>=8,1,0)","v":0}]
[null,null,null,null,null,null,null,null,null,null,null,null,null,null,null,null,null,null,null,null,null,null,{"$f":"IF('CENTRAL ANALYSIS'!$E$134>=8,1,0)","v":0}]
[null,null,null,null,null,null,null,null,null,null,null,null,null,null,null,null,null,null,null,null,null,null,{"$f":"IF('CENTRAL ANALYSIS'!$E$134>=8,1,0)","v":0}]
[null,null,null,null,null,null,null,null,null,null,null,null,null,"Select Action Item:",null,null,null,null,null,null,null,null,{"$f":"IF('CENTRAL ANALYSIS'!$E$134>=9,1,0)","v":0}]
[null,null,null,null,null,null,null,null,null,null,null,null,null,"Date of Update:",null,null,null,null,null,null,null,null,{"$f":"IF('CENTRAL ANALYSIS'!$E$134>=9,1,0)","v":0}]
[null,null,null,null,null,null,null,null,null,null,null,null,null,"Milestone Completion Percent:",null,null,null,null,null,null,null,null,{"$f":"IF('CENTRAL ANALYSIS'!$E$134>=9,1,0)","v":0}]
[null,null,null,null,null,null,null,"Update Details:",null,null,null,null,null,null,null,null,null,null,null,null,null,null,{"$f":"IF('CENTRAL ANALYSIS'!$E$134>=9,1,0)","v":0}]
[null,null,null,null,null,null,null,null,null,null,null,null,null,null,null,null,null,null,null,null,null,null,{"$f":"IF('CENTRAL ANALYSIS'!$E$134>=9,1,0)","v":0}]
[null,null,null,null,null,null,null,null,null,null,null,null,null,null,null,null,null,null,null,null,null,null,{"$f":"IF('CENTRAL ANALYSIS'!$E$134>=9,1,0)","v":0}]
[null,null,null,null,null,null,null,null,null,null,null,null,null,null,null,null,null,null,null,null,null,null,{"$f":"IF('CENTRAL ANALYSIS'!$E$134>=9,1,0)","v":0}]
[null,null,null,null,null,null,null,null,null,null,null,null,null,"Select Action Item:",null,null,null,null,null,null,null,null,{"$f":"IF('CENTRAL ANALYSIS'!$E$134>=10,1,0)","v":0}]
[null,null,null,null,null,null,null,null,null,null,null,null,null,"Date of Update:",null,null,null,null,null,null,null,null,{"$f":"IF('CENTRAL ANALYSIS'!$E$134>=10,1,0)","v":0}]
[null,null,null,null,null,null,null,null,null,null,null,null,null,"Milestone Completion Percent:",null,null,null,null,null,null,null,null,{"$f":"IF('CENTRAL ANALYSIS'!$E$134>=10,1,0)","v":0}]
[null,null,null,null,null,null,null,"Update Details:",null,null,null,null,null,null,null,null,null,null,null,null,null,null,{"$f":"IF('CENTRAL ANALYSIS'!$E$134>=10,1,0)","v":0}]
[null,null,null,null,null,null,null,null,null,null,null,null,null,null,null,null,null,null,null,null,null,null,{"$f":"IF('CENTRAL ANALYSIS'!$E$134>=10,1,0)","v":0}]
[null,null,null,null,null,null,null,null,null,null,null,null,null,null,null,null,null,null,null,null,null,null,{"$f":"IF('CENTRAL ANALYSIS'!$E$134>=10,1,0)","v":0}]
[null,null,null,null,null,null,null,null,null,null,null,null,null,null,null,null,null,null,null,null,null,null,{"$f":"IF('CENTRAL ANALYSIS'!$E$134>=10,1,0)","v":0}]
[null,null,null,null,null,null,null,null,null,null,null,null,null,"Select Action Item:",null,null,null,null,null,null,null,null,{"$f":"IF('CENTRAL ANALYSIS'!$E$134>=11,1,0)","v":0}]
[null,null,null,null,null,null,null,null,null,null,null,null,null,"Date of Update:",null,null,null,null,null,null,null,null,{"$f":"IF('CENTRAL ANALYSIS'!$E$134>=11,1,0)","v":0}]
[null,null,null,null,null,null,null,null,null,null,null,null,null,"Milestone Completion Percent:",null,null,null,null,null,null,null,null,{"$f":"IF('CENTRAL ANALYSIS'!$E$134>=11,1,0)","v":0}]
[null,null,null,null,null,null,null,"Update Details:",null,null,null,null,null,null,null,null,null,null,null,null,null,null,{"$f":"IF('CENTRAL ANALYSIS'!$E$134>=11,1,0)","v":0}]
[null,null,null,null,null,null,null,null,null,null,null,null,null,null,null,null,null,null,null,null,null,null,{"$f":"IF('CENTRAL ANALYSIS'!$E$134>=11,1,0)","v":0}]
[null,null,null,null,null,null,null,null,null,null,null,null,null,null,null,null,null,null,null,null,null,null,{"$f":"IF('CENTRAL ANALYSIS'!$E$134>=11,1,0)","v":0}]
[null,null,null,null,null,null,null,null,null,null,null,null,null,null,null,null,null,null,null,null,null,null,{"$f":"IF('CENTRAL ANALYSIS'!$E$134>=11,1,0)","v":0}]
[null,null,null,null,null,null,null,null,null,null,null,null,null,"Select Action Item:",null,null,null,null,null,null,null,null,{"$f":"IF('CENTRAL ANALYSIS'!$E$134>=12,1,0)","v":0}]
[null,null,null,null,null,null,null,null,null,null,null,null,null,"Date of Update:",null,null,null,null,null,null,null,null,{"$f":"IF('CENTRAL ANALYSIS'!$E$134>=12,1,0)","v":0}]
[null,null,null,null,null,null,null,null,null,null,null,null,null,"Milestone Completion Percent:",null,null,null,null,null,null,null,null,{"$f":"IF('CENTRAL ANALYSIS'!$E$134>=12,1,0)","v":0}]
[null,null,null,null,null,null,null,"Update Details:",null,null,null,null,null,null,null,null,null,null,null,null,null,null,{"$f":"IF('CENTRAL ANALYSIS'!$E$134>=12,1,0)","v":0}]
[null,null,null,null,null,null,null,null,null,null,null,null,null,null,null,null,null,null,null,null,null,null,{"$f":"IF('CENTRAL ANALYSIS'!$E$134>=12,1,0)","v":0}]
[null,null,null,null,null,null,null,null,null,null,null,null,null,null,null,null,null,null,null,null,null,null,{"$f":"IF('CENTRAL ANALYSIS'!$E$134>=12,1,0)","v":0}]
[null,null,null,null,null,null,null,null,null,null,null,null,null,null,null,null,null,null,null,null,null,null,{"$f":"IF('CENTRAL ANALYSIS'!$E$134>=12,1,0)","v":0}]
[null,null,null,null,null,null,null,null,null,null,null,null,null,"Select Action Item:",null,null,null,null,null,null,null,null,{"$f":"IF('CENTRAL ANALYSIS'!$E$134>=13,1,0)","v":0}]
[null,null,null,null,null,null,null,null,null,null,null,null,null,"Date of Update:",null,null,null,null,null,null,null,null,{"$f":"IF('CENTRAL ANALYSIS'!$E$134>=13,1,0)","v":0}]
[null,null,null,null,null,null,null,null,null,null,null,null,null,"Milestone Completion Percent:",null,null,null,null,null,null,null,null,{"$f":"IF('CENTRAL ANALYSIS'!$E$134>=13,1,0)","v":0}]
[null,null,null,null,null,null,null,"Update Details:",null,null,null,null,null,null,null,null,null,null,null,null,null,null,{"$f":"IF('CENTRAL ANALYSIS'!$E$134>=13,1,0)","v":0}]
[null,null,null,null,null,null,null,null,null,null,null,null,null,null,null,null,null,null,null,null,null,null,{"$f":"IF('CENTRAL ANALYSIS'!$E$134>=13,1,0)","v":0}]
[null,null,null,null,null,null,null,null,null,null,null,null,null,null,null,null,null,null,null,null,null,null,{"$f":"IF('CENTRAL ANALYSIS'!$E$134>=13,1,0)","v":0}]
[null,null,null,null,null,null,null,null,null,null,null,null,null,null,null,null,null,null,null,null,null,null,{"$f":"IF('CENTRAL ANALYSIS'!$E$134>=13,1,0)","v":0}]
[null,null,null,null,null,null,null,null,null,null,null,null,null,"Select Action Item:",null,null,null,null,null,null,null,null,{"$f":"IF('CENTRAL ANALYSIS'!$E$134>=14,1,0)","v":0}]
[null,null,null,null,null,null,null,null,null,null,null,null,null,"Date of Update:",null,null,null,null,null,null,null,null,{"$f":"IF('CENTRAL ANALYSIS'!$E$134>=14,1,0)","v":0}]
[null,null,null,null,null,null,null,null,null,null,null,null,null,"Milestone Completion Percent:",null,null,null,null,null,null,null,null,{"$f":"IF('CENTRAL ANALYSIS'!$E$134>=14,1,0)","v":0}]
[null,null,null,null,null,null,null,"Update Details:",null,null,null,null,null,null,null,null,null,null,null,null,null,null,{"$f":"IF('CENTRAL ANALYSIS'!$E$134>=14,1,0)","v":0}]
[null,null,null,null,null,null,null,null,null,null,null,null,null,null,null,null,null,null,null,null,null,null,{"$f":"IF('CENTRAL ANALYSIS'!$E$134>=14,1,0)","v":0}]
[null,null,null,null,null,null,null,null,null,null,null,null,null,null,null,null,null,null,null,null,null,null,{"$f":"IF('CENTRAL ANALYSIS'!$E$134>=14,1,0)","v":0}]
[null,null,null,null,null,null,null,null,null,null,null,null,null,null,null,null,null,null,null,null,null,null,{"$f":"IF('CENTRAL ANALYSIS'!$E$134>=14,1,0)","v":0}]
[null,null,null,null,null,null,null,null,null,null,null,null,null,"Select Action Item:",null,null,null,null,null,null,null,null,{"$f":"IF('CENTRAL ANALYSIS'!$E$134>=15,1,0)","v":0}]
[null,null,null,null,null,null,null,null,null,null,null,null,null,"Date of Update:",null,null,null,null,null,null,null,null,{"$f":"IF('CENTRAL ANALYSIS'!$E$134>=15,1,0)","v":0}]
[null,null,null,null,null,null,null,null,null,null,null,null,null,"Milestone Completion Percent:",null,null,null,null,null,null,null,null,{"$f":"IF('CENTRAL ANALYSIS'!$E$134>=15,1,0)","v":0}]
[null,null,null,null,null,null,null,"Update Details:",null,null,null,null,null,null,null,null,null,null,null,null,null,null,{"$f":"IF('CENTRAL ANALYSIS'!$E$134>=15,1,0)","v":0}]
[null,null,null,null,null,null,null,null,null,null,null,null,null,null,null,null,null,null,null,null,null,null,{"$f":"IF('CENTRAL ANALYSIS'!$E$134>=15,1,0)","v":0}]
[null,null,null,null,null,null,null,null,null,null,null,null,null,null,null,null,null,null,null,null,null,null,{"$f":"IF('CENTRAL ANALYSIS'!$E$134>=15,1,0)","v":0}]
[null,null,null,null,null,null,null,null,null,null,null,null,null,null,null,null,null,null,null,null,null,null,{"$f":"IF('CENTRAL ANALYSIS'!$E$134>=15,1,0)","v":0}]
[null,null,null,null,null,null,null,null,null,null,null,null,null,"Select Action Item:",null,null,null,null,null,null,null,null,{"$f":"IF('CENTRAL ANALYSIS'!$E$134>=16,1,0)","v":0}]
[null,null,null,null,null,null,null,null,null,null,null,null,null,"Date of Update:",null,null,null,null,null,null,null,null,{"$f":"IF('CENTRAL ANALYSIS'!$E$134>=16,1,0)","v":0}]
[null,null,null,null,null,null,null,null,null,null,null,null,null,"Milestone Completion Percent:",null,null,null,null,null,null,null,null,{"$f":"IF('CENTRAL ANALYSIS'!$E$134>=16,1,0)","v":0}]
[null,null,null,null,null,null,null,"Update Details:",null,null,null,null,null,null,null,null,null,null,null,null,null,null,{"$f":"IF('CENTRAL ANALYSIS'!$E$134>=16,1,0)","v":0}]
[null,null,null,null,null,null,null,null,null,null,null,null,null,null,null,null,null,null,null,null,null,null,{"$f":"IF('CENTRAL ANALYSIS'!$E$134>=16,1,0)","v":0}]
[null,null,null,null,null,null,null,null,null,null,null,null,null,null,null,null,null,null,null,null,null,null,{"$f":"IF('CENTRAL ANALYSIS'!$E$134>=16,1,0)","v":0}]
[null,null,null,null,null,null,null,null,null,null,null,null,null,null,null,null,null,null,null,null,null,null,{"$f":"IF('CENTRAL ANALYSIS'!$E$134>=16,1,0)","v":0}]
[null,null,null,null,null,null,null,null,null,null,null,null,null,"Select Action Item:",null,null,null,null,null,null,null,null,{"$f":"IF('CENTRAL ANALYSIS'!$E$134>=17,1,0)","v":0}]
[null,null,null,null,null,null,null,null,null,null,null,null,null,"Date of Update:",null,null,null,null,null,null,null,null,{"$f":"IF('CENTRAL ANALYSIS'!$E$134>=17,1,0)","v":0}]
[null,null,null,null,null,null,null,null,null,null,null,null,null,"Milestone Completion Percent:",null,null,null,null,null,null,null,null,{"$f":"IF('CENTRAL ANALYSIS'!$E$134>=17,1,0)","v":0}]
[null,null,null,null,null,null,null,"Update Details:",null,null,null,null,null,null,null,null,null,null,null,null,null,null,{"$f":"IF('CENTRAL ANALYSIS'!$E$134>=17,1,0)","v":0}]
[null,null,null,null,null,null,null,null,null,null,null,null,null,null,null,null,null,null,null,null,null,null,{"$f":"IF('CENTRAL ANALYSIS'!$E$134>=17,1,0)","v":0}]
[null,null,null,null,null,null,null,null,null,null,null,null,null,null,null,null,null,null,null,null,null,null,{"$f":"IF('CENTRAL ANALYSIS'!$E$134>=17,1,0)","v":0}]
[null,null,null,null,null,null,null,null,null,null,null,null,null,null,null,null,null,null,null,null,null,null,{"$f":"IF('CENTRAL ANALYSIS'!$E$134>=17,1,0)","v":0}]
[null,null,null,null,null,null,null,null,null,null,null,null,null,"Select Action Item:",null,null,null,null,null,null,null,null,{"$f":"IF('CENTRAL ANALYSIS'!$E$134>=18,1,0)","v":0}]
[null,null,null,null,null,null,null,null,null,null,null,null,null,"Date of Update:",null,null,null,null,null,null,null,null,{"$f":"IF('CENTRAL ANALYSIS'!$E$134>=18,1,0)","v":0}]
[null,null,null,null,null,null,null,null,null,null,null,null,null,"Milestone Completion Percent:",null,null,null,null,null,null,null,null,{"$f":"IF('CENTRAL ANALYSIS'!$E$134>=18,1,0)","v":0}]
[null,null,null,null,null,null,null,"Update Details:",null,null,null,null,null,null,null,null,null,null,null,null,null,null,{"$f":"IF('CENTRAL ANALYSIS'!$E$134>=18,1,0)","v":0}]
[null,null,null,null,null,null,null,null,null,null,null,null,null,null,null,null,null,null,null,null,null,null,{"$f":"IF('CENTRAL ANALYSIS'!$E$134>=18,1,0)","v":0}]
[null,null,null,null,null,null,null,null,null,null,null,null,null,null,null,null,null,null,null,null,null,null,{"$f":"IF('CENTRAL ANALYSIS'!$E$134>=18,1,0)","v":0}]
[null,null,null,null,null,null,null,null,null,null,null,null,null,null,null,null,null,null,null,null,null,null,{"$f":"IF('CENTRAL ANALYSIS'!$E$134>=18,1,0)","v":0}]
[null,null,null,null,null,null,null,null,null,null,null,null,null,"Select Action Item:",null,null,null,null,null,null,null,null,{"$f":"IF('CENTRAL ANALYSIS'!$E$134>=19,1,0)","v":0}]
[null,null,null,null,null,null,null,null,null,null,null,null,null,"Date of Update:",null,null,null,null,null,null,null,null,{"$f":"IF('CENTRAL ANALYSIS'!$E$134>=19,1,0)","v":0}]
[null,null,null,null,null,null,null,null,null,null,null,null,null,"Milestone Completion Percent:",null,null,null,null,null,null,null,null,{"$f":"IF('CENTRAL ANALYSIS'!$E$134>=19,1,0)","v":0}]
[null,null,null,null,null,null,null,"Update Details:",null,null,null,null,null,null,null,null,null,null,null,null,null,null,{"$f":"IF('CENTRAL ANALYSIS'!$E$134>=19,1,0)","v":0}]
[null,null,null,null,null,null,null,null,null,null,null,null,null,null,null,null,null,null,null,null,null,null,{"$f":"IF('CENTRAL ANALYSIS'!$E$134>=19,1,0)","v":0}]
[null,null,null,null,null,null,null,null,null,null,null,null,null,null,null,null,null,null,null,null,null,null,{"$f":"IF('CENTRAL ANALYSIS'!$E$134>=19,1,0)","v":0}]
[null,null,null,null,null,null,null,null,null,null,null,null,null,null,null,null,null,null,null,null,null,null,{"$f":"IF('CENTRAL ANALYSIS'!$E$134>=19,1,0)","v":0}]
[null,null,null,null,null,null,null,null,null,null,null,null,null,"Select Action Item:",null,null,null,null,null,null,null,null,{"$f":"IF('CENTRAL ANALYSIS'!$E$134>=20,1,0)","v":0}]
[null,null,null,null,null,null,null,null,null,null,null,null,null,"Date of Update:",null,null,null,null,null,null,null,null,{"$f":"IF('CENTRAL ANALYSIS'!$E$134>=20,1,0)","v":0}]
[null,null,null,null,null,null,null,null,null,null,null,null,null,"Milestone Completion Percent:",null,null,null,null,null,null,null,null,{"$f":"IF('CENTRAL ANALYSIS'!$E$134>=20,1,0)","v":0}]
[null,null,null,null,null,null,null,"Update Details:",null,null,null,null,null,null,null,null,null,null,null,null,null,null,{"$f":"IF('CENTRAL ANALYSIS'!$E$134>=20,1,0)","v":0}]
[null,null,null,null,null,null,null,null,null,null,null,null,null,null,null,null,null,null,null,null,null,null,{"$f":"IF('CENTRAL ANALYSIS'!$E$134>=20,1,0)","v":0}]
[null,null,null,null,null,null,null,null,null,null,null,null,null,null,null,null,null,null,null,null,null,null,{"$f":"IF('CENTRAL ANALYSIS'!$E$134>=20,1,0)","v":0}]
[null,null,null,null,null,null,null,null,null,null,null,null,null,null,null,null,null,null,null,null,null,null,{"$f":"IF('CENTRAL ANALYSIS'!$E$134>=20,1,0)","v":0}]
[null,null,null,null,null,null,null,null,null,null,null,null,null,null,null,null,null,null,null,null,null,null,{"$f":"IF('CENTRAL ANALYSIS'!$E$28=1,1,0)","v":0}]
[null,null,null,null,null,"Objective 2 Additional Notes (Up to 10)",null,null,null,null,null,null,null,null,null,null,null,null,null,null,null,null,{"$f":"IF('CENTRAL ANALYSIS'!$E$28=1,1,0)","v":0}]
[null,null,null,null,null,null,null,null,null,null,null,null,null,null,null,null,null,null,null,null,null,null,{"$f":"IF('CENTRAL ANALYSIS'!$E$28=1,1,0)","v":0}]
[null,null,null,null,null,null,null,null,null,null,null,null,null,null,null,null,null,null,null,null,null,null,{"$f":"IF('CENTRAL ANALYSIS'!$E$28=1,1,0)","v":0}]
[null,null,null,null,null,null,null,"Note 1",null,null,null,null,null,null,null,null,null,null,null,null,null,null,{"$f":"IF('CENTRAL ANALYSIS'!$E$135>=1,1,0)","v":0}]
[null,null,null,null,null,null,null,null,null,null,null,null,null,null,null,null,null,null,null,null,null,null,{"$f":"IF('CENTRAL ANALYSIS'!$E$135>=1,1,0)","v":0}]
[null,null,null,null,null,null,null,null,null,null,null,null,null,null,null,null,null,null,null,null,null,null,{"$f":"IF('CENTRAL ANALYSIS'!$E$135>=1,1,0)","v":0}]
[null,null,null,null,null,null,null,null,null,null,null,null,null,null,null,null,null,null,null,null,null,null,{"$f":"IF('CENTRAL ANALYSIS'!$E$135>=1,1,0)","v":0}]
[null,null,null,null,null,null,null,null,null,null,null,null,null,null,null,null,null,null,null,null,null,null,{"$f":"IF('CENTRAL ANALYSIS'!$E$135>=1,1,0)","v":0}]
[null,null,null,null,null,null,null,null,null,null,null,null,null,null,null,null,null,null,null,null,null,null,{"$f":"IF('CENTRAL ANALYSIS'!$E$135>=1,1,0)","v":0}]
[null,null,null,null,null,null,null,"Note 2",null,null,null,null,null,null,null,null,null,null,null,null,null,null,{"$f":"IF('CENTRAL ANALYSIS'!$E$135>=2,1,0)","v":0}]
[null,null,null,null,null,null,null,null,null,null,null,null,null,null,null,null,null,null,null,null,null,null,{"$f":"IF('CENTRAL ANALYSIS'!$E$135>=2,1,0)","v":0}]
[null,null,null,null,null,null,null,null,null,null,null,null,null,null,null,null,null,null,null,null,null,null,{"$f":"IF('CENTRAL ANALYSIS'!$E$135>=2,1,0)","v":0}]
[null,null,null,null,null,null,null,null,null,null,null,null,null,null,null,null,null,null,null,null,null,null,{"$f":"IF('CENTRAL ANALYSIS'!$E$135>=2,1,0)","v":0}]
[null,null,null,null,null,null,null,null,null,null,null,null,null,null,null,null,null,null,null,null,null,null,{"$f":"IF('CENTRAL ANALYSIS'!$E$135>=2,1,0)","v":0}]
[null,null,null,null,null,null,null,null,null,null,null,null,null,null,null,null,null,null,null,null,null,null,{"$f":"IF('CENTRAL ANALYSIS'!$E$135>=2,1,0)","v":0}]
[null,null,null,null,null,null,null,"Note 3",null,null,null,null,null,null,null,null,null,null,null,null,null,null,{"$f":"IF('CENTRAL ANALYSIS'!$E$135>=3,1,0)","v":0}]
[null,null,null,null,null,null,null,null,null,null,null,null,null,null,null,null,null,null,null,null,null,null,{"$f":"IF('CENTRAL ANALYSIS'!$E$135>=3,1,0)","v":0}]
[null,null,null,null,null,null,null,null,null,null,null,null,null,null,null,null,null,null,null,null,null,null,{"$f":"IF('CENTRAL ANALYSIS'!$E$135>=3,1,0)","v":0}]
[null,null,null,null,null,null,null,null,null,null,null,null,null,null,null,null,null,null,null,null,null,null,{"$f":"IF('CENTRAL ANALYSIS'!$E$135>=3,1,0)","v":0}]
[null,null,null,null,null,null,null,null,null,null,null,null,null,null,null,null,null,null,null,null,null,null,{"$f":"IF('CENTRAL ANALYSIS'!$E$135>=3,1,0)","v":0}]
[null,null,null,null,null,null,null,null,null,null,null,null,null,null,null,null,null,null,null,null,null,null,{"$f":"IF('CENTRAL ANALYSIS'!$E$135>=3,1,0)","v":0}]
[null,null,null,null,null,null,null,"Note 4",null,null,null,null,null,null,null,null,null,null,null,null,null,null,{"$f":"IF('CENTRAL ANALYSIS'!$E$135>=4,1,0)","v":0}]
[null,null,null,null,null,null,null,null,null,null,null,null,null,null,null,null,null,null,null,null,null,null,{"$f":"IF('CENTRAL ANALYSIS'!$E$135>=4,1,0)","v":0}]
[null,null,null,null,null,null,null,null,null,null,null,null,null,null,null,null,null,null,null,null,null,null,{"$f":"IF('CENTRAL ANALYSIS'!$E$135>=4,1,0)","v":0}]
[null,null,null,null,null,null,null,null,null,null,null,null,null,null,null,null,null,null,null,null,null,null,{"$f":"IF('CENTRAL ANALYSIS'!$E$135>=4,1,0)","v":0}]
[null,null,null,null,null,null,null,null,null,null,null,null,null,null,null,null,null,null,null,null,null,null,{"$f":"IF('CENTRAL ANALYSIS'!$E$135>=4,1,0)","v":0}]
[null,null,null,null,null,null,null,null,null,null,null,null,null,null,null,null,null,null,null,null,null,null,{"$f":"IF('CENTRAL ANALYSIS'!$E$135>=4,1,0)","v":0}]
[null,null,null,null,null,null,null,"Note 5",null,null,null,null,null,null,null,null,null,null,null,null,null,null,{"$f":"IF('CENTRAL ANALYSIS'!$E$135>=5,1,0)","v":0}]
[null,null,null,null,null,null,null,null,null,null,null,null,null,null,null,null,null,null,null,null,null,null,{"$f":"IF('CENTRAL ANALYSIS'!$E$135>=5,1,0)","v":0}]
[null,null,null,null,null,null,null,null,null,null,null,null,null,null,null,null,null,null,null,null,null,null,{"$f":"IF('CENTRAL ANALYSIS'!$E$135>=5,1,0)","v":0}]
[null,null,null,null,null,null,null,null,null,null,null,null,null,null,null,null,null,null,null,null,null,null,{"$f":"IF('CENTRAL ANALYSIS'!$E$135>=5,1,0)","v":0}]
[null,null,null,null,null,null,null,null,null,null,null,null,null,null,null,null,null,null,null,null,null,null,{"$f":"IF('CENTRAL ANALYSIS'!$E$135>=5,1,0)","v":0}]
[null,null,null,null,null,null,null,null,null,null,null,null,null,null,null,null,null,null,null,null,null,null,{"$f":"IF('CENTRAL ANALYSIS'!$E$135>=5,1,0)","v":0}]
[null,null,null,null,null,null,null,"Note 6",null,null,null,null,null,null,null,null,null,null,null,null,null,null,{"$f":"IF('CENTRAL ANALYSIS'!$E$135>=6,1,0)","v":0}]
[null,null,null,null,null,null,null,null,null,null,null,null,null,null,null,null,null,null,null,null,null,null,{"$f":"IF('CENTRAL ANALYSIS'!$E$135>=6,1,0)","v":0}]
[null,null,null,null,null,null,null,null,null,null,null,null,null,null,null,null,null,null,null,null,null,null,{"$f":"IF('CENTRAL ANALYSIS'!$E$135>=6,1,0)","v":0}]
[null,null,null,null,null,null,null,null,null,null,null,null,null,null,null,null,null,null,null,null,null,null,{"$f":"IF('CENTRAL ANALYSIS'!$E$135>=6,1,0)","v":0}]
[null,null,null,null,null,null,null,null,null,null,null,null,null,null,null,null,null,null,null,null,null,null,{"$f":"IF('CENTRAL ANALYSIS'!$E$135>=6,1,0)","v":0}]
[null,null,null,null,null,null,null,null,null,null,null,null,null,null,null,null,null,null,null,null,null,null,{"$f":"IF('CENTRAL ANALYSIS'!$E$135>=6,1,0)","v":0}]
[null,null,null,null,null,null,null,"Note 7",null,null,null,null,null,null,null,null,null,null,null,null,null,null,{"$f":"IF('CENTRAL ANALYSIS'!$E$135>=7,1,0)","v":0}]
[null,null,null,null,null,null,null,null,null,null,null,null,null,null,null,null,null,null,null,null,null,null,{"$f":"IF('CENTRAL ANALYSIS'!$E$135>=7,1,0)","v":0}]
[null,null,null,null,null,null,null,null,null,null,null,null,null,null,null,null,null,null,null,null,null,null,{"$f":"IF('CENTRAL ANALYSIS'!$E$135>=7,1,0)","v":0}]
[null,null,null,null,null,null,null,null,null,null,null,null,null,null,null,null,null,null,null,null,null,null,{"$f":"IF('CENTRAL ANALYSIS'!$E$135>=7,1,0)","v":0}]
[null,null,null,null,null,null,null,null,null,null,null,null,null,null,null,null,null,null,null,null,null,null,{"$f":"IF('CENTRAL ANALYSIS'!$E$135>=7,1,0)","v":0}]
[null,null,null,null,null,null,null,null,null,null,null,null,null,null,null,null,null,null,null,null,null,null,{"$f":"IF('CENTRAL ANALYSIS'!$E$135>=7,1,0)","v":0}]
[null,null,null,null,null,null,null,"Note 8",null,null,null,null,null,null,null,null,null,null,null,null,null,null,{"$f":"IF('CENTRAL ANALYSIS'!$E$135>=8,1,0)","v":0}]
[null,null,null,null,null,null,null,null,null,null,null,null,null,null,null,null,null,null,null,null,null,null,{"$f":"IF('CENTRAL ANALYSIS'!$E$135>=8,1,0)","v":0}]
[null,null,null,null,null,null,null,null,null,null,null,null,null,null,null,null,null,null,null,null,null,null,{"$f":"IF('CENTRAL ANALYSIS'!$E$135>=8,1,0)","v":0}]
[null,null,null,null,null,null,null,null,null,null,null,null,null,null,null,null,null,null,null,null,null,null,{"$f":"IF('CENTRAL ANALYSIS'!$E$135>=8,1,0)","v":0}]
[null,null,null,null,null,null,null,null,null,null,null,null,null,null,null,null,null,null,null,null,null,null,{"$f":"IF('CENTRAL ANALYSIS'!$E$135>=8,1,0)","v":0}]
[null,null,null,null,null,null,null,null,null,null,null,null,null,null,null,null,null,null,null,null,null,null,{"$f":"IF('CENTRAL ANALYSIS'!$E$135>=8,1,0)","v":0}]
[null,null,null,null,null,null,null,"Note 9",null,null,null,null,null,null,null,null,null,null,null,null,null,null,{"$f":"IF('CENTRAL ANALYSIS'!$E$135>=9,1,0)","v":0}]
[null,null,null,null,null,null,null,null,null,null,null,null,null,null,null,null,null,null,null,null,null,null,{"$f":"IF('CENTRAL ANALYSIS'!$E$135>=9,1,0)","v":0}]
[null,null,null,null,null,null,null,null,null,null,null,null,null,null,null,null,null,null,null,null,null,null,{"$f":"IF('CENTRAL ANALYSIS'!$E$135>=9,1,0)","v":0}]
[null,null,null,null,null,null,null,null,null,null,null,null,null,null,null,null,null,null,null,null,null,null,{"$f":"IF('CENTRAL ANALYSIS'!$E$135>=9,1,0)","v":0}]
[null,null,null,null,null,null,null,null,null,null,null,null,null,null,null,null,null,null,null,null,null,null,{"$f":"IF('CENTRAL ANALYSIS'!$E$135>=9,1,0)","v":0}]
[null,null,null,null,null,null,null,null,null,null,null,null,null,null,null,null,null,null,null,null,null,null,{"$f":"IF('CENTRAL ANALYSIS'!$E$135>=9,1,0)","v":0}]
[null,null,null,null,null,null,null,"Note 10",null,null,null,null,null,null,null,null,null,null,null,null,null,null,{"$f":"IF('CENTRAL ANALYSIS'!$E$135>=10,1,0)","v":0}]
[null,null,null,null,null,null,null,null,null,null,null,null,null,null,null,null,null,null,null,null,null,null,{"$f":"IF('CENTRAL ANALYSIS'!$E$135>=10,1,0)","v":0}]
[null,null,null,null,null,null,null,null,null,null,null,null,null,null,null,null,null,null,null,null,null,null,{"$f":"IF('CENTRAL ANALYSIS'!$E$135>=10,1,0)","v":0}]
[null,null,null,null,null,null,null,null,null,null,null,null,null,null,null,null,null,null,null,null,null,null,{"$f":"IF('CENTRAL ANALYSIS'!$E$135>=10,1,0)","v":0}]
[null,null,null,null,null,null,null,null,null,null,null,null,null,null,null,null,null,null,null,null,null,null,{"$f":"IF('CENTRAL ANALYSIS'!$E$135>=10,1,0)","v":0}]
[null,null,null,null,null,null,null,null,null,null,null,null,null,null,null,null,null,null,null,null,null,null,{"$f":"IF('CENTRAL ANALYSIS'!$E$135>=10,1,0)","v":0}]
[null,null,null,null,null,null,null,null,null,null,null,null,null,null,null,null,null,null,null,null,null,null,{"$f":"IF('CENTRAL ANALYSIS'!$E$135>=10,1,0)","v":0}]
[null,"Agency Strategy Objective 3",null,null,null,null,null,null,null,null,null,null,null,null,null,null,null,null,null,null,null,null,{"$f":"IF('CENTRAL ANALYSIS'!$H$28=1,1,0)","v":0}]
[null,null,null,null,null,null,null,null,null,null,null,null,null,null,null,null,null,null,null,null,null,null,{"$f":"IF('CENTRAL ANALYSIS'!$H$28=1,1,0)","v":0}]
[null,"INSTRUCTIONS: For each action item in the objective, enter the information in the yellow boxes to include the action item title, an owner, expected start and expected end date. A color can be assigned to assist with tracking related action items. Updates and Notes can be added for the objective item that can be used to track progress or miletones over time. ",null,null,null,null,null,null,null,null,null,null,null,null,null,null,null,null,null,null,null,null,{"$f":"IF('CENTRAL ANALYSIS'!$H$28=1,1,0)","v":0}]
[null,null,null,null,null,null,null,null,null,null,null,null,null,null,null,null,null,null,null,null,null,null,{"$f":"IF('CENTRAL ANALYSIS'!$H$28=1,1,0)","v":0}]
[null,null,null,null,null,null,null,null,null,null,null,null,null,null,null,null,null,null,null,null,null,null,{"$f":"IF('CENTRAL ANALYSIS'!$H$28=1,1,0)","v":0}]
[null,null,null,null,null,null,null,null,null,null,null,null,null,null,null,null,null,null,null,null,null,null,{"$f":"IF('CENTRAL ANALYSIS'!$H$28=1,1,0)","v":0}]
[null,null,null,null,null,"Overall Objective Statement",{"$f":"'AGENCY STRATEGY'!F144","v":0},null,null,null,null,null,null,null,null,null,null,null,null,null,null,null,{"$f":"IF('CENTRAL ANALYSIS'!$H$28=1,1,0)","v":0}]
[null,null,null,null,null,null,null,null,null,null,null,null,null,null,null,null,null,null,null,null,null,null,{"$f":"IF('CENTRAL ANALYSIS'!$H$28=1,1,0)","v":0}]
[null,null,null,null,null,null,null,null,null,null,null,null,null,null,null,null,null,null,null,null,null,null,{"$f":"IF('CENTRAL ANALYSIS'!$H$28=1,1,0)","v":0}]
[null,null,null,null,null,null,null,null,null,null,null,null,null,null,null,null,null,null,null,null,null,null,{"$f":"IF('CENTRAL ANALYSIS'!$H$28=1,1,0)","v":0}]
[null,null,null,null,null,null,null,null,null,null,null,null,null,null,null,null,null,null,null,null,null,null,{"$f":"IF('CENTRAL ANALYSIS'!$H$29=1,1,0)","v":0}]
[null,null,null,null,null,null,null,"Action Item Description",{"$f":"'AGENCY STRATEGY'!H151","v":0},null,null,null,null,null,null,null,null,null,null,null,null,null,{"$f":"IF('CENTRAL ANALYSIS'!$H$29=1,1,0)","v":0}]
[null,null,null,null,null,null,null,null,null,null,null,null,null,null,null,null,null,null,null,null,null,null,{"$f":"IF('CENTRAL ANALYSIS'!$H$29=1,1,0)","v":0}]
[null,null,null,null,null,null,null,null,null,null,null,null,null,null,null,null,null,null,null,null,null,null,{"$f":"IF('CENTRAL ANALYSIS'!$H$29=1,1,0)","v":0}]
[null,null,null,null,null,null,null,null,null,null,null,null,null,"Action Item Title:",null,null,null,null,null,null,null,null,{"$f":"IF('CENTRAL ANALYSIS'!$H$29=1,1,0)","v":0}]
[null,null,null,null,null,null,null,null,null,null,null,null,null,"Action Item Owner:",null,null,null,null,null,null,null,null,{"$f":"IF('CENTRAL ANALYSIS'!$H$29=1,1,0)","v":0}]
[null,null,null,null,null,null,null,null,null,null,null,null,null,"Expected Start Date:",null,null,null,null,null,null,null,null,{"$f":"IF('CENTRAL ANALYSIS'!$H$29=1,1,0)","v":0}]
[null,null,null,null,null,null,null,null,null,null,null,null,null,"Expected Completion Date:",null,null,null,null,null,null,null,null,{"$f":"IF('CENTRAL ANALYSIS'!$H$29=1,1,0)","v":0}]
[null,null,null,null,null,null,null,null,null,null,null,null,null,"Assign Color (optional):",null,null,null,null,null,null,null,null,{"$f":"IF('CENTRAL ANALYSIS'!$H$29=1,1,0)","v":0}]
[null,null,null,null,null,null,null,null,null,null,null,null,null,null,null,null,null,null,null,null,null,null,{"$f":"IF('CENTRAL ANALYSIS'!$H$29=1,1,0)","v":0}]
[null,null,null,null,null,null,null,"Action Item Description",{"$f":"'AGENCY STRATEGY'!H154","v":""},null,null,null,null,null,null,null,null,null,null,null,null,null,{"$f":"IF('CENTRAL ANALYSIS'!$H$30=1,1,0)","v":0}]
[null,null,null,null,null,null,null,null,null,null,null,null,null,null,null,null,null,null,null,null,null,null,{"$f":"IF('CENTRAL ANALYSIS'!$H$30=1,1,0)","v":0}]
[null,null,null,null,null,null,null,null,null,null,null,null,null,null,null,null,null,null,null,null,null,null,{"$f":"IF('CENTRAL ANALYSIS'!$H$30=1,1,0)","v":0}]
[null,null,null,null,null,null,null,null,null,null,null,null,null,"Action Item Title:",null,null,null,null,null,null,null,null,{"$f":"IF('CENTRAL ANALYSIS'!$H$30=1,1,0)","v":0}]
[null,null,null,null,null,null,null,null,null,null,null,null,null,"Action Item Owner:",null,null,null,null,null,null,null,null,{"$f":"IF('CENTRAL ANALYSIS'!$H$30=1,1,0)","v":0}]
[null,null,null,null,null,null,null,null,null,null,null,null,null,"Expected Start Date:",null,null,null,null,null,null,null,null,{"$f":"IF('CENTRAL ANALYSIS'!$H$30=1,1,0)","v":0}]
[null,null,null,null,null,null,null,null,null,null,null,null,null,"Expected Completion Date:",null,null,null,null,null,null,null,null,{"$f":"IF('CENTRAL ANALYSIS'!$H$30=1,1,0)","v":0}]
[null,null,null,null,null,null,null,null,null,null,null,null,null,"Assign Color (optional):",null,null,null,null,null,null,null,null,{"$f":"IF('CENTRAL ANALYSIS'!$H$30=1,1,0)","v":0}]
[null,null,null,null,null,null,null,null,null,null,null,null,null,null,null,null,null,null,null,null,null,null,{"$f":"IF('CENTRAL ANALYSIS'!$H$30=1,1,0)","v":0}]
[null,null,null,null,null,null,null,"Action Item Description",{"$f":"'AGENCY STRATEGY'!H157","v":""},null,null,null,null,null,null,null,null,null,null,null,null,null,{"$f":"IF('CENTRAL ANALYSIS'!$H$31=1,1,0)","v":0}]
[null,null,null,null,null,null,null,null,null,null,null,null,null,null,null,null,null,null,null,null,null,null,{"$f":"IF('CENTRAL ANALYSIS'!$H$31=1,1,0)","v":0}]
[null,null,null,null,null,null,null,null,null,null,null,null,null,null,null,null,null,null,null,null,null,null,{"$f":"IF('CENTRAL ANALYSIS'!$H$31=1,1,0)","v":0}]
[null,null,null,null,null,null,null,null,null,null,null,null,null,"Action Item Title:",null,null,null,null,null,null,null,null,{"$f":"IF('CENTRAL ANALYSIS'!$H$31=1,1,0)","v":0}]
[null,null,null,null,null,null,null,null,null,null,null,null,null,"Action Item Owner:",null,null,null,null,null,null,null,null,{"$f":"IF('CENTRAL ANALYSIS'!$H$31=1,1,0)","v":0}]
[null,null,null,null,null,null,null,null,null,null,null,null,null,"Expected Start Date:",null,null,null,null,null,null,null,null,{"$f":"IF('CENTRAL ANALYSIS'!$H$31=1,1,0)","v":0}]
[null,null,null,null,null,null,null,null,null,null,null,null,null,"Expected Completion Date:",null,null,null,null,null,null,null,null,{"$f":"IF('CENTRAL ANALYSIS'!$H$31=1,1,0)","v":0}]
[null,null,null,null,null,null,null,null,null,null,null,null,null,"Assign Color (optional):",null,null,null,null,null,null,null,null,{"$f":"IF('CENTRAL ANALYSIS'!$H$31=1,1,0)","v":0}]
[null,null,null,null,null,null,null,null,null,null,null,null,null,null,null,null,null,null,null,null,null,null,{"$f":"IF('CENTRAL ANALYSIS'!$H$31=1,1,0)","v":0}]
[null,null,null,null,null,null,null,"Action Item Description",{"$f":"'AGENCY STRATEGY'!H160","v":""},null,null,null,null,null,null,null,null,null,null,null,null,null,{"$f":"IF('CENTRAL ANALYSIS'!$H$32=1,1,0)","v":0}]
[null,null,null,null,null,null,null,null,null,null,null,null,null,null,null,null,null,null,null,null,null,null,{"$f":"IF('CENTRAL ANALYSIS'!$H$32=1,1,0)","v":0}]
[null,null,null,null,null,null,null,null,null,null,null,null,null,null,null,null,null,null,null,null,null,null,{"$f":"IF('CENTRAL ANALYSIS'!$H$32=1,1,0)","v":0}]
[null,null,null,null,null,null,null,null,null,null,null,null,null,"Action Item Title:",null,null,null,null,null,null,null,null,{"$f":"IF('CENTRAL ANALYSIS'!$H$32=1,1,0)","v":0}]
[null,null,null,null,null,null,null,null,null,null,null,null,null,"Action Item Owner:",null,null,null,null,null,null,null,null,{"$f":"IF('CENTRAL ANALYSIS'!$H$32=1,1,0)","v":0}]
[null,null,null,null,null,null,null,null,null,null,null,null,null,"Expected Start Date:",null,null,null,null,null,null,null,null,{"$f":"IF('CENTRAL ANALYSIS'!$H$32=1,1,0)","v":0}]
[null,null,null,null,null,null,null,null,null,null,null,null,null,"Expected Completion Date:",null,null,null,null,null,null,null,null,{"$f":"IF('CENTRAL ANALYSIS'!$H$32=1,1,0)","v":0}]
[null,null,null,null,null,null,null,null,null,null,null,null,null,"Assign Color (optional):",null,null,null,null,null,null,null,null,{"$f":"IF('CENTRAL ANALYSIS'!$H$32=1,1,0)","v":0}]
[null,null,null,null,null,null,null,null,null,null,null,null,null,null,null,null,null,null,null,null,null,null,{"$f":"IF('CENTRAL ANALYSIS'!$H$32=1,1,0)","v":0}]
[null,null,null,null,null,null,null,"Action Item Description",{"$f":"'AGENCY STRATEGY'!H163","v":""},null,null,null,null,null,null,null,null,null,null,null,null,null,{"$f":"IF('CENTRAL ANALYSIS'!$H$33=1,1,0)","v":0}]
[null,null,null,null,null,null,null,null,null,null,null,null,null,null,null,null,null,null,null,null,null,null,{"$f":"IF('CENTRAL ANALYSIS'!$H$33=1,1,0)","v":0}]
[null,null,null,null,null,null,null,null,null,null,null,null,null,null,null,null,null,null,null,null,null,null,{"$f":"IF('CENTRAL ANALYSIS'!$H$33=1,1,0)","v":0}]
[null,null,null,null,null,null,null,null,null,null,null,null,null,"Action Item Title:",null,null,null,null,null,null,null,null,{"$f":"IF('CENTRAL ANALYSIS'!$H$33=1,1,0)","v":0}]
[null,null,null,null,null,null,null,null,null,null,null,null,null,"Action Item Owner:",null,null,null,null,null,null,null,null,{"$f":"IF('CENTRAL ANALYSIS'!$H$33=1,1,0)","v":0}]
[null,null,null,null,null,null,null,null,null,null,null,null,null,"Expected Start Date:",null,null,null,null,null,null,null,null,{"$f":"IF('CENTRAL ANALYSIS'!$H$33=1,1,0)","v":0}]
[null,null,null,null,null,null,null,null,null,null,null,null,null,"Expected Completion Date:",null,null,null,null,null,null,null,null,{"$f":"IF('CENTRAL ANALYSIS'!$H$33=1,1,0)","v":0}]
[null,null,null,null,null,null,null,null,null,null,null,null,null,"Assign Color (optional):",null,null,null,null,null,null,null,null,{"$f":"IF('CENTRAL ANALYSIS'!$H$33=1,1,0)","v":0}]
[null,null,null,null,null,null,null,null,null,null,null,null,null,null,null,null,null,null,null,null,null,null,{"$f":"IF('CENTRAL ANALYSIS'!$H$33=1,1,0)","v":0}]
[null,null,null,null,null,"Objective 3 Progress Updates (Up to 20 Updates)",null,null,null,null,null,null,null,null,null,null,null,null,null,null,null,null,{"$f":"IF('CENTRAL ANALYSIS'!$H$28=1,1,0)","v":0}]
[null,null,null,null,null,null,null,null,null,null,null,null,null,null,null,null,null,null,null,null,null,null,{"$f":"IF('CENTRAL ANALYSIS'!$H$28=1,1,0)","v":0}]
[null,null,null,null,null,null,null,null,null,null,null,null,null,null,null,null,null,null,null,null,null,null,{"$f":"IF('CENTRAL ANALYSIS'!$H$28=1,1,0)","v":0}]
[null,null,null,null,null,null,null,null,null,null,null,null,null,"Select Action Item:",null,null,null,null,null,null,null,null,{"$f":"IF('CENTRAL ANALYSIS'!$H$134>=1,1,0)","v":0}]
[null,null,null,null,null,null,null,null,null,null,null,null,null,"Date of Update:",null,null,null,null,null,null,null,null,{"$f":"IF('CENTRAL ANALYSIS'!$H$134>=1,1,0)","v":0}]
[null,null,null,null,null,null,null,null,null,null,null,null,null,"Milestone Completion Percent:",null,null,null,null,null,null,null,null,{"$f":"IF('CENTRAL ANALYSIS'!$H$134>=1,1,0)","v":0}]
[null,null,null,null,null,null,null,"Update Details:",null,null,null,null,null,null,null,null,null,null,null,null,null,null,{"$f":"IF('CENTRAL ANALYSIS'!$H$134>=1,1,0)","v":0}]
[null,null,null,null,null,null,null,null,null,null,null,null,null,null,null,null,null,null,null,null,null,null,{"$f":"IF('CENTRAL ANALYSIS'!$H$134>=1,1,0)","v":0}]
[null,null,null,null,null,null,null,null,null,null,null,null,null,null,null,null,null,null,null,null,null,null,{"$f":"IF('CENTRAL ANALYSIS'!$H$134>=1,1,0)","v":0}]
[null,null,null,null,null,null,null,null,null,null,null,null,null,null,null,null,null,null,null,null,null,null,{"$f":"IF('CENTRAL ANALYSIS'!$H$134>=1,1,0)","v":0}]
[null,null,null,null,null,null,null,null,null,null,null,null,null,"Select Action Item:",null,null,null,null,null,null,null,null,{"$f":"IF('CENTRAL ANALYSIS'!$H$134>=2,1,0)","v":0}]
[null,null,null,null,null,null,null,null,null,null,null,null,null,"Date of Update:",null,null,null,null,null,null,null,null,{"$f":"IF('CENTRAL ANALYSIS'!$H$134>=2,1,0)","v":0}]
[null,null,null,null,null,null,null,null,null,null,null,null,null,"Milestone Completion Percent:",null,null,null,null,null,null,null,null,{"$f":"IF('CENTRAL ANALYSIS'!$H$134>=2,1,0)","v":0}]
[null,null,null,null,null,null,null,"Update Details:",null,null,null,null,null,null,null,null,null,null,null,null,null,null,{"$f":"IF('CENTRAL ANALYSIS'!$H$134>=2,1,0)","v":0}]
[null,null,null,null,null,null,null,null,null,null,null,null,null,null,null,null,null,null,null,null,null,null,{"$f":"IF('CENTRAL ANALYSIS'!$H$134>=2,1,0)","v":0}]
[null,null,null,null,null,null,null,null,null,null,null,null,null,null,null,null,null,null,null,null,null,null,{"$f":"IF('CENTRAL ANALYSIS'!$H$134>=2,1,0)","v":0}]
[null,null,null,null,null,null,null,null,null,null,null,null,null,null,null,null,null,null,null,null,null,null,{"$f":"IF('CENTRAL ANALYSIS'!$H$134>=2,1,0)","v":0}]
[null,null,null,null,null,null,null,null,null,null,null,null,null,"Select Action Item:",null,null,null,null,null,null,null,null,{"$f":"IF('CENTRAL ANALYSIS'!$H$134>=3,1,0)","v":0}]
[null,null,null,null,null,null,null,null,null,null,null,null,null,"Date of Update:",null,null,null,null,null,null,null,null,{"$f":"IF('CENTRAL ANALYSIS'!$H$134>=3,1,0)","v":0}]
[null,null,null,null,null,null,null,null,null,null,null,null,null,"Milestone Completion Percent:",null,null,null,null,null,null,null,null,{"$f":"IF('CENTRAL ANALYSIS'!$H$134>=3,1,0)","v":0}]
[null,null,null,null,null,null,null,"Update Details:",null,null,null,null,null,null,null,null,null,null,null,null,null,null,{"$f":"IF('CENTRAL ANALYSIS'!$H$134>=3,1,0)","v":0}]
[null,null,null,null,null,null,null,null,null,null,null,null,null,null,null,null,null,null,null,null,null,null,{"$f":"IF('CENTRAL ANALYSIS'!$H$134>=3,1,0)","v":0}]
[null,null,null,null,null,null,null,null,null,null,null,null,null,null,null,null,null,null,null,null,null,null,{"$f":"IF('CENTRAL ANALYSIS'!$H$134>=3,1,0)","v":0}]
[null,null,null,null,null,null,null,null,null,null,null,null,null,null,null,null,null,null,null,null,null,null,{"$f":"IF('CENTRAL ANALYSIS'!$H$134>=3,1,0)","v":0}]
[null,null,null,null,null,null,null,null,null,null,null,null,null,"Select Action Item:",null,null,null,null,null,null,null,null,{"$f":"IF('CENTRAL ANALYSIS'!$H$134>=4,1,0)","v":0}]
[null,null,null,null,null,null,null,null,null,null,null,null,null,"Date of Update:",null,null,null,null,null,null,null,null,{"$f":"IF('CENTRAL ANALYSIS'!$H$134>=4,1,0)","v":0}]
[null,null,null,null,null,null,null,null,null,null,null,null,null,"Milestone Completion Percent:",null,null,null,null,null,null,null,null,{"$f":"IF('CENTRAL ANALYSIS'!$H$134>=4,1,0)","v":0}]
[null,null,null,null,null,null,null,"Update Details:",null,null,null,null,null,null,null,null,null,null,null,null,null,null,{"$f":"IF('CENTRAL ANALYSIS'!$H$134>=4,1,0)","v":0}]
[null,null,null,null,null,null,null,null,null,null,null,null,null,null,null,null,null,null,null,null,null,null,{"$f":"IF('CENTRAL ANALYSIS'!$H$134>=4,1,0)","v":0}]
[null,null,null,null,null,null,null,null,null,null,null,null,null,null,null,null,null,null,null,null,null,null,{"$f":"IF('CENTRAL ANALYSIS'!$H$134>=4,1,0)","v":0}]
[null,null,null,null,null,null,null,null,null,null,null,null,null,null,null,null,null,null,null,null,null,null,{"$f":"IF('CENTRAL ANALYSIS'!$H$134>=4,1,0)","v":0}]
[null,null,null,null,null,null,null,null,null,null,null,null,null,"Select Action Item:",null,null,null,null,null,null,null,null,{"$f":"IF('CENTRAL ANALYSIS'!$H$134>=5,1,0)","v":0}]
[null,null,null,null,null,null,null,null,null,null,null,null,null,"Date of Update:",null,null,null,null,null,null,null,null,{"$f":"IF('CENTRAL ANALYSIS'!$H$134>=5,1,0)","v":0}]
[null,null,null,null,null,null,null,null,null,null,null,null,null,"Milestone Completion Percent:",null,null,null,null,null,null,null,null,{"$f":"IF('CENTRAL ANALYSIS'!$H$134>=5,1,0)","v":0}]
[null,null,null,null,null,null,null,"Update Details:",null,null,null,null,null,null,null,null,null,null,null,null,null,null,{"$f":"IF('CENTRAL ANALYSIS'!$H$134>=5,1,0)","v":0}]
[null,null,null,null,null,null,null,null,null,null,null,null,null,null,null,null,null,null,null,null,null,null,{"$f":"IF('CENTRAL ANALYSIS'!$H$134>=5,1,0)","v":0}]
[null,null,null,null,null,null,null,null,null,null,null,null,null,null,null,null,null,null,null,null,null,null,{"$f":"IF('CENTRAL ANALYSIS'!$H$134>=5,1,0)","v":0}]
[null,null,null,null,null,null,null,null,null,null,null,null,null,null,null,null,null,null,null,null,null,null,{"$f":"IF('CENTRAL ANALYSIS'!$H$134>=5,1,0)","v":0}]
[null,null,null,null,null,null,null,null,null,null,null,null,null,"Select Action Item:",null,null,null,null,null,null,null,null,{"$f":"IF('CENTRAL ANALYSIS'!$H$134>=6,1,0)","v":0}]
[null,null,null,null,null,null,null,null,null,null,null,null,null,"Date of Update:",null,null,null,null,null,null,null,null,{"$f":"IF('CENTRAL ANALYSIS'!$H$134>=6,1,0)","v":0}]
[null,null,null,null,null,null,null,null,null,null,null,null,null,"Milestone Completion Percent:",null,null,null,null,null,null,null,null,{"$f":"IF('CENTRAL ANALYSIS'!$H$134>=6,1,0)","v":0}]
[null,null,null,null,null,null,null,"Update Details:",null,null,null,null,null,null,null,null,null,null,null,null,null,null,{"$f":"IF('CENTRAL ANALYSIS'!$H$134>=6,1,0)","v":0}]
[null,null,null,null,null,null,null,null,null,null,null,null,null,null,null,null,null,null,null,null,null,null,{"$f":"IF('CENTRAL ANALYSIS'!$H$134>=6,1,0)","v":0}]
[null,null,null,null,null,null,null,null,null,null,null,null,null,null,null,null,null,null,null,null,null,null,{"$f":"IF('CENTRAL ANALYSIS'!$H$134>=6,1,0)","v":0}]
[null,null,null,null,null,null,null,null,null,null,null,null,null,null,null,null,null,null,null,null,null,null,{"$f":"IF('CENTRAL ANALYSIS'!$H$134>=6,1,0)","v":0}]
[null,null,null,null,null,null,null,null,null,null,null,null,null,"Select Action Item:",null,null,null,null,null,null,null,null,{"$f":"IF('CENTRAL ANALYSIS'!$H$134>=7,1,0)","v":0}]
[null,null,null,null,null,null,null,null,null,null,null,null,null,"Date of Update:",null,null,null,null,null,null,null,null,{"$f":"IF('CENTRAL ANALYSIS'!$H$134>=7,1,0)","v":0}]
[null,null,null,null,null,null,null,null,null,null,null,null,null,"Milestone Completion Percent:",null,null,null,null,null,null,null,null,{"$f":"IF('CENTRAL ANALYSIS'!$H$134>=7,1,0)","v":0}]
[null,null,null,null,null,null,null,"Update Details:",null,null,null,null,null,null,null,null,null,null,null,null,null,null,{"$f":"IF('CENTRAL ANALYSIS'!$H$134>=7,1,0)","v":0}]
[null,null,null,null,null,null,null,null,null,null,null,null,null,null,null,null,null,null,null,null,null,null,{"$f":"IF('CENTRAL ANALYSIS'!$H$134>=7,1,0)","v":0}]
[null,null,null,null,null,null,null,null,null,null,null,null,null,null,null,null,null,null,null,null,null,null,{"$f":"IF('CENTRAL ANALYSIS'!$H$134>=7,1,0)","v":0}]
[null,null,null,null,null,null,null,null,null,null,null,null,null,null,null,null,null,null,null,null,null,null,{"$f":"IF('CENTRAL ANALYSIS'!$H$134>=7,1,0)","v":0}]
[null,null,null,null,null,null,null,null,null,null,null,null,null,"Select Action Item:",null,null,null,null,null,null,null,null,{"$f":"IF('CENTRAL ANALYSIS'!$H$134>=8,1,0)","v":0}]
[null,null,null,null,null,null,null,null,null,null,null,null,null,"Date of Update:",null,null,null,null,null,null,null,null,{"$f":"IF('CENTRAL ANALYSIS'!$H$134>=8,1,0)","v":0}]
[null,null,null,null,null,null,null,null,null,null,null,null,null,"Milestone Completion Percent:",null,null,null,null,null,null,null,null,{"$f":"IF('CENTRAL ANALYSIS'!$H$134>=8,1,0)","v":0}]
[null,null,null,null,null,null,null,"Update Details:",null,null,null,null,null,null,null,null,null,null,null,null,null,null,{"$f":"IF('CENTRAL ANALYSIS'!$H$134>=8,1,0)","v":0}]
[null,null,null,null,null,null,null,null,null,null,null,null,null,null,null,null,null,null,null,null,null,null,{"$f":"IF('CENTRAL ANALYSIS'!$H$134>=8,1,0)","v":0}]
[null,null,null,null,null,null,null,null,null,null,null,null,null,null,null,null,null,null,null,null,null,null,{"$f":"IF('CENTRAL ANALYSIS'!$H$134>=8,1,0)","v":0}]
[null,null,null,null,null,null,null,null,null,null,null,null,null,null,null,null,null,null,null,null,null,null,{"$f":"IF('CENTRAL ANALYSIS'!$H$134>=8,1,0)","v":0}]
[null,null,null,null,null,null,null,null,null,null,null,null,null,"Select Action Item:",null,null,null,null,null,null,null,null,{"$f":"IF('CENTRAL ANALYSIS'!$H$134>=9,1,0)","v":0}]
[null,null,null,null,null,null,null,null,null,null,null,null,null,"Date of Update:",null,null,null,null,null,null,null,null,{"$f":"IF('CENTRAL ANALYSIS'!$H$134>=9,1,0)","v":0}]
[null,null,null,null,null,null,null,null,null,null,null,null,null,"Milestone Completion Percent:",null,null,null,null,null,null,null,null,{"$f":"IF('CENTRAL ANALYSIS'!$H$134>=9,1,0)","v":0}]
[null,null,null,null,null,null,null,"Update Details:",null,null,null,null,null,null,null,null,null,null,null,null,null,null,{"$f":"IF('CENTRAL ANALYSIS'!$H$134>=9,1,0)","v":0}]
[null,null,null,null,null,null,null,null,null,null,null,null,null,null,null,null,null,null,null,null,null,null,{"$f":"IF('CENTRAL ANALYSIS'!$H$134>=9,1,0)","v":0}]
[null,null,null,null,null,null,null,null,null,null,null,null,null,null,null,null,null,null,null,null,null,null,{"$f":"IF('CENTRAL ANALYSIS'!$H$134>=9,1,0)","v":0}]
[null,null,null,null,null,null,null,null,null,null,null,null,null,null,null,null,null,null,null,null,null,null,{"$f":"IF('CENTRAL ANALYSIS'!$H$134>=9,1,0)","v":0}]
[null,null,null,null,null,null,null,null,null,null,null,null,null,"Select Action Item:",null,null,null,null,null,null,null,null,{"$f":"IF('CENTRAL ANALYSIS'!$H$134>=10,1,0)","v":0}]
[null,null,null,null,null,null,null,null,null,null,null,null,null,"Date of Update:",null,null,null,null,null,null,null,null,{"$f":"IF('CENTRAL ANALYSIS'!$H$134>=10,1,0)","v":0}]
[null,null,null,null,null,null,null,null,null,null,null,null,null,"Milestone Completion Percent:",null,null,null,null,null,null,null,null,{"$f":"IF('CENTRAL ANALYSIS'!$H$134>=10,1,0)","v":0}]
[null,null,null,null,null,null,null,"Update Details:",null,null,null,null,null,null,null,null,null,null,null,null,null,null,{"$f":"IF('CENTRAL ANALYSIS'!$H$134>=10,1,0)","v":0}]
[null,null,null,null,null,null,null,null,null,null,null,null,null,null,null,null,null,null,null,null,null,null,{"$f":"IF('CENTRAL ANALYSIS'!$H$134>=10,1,0)","v":0}]
[null,null,null,null,null,null,null,null,null,null,null,null,null,null,null,null,null,null,null,null,null,null,{"$f":"IF('CENTRAL ANALYSIS'!$H$134>=10,1,0)","v":0}]
[null,null,null,null,null,null,null,null,null,null,null,null,null,null,null,null,null,null,null,null,null,null,{"$f":"IF('CENTRAL ANALYSIS'!$H$134>=10,1,0)","v":0}]
[null,null,null,null,null,null,null,null,null,null,null,null,null,"Select Action Item:",null,null,null,null,null,null,null,null,{"$f":"IF('CENTRAL ANALYSIS'!$H$134>=11,1,0)","v":0}]
[null,null,null,null,null,null,null,null,null,null,null,null,null,"Date of Update:",null,null,null,null,null,null,null,null,{"$f":"IF('CENTRAL ANALYSIS'!$H$134>=11,1,0)","v":0}]
[null,null,null,null,null,null,null,null,null,null,null,null,null,"Milestone Completion Percent:",null,null,null,null,null,null,null,null,{"$f":"IF('CENTRAL ANALYSIS'!$H$134>=11,1,0)","v":0}]
[null,null,null,null,null,null,null,"Update Details:",null,null,null,null,null,null,null,null,null,null,null,null,null,null,{"$f":"IF('CENTRAL ANALYSIS'!$H$134>=11,1,0)","v":0}]
[null,null,null,null,null,null,null,null,null,null,null,null,null,null,null,null,null,null,null,null,null,null,{"$f":"IF('CENTRAL ANALYSIS'!$H$134>=11,1,0)","v":0}]
[null,null,null,null,null,null,null,null,null,null,null,null,null,null,null,null,null,null,null,null,null,null,{"$f":"IF('CENTRAL ANALYSIS'!$H$134>=11,1,0)","v":0}]
[null,null,null,null,null,null,null,null,null,null,null,null,null,null,null,null,null,null,null,null,null,null,{"$f":"IF('CENTRAL ANALYSIS'!$H$134>=11,1,0)","v":0}]
[null,null,null,null,null,null,null,null,null,null,null,null,null,"Select Action Item:",null,null,null,null,null,null,null,null,{"$f":"IF('CENTRAL ANALYSIS'!$H$134>=12,1,0)","v":0}]
[null,null,null,null,null,null,null,null,null,null,null,null,null,"Date of Update:",null,null,null,null,null,null,null,null,{"$f":"IF('CENTRAL ANALYSIS'!$H$134>=12,1,0)","v":0}]
[null,null,null,null,null,null,null,null,null,null,null,null,null,"Milestone Completion Percent:",null,null,null,null,null,null,null,null,{"$f":"IF('CENTRAL ANALYSIS'!$H$134>=12,1,0)","v":0}]
[null,null,null,null,null,null,null,"Update Details:",null,null,null,null,null,null,null,null,null,null,null,null,null,null,{"$f":"IF('CENTRAL ANALYSIS'!$H$134>=12,1,0)","v":0}]
[null,null,null,null,null,null,null,null,null,null,null,null,null,null,null,null,null,null,null,null,null,null,{"$f":"IF('CENTRAL ANALYSIS'!$H$134>=12,1,0)","v":0}]
[null,null,null,null,null,null,null,null,null,null,null,null,null,null,null,null,null,null,null,null,null,null,{"$f":"IF('CENTRAL ANALYSIS'!$H$134>=12,1,0)","v":0}]
[null,null,null,null,null,null,null,null,null,null,null,null,null,null,null,null,null,null,null,null,null,null,{"$f":"IF('CENTRAL ANALYSIS'!$H$134>=12,1,0)","v":0}]
[null,null,null,null,null,null,null,null,null,null,null,null,null,"Select Action Item:",null,null,null,null,null,null,null,null,{"$f":"IF('CENTRAL ANALYSIS'!$H$134>=13,1,0)","v":0}]
[null,null,null,null,null,null,null,null,null,null,null,null,null,"Date of Update:",null,null,null,null,null,null,null,null,{"$f":"IF('CENTRAL ANALYSIS'!$H$134>=13,1,0)","v":0}]
[null,null,null,null,null,null,null,null,null,null,null,null,null,"Milestone Completion Percent:",null,null,null,null,null,null,null,null,{"$f":"IF('CENTRAL ANALYSIS'!$H$134>=13,1,0)","v":0}]
[null,null,null,null,null,null,null,"Update Details:",null,null,null,null,null,null,null,null,null,null,null,null,null,null,{"$f":"IF('CENTRAL ANALYSIS'!$H$134>=13,1,0)","v":0}]
[null,null,null,null,null,null,null,null,null,null,null,null,null,null,null,null,null,null,null,null,null,null,{"$f":"IF('CENTRAL ANALYSIS'!$H$134>=13,1,0)","v":0}]
[null,null,null,null,null,null,null,null,null,null,null,null,null,null,null,null,null,null,null,null,null,null,{"$f":"IF('CENTRAL ANALYSIS'!$H$134>=13,1,0)","v":0}]
[null,null,null,null,null,null,null,null,null,null,null,null,null,null,null,null,null,null,null,null,null,null,{"$f":"IF('CENTRAL ANALYSIS'!$H$134>=13,1,0)","v":0}]
[null,null,null,null,null,null,null,null,null,null,null,null,null,"Select Action Item:",null,null,null,null,null,null,null,null,{"$f":"IF('CENTRAL ANALYSIS'!$H$134>=14,1,0)","v":0}]
[null,null,null,null,null,null,null,null,null,null,null,null,null,"Date of Update:",null,null,null,null,null,null,null,null,{"$f":"IF('CENTRAL ANALYSIS'!$H$134>=14,1,0)","v":0}]
[null,null,null,null,null,null,null,null,null,null,null,null,null,"Milestone Completion Percent:",null,null,null,null,null,null,null,null,{"$f":"IF('CENTRAL ANALYSIS'!$H$134>=14,1,0)","v":0}]
[null,null,null,null,null,null,null,"Update Details:",null,null,null,null,null,null,null,null,null,null,null,null,null,null,{"$f":"IF('CENTRAL ANALYSIS'!$H$134>=14,1,0)","v":0}]
[null,null,null,null,null,null,null,null,null,null,null,null,null,null,null,null,null,null,null,null,null,null,{"$f":"IF('CENTRAL ANALYSIS'!$H$134>=14,1,0)","v":0}]
[null,null,null,null,null,null,null,null,null,null,null,null,null,null,null,null,null,null,null,null,null,null,{"$f":"IF('CENTRAL ANALYSIS'!$H$134>=14,1,0)","v":0}]
[null,null,null,null,null,null,null,null,null,null,null,null,null,null,null,null,null,null,null,null,null,null,{"$f":"IF('CENTRAL ANALYSIS'!$H$134>=14,1,0)","v":0}]
[null,null,null,null,null,null,null,null,null,null,null,null,null,"Select Action Item:",null,null,null,null,null,null,null,null,{"$f":"IF('CENTRAL ANALYSIS'!$H$134>=15,1,0)","v":0}]
[null,null,null,null,null,null,null,null,null,null,null,null,null,"Date of Update:",null,null,null,null,null,null,null,null,{"$f":"IF('CENTRAL ANALYSIS'!$H$134>=15,1,0)","v":0}]
[null,null,null,null,null,null,null,null,null,null,null,null,null,"Milestone Completion Percent:",null,null,null,null,null,null,null,null,{"$f":"IF('CENTRAL ANALYSIS'!$H$134>=15,1,0)","v":0}]
[null,null,null,null,null,null,null,"Update Details:",null,null,null,null,null,null,null,null,null,null,null,null,null,null,{"$f":"IF('CENTRAL ANALYSIS'!$H$134>=15,1,0)","v":0}]
[null,null,null,null,null,null,null,null,null,null,null,null,null,null,null,null,null,null,null,null,null,null,{"$f":"IF('CENTRAL ANALYSIS'!$H$134>=15,1,0)","v":0}]
[null,null,null,null,null,null,null,null,null,null,null,null,null,null,null,null,null,null,null,null,null,null,{"$f":"IF('CENTRAL ANALYSIS'!$H$134>=15,1,0)","v":0}]
[null,null,null,null,null,null,null,null,null,null,null,null,null,null,null,null,null,null,null,null,null,null,{"$f":"IF('CENTRAL ANALYSIS'!$H$134>=15,1,0)","v":0}]
[null,null,null,null,null,null,null,null,null,null,null,null,null,"Select Action Item:",null,null,null,null,null,null,null,null,{"$f":"IF('CENTRAL ANALYSIS'!$H$134>=16,1,0)","v":0}]
[null,null,null,null,null,null,null,null,null,null,null,null,null,"Date of Update:",null,null,null,null,null,null,null,null,{"$f":"IF('CENTRAL ANALYSIS'!$H$134>=16,1,0)","v":0}]
[null,null,null,null,null,null,null,null,null,null,null,null,null,"Milestone Completion Percent:",null,null,null,null,null,null,null,null,{"$f":"IF('CENTRAL ANALYSIS'!$H$134>=16,1,0)","v":0}]
[null,null,null,null,null,null,null,"Update Details:",null,null,null,null,null,null,null,null,null,null,null,null,null,null,{"$f":"IF('CENTRAL ANALYSIS'!$H$134>=16,1,0)","v":0}]
[null,null,null,null,null,null,null,null,null,null,null,null,null,null,null,null,null,null,null,null,null,null,{"$f":"IF('CENTRAL ANALYSIS'!$H$134>=16,1,0)","v":0}]
[null,null,null,null,null,null,null,null,null,null,null,null,null,null,null,null,null,null,null,null,null,null,{"$f":"IF('CENTRAL ANALYSIS'!$H$134>=16,1,0)","v":0}]
[null,null,null,null,null,null,null,null,null,null,null,null,null,null,null,null,null,null,null,null,null,null,{"$f":"IF('CENTRAL ANALYSIS'!$H$134>=16,1,0)","v":0}]
[null,null,null,null,null,null,null,null,null,null,null,null,null,"Select Action Item:",null,null,null,null,null,null,null,null,{"$f":"IF('CENTRAL ANALYSIS'!$H$134>=17,1,0)","v":0}]
[null,null,null,null,null,null,null,null,null,null,null,null,null,"Date of Update:",null,null,null,null,null,null,null,null,{"$f":"IF('CENTRAL ANALYSIS'!$H$134>=17,1,0)","v":0}]
[null,null,null,null,null,null,null,null,null,null,null,null,null,"Milestone Completion Percent:",null,null,null,null,null,null,null,null,{"$f":"IF('CENTRAL ANALYSIS'!$H$134>=17,1,0)","v":0}]
[null,null,null,null,null,null,null,"Update Details:",null,null,null,null,null,null,null,null,null,null,null,null,null,null,{"$f":"IF('CENTRAL ANALYSIS'!$H$134>=17,1,0)","v":0}]
[null,null,null,null,null,null,null,null,null,null,null,null,null,null,null,null,null,null,null,null,null,null,{"$f":"IF('CENTRAL ANALYSIS'!$H$134>=17,1,0)","v":0}]
[null,null,null,null,null,null,null,null,null,null,null,null,null,null,null,null,null,null,null,null,null,null,{"$f":"IF('CENTRAL ANALYSIS'!$H$134>=17,1,0)","v":0}]
[null,null,null,null,null,null,null,null,null,null,null,null,null,null,null,null,null,null,null,null,null,null,{"$f":"IF('CENTRAL ANALYSIS'!$H$134>=17,1,0)","v":0}]
[null,null,null,null,null,null,null,null,null,null,null,null,null,"Select Action Item:",null,null,null,null,null,null,null,null,{"$f":"IF('CENTRAL ANALYSIS'!$H$134>=18,1,0)","v":0}]
[null,null,null,null,null,null,null,null,null,null,null,null,null,"Date of Update:",null,null,null,null,null,null,null,null,{"$f":"IF('CENTRAL ANALYSIS'!$H$134>=18,1,0)","v":0}]
[null,null,null,null,null,null,null,null,null,null,null,null,null,"Milestone Completion Percent:",null,null,null,null,null,null,null,null,{"$f":"IF('CENTRAL ANALYSIS'!$H$134>=18,1,0)","v":0}]
[null,null,null,null,null,null,null,"Update Details:",null,null,null,null,null,null,null,null,null,null,null,null,null,null,{"$f":"IF('CENTRAL ANALYSIS'!$H$134>=18,1,0)","v":0}]
[null,null,null,null,null,null,null,null,null,null,null,null,null,null,null,null,null,null,null,null,null,null,{"$f":"IF('CENTRAL ANALYSIS'!$H$134>=18,1,0)","v":0}]
[null,null,null,null,null,null,null,null,null,null,null,null,null,null,null,null,null,null,null,null,null,null,{"$f":"IF('CENTRAL ANALYSIS'!$H$134>=18,1,0)","v":0}]
[null,null,null,null,null,null,null,null,null,null,null,null,null,null,null,null,null,null,null,null,null,null,{"$f":"IF('CENTRAL ANALYSIS'!$H$134>=18,1,0)","v":0}]
[null,null,null,null,null,null,null,null,null,null,null,null,null,"Select Action Item:",null,null,null,null,null,null,null,null,{"$f":"IF('CENTRAL ANALYSIS'!$H$134>=19,1,0)","v":0}]
[null,null,null,null,null,null,null,null,null,null,null,null,null,"Date of Update:",null,null,null,null,null,null,null,null,{"$f":"IF('CENTRAL ANALYSIS'!$H$134>=19,1,0)","v":0}]
[null,null,null,null,null,null,null,null,null,null,null,null,null,"Milestone Completion Percent:",null,null,null,null,null,null,null,null,{"$f":"IF('CENTRAL ANALYSIS'!$H$134>=19,1,0)","v":0}]
[null,null,null,null,null,null,null,"Update Details:",null,null,null,null,null,null,null,null,null,null,null,null,null,null,{"$f":"IF('CENTRAL ANALYSIS'!$H$134>=19,1,0)","v":0}]
[null,null,null,null,null,null,null,null,null,null,null,null,null,null,null,null,null,null,null,null,null,null,{"$f":"IF('CENTRAL ANALYSIS'!$H$134>=19,1,0)","v":0}]
[null,null,null,null,null,null,null,null,null,null,null,null,null,null,null,null,null,null,null,null,null,null,{"$f":"IF('CENTRAL ANALYSIS'!$H$134>=19,1,0)","v":0}]
[null,null,null,null,null,null,null,null,null,null,null,null,null,null,null,null,null,null,null,null,null,null,{"$f":"IF('CENTRAL ANALYSIS'!$H$134>=19,1,0)","v":0}]
[null,null,null,null,null,null,null,null,null,null,null,null,null,"Select Action Item:",null,null,null,null,null,null,null,null,{"$f":"IF('CENTRAL ANALYSIS'!$H$134>=20,1,0)","v":0}]
[null,null,null,null,null,null,null,null,null,null,null,null,null,"Date of Update:",null,null,null,null,null,null,null,null,{"$f":"IF('CENTRAL ANALYSIS'!$H$134>=20,1,0)","v":0}]
[null,null,null,null,null,null,null,null,null,null,null,null,null,"Milestone Completion Percent:",null,null,null,null,null,null,null,null,{"$f":"IF('CENTRAL ANALYSIS'!$H$134>=20,1,0)","v":0}]
[null,null,null,null,null,null,null,"Update Details:",null,null,null,null,null,null,null,null,null,null,null,null,null,null,{"$f":"IF('CENTRAL ANALYSIS'!$H$134>=20,1,0)","v":0}]
[null,null,null,null,null,null,null,null,null,null,null,null,null,null,null,null,null,null,null,null,null,null,{"$f":"IF('CENTRAL ANALYSIS'!$H$134>=20,1,0)","v":0}]
[null,null,null,null,null,null,null,null,null,null,null,null,null,null,null,null,null,null,null,null,null,null,{"$f":"IF('CENTRAL ANALYSIS'!$H$134>=20,1,0)","v":0}]
[null,null,null,null,null,null,null,null,null,null,null,null,null,null,null,null,null,null,null,null,null,null,{"$f":"IF('CENTRAL ANALYSIS'!$H$134>=20,1,0)","v":0}]
[null,null,null,null,null,null,null,null,null,null,null,null,null,null,null,null,null,null,null,null,null,null,{"$f":"IF('CENTRAL ANALYSIS'!$H$28=1,1,0)","v":0}]
[null,null,null,null,null,"Objective 3 Additional Notes (Up to 10)",null,null,null,null,null,null,null,null,null,null,null,null,null,null,null,null,{"$f":"IF('CENTRAL ANALYSIS'!$H$28=1,1,0)","v":0}]
[null,null,null,null,null,null,null,null,null,null,null,null,null,null,null,null,null,null,null,null,null,null,{"$f":"IF('CENTRAL ANALYSIS'!$H$28=1,1,0)","v":0}]
[null,null,null,null,null,null,null,null,null,null,null,null,null,null,null,null,null,null,null,null,null,null,{"$f":"IF('CENTRAL ANALYSIS'!$H$28=1,1,0)","v":0}]
[null,null,null,null,null,null,null,"Note 1",null,null,null,null,null,null,null,null,null,null,null,null,null,null,{"$f":"IF('CENTRAL ANALYSIS'!$H$135>=1,1,0)","v":0}]
[null,null,null,null,null,null,null,null,null,null,null,null,null,null,null,null,null,null,null,null,null,null,{"$f":"IF('CENTRAL ANALYSIS'!$H$135>=1,1,0)","v":0}]
[null,null,null,null,null,null,null,null,null,null,null,null,null,null,null,null,null,null,null,null,null,null,{"$f":"IF('CENTRAL ANALYSIS'!$H$135>=1,1,0)","v":0}]
[null,null,null,null,null,null,null,null,null,null,null,null,null,null,null,null,null,null,null,null,null,null,{"$f":"IF('CENTRAL ANALYSIS'!$H$135>=1,1,0)","v":0}]
[null,null,null,null,null,null,null,null,null,null,null,null,null,null,null,null,null,null,null,null,null,null,{"$f":"IF('CENTRAL ANALYSIS'!$H$135>=1,1,0)","v":0}]
[null,null,null,null,null,null,null,null,null,null,null,null,null,null,null,null,null,null,null,null,null,null,{"$f":"IF('CENTRAL ANALYSIS'!$H$135>=1,1,0)","v":0}]
[null,null,null,null,null,null,null,"Note 2",null,null,null,null,null,null,null,null,null,null,null,null,null,null,{"$f":"IF('CENTRAL ANALYSIS'!$H$135>=2,1,0)","v":0}]
[null,null,null,null,null,null,null,null,null,null,null,null,null,null,null,null,null,null,null,null,null,null,{"$f":"IF('CENTRAL ANALYSIS'!$H$135>=2,1,0)","v":0}]
[null,null,null,null,null,null,null,null,null,null,null,null,null,null,null,null,null,null,null,null,null,null,{"$f":"IF('CENTRAL ANALYSIS'!$H$135>=2,1,0)","v":0}]
[null,null,null,null,null,null,null,null,null,null,null,null,null,null,null,null,null,null,null,null,null,null,{"$f":"IF('CENTRAL ANALYSIS'!$H$135>=2,1,0)","v":0}]
[null,null,null,null,null,null,null,null,null,null,null,null,null,null,null,null,null,null,null,null,null,null,{"$f":"IF('CENTRAL ANALYSIS'!$H$135>=2,1,0)","v":0}]
[null,null,null,null,null,null,null,null,null,null,null,null,null,null,null,null,null,null,null,null,null,null,{"$f":"IF('CENTRAL ANALYSIS'!$H$135>=2,1,0)","v":0}]
[null,null,null,null,null,null,null,"Note 3",null,null,null,null,null,null,null,null,null,null,null,null,null,null,{"$f":"IF('CENTRAL ANALYSIS'!$H$135>=3,1,0)","v":0}]
[null,null,null,null,null,null,null,null,null,null,null,null,null,null,null,null,null,null,null,null,null,null,{"$f":"IF('CENTRAL ANALYSIS'!$H$135>=3,1,0)","v":0}]
[null,null,null,null,null,null,null,null,null,null,null,null,null,null,null,null,null,null,null,null,null,null,{"$f":"IF('CENTRAL ANALYSIS'!$H$135>=3,1,0)","v":0}]
[null,null,null,null,null,null,null,null,null,null,null,null,null,null,null,null,null,null,null,null,null,null,{"$f":"IF('CENTRAL ANALYSIS'!$H$135>=3,1,0)","v":0}]
[null,null,null,null,null,null,null,null,null,null,null,null,null,null,null,null,null,null,null,null,null,null,{"$f":"IF('CENTRAL ANALYSIS'!$H$135>=3,1,0)","v":0}]
[null,null,null,null,null,null,null,null,null,null,null,null,null,null,null,null,null,null,null,null,null,null,{"$f":"IF('CENTRAL ANALYSIS'!$H$135>=3,1,0)","v":0}]
[null,null,null,null,null,null,null,"Note 4",null,null,null,null,null,null,null,null,null,null,null,null,null,null,{"$f":"IF('CENTRAL ANALYSIS'!$H$135>=4,1,0)","v":0}]
[null,null,null,null,null,null,null,null,null,null,null,null,null,null,null,null,null,null,null,null,null,null,{"$f":"IF('CENTRAL ANALYSIS'!$H$135>=4,1,0)","v":0}]
[null,null,null,null,null,null,null,null,null,null,null,null,null,null,null,null,null,null,null,null,null,null,{"$f":"IF('CENTRAL ANALYSIS'!$H$135>=4,1,0)","v":0}]
[null,null,null,null,null,null,null,null,null,null,null,null,null,null,null,null,null,null,null,null,null,null,{"$f":"IF('CENTRAL ANALYSIS'!$H$135>=4,1,0)","v":0}]
[null,null,null,null,null,null,null,null,null,null,null,null,null,null,null,null,null,null,null,null,null,null,{"$f":"IF('CENTRAL ANALYSIS'!$H$135>=4,1,0)","v":0}]
[null,null,null,null,null,null,null,null,null,null,null,null,null,null,null,null,null,null,null,null,null,null,{"$f":"IF('CENTRAL ANALYSIS'!$H$135>=4,1,0)","v":0}]
[null,null,null,null,null,null,null,"Note 5",null,null,null,null,null,null,null,null,null,null,null,null,null,null,{"$f":"IF('CENTRAL ANALYSIS'!$H$135>=5,1,0)","v":0}]
[null,null,null,null,null,null,null,null,null,null,null,null,null,null,null,null,null,null,null,null,null,null,{"$f":"IF('CENTRAL ANALYSIS'!$H$135>=5,1,0)","v":0}]
[null,null,null,null,null,null,null,null,null,null,null,null,null,null,null,null,null,null,null,null,null,null,{"$f":"IF('CENTRAL ANALYSIS'!$H$135>=5,1,0)","v":0}]
[null,null,null,null,null,null,null,null,null,null,null,null,null,null,null,null,null,null,null,null,null,null,{"$f":"IF('CENTRAL ANALYSIS'!$H$135>=5,1,0)","v":0}]
[null,null,null,null,null,null,null,null,null,null,null,null,null,null,null,null,null,null,null,null,null,null,{"$f":"IF('CENTRAL ANALYSIS'!$H$135>=5,1,0)","v":0}]
[null,null,null,null,null,null,null,null,null,null,null,null,null,null,null,null,null,null,null,null,null,null,{"$f":"IF('CENTRAL ANALYSIS'!$H$135>=5,1,0)","v":0}]
[null,null,null,null,null,null,null,"Note 6",null,null,null,null,null,null,null,null,null,null,null,null,null,null,{"$f":"IF('CENTRAL ANALYSIS'!$H$135>=6,1,0)","v":0}]
[null,null,null,null,null,null,null,null,null,null,null,null,null,null,null,null,null,null,null,null,null,null,{"$f":"IF('CENTRAL ANALYSIS'!$H$135>=6,1,0)","v":0}]
[null,null,null,null,null,null,null,null,null,null,null,null,null,null,null,null,null,null,null,null,null,null,{"$f":"IF('CENTRAL ANALYSIS'!$H$135>=6,1,0)","v":0}]
[null,null,null,null,null,null,null,null,null,null,null,null,null,null,null,null,null,null,null,null,null,null,{"$f":"IF('CENTRAL ANALYSIS'!$H$135>=6,1,0)","v":0}]
[null,null,null,null,null,null,null,null,null,null,null,null,null,null,null,null,null,null,null,null,null,null,{"$f":"IF('CENTRAL ANALYSIS'!$H$135>=6,1,0)","v":0}]
[null,null,null,null,null,null,null,null,null,null,null,null,null,null,null,null,null,null,null,null,null,null,{"$f":"IF('CENTRAL ANALYSIS'!$H$135>=6,1,0)","v":0}]
[null,null,null,null,null,null,null,"Note 7",null,null,null,null,null,null,null,null,null,null,null,null,null,null,{"$f":"IF('CENTRAL ANALYSIS'!$H$135>=7,1,0)","v":0}]
[null,null,null,null,null,null,null,null,null,null,null,null,null,null,null,null,null,null,null,null,null,null,{"$f":"IF('CENTRAL ANALYSIS'!$H$135>=7,1,0)","v":0}]
[null,null,null,null,null,null,null,null,null,null,null,null,null,null,null,null,null,null,null,null,null,null,{"$f":"IF('CENTRAL ANALYSIS'!$H$135>=7,1,0)","v":0}]
[null,null,null,null,null,null,null,null,null,null,null,null,null,null,null,null,null,null,null,null,null,null,{"$f":"IF('CENTRAL ANALYSIS'!$H$135>=7,1,0)","v":0}]
[null,null,null,null,null,null,null,null,null,null,null,null,null,null,null,null,null,null,null,null,null,null,{"$f":"IF('CENTRAL ANALYSIS'!$H$135>=7,1,0)","v":0}]
[null,null,null,null,null,null,null,null,null,null,null,null,null,null,null,null,null,null,null,null,null,null,{"$f":"IF('CENTRAL ANALYSIS'!$H$135>=7,1,0)","v":0}]
[null,null,null,null,null,null,null,"Note 8",null,null,null,null,null,null,null,null,null,null,null,null,null,null,{"$f":"IF('CENTRAL ANALYSIS'!$H$135>=8,1,0)","v":0}]
[null,null,null,null,null,null,null,null,null,null,null,null,null,null,null,null,null,null,null,null,null,null,{"$f":"IF('CENTRAL ANALYSIS'!$H$135>=8,1,0)","v":0}]
[null,null,null,null,null,null,null,null,null,null,null,null,null,null,null,null,null,null,null,null,null,null,{"$f":"IF('CENTRAL ANALYSIS'!$H$135>=8,1,0)","v":0}]
[null,null,null,null,null,null,null,null,null,null,null,null,null,null,null,null,null,null,null,null,null,null,{"$f":"IF('CENTRAL ANALYSIS'!$H$135>=8,1,0)","v":0}]
[null,null,null,null,null,null,null,null,null,null,null,null,null,null,null,null,null,null,null,null,null,null,{"$f":"IF('CENTRAL ANALYSIS'!$H$135>=8,1,0)","v":0}]
[null,null,null,null,null,null,null,null,null,null,null,null,null,null,null,null,null,null,null,null,null,null,{"$f":"IF('CENTRAL ANALYSIS'!$H$135>=8,1,0)","v":0}]
[null,null,null,null,null,null,null,"Note 9",null,null,null,null,null,null,null,null,null,null,null,null,null,null,{"$f":"IF('CENTRAL ANALYSIS'!$H$135>=9,1,0)","v":0}]
[null,null,null,null,null,null,null,null,null,null,null,null,null,null,null,null,null,null,null,null,null,null,{"$f":"IF('CENTRAL ANALYSIS'!$H$135>=9,1,0)","v":0}]
[null,null,null,null,null,null,null,null,null,null,null,null,null,null,null,null,null,null,null,null,null,null,{"$f":"IF('CENTRAL ANALYSIS'!$H$135>=9,1,0)","v":0}]
[null,null,null,null,null,null,null,null,null,null,null,null,null,null,null,null,null,null,null,null,null,null,{"$f":"IF('CENTRAL ANALYSIS'!$H$135>=9,1,0)","v":0}]
[null,null,null,null,null,null,null,null,null,null,null,null,null,null,null,null,null,null,null,null,null,null,{"$f":"IF('CENTRAL ANALYSIS'!$H$135>=9,1,0)","v":0}]
[null,null,null,null,null,null,null,null,null,null,null,null,null,null,null,null,null,null,null,null,null,null,{"$f":"IF('CENTRAL ANALYSIS'!$H$135>=9,1,0)","v":0}]
[null,null,null,null,null,null,null,"Note 10",null,null,null,null,null,null,null,null,null,null,null,null,null,null,{"$f":"IF('CENTRAL ANALYSIS'!$H$135>=10,1,0)","v":0}]
[null,null,null,null,null,null,null,null,null,null,null,null,null,null,null,null,null,null,null,null,null,null,{"$f":"IF('CENTRAL ANALYSIS'!$H$135>=10,1,0)","v":0}]
[null,null,null,null,null,null,null,null,null,null,null,null,null,null,null,null,null,null,null,null,null,null,{"$f":"IF('CENTRAL ANALYSIS'!$H$135>=10,1,0)","v":0}]
[null,null,null,null,null,null,null,null,null,null,null,null,null,null,null,null,null,null,null,null,null,null,{"$f":"IF('CENTRAL ANALYSIS'!$H$135>=10,1,0)","v":0}]
[null,null,null,null,null,null,null,null,null,null,null,null,null,null,null,null,null,null,null,null,null,null,{"$f":"IF('CENTRAL ANALYSIS'!$H$135>=10,1,0)","v":0}]
[null,null,null,null,null,null,null,null,null,null,null,null,null,null,null,null,null,null,null,null,null,null,{"$f":"IF('CENTRAL ANALYSIS'!$H$135>=10,1,0)","v":0}]
[null,null,null,null,null,null,null,null,null,null,null,null,null,null,null,null,null,null,null,null,null,null,{"$f":"IF('CENTRAL ANALYSIS'!$H$135>=10,1,0)","v":0}]
[null,"Agency Strategy Objective 4",null,null,null,null,null,null,null,null,null,null,null,null,null,null,null,null,null,null,null,null,{"$f":"IF('CENTRAL ANALYSIS'!$K$28=1,1,0)","v":0}]
[null,null,null,null,null,null,null,null,null,null,null,null,null,null,null,null,null,null,null,null,null,null,{"$f":"IF('CENTRAL ANALYSIS'!$K$28=1,1,0)","v":0}]
[null,"INSTRUCTIONS: For each action item in the objective, enter the information in the yellow boxes to include the action item title, an owner, expected start and expected end date. A color can be assigned to assist with tracking related action items. Updates and Notes can be added for the objective item that can be used to track progress or miletones over time. ",null,null,null,null,null,null,null,null,null,null,null,null,null,null,null,null,null,null,null,null,{"$f":"IF('CENTRAL ANALYSIS'!$K$28=1,1,0)","v":0}]
[null,null,null,null,null,null,null,null,null,null,null,null,null,null,null,null,null,null,null,null,null,null,{"$f":"IF('CENTRAL ANALYSIS'!$K$28=1,1,0)","v":0}]
[null,null,null,null,null,null,null,null,null,null,null,null,null,null,null,null,null,null,null,null,null,null,{"$f":"IF('CENTRAL ANALYSIS'!$K$28=1,1,0)","v":0}]
[null,null,null,null,null,null,null,null,null,null,null,null,null,null,null,null,null,null,null,null,null,null,{"$f":"IF('CENTRAL ANALYSIS'!$K$28=1,1,0)","v":0}]
[null,null,null,null,null,"Overall Objective Statement",{"$f":"'AGENCY STRATEGY'!F193","v":""},null,null,null,null,null,null,null,null,null,null,null,null,null,null,null,{"$f":"IF('CENTRAL ANALYSIS'!$K$28=1,1,0)","v":0}]
[null,null,null,null,null,null,null,null,null,null,null,null,null,null,null,null,null,null,null,null,null,null,{"$f":"IF('CENTRAL ANALYSIS'!$K$28=1,1,0)","v":0}]
[null,null,null,null,null,null,null,null,null,null,null,null,null,null,null,null,null,null,null,null,null,null,{"$f":"IF('CENTRAL ANALYSIS'!$K$28=1,1,0)","v":0}]
[null,null,null,null,null,null,null,null,null,null,null,null,null,null,null,null,null,null,null,null,null,null,{"$f":"IF('CENTRAL ANALYSIS'!$K$28=1,1,0)","v":0}]
[null,null,null,null,null,null,null,null,null,null,null,null,null,null,null,null,null,null,null,null,null,null,{"$f":"IF('CENTRAL ANALYSIS'!$K$29=1,1,0)","v":0}]
[null,null,null,null,null,null,null,"Action Item Description",{"$f":"'AGENCY STRATEGY'!H200","v":0},null,null,null,null,null,null,null,null,null,null,null,null,null,{"$f":"IF('CENTRAL ANALYSIS'!$K$29=1,1,0)","v":0}]
[null,null,null,null,null,null,null,null,null,null,null,null,null,null,null,null,null,null,null,null,null,null,{"$f":"IF('CENTRAL ANALYSIS'!$K$29=1,1,0)","v":0}]
[null,null,null,null,null,null,null,null,null,null,null,null,null,null,null,null,null,null,null,null,null,null,{"$f":"IF('CENTRAL ANALYSIS'!$K$29=1,1,0)","v":0}]
[null,null,null,null,null,null,null,null,null,null,null,null,null,"Action Item Title:",null,null,null,null,null,null,null,null,{"$f":"IF('CENTRAL ANALYSIS'!$K$29=1,1,0)","v":0}]
[null,null,null,null,null,null,null,null,null,null,null,null,null,"Action Item Owner:",null,null,null,null,null,null,null,null,{"$f":"IF('CENTRAL ANALYSIS'!$K$29=1,1,0)","v":0}]
[null,null,null,null,null,null,null,null,null,null,null,null,null,"Expected Start Date:",null,null,null,null,null,null,null,null,{"$f":"IF('CENTRAL ANALYSIS'!$K$29=1,1,0)","v":0}]
[null,null,null,null,null,null,null,null,null,null,null,null,null,"Expected Completion Date:",null,null,null,null,null,null,null,null,{"$f":"IF('CENTRAL ANALYSIS'!$K$29=1,1,0)","v":0}]
[null,null,null,null,null,null,null,null,null,null,null,null,null,"Assign Color (optional):",null,null,null,null,null,null,null,null,{"$f":"IF('CENTRAL ANALYSIS'!$K$29=1,1,0)","v":0}]
[null,null,null,null,null,null,null,null,null,null,null,null,null,null,null,null,null,null,null,null,null,null,{"$f":"IF('CENTRAL ANALYSIS'!$K$29=1,1,0)","v":0}]
[null,null,null,null,null,null,null,"Action Item Description",{"$f":"'AGENCY STRATEGY'!H203","v":""},null,null,null,null,null,null,null,null,null,null,null,null,null,{"$f":"IF('CENTRAL ANALYSIS'!$K$30=1,1,0)","v":0}]
[null,null,null,null,null,null,null,null,null,null,null,null,null,null,null,null,null,null,null,null,null,null,{"$f":"IF('CENTRAL ANALYSIS'!$K$30=1,1,0)","v":0}]
[null,null,null,null,null,null,null,null,null,null,null,null,null,null,null,null,null,null,null,null,null,null,{"$f":"IF('CENTRAL ANALYSIS'!$K$30=1,1,0)","v":0}]
[null,null,null,null,null,null,null,null,null,null,null,null,null,"Action Item Title:",null,null,null,null,null,null,null,null,{"$f":"IF('CENTRAL ANALYSIS'!$K$30=1,1,0)","v":0}]
[null,null,null,null,null,null,null,null,null,null,null,null,null,"Action Item Owner:",null,null,null,null,null,null,null,null,{"$f":"IF('CENTRAL ANALYSIS'!$K$30=1,1,0)","v":0}]
[null,null,null,null,null,null,null,null,null,null,null,null,null,"Expected Start Date:",null,null,null,null,null,null,null,null,{"$f":"IF('CENTRAL ANALYSIS'!$K$30=1,1,0)","v":0}]
[null,null,null,null,null,null,null,null,null,null,null,null,null,"Expected Completion Date:",null,null,null,null,null,null,null,null,{"$f":"IF('CENTRAL ANALYSIS'!$K$30=1,1,0)","v":0}]
[null,null,null,null,null,null,null,null,null,null,null,null,null,"Assign Color (optional):",null,null,null,null,null,null,null,null,{"$f":"IF('CENTRAL ANALYSIS'!$K$30=1,1,0)","v":0}]
[null,null,null,null,null,null,null,null,null,null,null,null,null,null,null,null,null,null,null,null,null,null,{"$f":"IF('CENTRAL ANALYSIS'!$K$30=1,1,0)","v":0}]
[null,null,null,null,null,null,null,"Action Item Description",{"$f":"'AGENCY STRATEGY'!H206","v":""},null,null,null,null,null,null,null,null,null,null,null,null,null,{"$f":"IF('CENTRAL ANALYSIS'!$K$31=1,1,0)","v":0}]
[null,null,null,null,null,null,null,null,null,null,null,null,null,null,null,null,null,null,null,null,null,null,{"$f":"IF('CENTRAL ANALYSIS'!$K$31=1,1,0)","v":0}]
[null,null,null,null,null,null,null,null,null,null,null,null,null,null,null,null,null,null,null,null,null,null,{"$f":"IF('CENTRAL ANALYSIS'!$K$31=1,1,0)","v":0}]
[null,null,null,null,null,null,null,null,null,null,null,null,null,"Action Item Title:",null,null,null,null,null,null,null,null,{"$f":"IF('CENTRAL ANALYSIS'!$K$31=1,1,0)","v":0}]
[null,null,null,null,null,null,null,null,null,null,null,null,null,"Action Item Owner:",null,null,null,null,null,null,null,null,{"$f":"IF('CENTRAL ANALYSIS'!$K$31=1,1,0)","v":0}]
[null,null,null,null,null,null,null,null,null,null,null,null,null,"Expected Start Date:",null,null,null,null,null,null,null,null,{"$f":"IF('CENTRAL ANALYSIS'!$K$31=1,1,0)","v":0}]
[null,null,null,null,null,null,null,null,null,null,null,null,null,"Expected Completion Date:",null,null,null,null,null,null,null,null,{"$f":"IF('CENTRAL ANALYSIS'!$K$31=1,1,0)","v":0}]
[null,null,null,null,null,null,null,null,null,null,null,null,null,"Assign Color (optional):",null,null,null,null,null,null,null,null,{"$f":"IF('CENTRAL ANALYSIS'!$K$31=1,1,0)","v":0}]
[null,null,null,null,null,null,null,null,null,null,null,null,null,null,null,null,null,null,null,null,null,null,{"$f":"IF('CENTRAL ANALYSIS'!$K$31=1,1,0)","v":0}]
[null,null,null,null,null,null,null,"Action Item Description",{"$f":"'AGENCY STRATEGY'!H209","v":""},null,null,null,null,null,null,null,null,null,null,null,null,null,{"$f":"IF('CENTRAL ANALYSIS'!$K$32=1,1,0)","v":0}]
[null,null,null,null,null,null,null,null,null,null,null,null,null,null,null,null,null,null,null,null,null,null,{"$f":"IF('CENTRAL ANALYSIS'!$K$32=1,1,0)","v":0}]
[null,null,null,null,null,null,null,null,null,null,null,null,null,null,null,null,null,null,null,null,null,null,{"$f":"IF('CENTRAL ANALYSIS'!$K$32=1,1,0)","v":0}]
[null,null,null,null,null,null,null,null,null,null,null,null,null,"Action Item Title:",null,null,null,null,null,null,null,null,{"$f":"IF('CENTRAL ANALYSIS'!$K$32=1,1,0)","v":0}]
[null,null,null,null,null,null,null,null,null,null,null,null,null,"Action Item Owner:",null,null,null,null,null,null,null,null,{"$f":"IF('CENTRAL ANALYSIS'!$K$32=1,1,0)","v":0}]
[null,null,null,null,null,null,null,null,null,null,null,null,null,"Expected Start Date:",null,null,null,null,null,null,null,null,{"$f":"IF('CENTRAL ANALYSIS'!$K$32=1,1,0)","v":0}]
[null,null,null,null,null,null,null,null,null,null,null,null,null,"Expected Completion Date:",null,null,null,null,null,null,null,null,{"$f":"IF('CENTRAL ANALYSIS'!$K$32=1,1,0)","v":0}]
[null,null,null,null,null,null,null,null,null,null,null,null,null,"Assign Color (optional):",null,null,null,null,null,null,null,null,{"$f":"IF('CENTRAL ANALYSIS'!$K$32=1,1,0)","v":0}]
[null,null,null,null,null,null,null,null,null,null,null,null,null,null,null,null,null,null,null,null,null,null,{"$f":"IF('CENTRAL ANALYSIS'!$K$32=1,1,0)","v":0}]
[null,null,null,null,null,null,null,"Action Item Description",{"$f":"'AGENCY STRATEGY'!H212","v":""},null,null,null,null,null,null,null,null,null,null,null,null,null,{"$f":"IF('CENTRAL ANALYSIS'!$K$33=1,1,0)","v":0}]
[null,null,null,null,null,null,null,null,null,null,null,null,null,null,null,null,null,null,null,null,null,null,{"$f":"IF('CENTRAL ANALYSIS'!$K$33=1,1,0)","v":0}]
[null,null,null,null,null,null,null,null,null,null,null,null,null,null,null,null,null,null,null,null,null,null,{"$f":"IF('CENTRAL ANALYSIS'!$K$33=1,1,0)","v":0}]
[null,null,null,null,null,null,null,null,null,null,null,null,null,"Action Item Title:",null,null,null,null,null,null,null,null,{"$f":"IF('CENTRAL ANALYSIS'!$K$33=1,1,0)","v":0}]
[null,null,null,null,null,null,null,null,null,null,null,null,null,"Action Item Owner:",null,null,null,null,null,null,null,null,{"$f":"IF('CENTRAL ANALYSIS'!$K$33=1,1,0)","v":0}]
[null,null,null,null,null,null,null,null,null,null,null,null,null,"Expected Start Date:",null,null,null,null,null,null,null,null,{"$f":"IF('CENTRAL ANALYSIS'!$K$33=1,1,0)","v":0}]
[null,null,null,null,null,null,null,null,null,null,null,null,null,"Expected Completion Date:",null,null,null,null,null,null,null,null,{"$f":"IF('CENTRAL ANALYSIS'!$K$33=1,1,0)","v":0}]
[null,null,null,null,null,null,null,null,null,null,null,null,null,"Assign Color (optional):",null,null,null,null,null,null,null,null,{"$f":"IF('CENTRAL ANALYSIS'!$K$33=1,1,0)","v":0}]
[null,null,null,null,null,null,null,null,null,null,null,null,null,null,null,null,null,null,null,null,null,null,{"$f":"IF('CENTRAL ANALYSIS'!$K$33=1,1,0)","v":0}]
[null,null,null,null,null,"Objective 4 Progress Updates (Up to 20 Updates)",null,null,null,null,null,null,null,null,null,null,null,null,null,null,null,null,{"$f":"IF('CENTRAL ANALYSIS'!$K$28=1,1,0)","v":0}]
[null,null,null,null,null,null,null,null,null,null,null,null,null,null,null,null,null,null,null,null,null,null,{"$f":"IF('CENTRAL ANALYSIS'!$K$28=1,1,0)","v":0}]
[null,null,null,null,null,null,null,null,null,null,null,null,null,null,null,null,null,null,null,null,null,null,{"$f":"IF('CENTRAL ANALYSIS'!$K$28=1,1,0)","v":0}]
[null,null,null,null,null,null,null,null,null,null,null,null,null,"Select Action Item:",null,null,null,null,null,null,null,null,{"$f":"IF('CENTRAL ANALYSIS'!$K$134>=1,1,0)","v":0}]
[null,null,null,null,null,null,null,null,null,null,null,null,null,"Date of Update:",null,null,null,null,null,null,null,null,{"$f":"IF('CENTRAL ANALYSIS'!$K$134>=1,1,0)","v":0}]
[null,null,null,null,null,null,null,null,null,null,null,null,null,"Milestone Completion Percent:",null,null,null,null,null,null,null,null,{"$f":"IF('CENTRAL ANALYSIS'!$K$134>=1,1,0)","v":0}]
[null,null,null,null,null,null,null,"Update Details:",null,null,null,null,null,null,null,null,null,null,null,null,null,null,{"$f":"IF('CENTRAL ANALYSIS'!$K$134>=1,1,0)","v":0}]
[null,null,null,null,null,null,null,null,null,null,null,null,null,null,null,null,null,null,null,null,null,null,{"$f":"IF('CENTRAL ANALYSIS'!$K$134>=1,1,0)","v":0}]
[null,null,null,null,null,null,null,null,null,null,null,null,null,null,null,null,null,null,null,null,null,null,{"$f":"IF('CENTRAL ANALYSIS'!$K$134>=1,1,0)","v":0}]
[null,null,null,null,null,null,null,null,null,null,null,null,null,null,null,null,null,null,null,null,null,null,{"$f":"IF('CENTRAL ANALYSIS'!$K$134>=1,1,0)","v":0}]
[null,null,null,null,null,null,null,null,null,null,null,null,null,"Select Action Item:",null,null,null,null,null,null,null,null,{"$f":"IF('CENTRAL ANALYSIS'!$K$134>=2,1,0)","v":0}]
[null,null,null,null,null,null,null,null,null,null,null,null,null,"Date of Update:",null,null,null,null,null,null,null,null,{"$f":"IF('CENTRAL ANALYSIS'!$K$134>=2,1,0)","v":0}]
[null,null,null,null,null,null,null,null,null,null,null,null,null,"Milestone Completion Percent:",null,null,null,null,null,null,null,null,{"$f":"IF('CENTRAL ANALYSIS'!$K$134>=2,1,0)","v":0}]
[null,null,null,null,null,null,null,"Update Details:",null,null,null,null,null,null,null,null,null,null,null,null,null,null,{"$f":"IF('CENTRAL ANALYSIS'!$K$134>=2,1,0)","v":0}]
[null,null,null,null,null,null,null,null,null,null,null,null,null,null,null,null,null,null,null,null,null,null,{"$f":"IF('CENTRAL ANALYSIS'!$K$134>=2,1,0)","v":0}]
[null,null,null,null,null,null,null,null,null,null,null,null,null,null,null,null,null,null,null,null,null,null,{"$f":"IF('CENTRAL ANALYSIS'!$K$134>=2,1,0)","v":0}]
[null,null,null,null,null,null,null,null,null,null,null,null,null,null,null,null,null,null,null,null,null,null,{"$f":"IF('CENTRAL ANALYSIS'!$K$134>=2,1,0)","v":0}]
[null,null,null,null,null,null,null,null,null,null,null,null,null,"Select Action Item:",null,null,null,null,null,null,null,null,{"$f":"IF('CENTRAL ANALYSIS'!$K$134>=3,1,0)","v":0}]
[null,null,null,null,null,null,null,null,null,null,null,null,null,"Date of Update:",null,null,null,null,null,null,null,null,{"$f":"IF('CENTRAL ANALYSIS'!$K$134>=3,1,0)","v":0}]
[null,null,null,null,null,null,null,null,null,null,null,null,null,"Milestone Completion Percent:",null,null,null,null,null,null,null,null,{"$f":"IF('CENTRAL ANALYSIS'!$K$134>=3,1,0)","v":0}]
[null,null,null,null,null,null,null,"Update Details:",null,null,null,null,null,null,null,null,null,null,null,null,null,null,{"$f":"IF('CENTRAL ANALYSIS'!$K$134>=3,1,0)","v":0}]
[null,null,null,null,null,null,null,null,null,null,null,null,null,null,null,null,null,null,null,null,null,null,{"$f":"IF('CENTRAL ANALYSIS'!$K$134>=3,1,0)","v":0}]
[null,null,null,null,null,null,null,null,null,null,null,null,null,null,null,null,null,null,null,null,null,null,{"$f":"IF('CENTRAL ANALYSIS'!$K$134>=3,1,0)","v":0}]
[null,null,null,null,null,null,null,null,null,null,null,null,null,null,null,null,null,null,null,null,null,null,{"$f":"IF('CENTRAL ANALYSIS'!$K$134>=3,1,0)","v":0}]
[null,null,null,null,null,null,null,null,null,null,null,null,null,"Select Action Item:",null,null,null,null,null,null,null,null,{"$f":"IF('CENTRAL ANALYSIS'!$K$134>=4,1,0)","v":0}]
[null,null,null,null,null,null,null,null,null,null,null,null,null,"Date of Update:",null,null,null,null,null,null,null,null,{"$f":"IF('CENTRAL ANALYSIS'!$K$134>=4,1,0)","v":0}]
[null,null,null,null,null,null,null,null,null,null,null,null,null,"Milestone Completion Percent:",null,null,null,null,null,null,null,null,{"$f":"IF('CENTRAL ANALYSIS'!$K$134>=4,1,0)","v":0}]
[null,null,null,null,null,null,null,"Update Details:",null,null,null,null,null,null,null,null,null,null,null,null,null,null,{"$f":"IF('CENTRAL ANALYSIS'!$K$134>=4,1,0)","v":0}]
[null,null,null,null,null,null,null,null,null,null,null,null,null,null,null,null,null,null,null,null,null,null,{"$f":"IF('CENTRAL ANALYSIS'!$K$134>=4,1,0)","v":0}]
[null,null,null,null,null,null,null,null,null,null,null,null,null,null,null,null,null,null,null,null,null,null,{"$f":"IF('CENTRAL ANALYSIS'!$K$134>=4,1,0)","v":0}]
[null,null,null,null,null,null,null,null,null,null,null,null,null,null,null,null,null,null,null,null,null,null,{"$f":"IF('CENTRAL ANALYSIS'!$K$134>=4,1,0)","v":0}]
[null,null,null,null,null,null,null,null,null,null,null,null,null,"Select Action Item:",null,null,null,null,null,null,null,null,{"$f":"IF('CENTRAL ANALYSIS'!$K$134>=5,1,0)","v":0}]
[null,null,null,null,null,null,null,null,null,null,null,null,null,"Date of Update:",null,null,null,null,null,null,null,null,{"$f":"IF('CENTRAL ANALYSIS'!$K$134>=5,1,0)","v":0}]
[null,null,null,null,null,null,null,null,null,null,null,null,null,"Milestone Completion Percent:",null,null,null,null,null,null,null,null,{"$f":"IF('CENTRAL ANALYSIS'!$K$134>=5,1,0)","v":0}]
[null,null,null,null,null,null,null,"Update Details:",null,null,null,null,null,null,null,null,null,null,null,null,null,null,{"$f":"IF('CENTRAL ANALYSIS'!$K$134>=5,1,0)","v":0}]
[null,null,null,null,null,null,null,null,null,null,null,null,null,null,null,null,null,null,null,null,null,null,{"$f":"IF('CENTRAL ANALYSIS'!$K$134>=5,1,0)","v":0}]
[null,null,null,null,null,null,null,null,null,null,null,null,null,null,null,null,null,null,null,null,null,null,{"$f":"IF('CENTRAL ANALYSIS'!$K$134>=5,1,0)","v":0}]
[null,null,null,null,null,null,null,null,null,null,null,null,null,null,null,null,null,null,null,null,null,null,{"$f":"IF('CENTRAL ANALYSIS'!$K$134>=5,1,0)","v":0}]
[null,null,null,null,null,null,null,null,null,null,null,null,null,"Select Action Item:",null,null,null,null,null,null,null,null,{"$f":"IF('CENTRAL ANALYSIS'!$K$134>=6,1,0)","v":0}]
[null,null,null,null,null,null,null,null,null,null,null,null,null,"Date of Update:",null,null,null,null,null,null,null,null,{"$f":"IF('CENTRAL ANALYSIS'!$K$134>=6,1,0)","v":0}]
[null,null,null,null,null,null,null,null,null,null,null,null,null,"Milestone Completion Percent:",null,null,null,null,null,null,null,null,{"$f":"IF('CENTRAL ANALYSIS'!$K$134>=6,1,0)","v":0}]
[null,null,null,null,null,null,null,"Update Details:",null,null,null,null,null,null,null,null,null,null,null,null,null,null,{"$f":"IF('CENTRAL ANALYSIS'!$K$134>=6,1,0)","v":0}]
[null,null,null,null,null,null,null,null,null,null,null,null,null,null,null,null,null,null,null,null,null,null,{"$f":"IF('CENTRAL ANALYSIS'!$K$134>=6,1,0)","v":0}]
[null,null,null,null,null,null,null,null,null,null,null,null,null,null,null,null,null,null,null,null,null,null,{"$f":"IF('CENTRAL ANALYSIS'!$K$134>=6,1,0)","v":0}]
[null,null,null,null,null,null,null,null,null,null,null,null,null,null,null,null,null,null,null,null,null,null,{"$f":"IF('CENTRAL ANALYSIS'!$K$134>=6,1,0)","v":0}]
[null,null,null,null,null,null,null,null,null,null,null,null,null,"Select Action Item:",null,null,null,null,null,null,null,null,{"$f":"IF('CENTRAL ANALYSIS'!$K$134>=7,1,0)","v":0}]
[null,null,null,null,null,null,null,null,null,null,null,null,null,"Date of Update:",null,null,null,null,null,null,null,null,{"$f":"IF('CENTRAL ANALYSIS'!$K$134>=7,1,0)","v":0}]
[null,null,null,null,null,null,null,null,null,null,null,null,null,"Milestone Completion Percent:",null,null,null,null,null,null,null,null,{"$f":"IF('CENTRAL ANALYSIS'!$K$134>=7,1,0)","v":0}]
[null,null,null,null,null,null,null,"Update Details:",null,null,null,null,null,null,null,null,null,null,null,null,null,null,{"$f":"IF('CENTRAL ANALYSIS'!$K$134>=7,1,0)","v":0}]
[null,null,null,null,null,null,null,null,null,null,null,null,null,null,null,null,null,null,null,null,null,null,{"$f":"IF('CENTRAL ANALYSIS'!$K$134>=7,1,0)","v":0}]
[null,null,null,null,null,null,null,null,null,null,null,null,null,null,null,null,null,null,null,null,null,null,{"$f":"IF('CENTRAL ANALYSIS'!$K$134>=7,1,0)","v":0}]
[null,null,null,null,null,null,null,null,null,null,null,null,null,null,null,null,null,null,null,null,null,null,{"$f":"IF('CENTRAL ANALYSIS'!$K$134>=7,1,0)","v":0}]
[null,null,null,null,null,null,null,null,null,null,null,null,null,"Select Action Item:",null,null,null,null,null,null,null,null,{"$f":"IF('CENTRAL ANALYSIS'!$K$134>=8,1,0)","v":0}]
[null,null,null,null,null,null,null,null,null,null,null,null,null,"Date of Update:",null,null,null,null,null,null,null,null,{"$f":"IF('CENTRAL ANALYSIS'!$K$134>=8,1,0)","v":0}]
[null,null,null,null,null,null,null,null,null,null,null,null,null,"Milestone Completion Percent:",null,null,null,null,null,null,null,null,{"$f":"IF('CENTRAL ANALYSIS'!$K$134>=8,1,0)","v":0}]
[null,null,null,null,null,null,null,"Update Details:",null,null,null,null,null,null,null,null,null,null,null,null,null,null,{"$f":"IF('CENTRAL ANALYSIS'!$K$134>=8,1,0)","v":0}]
[null,null,null,null,null,null,null,null,null,null,null,null,null,null,null,null,null,null,null,null,null,null,{"$f":"IF('CENTRAL ANALYSIS'!$K$134>=8,1,0)","v":0}]
[null,null,null,null,null,null,null,null,null,null,null,null,null,null,null,null,null,null,null,null,null,null,{"$f":"IF('CENTRAL ANALYSIS'!$K$134>=8,1,0)","v":0}]
[null,null,null,null,null,null,null,null,null,null,null,null,null,null,null,null,null,null,null,null,null,null,{"$f":"IF('CENTRAL ANALYSIS'!$K$134>=8,1,0)","v":0}]
[null,null,null,null,null,null,null,null,null,null,null,null,null,"Select Action Item:",null,null,null,null,null,null,null,null,{"$f":"IF('CENTRAL ANALYSIS'!$K$134>=9,1,0)","v":0}]
[null,null,null,null,null,null,null,null,null,null,null,null,null,"Date of Update:",null,null,null,null,null,null,null,null,{"$f":"IF('CENTRAL ANALYSIS'!$K$134>=9,1,0)","v":0}]
[null,null,null,null,null,null,null,null,null,null,null,null,null,"Milestone Completion Percent:",null,null,null,null,null,null,null,null,{"$f":"IF('CENTRAL ANALYSIS'!$K$134>=9,1,0)","v":0}]
[null,null,null,null,null,null,null,"Update Details:",null,null,null,null,null,null,null,null,null,null,null,null,null,null,{"$f":"IF('CENTRAL ANALYSIS'!$K$134>=9,1,0)","v":0}]
[null,null,null,null,null,null,null,null,null,null,null,null,null,null,null,null,null,null,null,null,null,null,{"$f":"IF('CENTRAL ANALYSIS'!$K$134>=9,1,0)","v":0}]
[null,null,null,null,null,null,null,null,null,null,null,null,null,null,null,null,null,null,null,null,null,null,{"$f":"IF('CENTRAL ANALYSIS'!$K$134>=9,1,0)","v":0}]
[null,null,null,null,null,null,null,null,null,null,null,null,null,null,null,null,null,null,null,null,null,null,{"$f":"IF('CENTRAL ANALYSIS'!$K$134>=9,1,0)","v":0}]
[null,null,null,null,null,null,null,null,null,null,null,null,null,"Select Action Item:",null,null,null,null,null,null,null,null,{"$f":"IF('CENTRAL ANALYSIS'!$K$134>=10,1,0)","v":0}]
[null,null,null,null,null,null,null,null,null,null,null,null,null,"Date of Update:",null,null,null,null,null,null,null,null,{"$f":"IF('CENTRAL ANALYSIS'!$K$134>=10,1,0)","v":0}]
[null,null,null,null,null,null,null,null,null,null,null,null,null,"Milestone Completion Percent:",null,null,null,null,null,null,null,null,{"$f":"IF('CENTRAL ANALYSIS'!$K$134>=10,1,0)","v":0}]
[null,null,null,null,null,null,null,"Update Details:",null,null,null,null,null,null,null,null,null,null,null,null,null,null,{"$f":"IF('CENTRAL ANALYSIS'!$K$134>=10,1,0)","v":0}]
[null,null,null,null,null,null,null,null,null,null,null,null,null,null,null,null,null,null,null,null,null,null,{"$f":"IF('CENTRAL ANALYSIS'!$K$134>=10,1,0)","v":0}]
[null,null,null,null,null,null,null,null,null,null,null,null,null,null,null,null,null,null,null,null,null,null,{"$f":"IF('CENTRAL ANALYSIS'!$K$134>=10,1,0)","v":0}]
[null,null,null,null,null,null,null,null,null,null,null,null,null,null,null,null,null,null,null,null,null,null,{"$f":"IF('CENTRAL ANALYSIS'!$K$134>=10,1,0)","v":0}]
[null,null,null,null,null,null,null,null,null,null,null,null,null,"Select Action Item:",null,null,null,null,null,null,null,null,{"$f":"IF('CENTRAL ANALYSIS'!$K$134>=11,1,0)","v":0}]
[null,null,null,null,null,null,null,null,null,null,null,null,null,"Date of Update:",null,null,null,null,null,null,null,null,{"$f":"IF('CENTRAL ANALYSIS'!$K$134>=11,1,0)","v":0}]
[null,null,null,null,null,null,null,null,null,null,null,null,null,"Milestone Completion Percent:",null,null,null,null,null,null,null,null,{"$f":"IF('CENTRAL ANALYSIS'!$K$134>=11,1,0)","v":0}]
[null,null,null,null,null,null,null,"Update Details:",null,null,null,null,null,null,null,null,null,null,null,null,null,null,{"$f":"IF('CENTRAL ANALYSIS'!$K$134>=11,1,0)","v":0}]
[null,null,null,null,null,null,null,null,null,null,null,null,null,null,null,null,null,null,null,null,null,null,{"$f":"IF('CENTRAL ANALYSIS'!$K$134>=11,1,0)","v":0}]
[null,null,null,null,null,null,null,null,null,null,null,null,null,null,null,null,null,null,null,null,null,null,{"$f":"IF('CENTRAL ANALYSIS'!$K$134>=11,1,0)","v":0}]
[null,null,null,null,null,null,null,null,null,null,null,null,null,null,null,null,null,null,null,null,null,null,{"$f":"IF('CENTRAL ANALYSIS'!$K$134>=11,1,0)","v":0}]
[null,null,null,null,null,null,null,null,null,null,null,null,null,"Select Action Item:",null,null,null,null,null,null,null,null,{"$f":"IF('CENTRAL ANALYSIS'!$K$134>=12,1,0)","v":0}]
[null,null,null,null,null,null,null,null,null,null,null,null,null,"Date of Update:",null,null,null,null,null,null,null,null,{"$f":"IF('CENTRAL ANALYSIS'!$K$134>=12,1,0)","v":0}]
[null,null,null,null,null,null,null,null,null,null,null,null,null,"Milestone Completion Percent:",null,null,null,null,null,null,null,null,{"$f":"IF('CENTRAL ANALYSIS'!$K$134>=12,1,0)","v":0}]
[null,null,null,null,null,null,null,"Update Details:",null,null,null,null,null,null,null,null,null,null,null,null,null,null,{"$f":"IF('CENTRAL ANALYSIS'!$K$134>=12,1,0)","v":0}]
[null,null,null,null,null,null,null,null,null,null,null,null,null,null,null,null,null,null,null,null,null,null,{"$f":"IF('CENTRAL ANALYSIS'!$K$134>=12,1,0)","v":0}]
[null,null,null,null,null,null,null,null,null,null,null,null,null,null,null,null,null,null,null,null,null,null,{"$f":"IF('CENTRAL ANALYSIS'!$K$134>=12,1,0)","v":0}]
[null,null,null,null,null,null,null,null,null,null,null,null,null,null,null,null,null,null,null,null,null,null,{"$f":"IF('CENTRAL ANALYSIS'!$K$134>=12,1,0)","v":0}]
[null,null,null,null,null,null,null,null,null,null,null,null,null,"Select Action Item:",null,null,null,null,null,null,null,null,{"$f":"IF('CENTRAL ANALYSIS'!$K$134>=13,1,0)","v":0}]
[null,null,null,null,null,null,null,null,null,null,null,null,null,"Date of Update:",null,null,null,null,null,null,null,null,{"$f":"IF('CENTRAL ANALYSIS'!$K$134>=13,1,0)","v":0}]
[null,null,null,null,null,null,null,null,null,null,null,null,null,"Milestone Completion Percent:",null,null,null,null,null,null,null,null,{"$f":"IF('CENTRAL ANALYSIS'!$K$134>=13,1,0)","v":0}]
[null,null,null,null,null,null,null,"Update Details:",null,null,null,null,null,null,null,null,null,null,null,null,null,null,{"$f":"IF('CENTRAL ANALYSIS'!$K$134>=13,1,0)","v":0}]
[null,null,null,null,null,null,null,null,null,null,null,null,null,null,null,null,null,null,null,null,null,null,{"$f":"IF('CENTRAL ANALYSIS'!$K$134>=13,1,0)","v":0}]
[null,null,null,null,null,null,null,null,null,null,null,null,null,null,null,null,null,null,null,null,null,null,{"$f":"IF('CENTRAL ANALYSIS'!$K$134>=13,1,0)","v":0}]
[null,null,null,null,null,null,null,null,null,null,null,null,null,null,null,null,null,null,null,null,null,null,{"$f":"IF('CENTRAL ANALYSIS'!$K$134>=13,1,0)","v":0}]
[null,null,null,null,null,null,null,null,null,null,null,null,null,"Select Action Item:",null,null,null,null,null,null,null,null,{"$f":"IF('CENTRAL ANALYSIS'!$K$134>=14,1,0)","v":0}]
[null,null,null,null,null,null,null,null,null,null,null,null,null,"Date of Update:",null,null,null,null,null,null,null,null,{"$f":"IF('CENTRAL ANALYSIS'!$K$134>=14,1,0)","v":0}]
[null,null,null,null,null,null,null,null,null,null,null,null,null,"Milestone Completion Percent:",null,null,null,null,null,null,null,null,{"$f":"IF('CENTRAL ANALYSIS'!$K$134>=14,1,0)","v":0}]
[null,null,null,null,null,null,null,"Update Details:",null,null,null,null,null,null,null,null,null,null,null,null,null,null,{"$f":"IF('CENTRAL ANALYSIS'!$K$134>=14,1,0)","v":0}]
[null,null,null,null,null,null,null,null,null,null,null,null,null,null,null,null,null,null,null,null,null,null,{"$f":"IF('CENTRAL ANALYSIS'!$K$134>=14,1,0)","v":0}]
[null,null,null,null,null,null,null,null,null,null,null,null,null,null,null,null,null,null,null,null,null,null,{"$f":"IF('CENTRAL ANALYSIS'!$K$134>=14,1,0)","v":0}]
[null,null,null,null,null,null,null,null,null,null,null,null,null,null,null,null,null,null,null,null,null,null,{"$f":"IF('CENTRAL ANALYSIS'!$K$134>=14,1,0)","v":0}]
[null,null,null,null,null,null,null,null,null,null,null,null,null,"Select Action Item:",null,null,null,null,null,null,null,null,{"$f":"IF('CENTRAL ANALYSIS'!$K$134>=15,1,0)","v":0}]
[null,null,null,null,null,null,null,null,null,null,null,null,null,"Date of Update:",null,null,null,null,null,null,null,null,{"$f":"IF('CENTRAL ANALYSIS'!$K$134>=15,1,0)","v":0}]
[null,null,null,null,null,null,null,null,null,null,null,null,null,"Milestone Completion Percent:",null,null,null,null,null,null,null,null,{"$f":"IF('CENTRAL ANALYSIS'!$K$134>=15,1,0)","v":0}]
[null,null,null,null,null,null,null,"Update Details:",null,null,null,null,null,null,null,null,null,null,null,null,null,null,{"$f":"IF('CENTRAL ANALYSIS'!$K$134>=15,1,0)","v":0}]
[null,null,null,null,null,null,null,null,null,null,null,null,null,null,null,null,null,null,null,null,null,null,{"$f":"IF('CENTRAL ANALYSIS'!$K$134>=15,1,0)","v":0}]
[null,null,null,null,null,null,null,null,null,null,null,null,null,null,null,null,null,null,null,null,null,null,{"$f":"IF('CENTRAL ANALYSIS'!$K$134>=15,1,0)","v":0}]
[null,null,null,null,null,null,null,null,null,null,null,null,null,null,null,null,null,null,null,null,null,null,{"$f":"IF('CENTRAL ANALYSIS'!$K$134>=15,1,0)","v":0}]
[null,null,null,null,null,null,null,null,null,null,null,null,null,"Select Action Item:",null,null,null,null,null,null,null,null,{"$f":"IF('CENTRAL ANALYSIS'!$K$134>=16,1,0)","v":0}]
[null,null,null,null,null,null,null,null,null,null,null,null,null,"Date of Update:",null,null,null,null,null,null,null,null,{"$f":"IF('CENTRAL ANALYSIS'!$K$134>=16,1,0)","v":0}]
[null,null,null,null,null,null,null,null,null,null,null,null,null,"Milestone Completion Percent:",null,null,null,null,null,null,null,null,{"$f":"IF('CENTRAL ANALYSIS'!$K$134>=16,1,0)","v":0}]
[null,null,null,null,null,null,null,"Update Details:",null,null,null,null,null,null,null,null,null,null,null,null,null,null,{"$f":"IF('CENTRAL ANALYSIS'!$K$134>=16,1,0)","v":0}]
[null,null,null,null,null,null,null,null,null,null,null,null,null,null,null,null,null,null,null,null,null,null,{"$f":"IF('CENTRAL ANALYSIS'!$K$134>=16,1,0)","v":0}]
[null,null,null,null,null,null,null,null,null,null,null,null,null,null,null,null,null,null,null,null,null,null,{"$f":"IF('CENTRAL ANALYSIS'!$K$134>=16,1,0)","v":0}]
[null,null,null,null,null,null,null,null,null,null,null,null,null,null,null,null,null,null,null,null,null,null,{"$f":"IF('CENTRAL ANALYSIS'!$K$134>=16,1,0)","v":0}]
[null,null,null,null,null,null,null,null,null,null,null,null,null,"Select Action Item:",null,null,null,null,null,null,null,null,{"$f":"IF('CENTRAL ANALYSIS'!$K$134>=17,1,0)","v":0}]
[null,null,null,null,null,null,null,null,null,null,null,null,null,"Date of Update:",null,null,null,null,null,null,null,null,{"$f":"IF('CENTRAL ANALYSIS'!$K$134>=17,1,0)","v":0}]
[null,null,null,null,null,null,null,null,null,null,null,null,null,"Milestone Completion Percent:",null,null,null,null,null,null,null,null,{"$f":"IF('CENTRAL ANALYSIS'!$K$134>=17,1,0)","v":0}]
[null,null,null,null,null,null,null,"Update Details:",null,null,null,null,null,null,null,null,null,null,null,null,null,null,{"$f":"IF('CENTRAL ANALYSIS'!$K$134>=17,1,0)","v":0}]
[null,null,null,null,null,null,null,null,null,null,null,null,null,null,null,null,null,null,null,null,null,null,{"$f":"IF('CENTRAL ANALYSIS'!$K$134>=17,1,0)","v":0}]
[null,null,null,null,null,null,null,null,null,null,null,null,null,null,null,null,null,null,null,null,null,null,{"$f":"IF('CENTRAL ANALYSIS'!$K$134>=17,1,0)","v":0}]
[null,null,null,null,null,null,null,null,null,null,null,null,null,null,null,null,null,null,null,null,null,null,{"$f":"IF('CENTRAL ANALYSIS'!$K$134>=17,1,0)","v":0}]
[null,null,null,null,null,null,null,null,null,null,null,null,null,"Select Action Item:",null,null,null,null,null,null,null,null,{"$f":"IF('CENTRAL ANALYSIS'!$K$134>=18,1,0)","v":0}]
[null,null,null,null,null,null,null,null,null,null,null,null,null,"Date of Update:",null,null,null,null,null,null,null,null,{"$f":"IF('CENTRAL ANALYSIS'!$K$134>=18,1,0)","v":0}]
[null,null,null,null,null,null,null,null,null,null,null,null,null,"Milestone Completion Percent:",null,null,null,null,null,null,null,null,{"$f":"IF('CENTRAL ANALYSIS'!$K$134>=18,1,0)","v":0}]
[null,null,null,null,null,null,null,"Update Details:",null,null,null,null,null,null,null,null,null,null,null,null,null,null,{"$f":"IF('CENTRAL ANALYSIS'!$K$134>=18,1,0)","v":0}]
[null,null,null,null,null,null,null,null,null,null,null,null,null,null,null,null,null,null,null,null,null,null,{"$f":"IF('CENTRAL ANALYSIS'!$K$134>=18,1,0)","v":0}]
[null,null,null,null,null,null,null,null,null,null,null,null,null,null,null,null,null,null,null,null,null,null,{"$f":"IF('CENTRAL ANALYSIS'!$K$134>=18,1,0)","v":0}]
[null,null,null,null,null,null,null,null,null,null,null,null,null,null,null,null,null,null,null,null,null,null,{"$f":"IF('CENTRAL ANALYSIS'!$K$134>=18,1,0)","v":0}]
[null,null,null,null,null,null,null,null,null,null,null,null,null,"Select Action Item:",null,null,null,null,null,null,null,null,{"$f":"IF('CENTRAL ANALYSIS'!$K$134>=19,1,0)","v":0}]
[null,null,null,null,null,null,null,null,null,null,null,null,null,"Date of Update:",null,null,null,null,null,null,null,null,{"$f":"IF('CENTRAL ANALYSIS'!$K$134>=19,1,0)","v":0}]
[null,null,null,null,null,null,null,null,null,null,null,null,null,"Milestone Completion Percent:",null,null,null,null,null,null,null,null,{"$f":"IF('CENTRAL ANALYSIS'!$K$134>=19,1,0)","v":0}]
[null,null,null,null,null,null,null,"Update Details:",null,null,null,null,null,null,null,null,null,null,null,null,null,null,{"$f":"IF('CENTRAL ANALYSIS'!$K$134>=19,1,0)","v":0}]
[null,null,null,null,null,null,null,null,null,null,null,null,null,null,null,null,null,null,null,null,null,null,{"$f":"IF('CENTRAL ANALYSIS'!$K$134>=19,1,0)","v":0}]
[null,null,null,null,null,null,null,null,null,null,null,null,null,null,null,null,null,null,null,null,null,null,{"$f":"IF('CENTRAL ANALYSIS'!$K$134>=19,1,0)","v":0}]
[null,null,null,null,null,null,null,null,null,null,null,null,null,null,null,null,null,null,null,null,null,null,{"$f":"IF('CENTRAL ANALYSIS'!$K$134>=19,1,0)","v":0}]
[null,null,null,null,null,null,null,null,null,null,null,null,null,"Select Action Item:",null,null,null,null,null,null,null,null,{"$f":"IF('CENTRAL ANALYSIS'!$K$134>=20,1,0)","v":0}]
[null,null,null,null,null,null,null,null,null,null,null,null,null,"Date of Update:",null,null,null,null,null,null,null,null,{"$f":"IF('CENTRAL ANALYSIS'!$K$134>=20,1,0)","v":0}]
[null,null,null,null,null,null,null,null,null,null,null,null,null,"Milestone Completion Percent:",null,null,null,null,null,null,null,null,{"$f":"IF('CENTRAL ANALYSIS'!$K$134>=20,1,0)","v":0}]
[null,null,null,null,null,null,null,"Update Details:",null,null,null,null,null,null,null,null,null,null,null,null,null,null,{"$f":"IF('CENTRAL ANALYSIS'!$K$134>=20,1,0)","v":0}]
[null,null,null,null,null,null,null,null,null,null,null,null,null,null,null,null,null,null,null,null,null,null,{"$f":"IF('CENTRAL ANALYSIS'!$K$134>=20,1,0)","v":0}]
[null,null,null,null,null,null,null,null,null,null,null,null,null,null,null,null,null,null,null,null,null,null,{"$f":"IF('CENTRAL ANALYSIS'!$K$134>=20,1,0)","v":0}]
[null,null,null,null,null,null,null,null,null,null,null,null,null,null,null,null,null,null,null,null,null,null,{"$f":"IF('CENTRAL ANALYSIS'!$K$134>=20,1,0)","v":0}]
[null,null,null,null,null,null,null,null,null,null,null,null,null,null,null,null,null,null,null,null,null,null,{"$f":"IF('CENTRAL ANALYSIS'!$K$28=1,1,0)","v":0}]
[null,null,null,null,null,"Objective 4 Additional Notes (Up to 10)",null,null,null,null,null,null,null,null,null,null,null,null,null,null,null,null,{"$f":"IF('CENTRAL ANALYSIS'!$K$28=1,1,0)","v":0}]
[null,null,null,null,null,null,null,null,null,null,null,null,null,null,null,null,null,null,null,null,null,null,{"$f":"IF('CENTRAL ANALYSIS'!$K$28=1,1,0)","v":0}]
[null,null,null,null,null,null,null,null,null,null,null,null,null,null,null,null,null,null,null,null,null,null,{"$f":"IF('CENTRAL ANALYSIS'!$K$28=1,1,0)","v":0}]
[null,null,null,null,null,null,null,"Note 1",null,null,null,null,null,null,null,null,null,null,null,null,null,null,{"$f":"IF('CENTRAL ANALYSIS'!$K$135>=1,1,0)","v":0}]
[null,null,null,null,null,null,null,null,null,null,null,null,null,null,null,null,null,null,null,null,null,null,{"$f":"IF('CENTRAL ANALYSIS'!$K$135>=1,1,0)","v":0}]
[null,null,null,null,null,null,null,null,null,null,null,null,null,null,null,null,null,null,null,null,null,null,{"$f":"IF('CENTRAL ANALYSIS'!$K$135>=1,1,0)","v":0}]
[null,null,null,null,null,null,null,null,null,null,null,null,null,null,null,null,null,null,null,null,null,null,{"$f":"IF('CENTRAL ANALYSIS'!$K$135>=1,1,0)","v":0}]
[null,null,null,null,null,null,null,null,null,null,null,null,null,null,null,null,null,null,null,null,null,null,{"$f":"IF('CENTRAL ANALYSIS'!$K$135>=1,1,0)","v":0}]
[null,null,null,null,null,null,null,null,null,null,null,null,null,null,null,null,null,null,null,null,null,null,{"$f":"IF('CENTRAL ANALYSIS'!$K$135>=1,1,0)","v":0}]
[null,null,null,null,null,null,null,"Note 2",null,null,null,null,null,null,null,null,null,null,null,null,null,null,{"$f":"IF('CENTRAL ANALYSIS'!$K$135>=2,1,0)","v":0}]
[null,null,null,null,null,null,null,null,null,null,null,null,null,null,null,null,null,null,null,null,null,null,{"$f":"IF('CENTRAL ANALYSIS'!$K$135>=2,1,0)","v":0}]
[null,null,null,null,null,null,null,null,null,null,null,null,null,null,null,null,null,null,null,null,null,null,{"$f":"IF('CENTRAL ANALYSIS'!$K$135>=2,1,0)","v":0}]
[null,null,null,null,null,null,null,null,null,null,null,null,null,null,null,null,null,null,null,null,null,null,{"$f":"IF('CENTRAL ANALYSIS'!$K$135>=2,1,0)","v":0}]
[null,null,null,null,null,null,null,null,null,null,null,null,null,null,null,null,null,null,null,null,null,null,{"$f":"IF('CENTRAL ANALYSIS'!$K$135>=2,1,0)","v":0}]
[null,null,null,null,null,null,null,null,null,null,null,null,null,null,null,null,null,null,null,null,null,null,{"$f":"IF('CENTRAL ANALYSIS'!$K$135>=2,1,0)","v":0}]
[null,null,null,null,null,null,null,"Note 3",null,null,null,null,null,null,null,null,null,null,null,null,null,null,{"$f":"IF('CENTRAL ANALYSIS'!$K$135>=3,1,0)","v":0}]
[null,null,null,null,null,null,null,null,null,null,null,null,null,null,null,null,null,null,null,null,null,null,{"$f":"IF('CENTRAL ANALYSIS'!$K$135>=3,1,0)","v":0}]
[null,null,null,null,null,null,null,null,null,null,null,null,null,null,null,null,null,null,null,null,null,null,{"$f":"IF('CENTRAL ANALYSIS'!$K$135>=3,1,0)","v":0}]
[null,null,null,null,null,null,null,null,null,null,null,null,null,null,null,null,null,null,null,null,null,null,{"$f":"IF('CENTRAL ANALYSIS'!$K$135>=3,1,0)","v":0}]
[null,null,null,null,null,null,null,null,null,null,null,null,null,null,null,null,null,null,null,null,null,null,{"$f":"IF('CENTRAL ANALYSIS'!$K$135>=3,1,0)","v":0}]
[null,null,null,null,null,null,null,null,null,null,null,null,null,null,null,null,null,null,null,null,null,null,{"$f":"IF('CENTRAL ANALYSIS'!$K$135>=3,1,0)","v":0}]
[null,null,null,null,null,null,null,"Note 4",null,null,null,null,null,null,null,null,null,null,null,null,null,null,{"$f":"IF('CENTRAL ANALYSIS'!$K$135>=4,1,0)","v":0}]
[null,null,null,null,null,null,null,null,null,null,null,null,null,null,null,null,null,null,null,null,null,null,{"$f":"IF('CENTRAL ANALYSIS'!$K$135>=4,1,0)","v":0}]
[null,null,null,null,null,null,null,null,null,null,null,null,null,null,null,null,null,null,null,null,null,null,{"$f":"IF('CENTRAL ANALYSIS'!$K$135>=4,1,0)","v":0}]
[null,null,null,null,null,null,null,null,null,null,null,null,null,null,null,null,null,null,null,null,null,null,{"$f":"IF('CENTRAL ANALYSIS'!$K$135>=4,1,0)","v":0}]
[null,null,null,null,null,null,null,null,null,null,null,null,null,null,null,null,null,null,null,null,null,null,{"$f":"IF('CENTRAL ANALYSIS'!$K$135>=4,1,0)","v":0}]
[null,null,null,null,null,null,null,null,null,null,null,null,null,null,null,null,null,null,null,null,null,null,{"$f":"IF('CENTRAL ANALYSIS'!$K$135>=4,1,0)","v":0}]
[null,null,null,null,null,null,null,"Note 5",null,null,null,null,null,null,null,null,null,null,null,null,null,null,{"$f":"IF('CENTRAL ANALYSIS'!$K$135>=5,1,0)","v":0}]
[null,null,null,null,null,null,null,null,null,null,null,null,null,null,null,null,null,null,null,null,null,null,{"$f":"IF('CENTRAL ANALYSIS'!$K$135>=5,1,0)","v":0}]
[null,null,null,null,null,null,null,null,null,null,null,null,null,null,null,null,null,null,null,null,null,null,{"$f":"IF('CENTRAL ANALYSIS'!$K$135>=5,1,0)","v":0}]
[null,null,null,null,null,null,null,null,null,null,null,null,null,null,null,null,null,null,null,null,null,null,{"$f":"IF('CENTRAL ANALYSIS'!$K$135>=5,1,0)","v":0}]
[null,null,null,null,null,null,null,null,null,null,null,null,null,null,null,null,null,null,null,null,null,null,{"$f":"IF('CENTRAL ANALYSIS'!$K$135>=5,1,0)","v":0}]
[null,null,null,null,null,null,null,null,null,null,null,null,null,null,null,null,null,null,null,null,null,null,{"$f":"IF('CENTRAL ANALYSIS'!$K$135>=5,1,0)","v":0}]
[null,null,null,null,null,null,null,"Note 6",null,null,null,null,null,null,null,null,null,null,null,null,null,null,{"$f":"IF('CENTRAL ANALYSIS'!$K$135>=6,1,0)","v":0}]
[null,null,null,null,null,null,null,null,null,null,null,null,null,null,null,null,null,null,null,null,null,null,{"$f":"IF('CENTRAL ANALYSIS'!$K$135>=6,1,0)","v":0}]
[null,null,null,null,null,null,null,null,null,null,null,null,null,null,null,null,null,null,null,null,null,null,{"$f":"IF('CENTRAL ANALYSIS'!$K$135>=6,1,0)","v":0}]
[null,null,null,null,null,null,null,null,null,null,null,null,null,null,null,null,null,null,null,null,null,null,{"$f":"IF('CENTRAL ANALYSIS'!$K$135>=6,1,0)","v":0}]
[null,null,null,null,null,null,null,null,null,null,null,null,null,null,null,null,null,null,null,null,null,null,{"$f":"IF('CENTRAL ANALYSIS'!$K$135>=6,1,0)","v":0}]
[null,null,null,null,null,null,null,null,null,null,null,null,null,null,null,null,null,null,null,null,null,null,{"$f":"IF('CENTRAL ANALYSIS'!$K$135>=6,1,0)","v":0}]
[null,null,null,null,null,null,null,"Note 7",null,null,null,null,null,null,null,null,null,null,null,null,null,null,{"$f":"IF('CENTRAL ANALYSIS'!$K$135>=7,1,0)","v":0}]
[null,null,null,null,null,null,null,null,null,null,null,null,null,null,null,null,null,null,null,null,null,null,{"$f":"IF('CENTRAL ANALYSIS'!$K$135>=7,1,0)","v":0}]
[null,null,null,null,null,null,null,null,null,null,null,null,null,null,null,null,null,null,null,null,null,null,{"$f":"IF('CENTRAL ANALYSIS'!$K$135>=7,1,0)","v":0}]
[null,null,null,null,null,null,null,null,null,null,null,null,null,null,null,null,null,null,null,null,null,null,{"$f":"IF('CENTRAL ANALYSIS'!$K$135>=7,1,0)","v":0}]
[null,null,null,null,null,null,null,null,null,null,null,null,null,null,null,null,null,null,null,null,null,null,{"$f":"IF('CENTRAL ANALYSIS'!$K$135>=7,1,0)","v":0}]
[null,null,null,null,null,null,null,null,null,null,null,null,null,null,null,null,null,null,null,null,null,null,{"$f":"IF('CENTRAL ANALYSIS'!$K$135>=7,1,0)","v":0}]
[null,null,null,null,null,null,null,"Note 8",null,null,null,null,null,null,null,null,null,null,null,null,null,null,{"$f":"IF('CENTRAL ANALYSIS'!$K$135>=8,1,0)","v":0}]
[null,null,null,null,null,null,null,null,null,null,null,null,null,null,null,null,null,null,null,null,null,null,{"$f":"IF('CENTRAL ANALYSIS'!$K$135>=8,1,0)","v":0}]
[null,null,null,null,null,null,null,null,null,null,null,null,null,null,null,null,null,null,null,null,null,null,{"$f":"IF('CENTRAL ANALYSIS'!$K$135>=8,1,0)","v":0}]
[null,null,null,null,null,null,null,null,null,null,null,null,null,null,null,null,null,null,null,null,null,null,{"$f":"IF('CENTRAL ANALYSIS'!$K$135>=8,1,0)","v":0}]
[null,null,null,null,null,null,null,null,null,null,null,null,null,null,null,null,null,null,null,null,null,null,{"$f":"IF('CENTRAL ANALYSIS'!$K$135>=8,1,0)","v":0}]
[null,null,null,null,null,null,null,null,null,null,null,null,null,null,null,null,null,null,null,null,null,null,{"$f":"IF('CENTRAL ANALYSIS'!$K$135>=8,1,0)","v":0}]
[null,null,null,null,null,null,null,"Note 9",null,null,null,null,null,null,null,null,null,null,null,null,null,null,{"$f":"IF('CENTRAL ANALYSIS'!$K$135>=9,1,0)","v":0}]
[null,null,null,null,null,null,null,null,null,null,null,null,null,null,null,null,null,null,null,null,null,null,{"$f":"IF('CENTRAL ANALYSIS'!$K$135>=9,1,0)","v":0}]
[null,null,null,null,null,null,null,null,null,null,null,null,null,null,null,null,null,null,null,null,null,null,{"$f":"IF('CENTRAL ANALYSIS'!$K$135>=9,1,0)","v":0}]
[null,null,null,null,null,null,null,null,null,null,null,null,null,null,null,null,null,null,null,null,null,null,{"$f":"IF('CENTRAL ANALYSIS'!$K$135>=9,1,0)","v":0}]
[null,null,null,null,null,null,null,null,null,null,null,null,null,null,null,null,null,null,null,null,null,null,{"$f":"IF('CENTRAL ANALYSIS'!$K$135>=9,1,0)","v":0}]
[null,null,null,null,null,null,null,null,null,null,null,null,null,null,null,null,null,null,null,null,null,null,{"$f":"IF('CENTRAL ANALYSIS'!$K$135>=9,1,0)","v":0}]
[null,null,null,null,null,null,null,"Note 10",null,null,null,null,null,null,null,null,null,null,null,null,null,null,{"$f":"IF('CENTRAL ANALYSIS'!$K$135>=10,1,0)","v":0}]
[null,null,null,null,null,null,null,null,null,null,null,null,null,null,null,null,null,null,null,null,null,null,{"$f":"IF('CENTRAL ANALYSIS'!$K$135>=10,1,0)","v":0}]
[null,null,null,null,null,null,null,null,null,null,null,null,null,null,null,null,null,null,null,null,null,null,{"$f":"IF('CENTRAL ANALYSIS'!$K$135>=10,1,0)","v":0}]
[null,null,null,null,null,null,null,null,null,null,null,null,null,null,null,null,null,null,null,null,null,null,{"$f":"IF('CENTRAL ANALYSIS'!$K$135>=10,1,0)","v":0}]
[null,null,null,null,null,null,null,null,null,null,null,null,null,null,null,null,null,null,null,null,null,null,{"$f":"IF('CENTRAL ANALYSIS'!$K$135>=10,1,0)","v":0}]
[null,null,null,null,null,null,null,null,null,null,null,null,null,null,null,null,null,null,null,null,null,null,{"$f":"IF('CENTRAL ANALYSIS'!$K$135>=10,1,0)","v":0}]
[null,null,null,null,null,null,null,null,null,null,null,null,null,null,null,null,null,null,null,null,null,null,{"$f":"IF('CENTRAL ANALYSIS'!$K$135>=10,1,0)","v":0}]
[null,"Agency Strategy Objective 5",null,null,null,null,null,null,null,null,null,null,null,null,null,null,null,null,null,null,null,null,{"$f":"IF('CENTRAL ANALYSIS'!$N$28=1,1,0)","v":0}]
[null,null,null,null,null,null,null,null,null,null,null,null,null,null,null,null,null,null,null,null,null,null,{"$f":"IF('CENTRAL ANALYSIS'!$N$28=1,1,0)","v":0}]
[null,"INSTRUCTIONS: For each action item in the objective, enter the information in the yellow boxes to include the action item title, an owner, expected start and expected end date. A color can be assigned to assist with tracking related action items. Updates and Notes can be added for the objective item that can be used to track progress or miletones over time. ",null,null,null,null,null,null,null,null,null,null,null,null,null,null,null,null,null,null,null,null,{"$f":"IF('CENTRAL ANALYSIS'!$N$28=1,1,0)","v":0}]
[null,null,null,null,null,null,null,null,null,null,null,null,null,null,null,null,null,null,null,null,null,null,{"$f":"IF('CENTRAL ANALYSIS'!$N$28=1,1,0)","v":0}]
[null,null,null,null,null,null,null,null,null,null,null,null,null,null,null,null,null,null,null,null,null,null,{"$f":"IF('CENTRAL ANALYSIS'!$N$28=1,1,0)","v":0}]
[null,null,null,null,null,null,null,null,null,null,null,null,null,null,null,null,null,null,null,null,null,null,{"$f":"IF('CENTRAL ANALYSIS'!$N$28=1,1,0)","v":0}]
[null,null,null,null,null,"Overall Objective Statement",{"$f":"'AGENCY STRATEGY'!F242","v":0},null,null,null,null,null,null,null,null,null,null,null,null,null,null,null,{"$f":"IF('CENTRAL ANALYSIS'!$N$28=1,1,0)","v":0}]
[null,null,null,null,null,null,null,null,null,null,null,null,null,null,null,null,null,null,null,null,null,null,{"$f":"IF('CENTRAL ANALYSIS'!$N$28=1,1,0)","v":0}]
[null,null,null,null,null,null,null,null,null,null,null,null,null,null,null,null,null,null,null,null,null,null,{"$f":"IF('CENTRAL ANALYSIS'!$N$28=1,1,0)","v":0}]
[null,null,null,null,null,null,null,null,null,null,null,null,null,null,null,null,null,null,null,null,null,null,{"$f":"IF('CENTRAL ANALYSIS'!$N$28=1,1,0)","v":0}]
[null,null,null,null,null,null,null,null,null,null,null,null,null,null,null,null,null,null,null,null,null,null,{"$f":"IF('CENTRAL ANALYSIS'!$N$29=1,1,0)","v":0}]
[null,null,null,null,null,null,null,"Action Item Description",{"$f":"'AGENCY STRATEGY'!H249","v":""},null,null,null,null,null,null,null,null,null,null,null,null,null,{"$f":"IF('CENTRAL ANALYSIS'!$N$29=1,1,0)","v":0}]
[null,null,null,null,null,null,null,null,null,null,null,null,null,null,null,null,null,null,null,null,null,null,{"$f":"IF('CENTRAL ANALYSIS'!$N$29=1,1,0)","v":0}]
[null,null,null,null,null,null,null,null,null,null,null,null,null,null,null,null,null,null,null,null,null,null,{"$f":"IF('CENTRAL ANALYSIS'!$N$29=1,1,0)","v":0}]
[null,null,null,null,null,null,null,null,null,null,null,null,null,"Action Item Title:",null,null,null,null,null,null,null,null,{"$f":"IF('CENTRAL ANALYSIS'!$N$29=1,1,0)","v":0}]
[null,null,null,null,null,null,null,null,null,null,null,null,null,"Action Item Owner:",null,null,null,null,null,null,null,null,{"$f":"IF('CENTRAL ANALYSIS'!$N$29=1,1,0)","v":0}]
[null,null,null,null,null,null,null,null,null,null,null,null,null,"Expected Start Date:",null,null,null,null,null,null,null,null,{"$f":"IF('CENTRAL ANALYSIS'!$N$29=1,1,0)","v":0}]
[null,null,null,null,null,null,null,null,null,null,null,null,null,"Expected Completion Date:",null,null,null,null,null,null,null,null,{"$f":"IF('CENTRAL ANALYSIS'!$N$29=1,1,0)","v":0}]
[null,null,null,null,null,null,null,null,null,null,null,null,null,"Assign Color (optional):",null,null,null,null,null,null,null,null,{"$f":"IF('CENTRAL ANALYSIS'!$N$29=1,1,0)","v":0}]
[null,null,null,null,null,null,null,null,null,null,null,null,null,null,null,null,null,null,null,null,null,null,{"$f":"IF('CENTRAL ANALYSIS'!$N$29=1,1,0)","v":0}]
[null,null,null,null,null,null,null,"Action Item Description",{"$f":"'AGENCY STRATEGY'!H252","v":""},null,null,null,null,null,null,null,null,null,null,null,null,null,{"$f":"IF('CENTRAL ANALYSIS'!$N$30=1,1,0)","v":0}]
[null,null,null,null,null,null,null,null,null,null,null,null,null,null,null,null,null,null,null,null,null,null,{"$f":"IF('CENTRAL ANALYSIS'!$N$30=1,1,0)","v":0}]
[null,null,null,null,null,null,null,null,null,null,null,null,null,null,null,null,null,null,null,null,null,null,{"$f":"IF('CENTRAL ANALYSIS'!$N$30=1,1,0)","v":0}]
[null,null,null,null,null,null,null,null,null,null,null,null,null,"Action Item Title:",null,null,null,null,null,null,null,null,{"$f":"IF('CENTRAL ANALYSIS'!$N$30=1,1,0)","v":0}]
[null,null,null,null,null,null,null,null,null,null,null,null,null,"Action Item Owner:",null,null,null,null,null,null,null,null,{"$f":"IF('CENTRAL ANALYSIS'!$N$30=1,1,0)","v":0}]
[null,null,null,null,null,null,null,null,null,null,null,null,null,"Expected Start Date:",null,null,null,null,null,null,null,null,{"$f":"IF('CENTRAL ANALYSIS'!$N$30=1,1,0)","v":0}]
[null,null,null,null,null,null,null,null,null,null,null,null,null,"Expected Completion Date:",null,null,null,null,null,null,null,null,{"$f":"IF('CENTRAL ANALYSIS'!$N$30=1,1,0)","v":0}]
[null,null,null,null,null,null,null,null,null,null,null,null,null,"Assign Color (optional):",null,null,null,null,null,null,null,null,{"$f":"IF('CENTRAL ANALYSIS'!$N$30=1,1,0)","v":0}]
[null,null,null,null,null,null,null,null,null,null,null,null,null,null,null,null,null,null,null,null,null,null,{"$f":"IF('CENTRAL ANALYSIS'!$N$30=1,1,0)","v":0}]
[null,null,null,null,null,null,null,"Action Item Description",{"$f":"'AGENCY STRATEGY'!H255","v":""},null,null,null,null,null,null,null,null,null,null,null,null,null,{"$f":"IF('CENTRAL ANALYSIS'!$N$31=1,1,0)","v":0}]
[null,null,null,null,null,null,null,null,null,null,null,null,null,null,null,null,null,null,null,null,null,null,{"$f":"IF('CENTRAL ANALYSIS'!$N$31=1,1,0)","v":0}]
[null,null,null,null,null,null,null,null,null,null,null,null,null,null,null,null,null,null,null,null,null,null,{"$f":"IF('CENTRAL ANALYSIS'!$N$31=1,1,0)","v":0}]
[null,null,null,null,null,null,null,null,null,null,null,null,null,"Action Item Title:",null,null,null,null,null,null,null,null,{"$f":"IF('CENTRAL ANALYSIS'!$N$31=1,1,0)","v":0}]
[null,null,null,null,null,null,null,null,null,null,null,null,null,"Action Item Owner:",null,null,null,null,null,null,null,null,{"$f":"IF('CENTRAL ANALYSIS'!$N$31=1,1,0)","v":0}]
[null,null,null,null,null,null,null,null,null,null,null,null,null,"Expected Start Date:",null,null,null,null,null,null,null,null,{"$f":"IF('CENTRAL ANALYSIS'!$N$31=1,1,0)","v":0}]
[null,null,null,null,null,null,null,null,null,null,null,null,null,"Expected Completion Date:",null,null,null,null,null,null,null,null,{"$f":"IF('CENTRAL ANALYSIS'!$N$31=1,1,0)","v":0}]
[null,null,null,null,null,null,null,null,null,null,null,null,null,"Assign Color (optional):",null,null,null,null,null,null,null,null,{"$f":"IF('CENTRAL ANALYSIS'!$N$31=1,1,0)","v":0}]
[null,null,null,null,null,null,null,null,null,null,null,null,null,null,null,null,null,null,null,null,null,null,{"$f":"IF('CENTRAL ANALYSIS'!$N$31=1,1,0)","v":0}]
[null,null,null,null,null,null,null,"Action Item Description",{"$f":"'AGENCY STRATEGY'!H258","v":""},null,null,null,null,null,null,null,null,null,null,null,null,null,{"$f":"IF('CENTRAL ANALYSIS'!$N$32=1,1,0)","v":0}]
[null,null,null,null,null,null,null,null,null,null,null,null,null,null,null,null,null,null,null,null,null,null,{"$f":"IF('CENTRAL ANALYSIS'!$N$32=1,1,0)","v":0}]
[null,null,null,null,null,null,null,null,null,null,null,null,null,null,null,null,null,null,null,null,null,null,{"$f":"IF('CENTRAL ANALYSIS'!$N$32=1,1,0)","v":0}]
[null,null,null,null,null,null,null,null,null,null,null,null,null,"Action Item Title:",null,null,null,null,null,null,null,null,{"$f":"IF('CENTRAL ANALYSIS'!$N$32=1,1,0)","v":0}]
[null,null,null,null,null,null,null,null,null,null,null,null,null,"Action Item Owner:",null,null,null,null,null,null,null,null,{"$f":"IF('CENTRAL ANALYSIS'!$N$32=1,1,0)","v":0}]
[null,null,null,null,null,null,null,null,null,null,null,null,null,"Expected Start Date:",null,null,null,null,null,null,null,null,{"$f":"IF('CENTRAL ANALYSIS'!$N$32=1,1,0)","v":0}]
[null,null,null,null,null,null,null,null,null,null,null,null,null,"Expected Completion Date:",null,null,null,null,null,null,null,null,{"$f":"IF('CENTRAL ANALYSIS'!$N$32=1,1,0)","v":0}]
[null,null,null,null,null,null,null,null,null,null,null,null,null,"Assign Color (optional):",null,null,null,null,null,null,null,null,{"$f":"IF('CENTRAL ANALYSIS'!$N$32=1,1,0)","v":0}]
[null,null,null,null,null,null,null,null,null,null,null,null,null,null,null,null,null,null,null,null,null,null,{"$f":"IF('CENTRAL ANALYSIS'!$N$32=1,1,0)","v":0}]
[null,null,null,null,null,null,null,"Action Item Description",{"$f":"'AGENCY STRATEGY'!H261","v":""},null,null,null,null,null,null,null,null,null,null,null,null,null,{"$f":"IF('CENTRAL ANALYSIS'!$N$33=1,1,0)","v":0}]
[null,null,null,null,null,null,null,null,null,null,null,null,null,null,null,null,null,null,null,null,null,null,{"$f":"IF('CENTRAL ANALYSIS'!$N$33=1,1,0)","v":0}]
[null,null,null,null,null,null,null,null,null,null,null,null,null,null,null,null,null,null,null,null,null,null,{"$f":"IF('CENTRAL ANALYSIS'!$N$33=1,1,0)","v":0}]
[null,null,null,null,null,null,null,null,null,null,null,null,null,"Action Item Title:",null,null,null,null,null,null,null,null,{"$f":"IF('CENTRAL ANALYSIS'!$N$33=1,1,0)","v":0}]
[null,null,null,null,null,null,null,null,null,null,null,null,null,"Action Item Owner:",null,null,null,null,null,null,null,null,{"$f":"IF('CENTRAL ANALYSIS'!$N$33=1,1,0)","v":0}]
[null,null,null,null,null,null,null,null,null,null,null,null,null,"Expected Start Date:",null,null,null,null,null,null,null,null,{"$f":"IF('CENTRAL ANALYSIS'!$N$33=1,1,0)","v":0}]
[null,null,null,null,null,null,null,null,null,null,null,null,null,"Expected Completion Date:",null,null,null,null,null,null,null,null,{"$f":"IF('CENTRAL ANALYSIS'!$N$33=1,1,0)","v":0}]
[null,null,null,null,null,null,null,null,null,null,null,null,null,"Assign Color (optional):",null,null,null,null,null,null,null,null,{"$f":"IF('CENTRAL ANALYSIS'!$N$33=1,1,0)","v":0}]
[null,null,null,null,null,null,null,null,null,null,null,null,null,null,null,null,null,null,null,null,null,null,{"$f":"IF('CENTRAL ANALYSIS'!$N$33=1,1,0)","v":0}]
[null,null,null,null,null,"Objective 5 Progress Updates (Up to 20 Updates)",null,null,null,null,null,null,null,null,null,null,null,null,null,null,null,null,{"$f":"IF('CENTRAL ANALYSIS'!$N$28=1,1,0)","v":0}]
[null,null,null,null,null,null,null,null,null,null,null,null,null,null,null,null,null,null,null,null,null,null,{"$f":"IF('CENTRAL ANALYSIS'!$N$28=1,1,0)","v":0}]
[null,null,null,null,null,null,null,null,null,null,null,null,null,null,null,null,null,null,null,null,null,null,{"$f":"IF('CENTRAL ANALYSIS'!$N$28=1,1,0)","v":0}]
[null,null,null,null,null,null,null,null,null,null,null,null,null,"Select Action Item:",null,null,null,null,null,null,null,null,{"$f":"IF('CENTRAL ANALYSIS'!$N$134>=1,1,0)","v":0}]
[null,null,null,null,null,null,null,null,null,null,null,null,null,"Date of Update:",null,null,null,null,null,null,null,null,{"$f":"IF('CENTRAL ANALYSIS'!$N$134>=1,1,0)","v":0}]
[null,null,null,null,null,null,null,null,null,null,null,null,null,"Milestone Completion Percent:",null,null,null,null,null,null,null,null,{"$f":"IF('CENTRAL ANALYSIS'!$N$134>=1,1,0)","v":0}]
[null,null,null,null,null,null,null,"Update Details:",null,null,null,null,null,null,null,null,null,null,null,null,null,null,{"$f":"IF('CENTRAL ANALYSIS'!$N$134>=1,1,0)","v":0}]
[null,null,null,null,null,null,null,null,null,null,null,null,null,null,null,null,null,null,null,null,null,null,{"$f":"IF('CENTRAL ANALYSIS'!$N$134>=1,1,0)","v":0}]
[null,null,null,null,null,null,null,null,null,null,null,null,null,null,null,null,null,null,null,null,null,null,{"$f":"IF('CENTRAL ANALYSIS'!$N$134>=1,1,0)","v":0}]
[null,null,null,null,null,null,null,null,null,null,null,null,null,null,null,null,null,null,null,null,null,null,{"$f":"IF('CENTRAL ANALYSIS'!$N$134>=1,1,0)","v":0}]
[null,null,null,null,null,null,null,null,null,null,null,null,null,"Select Action Item:",null,null,null,null,null,null,null,null,{"$f":"IF('CENTRAL ANALYSIS'!$N$134>=2,1,0)","v":0}]
[null,null,null,null,null,null,null,null,null,null,null,null,null,"Date of Update:",null,null,null,null,null,null,null,null,{"$f":"IF('CENTRAL ANALYSIS'!$N$134>=2,1,0)","v":0}]
[null,null,null,null,null,null,null,null,null,null,null,null,null,"Milestone Completion Percent:",null,null,null,null,null,null,null,null,{"$f":"IF('CENTRAL ANALYSIS'!$N$134>=2,1,0)","v":0}]
[null,null,null,null,null,null,null,"Update Details:",null,null,null,null,null,null,null,null,null,null,null,null,null,null,{"$f":"IF('CENTRAL ANALYSIS'!$N$134>=2,1,0)","v":0}]
[null,null,null,null,null,null,null,null,null,null,null,null,null,null,null,null,null,null,null,null,null,null,{"$f":"IF('CENTRAL ANALYSIS'!$N$134>=2,1,0)","v":0}]
[null,null,null,null,null,null,null,null,null,null,null,null,null,null,null,null,null,null,null,null,null,null,{"$f":"IF('CENTRAL ANALYSIS'!$N$134>=2,1,0)","v":0}]
[null,null,null,null,null,null,null,null,null,null,null,null,null,null,null,null,null,null,null,null,null,null,{"$f":"IF('CENTRAL ANALYSIS'!$N$134>=2,1,0)","v":0}]
[null,null,null,null,null,null,null,null,null,null,null,null,null,"Select Action Item:",null,null,null,null,null,null,null,null,{"$f":"IF('CENTRAL ANALYSIS'!$N$134>=3,1,0)","v":0}]
[null,null,null,null,null,null,null,null,null,null,null,null,null,"Date of Update:",null,null,null,null,null,null,null,null,{"$f":"IF('CENTRAL ANALYSIS'!$N$134>=3,1,0)","v":0}]
[null,null,null,null,null,null,null,null,null,null,null,null,null,"Milestone Completion Percent:",null,null,null,null,null,null,null,null,{"$f":"IF('CENTRAL ANALYSIS'!$N$134>=3,1,0)","v":0}]
[null,null,null,null,null,null,null,"Update Details:",null,null,null,null,null,null,null,null,null,null,null,null,null,null,{"$f":"IF('CENTRAL ANALYSIS'!$N$134>=3,1,0)","v":0}]
[null,null,null,null,null,null,null,null,null,null,null,null,null,null,null,null,null,null,null,null,null,null,{"$f":"IF('CENTRAL ANALYSIS'!$N$134>=3,1,0)","v":0}]
[null,null,null,null,null,null,null,null,null,null,null,null,null,null,null,null,null,null,null,null,null,null,{"$f":"IF('CENTRAL ANALYSIS'!$N$134>=3,1,0)","v":0}]
[null,null,null,null,null,null,null,null,null,null,null,null,null,null,null,null,null,null,null,null,null,null,{"$f":"IF('CENTRAL ANALYSIS'!$N$134>=3,1,0)","v":0}]
[null,null,null,null,null,null,null,null,null,null,null,null,null,"Select Action Item:",null,null,null,null,null,null,null,null,{"$f":"IF('CENTRAL ANALYSIS'!$N$134>=4,1,0)","v":0}]
[null,null,null,null,null,null,null,null,null,null,null,null,null,"Date of Update:",null,null,null,null,null,null,null,null,{"$f":"IF('CENTRAL ANALYSIS'!$N$134>=4,1,0)","v":0}]
[null,null,null,null,null,null,null,null,null,null,null,null,null,"Milestone Completion Percent:",null,null,null,null,null,null,null,null,{"$f":"IF('CENTRAL ANALYSIS'!$N$134>=4,1,0)","v":0}]
[null,null,null,null,null,null,null,"Update Details:",null,null,null,null,null,null,null,null,null,null,null,null,null,null,{"$f":"IF('CENTRAL ANALYSIS'!$N$134>=4,1,0)","v":0}]
[null,null,null,null,null,null,null,null,null,null,null,null,null,null,null,null,null,null,null,null,null,null,{"$f":"IF('CENTRAL ANALYSIS'!$N$134>=4,1,0)","v":0}]
[null,null,null,null,null,null,null,null,null,null,null,null,null,null,null,null,null,null,null,null,null,null,{"$f":"IF('CENTRAL ANALYSIS'!$N$134>=4,1,0)","v":0}]
[null,null,null,null,null,null,null,null,null,null,null,null,null,null,null,null,null,null,null,null,null,null,{"$f":"IF('CENTRAL ANALYSIS'!$N$134>=4,1,0)","v":0}]
[null,null,null,null,null,null,null,null,null,null,null,null,null,"Select Action Item:",null,null,null,null,null,null,null,null,{"$f":"IF('CENTRAL ANALYSIS'!$N$134>=5,1,0)","v":0}]
[null,null,null,null,null,null,null,null,null,null,null,null,null,"Date of Update:",null,null,null,null,null,null,null,null,{"$f":"IF('CENTRAL ANALYSIS'!$N$134>=5,1,0)","v":0}]
[null,null,null,null,null,null,null,null,null,null,null,null,null,"Milestone Completion Percent:",null,null,null,null,null,null,null,null,{"$f":"IF('CENTRAL ANALYSIS'!$N$134>=5,1,0)","v":0}]
[null,null,null,null,null,null,null,"Update Details:",null,null,null,null,null,null,null,null,null,null,null,null,null,null,{"$f":"IF('CENTRAL ANALYSIS'!$N$134>=5,1,0)","v":0}]
[null,null,null,null,null,null,null,null,null,null,null,null,null,null,null,null,null,null,null,null,null,null,{"$f":"IF('CENTRAL ANALYSIS'!$N$134>=5,1,0)","v":0}]
[null,null,null,null,null,null,null,null,null,null,null,null,null,null,null,null,null,null,null,null,null,null,{"$f":"IF('CENTRAL ANALYSIS'!$N$134>=5,1,0)","v":0}]
[null,null,null,null,null,null,null,null,null,null,null,null,null,null,null,null,null,null,null,null,null,null,{"$f":"IF('CENTRAL ANALYSIS'!$N$134>=5,1,0)","v":0}]
[null,null,null,null,null,null,null,null,null,null,null,null,null,"Select Action Item:",null,null,null,null,null,null,null,null,{"$f":"IF('CENTRAL ANALYSIS'!$N$134>=6,1,0)","v":0}]
[null,null,null,null,null,null,null,null,null,null,null,null,null,"Date of Update:",null,null,null,null,null,null,null,null,{"$f":"IF('CENTRAL ANALYSIS'!$N$134>=6,1,0)","v":0}]
[null,null,null,null,null,null,null,null,null,null,null,null,null,"Milestone Completion Percent:",null,null,null,null,null,null,null,null,{"$f":"IF('CENTRAL ANALYSIS'!$N$134>=6,1,0)","v":0}]
[null,null,null,null,null,null,null,"Update Details:",null,null,null,null,null,null,null,null,null,null,null,null,null,null,{"$f":"IF('CENTRAL ANALYSIS'!$N$134>=6,1,0)","v":0}]
[null,null,null,null,null,null,null,null,null,null,null,null,null,null,null,null,null,null,null,null,null,null,{"$f":"IF('CENTRAL ANALYSIS'!$N$134>=6,1,0)","v":0}]
[null,null,null,null,null,null,null,null,null,null,null,null,null,null,null,null,null,null,null,null,null,null,{"$f":"IF('CENTRAL ANALYSIS'!$N$134>=6,1,0)","v":0}]
[null,null,null,null,null,null,null,null,null,null,null,null,null,null,null,null,null,null,null,null,null,null,{"$f":"IF('CENTRAL ANALYSIS'!$N$134>=6,1,0)","v":0}]
[null,null,null,null,null,null,null,null,null,null,null,null,null,"Select Action Item:",null,null,null,null,null,null,null,null,{"$f":"IF('CENTRAL ANALYSIS'!$N$134>=7,1,0)","v":0}]
[null,null,null,null,null,null,null,null,null,null,null,null,null,"Date of Update:",null,null,null,null,null,null,null,null,{"$f":"IF('CENTRAL ANALYSIS'!$N$134>=7,1,0)","v":0}]
[null,null,null,null,null,null,null,null,null,null,null,null,null,"Milestone Completion Percent:",null,null,null,null,null,null,null,null,{"$f":"IF('CENTRAL ANALYSIS'!$N$134>=7,1,0)","v":0}]
[null,null,null,null,null,null,null,"Update Details:",null,null,null,null,null,null,null,null,null,null,null,null,null,null,{"$f":"IF('CENTRAL ANALYSIS'!$N$134>=7,1,0)","v":0}]
[null,null,null,null,null,null,null,null,null,null,null,null,null,null,null,null,null,null,null,null,null,null,{"$f":"IF('CENTRAL ANALYSIS'!$N$134>=7,1,0)","v":0}]
[null,null,null,null,null,null,null,null,null,null,null,null,null,null,null,null,null,null,null,null,null,null,{"$f":"IF('CENTRAL ANALYSIS'!$N$134>=7,1,0)","v":0}]
[null,null,null,null,null,null,null,null,null,null,null,null,null,null,null,null,null,null,null,null,null,null,{"$f":"IF('CENTRAL ANALYSIS'!$N$134>=7,1,0)","v":0}]
[null,null,null,null,null,null,null,null,null,null,null,null,null,"Select Action Item:",null,null,null,null,null,null,null,null,{"$f":"IF('CENTRAL ANALYSIS'!$N$134>=8,1,0)","v":0}]
[null,null,null,null,null,null,null,null,null,null,null,null,null,"Date of Update:",null,null,null,null,null,null,null,null,{"$f":"IF('CENTRAL ANALYSIS'!$N$134>=8,1,0)","v":0}]
[null,null,null,null,null,null,null,null,null,null,null,null,null,"Milestone Completion Percent:",null,null,null,null,null,null,null,null,{"$f":"IF('CENTRAL ANALYSIS'!$N$134>=8,1,0)","v":0}]
[null,null,null,null,null,null,null,"Update Details:",null,null,null,null,null,null,null,null,null,null,null,null,null,null,{"$f":"IF('CENTRAL ANALYSIS'!$N$134>=8,1,0)","v":0}]
[null,null,null,null,null,null,null,null,null,null,null,null,null,null,null,null,null,null,null,null,null,null,{"$f":"IF('CENTRAL ANALYSIS'!$N$134>=8,1,0)","v":0}]
[null,null,null,null,null,null,null,null,null,null,null,null,null,null,null,null,null,null,null,null,null,null,{"$f":"IF('CENTRAL ANALYSIS'!$N$134>=8,1,0)","v":0}]
[null,null,null,null,null,null,null,null,null,null,null,null,null,null,null,null,null,null,null,null,null,null,{"$f":"IF('CENTRAL ANALYSIS'!$N$134>=8,1,0)","v":0}]
[null,null,null,null,null,null,null,null,null,null,null,null,null,"Select Action Item:",null,null,null,null,null,null,null,null,{"$f":"IF('CENTRAL ANALYSIS'!$N$134>=9,1,0)","v":0}]
[null,null,null,null,null,null,null,null,null,null,null,null,null,"Date of Update:",null,null,null,null,null,null,null,null,{"$f":"IF('CENTRAL ANALYSIS'!$N$134>=9,1,0)","v":0}]
[null,null,null,null,null,null,null,null,null,null,null,null,null,"Milestone Completion Percent:",null,null,null,null,null,null,null,null,{"$f":"IF('CENTRAL ANALYSIS'!$N$134>=9,1,0)","v":0}]
[null,null,null,null,null,null,null,"Update Details:",null,null,null,null,null,null,null,null,null,null,null,null,null,null,{"$f":"IF('CENTRAL ANALYSIS'!$N$134>=9,1,0)","v":0}]
[null,null,null,null,null,null,null,null,null,null,null,null,null,null,null,null,null,null,null,null,null,null,{"$f":"IF('CENTRAL ANALYSIS'!$N$134>=9,1,0)","v":0}]
[null,null,null,null,null,null,null,null,null,null,null,null,null,null,null,null,null,null,null,null,null,null,{"$f":"IF('CENTRAL ANALYSIS'!$N$134>=9,1,0)","v":0}]
[null,null,null,null,null,null,null,null,null,null,null,null,null,null,null,null,null,null,null,null,null,null,{"$f":"IF('CENTRAL ANALYSIS'!$N$134>=9,1,0)","v":0}]
[null,null,null,null,null,null,null,null,null,null,null,null,null,"Select Action Item:",null,null,null,null,null,null,null,null,{"$f":"IF('CENTRAL ANALYSIS'!$N$134>=10,1,0)","v":0}]
[null,null,null,null,null,null,null,null,null,null,null,null,null,"Date of Update:",null,null,null,null,null,null,null,null,{"$f":"IF('CENTRAL ANALYSIS'!$N$134>=10,1,0)","v":0}]
[null,null,null,null,null,null,null,null,null,null,null,null,null,"Milestone Completion Percent:",null,null,null,null,null,null,null,null,{"$f":"IF('CENTRAL ANALYSIS'!$N$134>=10,1,0)","v":0}]
[null,null,null,null,null,null,null,"Update Details:",null,null,null,null,null,null,null,null,null,null,null,null,null,null,{"$f":"IF('CENTRAL ANALYSIS'!$N$134>=10,1,0)","v":0}]
[null,null,null,null,null,null,null,null,null,null,null,null,null,null,null,null,null,null,null,null,null,null,{"$f":"IF('CENTRAL ANALYSIS'!$N$134>=10,1,0)","v":0}]
[null,null,null,null,null,null,null,null,null,null,null,null,null,null,null,null,null,null,null,null,null,null,{"$f":"IF('CENTRAL ANALYSIS'!$N$134>=10,1,0)","v":0}]
[null,null,null,null,null,null,null,null,null,null,null,null,null,null,null,null,null,null,null,null,null,null,{"$f":"IF('CENTRAL ANALYSIS'!$N$134>=10,1,0)","v":0}]
[null,null,null,null,null,null,null,null,null,null,null,null,null,"Select Action Item:",null,null,null,null,null,null,null,null,{"$f":"IF('CENTRAL ANALYSIS'!$N$134>=11,1,0)","v":0}]
[null,null,null,null,null,null,null,null,null,null,null,null,null,"Date of Update:",null,null,null,null,null,null,null,null,{"$f":"IF('CENTRAL ANALYSIS'!$N$134>=11,1,0)","v":0}]
[null,null,null,null,null,null,null,null,null,null,null,null,null,"Milestone Completion Percent:",null,null,null,null,null,null,null,null,{"$f":"IF('CENTRAL ANALYSIS'!$N$134>=11,1,0)","v":0}]
[null,null,null,null,null,null,null,"Update Details:",null,null,null,null,null,null,null,null,null,null,null,null,null,null,{"$f":"IF('CENTRAL ANALYSIS'!$N$134>=11,1,0)","v":0}]
[null,null,null,null,null,null,null,null,null,null,null,null,null,null,null,null,null,null,null,null,null,null,{"$f":"IF('CENTRAL ANALYSIS'!$N$134>=11,1,0)","v":0}]
[null,null,null,null,null,null,null,null,null,null,null,null,null,null,null,null,null,null,null,null,null,null,{"$f":"IF('CENTRAL ANALYSIS'!$N$134>=11,1,0)","v":0}]
[null,null,null,null,null,null,null,null,null,null,null,null,null,null,null,null,null,null,null,null,null,null,{"$f":"IF('CENTRAL ANALYSIS'!$N$134>=11,1,0)","v":0}]
[null,null,null,null,null,null,null,null,null,null,null,null,null,"Select Action Item:",null,null,null,null,null,null,null,null,{"$f":"IF('CENTRAL ANALYSIS'!$N$134>=12,1,0)","v":0}]
[null,null,null,null,null,null,null,null,null,null,null,null,null,"Date of Update:",null,null,null,null,null,null,null,null,{"$f":"IF('CENTRAL ANALYSIS'!$N$134>=12,1,0)","v":0}]
[null,null,null,null,null,null,null,null,null,null,null,null,null,"Milestone Completion Percent:",null,null,null,null,null,null,null,null,{"$f":"IF('CENTRAL ANALYSIS'!$N$134>=12,1,0)","v":0}]
[null,null,null,null,null,null,null,"Update Details:",null,null,null,null,null,null,null,null,null,null,null,null,null,null,{"$f":"IF('CENTRAL ANALYSIS'!$N$134>=12,1,0)","v":0}]
[null,null,null,null,null,null,null,null,null,null,null,null,null,null,null,null,null,null,null,null,null,null,{"$f":"IF('CENTRAL ANALYSIS'!$N$134>=12,1,0)","v":0}]
[null,null,null,null,null,null,null,null,null,null,null,null,null,null,null,null,null,null,null,null,null,null,{"$f":"IF('CENTRAL ANALYSIS'!$N$134>=12,1,0)","v":0}]
[null,null,null,null,null,null,null,null,null,null,null,null,null,null,null,null,null,null,null,null,null,null,{"$f":"IF('CENTRAL ANALYSIS'!$N$134>=12,1,0)","v":0}]
[null,null,null,null,null,null,null,null,null,null,null,null,null,"Select Action Item:",null,null,null,null,null,null,null,null,{"$f":"IF('CENTRAL ANALYSIS'!$N$134>=13,1,0)","v":0}]
[null,null,null,null,null,null,null,null,null,null,null,null,null,"Date of Update:",null,null,null,null,null,null,null,null,{"$f":"IF('CENTRAL ANALYSIS'!$N$134>=13,1,0)","v":0}]
[null,null,null,null,null,null,null,null,null,null,null,null,null,"Milestone Completion Percent:",null,null,null,null,null,null,null,null,{"$f":"IF('CENTRAL ANALYSIS'!$N$134>=13,1,0)","v":0}]
[null,null,null,null,null,null,null,"Update Details:",null,null,null,null,null,null,null,null,null,null,null,null,null,null,{"$f":"IF('CENTRAL ANALYSIS'!$N$134>=13,1,0)","v":0}]
[null,null,null,null,null,null,null,null,null,null,null,null,null,null,null,null,null,null,null,null,null,null,{"$f":"IF('CENTRAL ANALYSIS'!$N$134>=13,1,0)","v":0}]
[null,null,null,null,null,null,null,null,null,null,null,null,null,null,null,null,null,null,null,null,null,null,{"$f":"IF('CENTRAL ANALYSIS'!$N$134>=13,1,0)","v":0}]
[null,null,null,null,null,null,null,null,null,null,null,null,null,null,null,null,null,null,null,null,null,null,{"$f":"IF('CENTRAL ANALYSIS'!$N$134>=13,1,0)","v":0}]
[null,null,null,null,null,null,null,null,null,null,null,null,null,"Select Action Item:",null,null,null,null,null,null,null,null,{"$f":"IF('CENTRAL ANALYSIS'!$N$134>=14,1,0)","v":0}]
[null,null,null,null,null,null,null,null,null,null,null,null,null,"Date of Update:",null,null,null,null,null,null,null,null,{"$f":"IF('CENTRAL ANALYSIS'!$N$134>=14,1,0)","v":0}]
[null,null,null,null,null,null,null,null,null,null,null,null,null,"Milestone Completion Percent:",null,null,null,null,null,null,null,null,{"$f":"IF('CENTRAL ANALYSIS'!$N$134>=14,1,0)","v":0}]
[null,null,null,null,null,null,null,"Update Details:",null,null,null,null,null,null,null,null,null,null,null,null,null,null,{"$f":"IF('CENTRAL ANALYSIS'!$N$134>=14,1,0)","v":0}]
[null,null,null,null,null,null,null,null,null,null,null,null,null,null,null,null,null,null,null,null,null,null,{"$f":"IF('CENTRAL ANALYSIS'!$N$134>=14,1,0)","v":0}]
[null,null,null,null,null,null,null,null,null,null,null,null,null,null,null,null,null,null,null,null,null,null,{"$f":"IF('CENTRAL ANALYSIS'!$N$134>=14,1,0)","v":0}]
[null,null,null,null,null,null,null,null,null,null,null,null,null,null,null,null,null,null,null,null,null,null,{"$f":"IF('CENTRAL ANALYSIS'!$N$134>=14,1,0)","v":0}]
[null,null,null,null,null,null,null,null,null,null,null,null,null,"Select Action Item:",null,null,null,null,null,null,null,null,{"$f":"IF('CENTRAL ANALYSIS'!$N$134>=15,1,0)","v":0}]
[null,null,null,null,null,null,null,null,null,null,null,null,null,"Date of Update:",null,null,null,null,null,null,null,null,{"$f":"IF('CENTRAL ANALYSIS'!$N$134>=15,1,0)","v":0}]
[null,null,null,null,null,null,null,null,null,null,null,null,null,"Milestone Completion Percent:",null,null,null,null,null,null,null,null,{"$f":"IF('CENTRAL ANALYSIS'!$N$134>=15,1,0)","v":0}]
[null,null,null,null,null,null,null,"Update Details:",null,null,null,null,null,null,null,null,null,null,null,null,null,null,{"$f":"IF('CENTRAL ANALYSIS'!$N$134>=15,1,0)","v":0}]
[null,null,null,null,null,null,null,null,null,null,null,null,null,null,null,null,null,null,null,null,null,null,{"$f":"IF('CENTRAL ANALYSIS'!$N$134>=15,1,0)","v":0}]
[null,null,null,null,null,null,null,null,null,null,null,null,null,null,null,null,null,null,null,null,null,null,{"$f":"IF('CENTRAL ANALYSIS'!$N$134>=15,1,0)","v":0}]
[null,null,null,null,null,null,null,null,null,null,null,null,null,null,null,null,null,null,null,null,null,null,{"$f":"IF('CENTRAL ANALYSIS'!$N$134>=15,1,0)","v":0}]
[null,null,null,null,null,null,null,null,null,null,null,null,null,"Select Action Item:",null,null,null,null,null,null,null,null,{"$f":"IF('CENTRAL ANALYSIS'!$N$134>=16,1,0)","v":0}]
[null,null,null,null,null,null,null,null,null,null,null,null,null,"Date of Update:",null,null,null,null,null,null,null,null,{"$f":"IF('CENTRAL ANALYSIS'!$N$134>=16,1,0)","v":0}]
[null,null,null,null,null,null,null,null,null,null,null,null,null,"Milestone Completion Percent:",null,null,null,null,null,null,null,null,{"$f":"IF('CENTRAL ANALYSIS'!$N$134>=16,1,0)","v":0}]
[null,null,null,null,null,null,null,"Update Details:",null,null,null,null,null,null,null,null,null,null,null,null,null,null,{"$f":"IF('CENTRAL ANALYSIS'!$N$134>=16,1,0)","v":0}]
[null,null,null,null,null,null,null,null,null,null,null,null,null,null,null,null,null,null,null,null,null,null,{"$f":"IF('CENTRAL ANALYSIS'!$N$134>=16,1,0)","v":0}]
[null,null,null,null,null,null,null,null,null,null,null,null,null,null,null,null,null,null,null,null,null,null,{"$f":"IF('CENTRAL ANALYSIS'!$N$134>=16,1,0)","v":0}]
[null,null,null,null,null,null,null,null,null,null,null,null,null,null,null,null,null,null,null,null,null,null,{"$f":"IF('CENTRAL ANALYSIS'!$N$134>=16,1,0)","v":0}]
[null,null,null,null,null,null,null,null,null,null,null,null,null,"Select Action Item:",null,null,null,null,null,null,null,null,{"$f":"IF('CENTRAL ANALYSIS'!$N$134>=17,1,0)","v":0}]
[null,null,null,null,null,null,null,null,null,null,null,null,null,"Date of Update:",null,null,null,null,null,null,null,null,{"$f":"IF('CENTRAL ANALYSIS'!$N$134>=17,1,0)","v":0}]
[null,null,null,null,null,null,null,null,null,null,null,null,null,"Milestone Completion Percent:",null,null,null,null,null,null,null,null,{"$f":"IF('CENTRAL ANALYSIS'!$N$134>=17,1,0)","v":0}]
[null,null,null,null,null,null,null,"Update Details:",null,null,null,null,null,null,null,null,null,null,null,null,null,null,{"$f":"IF('CENTRAL ANALYSIS'!$N$134>=17,1,0)","v":0}]
[null,null,null,null,null,null,null,null,null,null,null,null,null,null,null,null,null,null,null,null,null,null,{"$f":"IF('CENTRAL ANALYSIS'!$N$134>=17,1,0)","v":0}]
[null,null,null,null,null,null,null,null,null,null,null,null,null,null,null,null,null,null,null,null,null,null,{"$f":"IF('CENTRAL ANALYSIS'!$N$134>=17,1,0)","v":0}]
[null,null,null,null,null,null,null,null,null,null,null,null,null,null,null,null,null,null,null,null,null,null,{"$f":"IF('CENTRAL ANALYSIS'!$N$134>=17,1,0)","v":0}]
[null,null,null,null,null,null,null,null,null,null,null,null,null,"Select Action Item:",null,null,null,null,null,null,null,null,{"$f":"IF('CENTRAL ANALYSIS'!$N$134>=18,1,0)","v":0}]
[null,null,null,null,null,null,null,null,null,null,null,null,null,"Date of Update:",null,null,null,null,null,null,null,null,{"$f":"IF('CENTRAL ANALYSIS'!$N$134>=18,1,0)","v":0}]
[null,null,null,null,null,null,null,null,null,null,null,null,null,"Milestone Completion Percent:",null,null,null,null,null,null,null,null,{"$f":"IF('CENTRAL ANALYSIS'!$N$134>=18,1,0)","v":0}]
[null,null,null,null,null,null,null,"Update Details:",null,null,null,null,null,null,null,null,null,null,null,null,null,null,{"$f":"IF('CENTRAL ANALYSIS'!$N$134>=18,1,0)","v":0}]
[null,null,null,null,null,null,null,null,null,null,null,null,null,null,null,null,null,null,null,null,null,null,{"$f":"IF('CENTRAL ANALYSIS'!$N$134>=18,1,0)","v":0}]
[null,null,null,null,null,null,null,null,null,null,null,null,null,null,null,null,null,null,null,null,null,null,{"$f":"IF('CENTRAL ANALYSIS'!$N$134>=18,1,0)","v":0}]
[null,null,null,null,null,null,null,null,null,null,null,null,null,null,null,null,null,null,null,null,null,null,{"$f":"IF('CENTRAL ANALYSIS'!$N$134>=18,1,0)","v":0}]
[null,null,null,null,null,null,null,null,null,null,null,null,null,"Select Action Item:",null,null,null,null,null,null,null,null,{"$f":"IF('CENTRAL ANALYSIS'!$N$134>=19,1,0)","v":0}]
[null,null,null,null,null,null,null,null,null,null,null,null,null,"Date of Update:",null,null,null,null,null,null,null,null,{"$f":"IF('CENTRAL ANALYSIS'!$N$134>=19,1,0)","v":0}]
[null,null,null,null,null,null,null,null,null,null,null,null,null,"Milestone Completion Percent:",null,null,null,null,null,null,null,null,{"$f":"IF('CENTRAL ANALYSIS'!$N$134>=19,1,0)","v":0}]
[null,null,null,null,null,null,null,"Update Details:",null,null,null,null,null,null,null,null,null,null,null,null,null,null,{"$f":"IF('CENTRAL ANALYSIS'!$N$134>=19,1,0)","v":0}]
[null,null,null,null,null,null,null,null,null,null,null,null,null,null,null,null,null,null,null,null,null,null,{"$f":"IF('CENTRAL ANALYSIS'!$N$134>=19,1,0)","v":0}]
[null,null,null,null,null,null,null,null,null,null,null,null,null,null,null,null,null,null,null,null,null,null,{"$f":"IF('CENTRAL ANALYSIS'!$N$134>=19,1,0)","v":0}]
[null,null,null,null,null,null,null,null,null,null,null,null,null,null,null,null,null,null,null,null,null,null,{"$f":"IF('CENTRAL ANALYSIS'!$N$134>=19,1,0)","v":0}]
[null,null,null,null,null,null,null,null,null,null,null,null,null,"Select Action Item:",null,null,null,null,null,null,null,null,{"$f":"IF('CENTRAL ANALYSIS'!$N$134>=20,1,0)","v":0}]
[null,null,null,null,null,null,null,null,null,null,null,null,null,"Date of Update:",null,null,null,null,null,null,null,null,{"$f":"IF('CENTRAL ANALYSIS'!$N$134>=20,1,0)","v":0}]
[null,null,null,null,null,null,null,null,null,null,null,null,null,"Milestone Completion Percent:",null,null,null,null,null,null,null,null,{"$f":"IF('CENTRAL ANALYSIS'!$N$134>=20,1,0)","v":0}]
[null,null,null,null,null,null,null,"Update Details:",null,null,null,null,null,null,null,null,null,null,null,null,null,null,{"$f":"IF('CENTRAL ANALYSIS'!$N$134>=20,1,0)","v":0}]
[null,null,null,null,null,null,null,null,null,null,null,null,null,null,null,null,null,null,null,null,null,null,{"$f":"IF('CENTRAL ANALYSIS'!$N$134>=20,1,0)","v":0}]
[null,null,null,null,null,null,null,null,null,null,null,null,null,null,null,null,null,null,null,null,null,null,{"$f":"IF('CENTRAL ANALYSIS'!$N$134>=20,1,0)","v":0}]
[null,null,null,null,null,null,null,null,null,null,null,null,null,null,null,null,null,null,null,null,null,null,{"$f":"IF('CENTRAL ANALYSIS'!$N$134>=20,1,0)","v":0}]
[null,null,null,null,null,null,null,null,null,null,null,null,null,null,null,null,null,null,null,null,null,null,{"$f":"IF('CENTRAL ANALYSIS'!$N$28=1,1,0)","v":0}]
[null,null,null,null,null,"Objective 5 Additional Notes (Up to 10)",null,null,null,null,null,null,null,null,null,null,null,null,null,null,null,null,{"$f":"IF('CENTRAL ANALYSIS'!$N$28=1,1,0)","v":0}]
[null,null,null,null,null,null,null,null,null,null,null,null,null,null,null,null,null,null,null,null,null,null,{"$f":"IF('CENTRAL ANALYSIS'!$N$28=1,1,0)","v":0}]
[null,null,null,null,null,null,null,null,null,null,null,null,null,null,null,null,null,null,null,null,null,null,{"$f":"IF('CENTRAL ANALYSIS'!$N$28=1,1,0)","v":0}]
[null,null,null,null,null,null,null,"Note 1",null,null,null,null,null,null,null,null,null,null,null,null,null,null,{"$f":"IF('CENTRAL ANALYSIS'!$N$135>=1,1,0)","v":0}]
[null,null,null,null,null,null,null,null,null,null,null,null,null,null,null,null,null,null,null,null,null,null,{"$f":"IF('CENTRAL ANALYSIS'!$N$135>=1,1,0)","v":0}]
[null,null,null,null,null,null,null,null,null,null,null,null,null,null,null,null,null,null,null,null,null,null,{"$f":"IF('CENTRAL ANALYSIS'!$N$135>=1,1,0)","v":0}]
[null,null,null,null,null,null,null,null,null,null,null,null,null,null,null,null,null,null,null,null,null,null,{"$f":"IF('CENTRAL ANALYSIS'!$N$135>=1,1,0)","v":0}]
[null,null,null,null,null,null,null,null,null,null,null,null,null,null,null,null,null,null,null,null,null,null,{"$f":"IF('CENTRAL ANALYSIS'!$N$135>=1,1,0)","v":0}]
[null,null,null,null,null,null,null,null,null,null,null,null,null,null,null,null,null,null,null,null,null,null,{"$f":"IF('CENTRAL ANALYSIS'!$N$135>=1,1,0)","v":0}]
[null,null,null,null,null,null,null,"Note 2",null,null,null,null,null,null,null,null,null,null,null,null,null,null,{"$f":"IF('CENTRAL ANALYSIS'!$N$135>=2,1,0)","v":0}]
[null,null,null,null,null,null,null,null,null,null,null,null,null,null,null,null,null,null,null,null,null,null,{"$f":"IF('CENTRAL ANALYSIS'!$N$135>=2,1,0)","v":0}]
[null,null,null,null,null,null,null,null,null,null,null,null,null,null,null,null,null,null,null,null,null,null,{"$f":"IF('CENTRAL ANALYSIS'!$N$135>=2,1,0)","v":0}]
[null,null,null,null,null,null,null,null,null,null,null,null,null,null,null,null,null,null,null,null,null,null,{"$f":"IF('CENTRAL ANALYSIS'!$N$135>=2,1,0)","v":0}]
[null,null,null,null,null,null,null,null,null,null,null,null,null,null,null,null,null,null,null,null,null,null,{"$f":"IF('CENTRAL ANALYSIS'!$N$135>=2,1,0)","v":0}]
[null,null,null,null,null,null,null,null,null,null,null,null,null,null,null,null,null,null,null,null,null,null,{"$f":"IF('CENTRAL ANALYSIS'!$N$135>=2,1,0)","v":0}]
[null,null,null,null,null,null,null,"Note 3",null,null,null,null,null,null,null,null,null,null,null,null,null,null,{"$f":"IF('CENTRAL ANALYSIS'!$N$135>=3,1,0)","v":0}]
[null,null,null,null,null,null,null,null,null,null,null,null,null,null,null,null,null,null,null,null,null,null,{"$f":"IF('CENTRAL ANALYSIS'!$N$135>=3,1,0)","v":0}]
[null,null,null,null,null,null,null,null,null,null,null,null,null,null,null,null,null,null,null,null,null,null,{"$f":"IF('CENTRAL ANALYSIS'!$N$135>=3,1,0)","v":0}]
[null,null,null,null,null,null,null,null,null,null,null,null,null,null,null,null,null,null,null,null,null,null,{"$f":"IF('CENTRAL ANALYSIS'!$N$135>=3,1,0)","v":0}]
[null,null,null,null,null,null,null,null,null,null,null,null,null,null,null,null,null,null,null,null,null,null,{"$f":"IF('CENTRAL ANALYSIS'!$N$135>=3,1,0)","v":0}]
[null,null,null,null,null,null,null,null,null,null,null,null,null,null,null,null,null,null,null,null,null,null,{"$f":"IF('CENTRAL ANALYSIS'!$N$135>=3,1,0)","v":0}]
[null,null,null,null,null,null,null,"Note 4",null,null,null,null,null,null,null,null,null,null,null,null,null,null,{"$f":"IF('CENTRAL ANALYSIS'!$N$135>=4,1,0)","v":0}]
[null,null,null,null,null,null,null,null,null,null,null,null,null,null,null,null,null,null,null,null,null,null,{"$f":"IF('CENTRAL ANALYSIS'!$N$135>=4,1,0)","v":0}]
[null,null,null,null,null,null,null,null,null,null,null,null,null,null,null,null,null,null,null,null,null,null,{"$f":"IF('CENTRAL ANALYSIS'!$N$135>=4,1,0)","v":0}]
[null,null,null,null,null,null,null,null,null,null,null,null,null,null,null,null,null,null,null,null,null,null,{"$f":"IF('CENTRAL ANALYSIS'!$N$135>=4,1,0)","v":0}]
[null,null,null,null,null,null,null,null,null,null,null,null,null,null,null,null,null,null,null,null,null,null,{"$f":"IF('CENTRAL ANALYSIS'!$N$135>=4,1,0)","v":0}]
[null,null,null,null,null,null,null,null,null,null,null,null,null,null,null,null,null,null,null,null,null,null,{"$f":"IF('CENTRAL ANALYSIS'!$N$135>=4,1,0)","v":0}]
[null,null,null,null,null,null,null,"Note 5",null,null,null,null,null,null,null,null,null,null,null,null,null,null,{"$f":"IF('CENTRAL ANALYSIS'!$N$135>=5,1,0)","v":0}]
[null,null,null,null,null,null,null,null,null,null,null,null,null,null,null,null,null,null,null,null,null,null,{"$f":"IF('CENTRAL ANALYSIS'!$N$135>=5,1,0)","v":0}]
[null,null,null,null,null,null,null,null,null,null,null,null,null,null,null,null,null,null,null,null,null,null,{"$f":"IF('CENTRAL ANALYSIS'!$N$135>=5,1,0)","v":0}]
[null,null,null,null,null,null,null,null,null,null,null,null,null,null,null,null,null,null,null,null,null,null,{"$f":"IF('CENTRAL ANALYSIS'!$N$135>=5,1,0)","v":0}]
[null,null,null,null,null,null,null,null,null,null,null,null,null,null,null,null,null,null,null,null,null,null,{"$f":"IF('CENTRAL ANALYSIS'!$N$135>=5,1,0)","v":0}]
[null,null,null,null,null,null,null,null,null,null,null,null,null,null,null,null,null,null,null,null,null,null,{"$f":"IF('CENTRAL ANALYSIS'!$N$135>=5,1,0)","v":0}]
[null,null,null,null,null,null,null,"Note 6",null,null,null,null,null,null,null,null,null,null,null,null,null,null,{"$f":"IF('CENTRAL ANALYSIS'!$N$135>=6,1,0)","v":0}]
[null,null,null,null,null,null,null,null,null,null,null,null,null,null,null,null,null,null,null,null,null,null,{"$f":"IF('CENTRAL ANALYSIS'!$N$135>=6,1,0)","v":0}]
[null,null,null,null,null,null,null,null,null,null,null,null,null,null,null,null,null,null,null,null,null,null,{"$f":"IF('CENTRAL ANALYSIS'!$N$135>=6,1,0)","v":0}]
[null,null,null,null,null,null,null,null,null,null,null,null,null,null,null,null,null,null,null,null,null,null,{"$f":"IF('CENTRAL ANALYSIS'!$N$135>=6,1,0)","v":0}]
[null,null,null,null,null,null,null,null,null,null,null,null,null,null,null,null,null,null,null,null,null,null,{"$f":"IF('CENTRAL ANALYSIS'!$N$135>=6,1,0)","v":0}]
[null,null,null,null,null,null,null,null,null,null,null,null,null,null,null,null,null,null,null,null,null,null,{"$f":"IF('CENTRAL ANALYSIS'!$N$135>=6,1,0)","v":0}]
[null,null,null,null,null,null,null,"Note 7",null,null,null,null,null,null,null,null,null,null,null,null,null,null,{"$f":"IF('CENTRAL ANALYSIS'!$N$135>=7,1,0)","v":0}]
[null,null,null,null,null,null,null,null,null,null,null,null,null,null,null,null,null,null,null,null,null,null,{"$f":"IF('CENTRAL ANALYSIS'!$N$135>=7,1,0)","v":0}]
[null,null,null,null,null,null,null,null,null,null,null,null,null,null,null,null,null,null,null,null,null,null,{"$f":"IF('CENTRAL ANALYSIS'!$N$135>=7,1,0)","v":0}]
[null,null,null,null,null,null,null,null,null,null,null,null,null,null,null,null,null,null,null,null,null,null,{"$f":"IF('CENTRAL ANALYSIS'!$N$135>=7,1,0)","v":0}]
[null,null,null,null,null,null,null,null,null,null,null,null,null,null,null,null,null,null,null,null,null,null,{"$f":"IF('CENTRAL ANALYSIS'!$N$135>=7,1,0)","v":0}]
[null,null,null,null,null,null,null,null,null,null,null,null,null,null,null,null,null,null,null,null,null,null,{"$f":"IF('CENTRAL ANALYSIS'!$N$135>=7,1,0)","v":0}]
[null,null,null,null,null,null,null,"Note 8",null,null,null,null,null,null,null,null,null,null,null,null,null,null,{"$f":"IF('CENTRAL ANALYSIS'!$N$135>=8,1,0)","v":0}]
[null,null,null,null,null,null,null,null,null,null,null,null,null,null,null,null,null,null,null,null,null,null,{"$f":"IF('CENTRAL ANALYSIS'!$N$135>=8,1,0)","v":0}]
[null,null,null,null,null,null,null,null,null,null,null,null,null,null,null,null,null,null,null,null,null,null,{"$f":"IF('CENTRAL ANALYSIS'!$N$135>=8,1,0)","v":0}]
[null,null,null,null,null,null,null,null,null,null,null,null,null,null,null,null,null,null,null,null,null,null,{"$f":"IF('CENTRAL ANALYSIS'!$N$135>=8,1,0)","v":0}]
[null,null,null,null,null,null,null,null,null,null,null,null,null,null,null,null,null,null,null,null,null,null,{"$f":"IF('CENTRAL ANALYSIS'!$N$135>=8,1,0)","v":0}]
[null,null,null,null,null,null,null,null,null,null,null,null,null,null,null,null,null,null,null,null,null,null,{"$f":"IF('CENTRAL ANALYSIS'!$N$135>=8,1,0)","v":0}]
[null,null,null,null,null,null,null,"Note 9",null,null,null,null,null,null,null,null,null,null,null,null,null,null,{"$f":"IF('CENTRAL ANALYSIS'!$N$135>=9,1,0)","v":0}]
[null,null,null,null,null,null,null,null,null,null,null,null,null,null,null,null,null,null,null,null,null,null,{"$f":"IF('CENTRAL ANALYSIS'!$N$135>=9,1,0)","v":0}]
[null,null,null,null,null,null,null,null,null,null,null,null,null,null,null,null,null,null,null,null,null,null,{"$f":"IF('CENTRAL ANALYSIS'!$N$135>=9,1,0)","v":0}]
[null,null,null,null,null,null,null,null,null,null,null,null,null,null,null,null,null,null,null,null,null,null,{"$f":"IF('CENTRAL ANALYSIS'!$N$135>=9,1,0)","v":0}]
[null,null,null,null,null,null,null,null,null,null,null,null,null,null,null,null,null,null,null,null,null,null,{"$f":"IF('CENTRAL ANALYSIS'!$N$135>=9,1,0)","v":0}]
[null,null,null,null,null,null,null,null,null,null,null,null,null,null,null,null,null,null,null,null,null,null,{"$f":"IF('CENTRAL ANALYSIS'!$N$135>=9,1,0)","v":0}]
[null,null,null,null,null,null,null,"Note 10",null,null,null,null,null,null,null,null,null,null,null,null,null,null,{"$f":"IF('CENTRAL ANALYSIS'!$N$135>=10,1,0)","v":0}]
[null,null,null,null,null,null,null,null,null,null,null,null,null,null,null,null,null,null,null,null,null,null,{"$f":"IF('CENTRAL ANALYSIS'!$N$135>=10,1,0)","v":0}]
[null,null,null,null,null,null,null,null,null,null,null,null,null,null,null,null,null,null,null,null,null,null,{"$f":"IF('CENTRAL ANALYSIS'!$N$135>=10,1,0)","v":0}]
[null,null,null,null,null,null,null,null,null,null,null,null,null,null,null,null,null,null,null,null,null,null,{"$f":"IF('CENTRAL ANALYSIS'!$N$135>=10,1,0)","v":0}]
[null,null,null,null,null,null,null,null,null,null,null,null,null,null,null,null,null,null,null,null,null,null,{"$f":"IF('CENTRAL ANALYSIS'!$N$135>=10,1,0)","v":0}]
[null,null,null,null,null,null,null,null,null,null,null,null,null,null,null,null,null,null,null,null,null,null,{"$f":"IF('CENTRAL ANALYSIS'!$N$135>=10,1,0)","v":0}]
[null,null,null,null,null,null,null,null,null,null,null,null,null,null,null,null,null,null,null,null,null,null,1]
[null,null,"(Optional) Step 1(a): Enter Agency Strategic Initiatives & Information if not using Macros",null,null,null,null,null,null,null,null,null,null,null,null,null,null,null,null,null,null,null,1]
[null,null,null,null,null,null,null,null,null,null,null,null,null,null,null,null,null,null,null,null,null,null,1]
[null,null,"If chosen not to use Macros, please indicate the number of updates and notes to be added for each of the objectives. The worksheet will then need to be filtered manually by going to cell \"W1\" and clicking the Filter Icon. This will display a menu where the checkbox next to \"0\" should be empty. If it is, click the \"OK\" button to display the objective and action item entry cells above. Enter the information for each area in the cells above.",null,null,null,null,null,null,null,null,null,null,null,null,null,null,null,null,null,null,null,1]
[null,null,null,null,null,null,null,null,null,null,null,null,null,null,null,null,null,null,null,null,null,null,1]
[null,null,null,null,null,null,null,null,null,null,null,null,null,null,null,null,null,null,null,null,null,null,1]
[null,null,null,null,null,null,null,null,null,null,null,null,null,null,null,null,null,null,null,null,null,null,1]
[null,null,null,null,null,null,null,null,null,null,null,null,null,null,null,"Updates","Notes",null,null,null,null,null,1]
[null,null,null,null,null,null,null,null,null,null,null,null,null,null,"Objective 1",null,null,null,null,null,null,null,1]
[null,null,null,null,null,null,null,null,null,null,null,null,null,null,"Objective 2",null,null,null,null,null,null,null,1]
[null,null,null,null,null,null,null,null,null,null,null,null,null,null,"Objective 3",null,null,null,null,null,null,null,1]
[null,null,null,null,null,null,null,null,null,null,null,null,null,null,"Objective 4",null,null,null,null,null,null,null,1]
[null,null,null,null,null,null,null,null,null,null,null,null,null,null,"Objective 5",null,null,null,null,null,null,null,1]
[null,null,null,null,null,null,null,null,null,null,null,null,null,null,null,null,null,null,null,null,null,null,1]
[null,null,null,null,null,null,null,null,null,null,null,null,null,null,null,null,null,null,null,null,null,null,1]
[null,null,null,null,null,null,null,null,null,null,null,null,null,null,null,null,null,null,null,null,null,null,0]

{"sheet":"CENTRAL DATA","index":12,"n_rows":142,"n_cols":15,"rows_kept":142,"cut":false,"hidden":true,"merged":[[4,1,6,14],[7,1,8,14],[28,5,28,6]]}
[]
[]
[]
[]
[null,"CENTRAL DATA"]
[]
[]
[null,"This tab serves as a central place for all data for drop down lists or look up formulas within this template."]
[]
[]
["Agency Names","Secretary","Agency Number","Required",null,"Yes/No",null,"Fiscal Years",null,"Home Tab Pictures",null,null,"FY Date",null,"Visibility"]
["Assistive Technology Loan Fund Authority","Health and Human Resources",null,null,null,"Yes",null,{"$f":"CONCATENATE(\"FY\",RIGHT('DHRM ADMIN'!O14,2)-2)","v":"FY-2"},null,"LOCKED",null,null,"Fiscal Year WFP",null,"Enabled"]
["Blue Ridge Community College","Higher Education",291,"Yes",null,"No",null,{"$f":"CONCATENATE(\"FY\",RIGHT('DHRM ADMIN'!O14,2)-1)","v":"FY-1"},null,"UNLOCKED",null,null,"Snapshot",null,"Hidden"]
["Board of Accountancy","Finance",226,"Yes",null,null,null,{"$f":"CONCATENATE(\"FY\",RIGHT(YEAR('DHRM ADMIN'!O15),2))","v":"FY00"}]
["Brightpoint Community College","Higher Education",290,"Yes",null,"Agency Top Priority",null,{"$f":"CONCATENATE(\"FY\",RIGHT(YEAR('DHRM ADMIN'!O16),2))","v":"FY00"},null,"Agency Strategy Changes",null,null,"Metric Colors",null,"Metric Colors"]
["Center for Innovative Technology","Independent",null,null,null,"No",null,{"$f":"CONCATENATE(\"FY\",RIGHT(YEAR('DHRM ADMIN'!O17),2))","v":"FY01"},null,"◄MODIFIED►",null,null,"Blue",null,"Purple"]
["Central Virginia Community College","Higher Education",292,"Yes",null,"Yes, #1",null,{"$f":"CONCATENATE(\"FY\",RIGHT(YEAR('DHRM ADMIN'!O18),2))","v":"FY02"},null,"◄NEW►",null,null,"Yellow",null,"Red"]
["Christopher Newport University","Higher Education",242,"Yes",null,"Yes, #2",null,{"$f":"CONCATENATE(\"FY\",RIGHT(YEAR('DHRM ADMIN'!O19),2))","v":"FY03"},null,null,null,null,"Red",null,"Yellow"]
["Commonwealth's Attorneys' Services Council","Public Safety and Homeland Security",null,null,null,"Yes, #3",null,{"$f":"CONCATENATE(\"FY\",RIGHT(YEAR('DHRM ADMIN'!O20),2))","v":"FY04"},null,null,null,null,"Purple",null,"Green"]
["Compensation Board","Administration",157,"Yes",null,null,null,null,null,null,null,null,"Orange"]
["Danville Community College ","Higher Education",279,"Yes",null,"Implementation Objectives",null,null,null,null,null,null,"Dark Blue"]
["Department for Aging and Rehabilitative Services","Health and Human Resources",262,"Yes",null,"Actions OBJ1","Actions OBJ2","Actions OBJ3","Actions OBJ4","Actions OBJ5",null,null,"Dark Green"]
["Department for the Blind and Vision Impaired","Health and Human Resources",702,"Yes",null,{"$f":"'IMPLEMENTATION NOTES'!D27","v":""},{"$f":"'IMPLEMENTATION NOTES'!D33","v":""},{"$f":"'IMPLEMENTATION NOTES'!D39","v":""},{"$f":"'IMPLEMENTATION NOTES'!D45","v":""},{"$f":"'IMPLEMENTATION NOTES'!D51","v":""},null,null,"Dark Orange"]
["Department for the Deaf and Hard of Hearing","Health and Human Resources",751,"Yes",null,{"$f":"'IMPLEMENTATION NOTES'!D28","v":""},{"$f":"'IMPLEMENTATION NOTES'!D34","v":""},{"$f":"'IMPLEMENTATION NOTES'!D40","v":""},{"$f":"'IMPLEMENTATION NOTES'!D46","v":""},{"$f":"'IMPLEMENTATION NOTES'!D52","v":""},null,null,"Dark Red"]
["Department of Accounts","Finance",151,"Yes",null,{"$f":"'IMPLEMENTATION NOTES'!D29","v":""},{"$f":"'IMPLEMENTATION NOTES'!D35","v":""},{"$f":"'IMPLEMENTATION NOTES'!D41","v":""},{"$f":"'IMPLEMENTATION NOTES'!D47","v":""},{"$f":"'IMPLEMENTATION NOTES'!D53","v":""},null,null,"Light Blue"]
["Department of Aviation","Transportation",841,"Yes",null,{"$f":"'IMPLEMENTATION NOTES'!D30","v":""},{"$f":"'IMPLEMENTATION NOTES'!D36","v":""},{"$f":"'IMPLEMENTATION NOTES'!D42","v":""},{"$f":"'IMPLEMENTATION NOTES'!D48","v":""},{"$f":"'IMPLEMENTATION NOTES'!D54","v":""},null,null,"Light Yellow"]
["Department of Behavioral Health and Developmental Services","Health and Human Resources",720,"Yes",null,{"$f":"'IMPLEMENTATION NOTES'!D31","v":""},{"$f":"'IMPLEMENTATION NOTES'!D37","v":""},{"$f":"'IMPLEMENTATION NOTES'!D43","v":""},{"$f":"'IMPLEMENTATION NOTES'!D49","v":""},{"$f":"'IMPLEMENTATION NOTES'!D55","v":""}]
["Department of Corrections","Public Safety and Homeland Security",701,"Yes"]
["Department of Criminal Justice Services","Public Safety and Homeland Security",140,"Yes",null,"Month Names",null,null,"Recognition",null,"Internal/External Dev.",null,"Delivery Method Development"]
["Department of Education","Education",201,"Yes",null,1,"January",null,"Tangible Award",null,"Internal",null,"In-Person"]
["Department of Elections","Administration",132,"Yes",null,2,"February",null,"Certificate",null,"External",null,"Online/E-Course"]
["Department of Emergency Management","Public Safety and Homeland Security",127,"Yes",null,3,"March",null,"Bonus",null,null,null,"Hybrid"]
["Department of Energy","Commerce and Trade",409,"Yes",null,4,"April",null,"Recognition Leave"]
["Department of Environmental Quality","Natural Resources",440,"Yes",null,5,"May",null,"Service Award"]
["Department of Forensic Science","Public Safety and Homeland Security",778,"Yes",null,6,"June",null,"Other"]
["Department of Forestry","Agriculture and Forestry",411,"Yes",null,7,"July"]
["Department of General Services","Administration",194,"Yes",null,8,"August"]
["Department of Health Professions","Health and Human Resources",223,"Yes",null,9,"September"]
["Department of Historic Resources","Natural Resources",423,"Yes",null,10,"October"]
["Department of Housing & Community Development","Commerce and Trade",165,"Yes",null,11,"November"]
["Department of Human Resources Management","Administration",129,"Yes",null,12,"December"]
["Department of Juvenile Justice","Public Safety and Homeland Security",777,"Yes"]
["Department of Labor and Industry","Commerce and Trade",181,"Yes"]
["Department of Medical Assistance Services","Health and Human Resources",602,"Yes"]
["Department of Military Affairs","Veterans and Defense Affairs",123,"Yes"]
["Department of Motor Vehicles","Transportation",154,"Yes"]
["Department of Planning and Budget","Finance",122,"Yes"]
["Department of Professional and Occupational Regulation","Commerce and Trade",222,"Yes"]
["Department of Rail and Public Transportation","Transportation",505,"Yes"]
["Department of Small Business and Supplier Diversity","Commerce and Trade",350,"Yes"]
["Department of Social Services","Health and Human Resources",765,"Yes"]
["Department of State Police","Public Safety and Homeland Security",156,"Yes"]
["Department of Taxation","Finance",161,"Yes"]
["Department of the Treasury","Finance",152,"Yes"]
["Department of Transportation","Transportation",501,"Yes"]
["Department of Veterans Services","Veterans and Defense Affairs",912,"Yes"]
["Department of Wildlife Resources","Natural Resources",403,"Yes"]
["Department of Workforce Development and Advancement","Labor",327,"Yes"]
["Eastern Shore Community College","Higher Education",284,"Yes"]
["Foundation for Healthy Youth","Health and Human Resources",852,"Yes"]
["Frontier Culture Museum of Virginia","Education",239,"Yes"]
["George Mason University","Higher Education",247,"Yes"]
["Germanna Community College","Higher Education",297,"Yes"]
["Gunston Hall","Education",417,"Yes"]
["J. Sargeant Reynolds Community College","Higher Education",283,"Yes"]
["James Madison University","Higher Education",216,"Yes"]
["Jamestown-Yorktown Foundation","Education",425,"Yes"]
["Jones and Cabacoy Veterans Care Center ","Veterans and Defense Affairs",903,"Yes"]
["Laurel Ridge Community College","Higher Education",298,"Yes"]
["Library of Virginia","Education",202,"Yes"]
["Longwood University","Higher Education",214,"Yes"]
["Marine Resources Commission","Natural Resources",402,"Yes"]
["Motor Vehicle Dealer Board","Transportation",506,"Yes"]
["Mountain Empire Community College","Higher Education",299,"Yes"]
["Mountain Gateway Community College","Higher Education",287,"Yes"]
["New College Institute","Higher Education",938,"Yes"]
["New River Community College","Higher Education",275,"Yes"]
["Norfolk State University","Higher Education",213,"Yes"]
["Northern Virginia Community College","Higher Education",280,"Yes"]
["Northern Virginia Mental Health Institute","Health and Human Resources"]
["Office of the State Inspector General","Independent",147,"Yes"]
["Old Dominion University","Higher Education",221,"Yes"]
["Patrick & Henry Community College","Higher Education",285,"Yes"]
["Paul D. Camp Community College","Higher Education",277,"Yes"]
["Piedmont Virginia Community College","Higher Education",282,"Yes"]
["Puller Veterans Care Center","Veterans and Defense Affairs",902,"Yes"]
["Radford University","Higher Education",217,"Yes"]
["Rappahannock Community College","Higher Education",278,"Yes"]
["Richard Bland College","Higher Education",241,"Yes"]
["Sitter and Barfoot Veterans Care Center","Veterans and Defense Affairs",922,"Yes"]
["Southern Virginia Higher Education Center","Higher Education",937,"Yes"]
["Southside Virginia Community College","Higher Education",276,"Yes"]
["Southwest Virginia Community College","Higher Education",294,"Yes"]
["Southwest Virginia Higher Education Center","Higher Education",948,"Yes"]
["State Corporation Commission","Independent",171,"Yes"]
["State Council for Higher Education for Virginia","Education",245,"Yes"]
["The College of William and Mary","Higher Education",204,"Yes"]
["The Science Museum of Virginia","Education",146,"Yes"]
["Tidewater Community College","Higher Education",295,"Yes"]
["University of Mary Washington","Higher Education",215,"Yes"]
["University of Virginia","Higher Education",207,"Yes"]
["University of Virginia at Wise","Higher Education",246,"Yes"]
["University of Virginia Medical Center","Higher Education",209,"Yes"]
["VCCS Shared Services Center","Higher Education",270,"Yes"]
["VCCS System Office","Higher Education",270,"Yes"]
["Virginia Alcoholic Beverage Control","Independent",999,"Yes"]
["Virginia Board for People with Disabilities","Health and Human Resources",606,"Yes"]
["Virginia Commercial Space Flight Authority","Transportation"]
["Virginia Commission for the Arts","Education",148,"Yes"]
["Virginia Commonwealth University","Higher Education",236,"Yes"]
["Virginia Commonwealth University Health Systems Authority","Independent"]
["Virginia Community College System","Higher Education",261,"Yes"]
["Virginia Department of Agriculture and Consumer Services","Agriculture and Forestry",301,"Yes"]
["Virginia Department of Conservation and Recreation","Natural Resources",199,"Yes"]
["Virginia Department of Fire Programs","Public Safety and Homeland Security",960,"Yes"]
["Virginia Department of Health","Health and Human Resources",601,"Yes"]
["Virginia Economic Development Partnership","Commerce and Trade",310,"Yes"]
["Virginia Employment Commission","Commerce and Trade",182,"Yes"]
["Virginia Highlands Community College","Higher Education",296,"Yes"]
["Virginia Housing Development Authority","Commerce and Trade"]
["Virginia Information Technologies Agency","Administration",136,"Yes"]
["Virginia Lottery","Independent",172,"Yes"]
["Virginia Military Institute","Higher Education",211,"Yes"]
["Virginia Museum of Fine Arts","Education",238,"Yes"]
["Virginia Museum of Natural History","Education",942,"Yes"]
["Virginia Parole Board","Public Safety and Homeland Security",766,"Yes"]
["Virginia Peninsula Community College","Higher Education",293,"Yes"]
["Virginia Polytechnic Institute and State University","Higher Education",208,"Yes"]
["Virginia Port Authority","Transportation",407,"Yes"]
["Virginia Racing Commission","Agriculture and Forestry",405,"Yes"]
["Virginia Resources Authority","Finance"]
["Virginia Retirement System","Independent",158,"Yes"]
["Virginia School for the Deaf and the Blind","Education",218,"Yes"]
["Virginia State University","Higher Education",212,"Yes"]
["Virginia Tobacco Region Revitalization Commission","Commerce and Trade",851,"Yes"]
["Virginia Tourism Corporation","Commerce and Trade",320,"Yes"]
["Virginia Veterans Care Center","Veterans and Defense Affairs",128,"Yes"]
["Virginia Western Community College","Higher Education",286,"Yes"]
["Virginia Workers' Compensation Commission","Independent",191,"Yes"]
["Virginia529 College Savings Plan","Independent",174,"Yes"]
["Wilson Workforce Rehabilitation Center","Health and Human Resources",203,"Yes"]
["Wytheville Community College","Higher Education",288,"Yes"]

{"sheet":"CENTRAL ANALYSIS","index":13,"n_rows":153,"n_cols":64,"rows_kept":153,"cut":false,"hidden":true,"merged":[[4,1,6,14],[7,1,8,14],[10,0,10,3],[17,0,17,1],[17,4,17,5],[17,8,17,9],[27,16,27,18],[136,0,136,1],[131,0,131,1],[25,0,25,1],[10,8,10,10],[26,0,26,1],[77,0,77,2],[66,0,66,2],[21,8,21,9],[36,14,36,15],[36,0,36,1],[36,11,36,12],[57,0,57,1]]}
[]
[]
[]
[]
[null,"CENTRAL ANALYSIS"]
[]
[]
[null,"This tab serves as a central place for all formulas that drive metric calculations or functionality of the template."]
[]
[]
["Home Page Complete Indicators",null,null,null,null,null,null,null,"FY Date Validation",null,null,null,"Report Note","Classification","Space","Joined","Trimmed"]
[null,"Total Steps","Total Completed","Percentage",null,null,null,null,"FY Year",{"$f":"PROFILE!N44","v":"00:00:00"},{"$f":"IF(J15<K13,1,0)","v":1},null,{"$f":"IF(N12<>\"\",N12,\"\")","v":""},{"$f":"IF(PROFILE!C58=\"\",\"\",PROFILE!C58)","v":""},{"$f":"IF(N12<>\"\",IF(N13<>\"\",\",\",\".\"),\"\")","v":""},{"$f":"CONCATENATE(M12,O12,\" \",M13,O13,\" \",M14,O14,\" \",M15,O15,\" \",M16,O16,\" \",M17,O17,\" \",M18,O18,\" \",M19,O19,\" \",M20,O20,\" \",M21,O21,\" \",M22,O22,\" \",M23,O23,\" \",M24,O24,\" \",M25,O25)","v":"             "},{"$f":"TRIM(P12)","v":""}]
["Profile",5,{"$f":"COUNTIF(PROFILE!N17:P267,\"Complete\")","v":0},{"$f":"C13/B13","v":0},null,null,null,null,"Today",{"$f":"TODAY()","v":"2025-06-10"},{"$f":"IF(YEAR(J16)<YEAR(J13),YEAR(J13),YEAR(J16))","v":2025},null,{"$f":"IF(N13<>\"\",N13,\"\")","v":""},{"$f":"IF(PROFILE!C59=\"\",\"\",PROFILE!C59)","v":""},""]
["Analysis",7,{"$f":"COUNTIF(FOUNDATIONAL!N:P,\"Complete\")+IF(SWOT!N15=\"Complete\",1,0)+IF('RISK & PREPARDNESS'!N24=\"Complete\",1,0)","v":0},{"$f":"C14/B14","v":0},null,null,null,null,"FY Year",{"$f":"K13","v":2025},{"$f":"J14-1","v":2024},null,"",{"$f":"IF(PROFILE!C60=\"\",\"\",PROFILE!C60)","v":""},""]
["Strategy & Summary",5,{"$f":"COUNTIF('AGENCY STRATEGY'!N:P,\"Complete\")+COUNTIF('WFP SUMMARY'!S:V,\"Complete\")","v":0},{"$f":"C15/B15","v":0},null,null,null,null,"RPT FY Year",{"$f":"IF(MONTH(J12)<7,YEAR(J12),YEAR(J12)+1)","v":1900},null,null,"",{"$f":"IF(PROFILE!C61=\"\",\"\",PROFILE!C61)","v":""},""]
["Implement",null,null,null,null,null,null,null,"90 Days Prior",{"$f":"J13-90","v":"2025-03-12"},null,null,"",{"$f":"IF(PROFILE!C62=\"\",\"\",PROFILE!C62)","v":""},""]
[null,null,null,null,null,null,null,null,null,null,null,null,"",{"$f":"IF(PROFILE!C63=\"\",\"\",PROFILE!C63)","v":""},""]
["Profile Visibility",null,null,null,"SWOT Visibility",null,null,null,"In-Depth WF Dev Vis.",null,null,null,"",{"$f":"IF(PROFILE!C64=\"\",\"\",PROFILE!C64)","v":""},""]
["Class",{"$f":"IF(PROFILE!P80<>\"\",PROFILE!P80,'CENTRAL ANALYSIS'!C19)","v":0},null,null,"Strength",{"$f":"IF(SWOT!P162<>\"\",SWOT!P162,'CENTRAL ANALYSIS'!G19)","v":0},null,null,"Items",{"$f":"IF('IN-DEPTH'!P591<>\"\",'IN-DEPTH'!P591,'CENTRAL ANALYSIS'!K19)","v":0},null,null,"",{"$f":"IF(PROFILE!C65=\"\",\"\",PROFILE!C65)","v":""},""]
["Executive",{"$f":"IF(PROFILE!P135<>\"\",PROFILE!P135,'CENTRAL ANALYSIS'!C20)","v":0},null,null,"Weak",{"$f":"IF(SWOT!P163<>\"\",SWOT!P163,'CENTRAL ANALYSIS'!G20)","v":0},null,null,"Support",{"$f":"IF('IN-DEPTH'!P592<>\"\",'IN-DEPTH'!P592,'CENTRAL ANALYSIS'!K20)","v":0},null,null,"",{"$f":"IF(PROFILE!C66=\"\",\"\",PROFILE!C66)","v":""},""]
["EOP",{"$f":"IF(PROFILE!P241<>\"\",PROFILE!P241,'CENTRAL ANALYSIS'!C21)","v":0},null,null,"Opp",{"$f":"IF(SWOT!P164<>\"\",SWOT!P164,'CENTRAL ANALYSIS'!G21)","v":0},null,null,null,null,null,null,"",{"$f":"IF(PROFILE!C67=\"\",\"\",PROFILE!C67)","v":""},""]
["SAP",{"$f":"IF(PROFILE!P242<>\"\",PROFILE!P242,'CENTRAL ANALYSIS'!C22)","v":0},null,null,"Threats",{"$f":"IF(SWOT!P165<>\"\",SWOT!P165,'CENTRAL ANALYSIS'!G22)","v":0},null,null,"Toggle Switches",null,null,null,"",{"$f":"IF(PROFILE!C68=\"\",\"\",PROFILE!C68)","v":""},""]
["DOI",{"$f":"IF(PROFILE!P243<>\"\",PROFILE!P243,'CENTRAL ANALYSIS'!C23)","v":0},null,null,null,null,null,null,"In-Depth",false,null,null,"",{"$f":"IF(PROFILE!C69=\"\",\"\",PROFILE!C69)","v":""},""]
["Other",{"$f":"IF(PROFILE!P244<>\"\",PROFILE!P244,'CENTRAL ANALYSIS'!C24)","v":0},null,null,null,null,null,null,"Comprehensive",false,null,null,"",{"$f":"IF(PROFILE!C70=\"\",\"\",PROFILE!C70)","v":""},""]
[null,null,null,null,null,null,null,null,"Appendix",{"$f":"IF(COUNTIF(J23:J24,TRUE)>0,TRUE,FALSE)","v":false},null,null,"",{"$f":"IF(PROFILE!C71=\"\",\"\",PROFILE!C71)","v":""},""]
["Strat Totals",null,{"$f":"SUM(B28:B34,E28:E34,H28:H34,K28:K34,N28:N34)","v":0},"Total Objectives",null,"Start Row",{"$f":"IF(E26=0,37,IF(E26=1,37,37+((E26-1)*49)))","v":37},null,null,null,null,null,"",{"$f":"IF(PROFILE!C72=\"\",\"\",PROFILE!C72)","v":""},{"$f":"IF(N26<>\"\",IF(N28<>\"\",\",\",\".\"),\"\")","v":""}]
["Strat Visibility"]
["Obj 1",{"$f":"IF('AGENCY STRATEGY'!$P$294<>\"\",IF('AGENCY STRATEGY'!$P$294>=1,1,0),'CENTRAL ANALYSIS'!C28)","v":0},{"$f":"IF($E$26>=1,1,0)","v":0},"Obj 2",{"$f":"IF('AGENCY STRATEGY'!$P$294<>\"\",IF('AGENCY STRATEGY'!$P$294>=2,1,0),'CENTRAL ANALYSIS'!F28)","v":0},{"$f":"IF($E$26>=2,1,0)","v":0},"Obj 3",{"$f":"IF('AGENCY STRATEGY'!$P$294<>\"\",IF('AGENCY STRATEGY'!$P$294>=3,1,0),'CENTRAL ANALYSIS'!I28)","v":0},{"$f":"IF($E$26>=3,1,0)","v":0},"Obj 4",{"$f":"IF('AGENCY STRATEGY'!$P$294<>\"\",IF('AGENCY STRATEGY'!$P$294>=4,1,0),'CENTRAL ANALYSIS'!L28)","v":0},{"$f":"IF($E$26>=4,1,0)","v":0},"Obj 5",{"$f":"IF('AGENCY STRATEGY'!$P$294<>\"\",IF('AGENCY STRATEGY'!$P$294>=5,1,0),'CENTRAL ANALYSIS'!O28)","v":0},{"$f":"IF($E$26>=5,1,0)","v":0},null,"Import Obj"]
["Action 1",{"$f":"IF('AGENCY STRATEGY'!$P$295<>\"\",IF('AGENCY STRATEGY'!$P$295>=1,1,0),'CENTRAL ANALYSIS'!C29)","v":0},{"$f":"IF(B$35>=1,1,0)","v":0},"Action 1",{"$f":"IF('AGENCY STRATEGY'!$P$296<>\"\",IF('AGENCY STRATEGY'!$P$296>=1,1,0),'CENTRAL ANALYSIS'!F29)","v":0},{"$f":"IF(E$35>=1,1,0)","v":0},"Action 1",{"$f":"IF('AGENCY STRATEGY'!$P$297<>\"\",IF('AGENCY STRATEGY'!$P$297>=1,1,0),'CENTRAL ANALYSIS'!I29)","v":0},{"$f":"IF(H$35>=1,1,0)","v":0},"Action 1",{"$f":"IF('AGENCY STRATEGY'!$P$298<>\"\",IF('AGENCY STRATEGY'!$P$298>=1,1,0),'CENTRAL ANALYSIS'!L29)","v":0},{"$f":"IF(K$35>=1,1,0)","v":0},"Action 1",{"$f":"IF('AGENCY STRATEGY'!$P$299<>\"\",IF('AGENCY STRATEGY'!$P$299>=1,1,0),'CENTRAL ANALYSIS'!O29)","v":0},{"$f":"IF(N$35>=1,1,0)","v":0},null,"EOP",{"$f":"5-SUM('DATA TRANSFORM'!N22:N36)","v":0}]
["Action 2",{"$f":"IF('AGENCY STRATEGY'!$P$295<>\"\",IF('AGENCY STRATEGY'!$P$295>=2,1,0),'CENTRAL ANALYSIS'!C30)","v":0},{"$f":"IF(B$35>=2,1,0)","v":0},"Action 2",{"$f":"IF('AGENCY STRATEGY'!$P$296<>\"\",IF('AGENCY STRATEGY'!$P$296>=2,1,0),'CENTRAL ANALYSIS'!F30)","v":0},{"$f":"IF(E$35>=2,1,0)","v":0},"Action 2",{"$f":"IF('AGENCY STRATEGY'!$P$297<>\"\",IF('AGENCY STRATEGY'!$P$297>=2,1,0),'CENTRAL ANALYSIS'!I30)","v":0},{"$f":"IF(H$35>=2,1,0)","v":0},"Action 2",{"$f":"IF('AGENCY STRATEGY'!$P$298<>\"\",IF('AGENCY STRATEGY'!$P$298>=2,1,0),'CENTRAL ANALYSIS'!L30)","v":0},{"$f":"IF(K$35>=2,1,0)","v":0},"Action 2",{"$f":"IF('AGENCY STRATEGY'!$P$299<>\"\",IF('AGENCY STRATEGY'!$P$299>=2,1,0),'CENTRAL ANALYSIS'!O30)","v":0},{"$f":"IF(N$35>=2,1,0)","v":0},null,"WFP1",{"$f":"'DATA TRANSFORM'!O40","v":0},{"$f":"SUM('DATA TRANSFORM'!O43:O55)","v":0}]
["Action 3",{"$f":"IF('AGENCY STRATEGY'!$P$295<>\"\",IF('AGENCY STRATEGY'!$P$295>=3,1,0),'CENTRAL ANALYSIS'!C31)","v":0},{"$f":"IF(B$35>=3,1,0)","v":0},"Action 3",{"$f":"IF('AGENCY STRATEGY'!$P$296<>\"\",IF('AGENCY STRATEGY'!$P$296>=3,1,0),'CENTRAL ANALYSIS'!F31)","v":0},{"$f":"IF(E$35>=3,1,0)","v":0},"Action 3",{"$f":"IF('AGENCY STRATEGY'!$P$297<>\"\",IF('AGENCY STRATEGY'!$P$297>=3,1,0),'CENTRAL ANALYSIS'!I31)","v":0},{"$f":"IF(H$35>=3,1,0)","v":0},"Action 3",{"$f":"IF('AGENCY STRATEGY'!$P$298<>\"\",IF('AGENCY STRATEGY'!$P$298>=3,1,0),'CENTRAL ANALYSIS'!L31)","v":0},{"$f":"IF(K$35>=3,1,0)","v":0},"Action 3",{"$f":"IF('AGENCY STRATEGY'!$P$299<>\"\",IF('AGENCY STRATEGY'!$P$299>=3,1,0),'CENTRAL ANALYSIS'!O31)","v":0},{"$f":"IF(N$35>=3,1,0)","v":0},null,"WFP2",{"$f":"'DATA TRANSFORM'!O58","v":0},{"$f":"SUM('DATA TRANSFORM'!O61:O73)","v":0}]
["Action 4",{"$f":"IF('AGENCY STRATEGY'!$P$295<>\"\",IF('AGENCY STRATEGY'!$P$295>=4,1,0),'CENTRAL ANALYSIS'!C32)","v":0},{"$f":"IF(B$35>=4,1,0)","v":0},"Action 4",{"$f":"IF('AGENCY STRATEGY'!$P$296<>\"\",IF('AGENCY STRATEGY'!$P$296>=4,1,0),'CENTRAL ANALYSIS'!F32)","v":0},{"$f":"IF(E$35>=4,1,0)","v":0},"Action 4",{"$f":"IF('AGENCY STRATEGY'!$P$297<>\"\",IF('AGENCY STRATEGY'!$P$297>=4,1,0),'CENTRAL ANALYSIS'!I32)","v":0},{"$f":"IF(H$35>=4,1,0)","v":0},"Action 4",{"$f":"IF('AGENCY STRATEGY'!$P$298<>\"\",IF('AGENCY STRATEGY'!$P$298>=4,1,0),'CENTRAL ANALYSIS'!L32)","v":0},{"$f":"IF(K$35>=4,1,0)","v":0},"Action 4",{"$f":"IF('AGENCY STRATEGY'!$P$299<>\"\",IF('AGENCY STRATEGY'!$P$299>=4,1,0),'CENTRAL ANALYSIS'!O32)","v":0},{"$f":"IF(N$35>=4,1,0)","v":0},null,"WFP3",{"$f":"'DATA TRANSFORM'!O76","v":0},{"$f":"SUM('DATA TRANSFORM'!O79:O91)","v":0}]
["Action 5",{"$f":"IF('AGENCY STRATEGY'!$P$295<>\"\",IF('AGENCY STRATEGY'!$P$295>=5,1,0),'CENTRAL ANALYSIS'!C33)","v":0},{"$f":"IF(B$35>=5,1,0)","v":0},"Action 5",{"$f":"IF('AGENCY STRATEGY'!$P$296<>\"\",IF('AGENCY STRATEGY'!$P$296>=5,1,0),'CENTRAL ANALYSIS'!F33)","v":0},{"$f":"IF(E$35>=5,1,0)","v":0},"Action 5",{"$f":"IF('AGENCY STRATEGY'!$P$297<>\"\",IF('AGENCY STRATEGY'!$P$297>=5,1,0),'CENTRAL ANALYSIS'!I33)","v":0},{"$f":"IF(H$35>=5,1,0)","v":0},"Action 5",{"$f":"IF('AGENCY STRATEGY'!$P$298<>\"\",IF('AGENCY STRATEGY'!$P$298>=5,1,0),'CENTRAL ANALYSIS'!L33)","v":0},{"$f":"IF(K$35>=5,1,0)","v":0},"Action 5",{"$f":"IF('AGENCY STRATEGY'!$P$299<>\"\",IF('AGENCY STRATEGY'!$P$299>=5,1,0),'CENTRAL ANALYSIS'!O33)","v":0},{"$f":"IF(N$35>=5,1,0)","v":0},null,"WFP4",{"$f":"'DATA TRANSFORM'!O94","v":0},{"$f":"SUM('DATA TRANSFORM'!O97:O109)","v":0}]
["Progress",{"$f":"IF('AGENCY STRATEGY'!$P$300=\"yes\",1,'CENTRAL ANALYSIS'!C34)","v":0},0,"Progress",{"$f":"IF('AGENCY STRATEGY'!$P$301=\"yes\",1,'CENTRAL ANALYSIS'!F34)","v":0},0,"Progress",{"$f":"IF('AGENCY STRATEGY'!$P$302=\"yes\",1,'CENTRAL ANALYSIS'!I34)","v":0},0,"Progress",{"$f":"IF('AGENCY STRATEGY'!$P$303=\"yes\",1,'CENTRAL ANALYSIS'!L34)","v":0},0,"Progress",{"$f":"IF('AGENCY STRATEGY'!$P$304=\"yes\",1,'CENTRAL ANALYSIS'!O34)","v":0},0,null,"WFP5",{"$f":"'DATA TRANSFORM'!O112","v":0},{"$f":"SUM('DATA TRANSFORM'!O112:O127)","v":0}]
["Total Actions",null,{"$f":"IF(SUM(C29:C34)=0,53,53+((SUM(C29:C34)-1)*3))","v":53},null,null,{"$f":"IF(SUM(F29:F34)=0,102,102+((SUM(F29:F34)-1)*3))","v":102},null,null,{"$f":"IF(SUM(I29:I34)=0,151,151+((SUM(I29:I34)-1)*3))","v":151},null,0,{"$f":"IF(SUM(L29:L34)=0,200,200+((SUM(L29:L34)-1)*3))","v":200},null,0,{"$f":"IF(SUM(O29:O34)=0,249,249+((SUM(O29:O34)-1)*3))","v":249},null,"Total",{"$f":"SUM(R30:R34)","v":0}]
[]
["Summary Top 3 Risk",null,null,null,null,null,null,null,null,null,null,"Rank Count",null,null,"Summary Rank"]
["Rank (for VL)","Plan","Priority ","Rank","Risk Num","Preparation","Risk Level","Prep Level","Summary Statement",null,null,"Yes, #1",{"$f":"COUNTIF($D39:H$56,L38)","v":0},null,"Significant Rank","High Rank","Medium Rank","Low Rank","Priority"]
[{"$f":"D39","v":0},"Employment Opportunities Plan",{"$f":"'RISK & PREPARDNESS'!F34","v":""},{"$f":"'RISK & PREPARDNESS'!N38","v":0},{"$f":"'RISK & PREPARDNESS'!I41","v":0},{"$f":"'RISK & PREPARDNESS'!I43","v":0},{"$f":"IF(E39>90,\"Significant Risk\",IF(E39>60,\"High Risk\",IF(E39>29,\"Medium Risk\",IF(E39>0,\"Low Risk\",\"Risk Not Identified\"))))","v":"Risk Not Identified"},{"$f":"IF(F39>90,\"Very Prepared\",IF(F39>60,\"Prepared\",IF(F39>29,\"Somewhat Prepared\",IF(F39>0,\"Not Prepared At All\",\"Risk Not Identified\"))))","v":"Risk Not Identified"},{"$f":"CONCATENATE(\"From the \",B39,\": \",C39)","v":"From the Employment Opportunities Plan: "},null,null,"Yes, #2",{"$f":"COUNTIF($D39:H$56,L39)","v":0},null,{"$f":"IF($G39=\"Significant Risk\",1,0)","v":0},{"$f":"IF($G39=\"High Risk\",1,0)","v":0},{"$f":"IF($G39=\"Medium Risk\",1,0)","v":0},{"$f":"IF($G39=\"Low Risk\",1,0)","v":0},{"$f":"C39","v":""}]
[{"$f":"D40","v":0},"Employment Opportunities Plan",{"$f":"'RISK & PREPARDNESS'!F53","v":""},{"$f":"'RISK & PREPARDNESS'!N57","v":0},{"$f":"'RISK & PREPARDNESS'!I60","v":0},{"$f":"'RISK & PREPARDNESS'!I62","v":0},{"$f":"IF(E40>90,\"Significant Risk\",IF(E40>60,\"High Risk\",IF(E40>29,\"Medium Risk\",IF(E40>0,\"Low Risk\",\"Risk Not Identified\"))))","v":"Risk Not Identified"},{"$f":"IF(F40>90,\"Very Prepared\",IF(F40>60,\"Prepared\",IF(F40>29,\"Somewhat Prepared\",IF(F40>0,\"Not Prepared At All\",\"Risk Not Identified\"))))","v":"Risk Not Identified"},{"$f":"CONCATENATE(\"From the \",B40,\": \",C40)","v":"From the Employment Opportunities Plan: "},null,null,"Yes, #3",{"$f":"COUNTIF($D39:H$56,L40)","v":0},null,{"$f":"IF($G40=\"Significant Risk\",1,0)+O39","v":0},{"$f":"IF($G40=\"High Risk\",1,0)+P39","v":0},{"$f":"IF($G40=\"Medium Risk\",1,0)+Q39","v":0},{"$f":"IF($G40=\"Low Risk\",1,0)+R39","v":0},{"$f":"C40","v":""}]
[0,"Employment Opportunities Plan",{"$f":"'RISK & PREPARDNESS'!F72","v":""},{"$f":"'RISK & PREPARDNESS'!N76","v":0},{"$f":"'RISK & PREPARDNESS'!I79","v":0},{"$f":"'RISK & PREPARDNESS'!I81","v":0},"Risk Not Identified","Risk Not Identified","From the Employment Opportunities Plan: ",null,null,null,null,null,{"$f":"IF($G41=\"Significant Risk\",1,0)+O40","v":0},{"$f":"IF($G41=\"High Risk\",1,0)+P40","v":0},{"$f":"IF($G41=\"Medium Risk\",1,0)+Q40","v":0},{"$f":"IF($G41=\"Low Risk\",1,0)+R40","v":0},""]
[0,"Employment Opportunities Plan",{"$f":"'RISK & PREPARDNESS'!F91","v":""},{"$f":"'RISK & PREPARDNESS'!N95","v":0},{"$f":"'RISK & PREPARDNESS'!I98","v":0},{"$f":"'RISK & PREPARDNESS'!I100","v":0},"Risk Not Identified","Risk Not Identified","From the Employment Opportunities Plan: ",null,null,null,null,null,0,0,0,0,""]
[0,"Employment Opportunities Plan",{"$f":"'RISK & PREPARDNESS'!F110","v":""},{"$f":"'RISK & PREPARDNESS'!N114","v":0},{"$f":"'RISK & PREPARDNESS'!I117","v":0},{"$f":"'RISK & PREPARDNESS'!I119","v":0},"Risk Not Identified","Risk Not Identified","From the Employment Opportunities Plan: ",null,null,null,null,null,0,0,0,0,""]
[0,"Salary Administration Plan",{"$f":"'RISK & PREPARDNESS'!F133","v":""},{"$f":"'RISK & PREPARDNESS'!N138","v":0},{"$f":"'RISK & PREPARDNESS'!I141","v":0},{"$f":"'RISK & PREPARDNESS'!I143","v":0},"Risk Not Identified","Risk Not Identified","From the Salary Administration Plan: ",null,null,null,null,null,0,0,0,0,""]
[0,"Salary Administration Plan",{"$f":"'RISK & PREPARDNESS'!F153","v":""},{"$f":"'RISK & PREPARDNESS'!N158","v":0},{"$f":"'RISK & PREPARDNESS'!I161","v":0},{"$f":"'RISK & PREPARDNESS'!I163","v":0},"Risk Not Identified","Risk Not Identified","From the Salary Administration Plan: ",null,null,null,null,null,0,0,0,0,""]
[0,"Salary Administration Plan",{"$f":"'RISK & PREPARDNESS'!F173","v":""},{"$f":"'RISK & PREPARDNESS'!N178","v":0},{"$f":"'RISK & PREPARDNESS'!I181","v":0},{"$f":"'RISK & PREPARDNESS'!I183","v":0},"Risk Not Identified","Risk Not Identified","From the Salary Administration Plan: ",null,null,null,null,null,0,0,0,0,""]
[0,"Salary Administration Plan",{"$f":"'RISK & PREPARDNESS'!F193","v":""},{"$f":"'RISK & PREPARDNESS'!N198","v":0},{"$f":"'RISK & PREPARDNESS'!I201","v":0},{"$f":"'RISK & PREPARDNESS'!I203","v":0},"Risk Not Identified","Risk Not Identified","From the Salary Administration Plan: ",null,null,null,null,null,0,0,0,0,""]
[0,"Salary Administration Plan",{"$f":"'RISK & PREPARDNESS'!F213","v":""},{"$f":"'RISK & PREPARDNESS'!N218","v":0},{"$f":"'RISK & PREPARDNESS'!I221","v":0},{"$f":"'RISK & PREPARDNESS'!I223","v":0},"Risk Not Identified","Risk Not Identified","From the Salary Administration Plan: ",null,null,null,null,null,0,0,0,0,""]
[0,"Diversity, Opportunity, and Inclusion Plan",{"$f":"'RISK & PREPARDNESS'!F237","v":""},{"$f":"'RISK & PREPARDNESS'!N244","v":0},{"$f":"'RISK & PREPARDNESS'!I247","v":0},{"$f":"'RISK & PREPARDNESS'!I249","v":0},"Risk Not Identified","Risk Not Identified","From the Diversity, Opportunity, and Inclusion Plan: ",null,null,null,null,null,0,0,0,0,""]
[0,"Diversity, Opportunity, and Inclusion Plan",{"$f":"'RISK & PREPARDNESS'!F259","v":""},{"$f":"'RISK & PREPARDNESS'!N266","v":0},{"$f":"'RISK & PREPARDNESS'!I269","v":0},{"$f":"'RISK & PREPARDNESS'!I271","v":0},"Risk Not Identified","Risk Not Identified","From the Diversity, Opportunity, and Inclusion Plan: ",null,null,null,null,null,0,0,0,0,""]
[0,"Diversity, Opportunity, and Inclusion Plan",{"$f":"'RISK & PREPARDNESS'!F281","v":""},{"$f":"'RISK & PREPARDNESS'!N288","v":0},{"$f":"'RISK & PREPARDNESS'!I291","v":0},{"$f":"'RISK & PREPARDNESS'!I293","v":0},"Risk Not Identified","Risk Not Identified","From the Diversity, Opportunity, and Inclusion Plan: ",null,null,null,null,null,0,0,0,0,""]
[0,"Other Plans",{"$f":"'RISK & PREPARDNESS'!F307","v":""},{"$f":"'RISK & PREPARDNESS'!N312","v":0},{"$f":"'RISK & PREPARDNESS'!I315","v":0},{"$f":"'RISK & PREPARDNESS'!I317","v":0},"Risk Not Identified","Risk Not Identified","From the Other Plans: ",null,null,null,null,null,0,0,0,0,""]
[0,"Other Plans",{"$f":"'RISK & PREPARDNESS'!F327","v":""},{"$f":"'RISK & PREPARDNESS'!N332","v":0},{"$f":"'RISK & PREPARDNESS'!I335","v":0},{"$f":"'RISK & PREPARDNESS'!I337","v":0},"Risk Not Identified","Risk Not Identified","From the Other Plans: ",null,null,null,null,null,0,0,0,0,""]
[0,"Other Plans",{"$f":"'RISK & PREPARDNESS'!F347","v":""},{"$f":"'RISK & PREPARDNESS'!N352","v":0},{"$f":"'RISK & PREPARDNESS'!I355","v":0},{"$f":"'RISK & PREPARDNESS'!I357","v":0},"Risk Not Identified","Risk Not Identified","From the Other Plans: ",null,null,null,null,null,0,0,0,0,""]
[0,"Other Plans",{"$f":"'RISK & PREPARDNESS'!F367","v":""},{"$f":"'RISK & PREPARDNESS'!N372","v":0},{"$f":"'RISK & PREPARDNESS'!I375","v":0},{"$f":"'RISK & PREPARDNESS'!I377","v":0},"Risk Not Identified","Risk Not Identified","From the Other Plans: ",null,null,null,null,null,0,0,0,0,""]
[0,"Other Plans",{"$f":"'RISK & PREPARDNESS'!F387","v":""},{"$f":"'RISK & PREPARDNESS'!N392","v":0},{"$f":"'RISK & PREPARDNESS'!I395","v":0},{"$f":"'RISK & PREPARDNESS'!I397","v":0},"Risk Not Identified","Risk Not Identified","From the Other Plans: ",null,null,null,null,null,0,0,0,0,""]
[]
["Retirements"]
["Type","Currently Eligible",{"$f":"FOUNDATIONAL!L61","v":"FY00"},{"$f":"FOUNDATIONAL!M61","v":"FY01"},{"$f":"FOUNDATIONAL!N61","v":"FY02"},{"$f":"FOUNDATIONAL!O61","v":"FY03"},{"$f":"FOUNDATIONAL!P61","v":"FY04"}]
["Employees",{"$f":"FOUNDATIONAL!P56/FOUNDATIONAL!P29","v":{"$error":"#DIV/0!"}},{"$f":"FOUNDATIONAL!L62/FOUNDATIONAL!$P$29","v":{"$error":"#DIV/0!"}},{"$f":"FOUNDATIONAL!M62/FOUNDATIONAL!$P$29","v":{"$error":"#DIV/0!"}},{"$f":"FOUNDATIONAL!N62/FOUNDATIONAL!$P$29","v":{"$error":"#DIV/0!"}},{"$f":"FOUNDATIONAL!O62/FOUNDATIONAL!$P$29","v":{"$error":"#DIV/0!"}},{"$f":"FOUNDATIONAL!P62/FOUNDATIONAL!$P$29","v":{"$error":"#DIV/0!"}}]
["Critical Roles",{"$f":"FOUNDATIONAL!P57/FOUNDATIONAL!P29","v":{"$error":"#DIV/0!"}},{"$f":"FOUNDATIONAL!L63/FOUNDATIONAL!$P$29","v":{"$error":"#DIV/0!"}},{"$f":"FOUNDATIONAL!M63/FOUNDATIONAL!$P$29","v":{"$error":"#DIV/0!"}},{"$f":"FOUNDATIONAL!N63/FOUNDATIONAL!$P$29","v":{"$error":"#DIV/0!"}},{"$f":"FOUNDATIONAL!O63/FOUNDATIONAL!$P$29","v":{"$error":"#DIV/0!"}},{"$f":"FOUNDATIONAL!P63/FOUNDATIONAL!$P$29","v":{"$error":"#DIV/0!"}}]
["Cumulative Employee Percent",{"$f":"B60","v":{"$error":"#DIV/0!"}},{"$f":"B62+C60","v":{"$error":"#DIV/0!"}},{"$f":"C62+D60","v":{"$error":"#DIV/0!"}},{"$error":"#DIV/0!"},{"$error":"#DIV/0!"},{"$error":"#DIV/0!"}]
["Cumulative Critical Role Percent",{"$f":"B60","v":{"$error":"#DIV/0!"}},{"$f":"B63+C61","v":{"$error":"#DIV/0!"}},{"$error":"#DIV/0!"},{"$error":"#DIV/0!"},{"$error":"#DIV/0!"},{"$error":"#DIV/0!"}]
["Executives",{"$f":"FOUNDATIONAL!P58/FOUNDATIONAL!P38","v":{"$error":"#DIV/0!"}},{"$f":"FOUNDATIONAL!L64/FOUNDATIONAL!$P$38","v":{"$error":"#DIV/0!"}},{"$f":"FOUNDATIONAL!M64/FOUNDATIONAL!$P$38","v":{"$error":"#DIV/0!"}},{"$f":"FOUNDATIONAL!N64/FOUNDATIONAL!$P$38","v":{"$error":"#DIV/0!"}},{"$f":"FOUNDATIONAL!O64/FOUNDATIONAL!$P$38","v":{"$error":"#DIV/0!"}},{"$f":"FOUNDATIONAL!P64/FOUNDATIONAL!$P$38","v":{"$error":"#DIV/0!"}}]
["Cumulative Executive Percent",{"$f":"B64","v":{"$error":"#DIV/0!"}},{"$f":"C64+B65","v":{"$error":"#DIV/0!"}},{"$f":"D64+C65","v":{"$error":"#DIV/0!"}},{"$error":"#DIV/0!"},{"$error":"#DIV/0!"},{"$error":"#DIV/0!"}]
[]
["Risk / Prep For Summary"]
["Rank","Significant Risk","Prep","High Risk","Prep","Medium Risk ","Prep","Low Risk","Prep"]
[1,{"$f":"IFERROR(VLOOKUP(A69,$O$38:$S$56,5,FALSE),\"\")","v":""},{"$f":"IFERROR(VLOOKUP(B69,$C$38:$H$56,6,FALSE),\"\")","v":"Risk Not Identified"},{"$f":"IFERROR(VLOOKUP(A69,$P$38:$S$56,4,FALSE),\"\")","v":""},{"$f":"IFERROR(VLOOKUP(D69,$C$38:$H$56,6,FALSE),\"\")","v":"Risk Not Identified"},{"$f":"IFERROR(VLOOKUP(A69,$Q$38:$S$56,3,FALSE),\"\")","v":""},{"$f":"IFERROR(VLOOKUP(F69,$C$38:$H$56,6,FALSE),\"\")","v":"Risk Not Identified"},{"$f":"IFERROR(VLOOKUP(A69,$R$38:$S$56,2,FALSE),\"\")","v":""},{"$f":"IFERROR(VLOOKUP(H69,$C$38:$H$56,6,FALSE),\"\")","v":"Risk Not Identified"}]
[2,{"$f":"IFERROR(VLOOKUP(A70,$O$38:$S$56,5,FALSE),\"\")","v":""},{"$f":"IFERROR(VLOOKUP(B70,$C$38:$H$56,6,FALSE),\"\")","v":"Risk Not Identified"},{"$f":"IFERROR(VLOOKUP(A70,$P$38:$S$56,4,FALSE),\"\")","v":""},"Risk Not Identified",{"$f":"IFERROR(VLOOKUP(A70,$Q$38:$S$56,3,FALSE),\"\")","v":""},{"$f":"IFERROR(VLOOKUP(F70,$C$38:$H$56,6,FALSE),\"\")","v":"Risk Not Identified"},{"$f":"IFERROR(VLOOKUP(A70,$R$38:$S$56,2,FALSE),\"\")","v":""},{"$f":"IFERROR(VLOOKUP(H70,$C$38:$H$56,6,FALSE),\"\")","v":"Risk Not Identified"}]
[3,"","Risk Not Identified","","Risk Not Identified","",{"$f":"IFERROR(VLOOKUP(F71,$C$38:$H$56,6,FALSE),\"\")","v":"Risk Not Identified"},"",{"$f":"IFERROR(VLOOKUP(H71,$C$38:$H$56,6,FALSE),\"\")","v":"Risk Not Identified"}]
[4,"","Risk Not Identified","","Risk Not Identified","",{"$f":"IFERROR(VLOOKUP(F72,$C$38:$H$56,6,FALSE),\"\")","v":"Risk Not Identified"},"",{"$f":"IFERROR(VLOOKUP(H72,$C$38:$H$56,6,FALSE),\"\")","v":"Risk Not Identified"}]
[5,"","Risk Not Identified","","Risk Not Identified","",{"$f":"IFERROR(VLOOKUP(F73,$C$38:$H$56,6,FALSE),\"\")","v":"Risk Not Identified"},"",{"$f":"IFERROR(VLOOKUP(H73,$C$38:$H$56,6,FALSE),\"\")","v":"Risk Not Identified"}]
[6,"","Risk Not Identified","","Risk Not Identified","",{"$f":"IFERROR(VLOOKUP(F74,$C$38:$H$56,6,FALSE),\"\")","v":"Risk Not Identified"},"",{"$f":"IFERROR(VLOOKUP(H74,$C$38:$H$56,6,FALSE),\"\")","v":"Risk Not Identified"}]
[7,"","Risk Not Identified","","Risk Not Identified","",{"$f":"IFERROR(VLOOKUP(F75,$C$38:$H$56,6,FALSE),\"\")","v":"Risk Not Identified"},"",{"$f":"IFERROR(VLOOKUP(H75,$C$38:$H$56,6,FALSE),\"\")","v":"Risk Not Identified"}]
[]
[]
["Implementation Start and End Date",null,null,"Graph Start","Graph End","Difference","Divided Number"]
[null,null,null,{"$f":"MIN(C81:C130)","v":"00:00:00"},{"$f":"MAX(D81:D130)","v":"00:00:00"},{"$f":"G80-F80","v":0},{"$f":"F79/7","v":0},null,null,null,null,null,null,null,null,"Objective 1",null,null,null,null,null,null,null,null,null,"Objective 2",null,null,null,null,null,null,null,null,null,"Objective 3",null,null,null,null,null,null,null,null,null,"Objective 4",null,null,null,null,null,null,null,null,null,"Objective 5"]
["Item","Action Item","Start","End","Current %",{"$f":"'IMPLEMENTATION NOTES'!J25","v":"00:00:00"},{"$f":"'IMPLEMENTATION NOTES'!K25","v":"00:00:00"},{"$f":"'IMPLEMENTATION NOTES'!L25","v":"00:00:00"},{"$f":"'IMPLEMENTATION NOTES'!M25","v":"00:00:00"},{"$f":"'IMPLEMENTATION NOTES'!N25","v":"00:00:00"},{"$f":"'IMPLEMENTATION NOTES'!O25","v":"00:00:00"},{"$f":"'IMPLEMENTATION NOTES'!P25","v":"00:00:00"},{"$f":"L80","v":"00:00:00"},"Full Combined",null,"Rank","Action Item","Update Date","Update Percent","A1 Date","A2 Date","A3 Date","A4 Date","A5 Date",null,"Rank","Action Item","Update Date","Update Percent","A1 Date","A2 Date","A3 Date","A4 Date","A5 Date",null,"Rank","Action Item","Update Date","Update Percent","A1 Date","A2 Date","A3 Date","A4 Date","A5 Date",null,"Rank","Action Item","Update Date","Update Percent","A1 Date","A2 Date","A3 Date","A4 Date","A5 Date",null,"Rank","Action Item","Update Date","Update Percent","A1 Date","A2 Date","A3 Date","A4 Date","A5 Date"]
["Obj1",{"$f":"'IMPLEMENTATION NOTES'!D27","v":""},{"$f":"IF('IMPLEMENTATION NOTES'!O82=\"\",\"\",'IMPLEMENTATION NOTES'!O82)","v":""},{"$f":"'IMPLEMENTATION NOTES'!O83","v":"00:00:00"},{"$f":"IFERROR(VLOOKUP(\"A101\",$P$81:$S$100,4,FALSE),0)","v":0},{"$f":"IF($C81<G$80,1,0)","v":0},{"$f":"IF(COUNTIF($F81,3)>0,\"        \",IF($F81>0,IF($D81<$H$80,3,2),IF($C81<$H$80,1,0)))","v":0},{"$f":"IF(COUNTIF($F81:$G81,3)>0,\"        \",IF(G81>0,IF($D81<$I$80,3,2),IF($C81<$I$80,1,0)))","v":0},{"$f":"IF(COUNTIF($F81:H81,3)>0,\"        \",IF(H81>0,IF($D81<$J$80,3,2),IF($C81<$J$80,1,0)))","v":0},{"$f":"IF(COUNTIF($F81:I81,3)>0,\"        \",IF(I81>0,IF($D81<$K$80,3,2),IF($C81<$K$80,1,0)))","v":0},{"$f":"IF(COUNTIF($F81:J81,3)>0,\"        \",IF(J81>0,IF($D81<$L$80,3,2),IF($C81<$L$80,1,0)))","v":0},{"$f":"IF(COUNTIF($F81:K81,3)>0,\"        \",IF(K81>0,IF($D81<$M$80,3,2),IF($C81<$M$80,1,0)))","v":0},null,null,null,{"$f":"IF(Q81=$B$81,CONCATENATE(\"A1\",TEXT(RANK(R81,$T$81:$T$100,0),\"00\")),IF(Q81=$B$83,CONCATENATE(\"A2\",TEXT(RANK(R81,$U$81:$U$100,0),\"00\")),IF(Q81=$B$85,CONCATENATE(\"A3\",TEXT(RANK(R81,$V$81:$V$100,0),\"00\")),IF(Q81=$B$87,CONCATENATE(\"A4\",TEXT(RANK(R81,$W$81:$W$100,0),\"00\")),IF(Q81=$B$89,CONCATENATE(\"A5\",TEXT(RANK(R81,$X$81:$X$100,0),\"00\")),\"\")))))","v":""},{"$f":"'IMPLEMENTATION NOTES'!O125","v":0},{"$f":"'IMPLEMENTATION NOTES'!O126","v":"00:00:00"},{"$f":"'IMPLEMENTATION NOTES'!O127","v":0},{"$f":"IF(Q81=$B$81,R81,\"\")","v":""},{"$f":"IF(Q81=$B$83,R81,\"\")","v":""},{"$f":"IF(Q81=$B$85,R81,\"\")","v":""},{"$f":"IF(Q81=$B$87,R81,\"\")","v":""},{"$f":"IF(Q81=$B$89,R81,\"\")","v":""},null,{"$f":"IF(AA81=$B$91,CONCATENATE(\"A1\",TEXT(RANK(AB81,$AD$81:$AD$100,0),\"00\")),IF(AA81=$B$93,CONCATENATE(\"A2\",TEXT(RANK(AB81,$AE$81:$AE$100,0),\"00\")),IF(AA81=$B$95,CONCATENATE(\"A3\",TEXT(RANK(AB81,$AF$81:$AF$100,0),\"00\")),IF(AA81=$B$97,CONCATENATE(\"A4\",TEXT(RANK(AB81,$AG$81:$AG$100,0),\"00\")),IF(AA81=$B$99,CONCATENATE(\"A5\",TEXT(RANK(AB81,$AH$81:$AH$100,0),\"00\")),\"\")))))","v":""},{"$f":"'IMPLEMENTATION NOTES'!O389","v":0},{"$f":"'IMPLEMENTATION NOTES'!O390","v":"00:00:00"},{"$f":"'IMPLEMENTATION NOTES'!O391","v":0},{"$f":"IF(AA81=$B$91,AB81,\"\")","v":""},{"$f":"IF(AA81=$B$93,AB81,\"\")","v":""},{"$f":"IF(AA81=$B$95,AB81,\"\")","v":""},{"$f":"IF(AA81=$B$97,AB81,\"\")","v":""},{"$f":"IF(AA81=$B$99,AB81,\"\")","v":""},null,{"$f":"IF(AK81=$B$101,CONCATENATE(\"A1\",TEXT(RANK(AL81,$AN$81:$AN$100,0),\"00\")),IF(AK81=$B$103,CONCATENATE(\"A2\",TEXT(RANK(AL81,$AO$81:$AO$100,0),\"00\")),IF(AK81=$B$105,CONCATENATE(\"A3\",TEXT(RANK(AL81,$AP$81:$AP$100,0),\"00\")),IF(AK81=$B$107,CONCATENATE(\"A4\",TEXT(RANK(AL81,$AQ$81:$AQ$100,0),\"00\")),IF(AK81=$B$109,CONCATENATE(\"A5\",TEXT(RANK(AL81,$AR$81:$AR$100,0),\"00\")),\"\")))))","v":""},{"$f":"'IMPLEMENTATION NOTES'!O653","v":0},{"$f":"'IMPLEMENTATION NOTES'!O654","v":"00:00:00"},{"$f":"'IMPLEMENTATION NOTES'!O655","v":0},{"$f":"IF(AK81=$B$101,AL81,\"\")","v":""},{"$f":"IF(AK81=$B$103,AL81,\"\")","v":""},{"$f":"IF(AK81=$B$105,AL81,\"\")","v":""},{"$f":"IF(AK81=$B$107,AL81,\"\")","v":""},{"$f":"IF(AK81=$B$109,AL81,\"\")","v":""},null,{"$f":"IF(AU81=$B$111,CONCATENATE(\"A1\",TEXT(RANK(AV81,$AX$81:$AX$100,0),\"00\")),IF(AU81=$B$113,CONCATENATE(\"A2\",TEXT(RANK(AV81,$AY$81:$AY$100,0),\"00\")),IF(AU81=$B$115,CONCATENATE(\"A3\",TEXT(RANK(AV81,$AZ$81:$AZ$100,0),\"00\")),IF(AU81=$B$117,CONCATENATE(\"A4\",TEXT(RANK(AV81,$BA$81:$BA$100,0),\"00\")),IF(AU81=$B$119,CONCATENATE(\"A5\",TEXT(RANK(AV81,$BB$81:$BB$100,0),\"00\")),\"\")))))","v":""},{"$f":"'IMPLEMENTATION NOTES'!O917","v":0},{"$f":"'IMPLEMENTATION NOTES'!O918","v":"00:00:00"},{"$f":"'IMPLEMENTATION NOTES'!O919","v":0},{"$f":"IF(AU81=$B$111,AV81,\"\")","v":""},{"$f":"IF(AU81=$B$113,AV81,\"\")","v":""},{"$f":"IF(AU81=$B$115,AV81,\"\")","v":""},{"$f":"IF(AU81=$B$117,AV81,\"\")","v":""},{"$f":"IF(AU81=$B$119,AV81,\"\")","v":""},null,{"$f":"IF(BE81=$B$121,CONCATENATE(\"A1\",TEXT(RANK(BF81,$BH$81:$BH$100,0),\"00\")),IF(BE81=$B$123,CONCATENATE(\"A2\",TEXT(RANK(BF81,$BI$81:$BI$100,0),\"00\")),IF(BE81=$B$125,CONCATENATE(\"A3\",TEXT(RANK(BF81,$BJ$81:$BJ$100,0),\"00\")),IF(BE81=$B$127,CONCATENATE(\"A4\",TEXT(RANK(BF81,$BK$81:$BK$100,0),\"00\")),IF(BE81=$B$129,CONCATENATE(\"A5\",TEXT(RANK(BF81,$BL$81:$BL$100,0),\"00\")),\"\")))))","v":""},{"$f":"'IMPLEMENTATION NOTES'!O1181","v":0},{"$f":"'IMPLEMENTATION NOTES'!O1182","v":"00:00:00"},{"$f":"'IMPLEMENTATION NOTES'!O1183","v":0},{"$f":"IF(BE81=$B$121,BF81,\"\")","v":""},{"$f":"IF(BE81=$B$123,BF81,\"\")","v":""},{"$f":"IF(BE81=$B$125,BF81,\"\")","v":""},{"$f":"IF(BE81=$B$127,BF81,\"\")","v":""},{"$f":"IF(BE81=$B$129,BF81,\"\")","v":""}]
[null,null,null,null,null,{"$f":"IF(F81=0,CONCATENATE(REPT(\"   \",7)),IF(F81=1,CONCATENATE(REPT(\"   \",(($C81-F$80)/$G$79)),REPT(\"█\",8-(($C81-F$80)/$G$79))),IF(F81=2,REPT(\"█\",7),IF(F81=3,REPT(\"█\",($D81-F$80)/$G$79),\"       \"))))","v":"                     "},{"$f":"IF(G81=0,CONCATENATE(REPT(\"   \",7)),IF(G81=1,CONCATENATE(REPT(\"   \",(($C81-G$80)/$G$79)),REPT(\"█\",8-(($C81-G$80)/$G$79))),IF(G81=2,REPT(\"█\",7),IF(G81=3,REPT(\"█\",($D81-G$80)/$G$79),\"       \"))))","v":"                     "},{"$f":"IF(H81=0,CONCATENATE(REPT(\"   \",7)),IF(H81=1,CONCATENATE(REPT(\"   \",(($C81-H$80)/$G$79)),REPT(\"█\",8-(($C81-H$80)/$G$79))),IF(H81=2,REPT(\"█\",7),IF(H81=3,REPT(\"█\",($D81-H$80)/$G$79),\"       \"))))","v":"                     "},"                     ","                     ","                     ","                     ",null,{"$f":"CONCATENATE(F82,G82,H82,I82,J82,K82,L82)","v":"                                                                                                                                                   "},null,{"$f":"IF(Q82=$B$81,CONCATENATE(\"A1\",TEXT(RANK(R82,$T$81:$T$100,0),\"00\")),IF(Q82=$B$83,CONCATENATE(\"A2\",TEXT(RANK(R82,$U$81:$U$100,0),\"00\")),IF(Q82=$B$85,CONCATENATE(\"A3\",TEXT(RANK(R82,$V$81:$V$100,0),\"00\")),IF(Q82=$B$87,CONCATENATE(\"A4\",TEXT(RANK(R82,$W$81:$W$100,0),\"00\")),IF(Q82=$B$89,CONCATENATE(\"A5\",TEXT(RANK(R82,$X$81:$X$100,0),\"00\")),\"\")))))","v":""},{"$f":"'IMPLEMENTATION NOTES'!O132","v":0},{"$f":"'IMPLEMENTATION NOTES'!O133","v":"00:00:00"},{"$f":"'IMPLEMENTATION NOTES'!O134","v":0},{"$f":"IF(Q82=$B$81,R82,\"\")","v":""},{"$f":"IF(Q82=$B$83,R82,\"\")","v":""},{"$f":"IF(Q82=$B$85,R82,\"\")","v":""},{"$f":"IF(Q82=$B$87,R82,\"\")","v":""},{"$f":"IF(Q82=$B$89,R82,\"\")","v":""},null,{"$f":"IF(AA82=$B$91,CONCATENATE(\"A1\",TEXT(RANK(AB82,$AD$81:$AD$100,0),\"00\")),IF(AA82=$B$93,CONCATENATE(\"A2\",TEXT(RANK(AB82,$AE$81:$AE$100,0),\"00\")),IF(AA82=$B$95,CONCATENATE(\"A3\",TEXT(RANK(AB82,$AF$81:$AF$100,0),\"00\")),IF(AA82=$B$97,CONCATENATE(\"A4\",TEXT(RANK(AB82,$AG$81:$AG$100,0),\"00\")),IF(AA82=$B$99,CONCATENATE(\"A5\",TEXT(RANK(AB82,$AH$81:$AH$100,0),\"00\")),\"\")))))","v":""},{"$f":"'IMPLEMENTATION NOTES'!O396","v":0},{"$f":"'IMPLEMENTATION NOTES'!O397","v":"00:00:00"},{"$f":"'IMPLEMENTATION NOTES'!O398","v":0},{"$f":"IF(AA82=$B$91,AB82,\"\")","v":""},{"$f":"IF(AA82=$B$93,AB82,\"\")","v":""},{"$f":"IF(AA82=$B$95,AB82,\"\")","v":""},{"$f":"IF(AA82=$B$97,AB82,\"\")","v":""},{"$f":"IF(AA82=$B$99,AB82,\"\")","v":""},null,{"$f":"IF(AK82=$B$101,CONCATENATE(\"A1\",TEXT(RANK(AL82,$AN$81:$AN$100,0),\"00\")),IF(AK82=$B$103,CONCATENATE(\"A2\",TEXT(RANK(AL82,$AO$81:$AO$100,0),\"00\")),IF(AK82=$B$105,CONCATENATE(\"A3\",TEXT(RANK(AL82,$AP$81:$AP$100,0),\"00\")),IF(AK82=$B$107,CONCATENATE(\"A4\",TEXT(RANK(AL82,$AQ$81:$AQ$100,0),\"00\")),IF(AK82=$B$109,CONCATENATE(\"A5\",TEXT(RANK(AL82,$AR$81:$AR$100,0),\"00\")),\"\")))))","v":""},{"$f":"'IMPLEMENTATION NOTES'!O660","v":0},{"$f":"'IMPLEMENTATION NOTES'!O661","v":"00:00:00"},{"$f":"'IMPLEMENTATION NOTES'!O662","v":0},{"$f":"IF(AK82=$B$101,AL82,\"\")","v":""},{"$f":"IF(AK82=$B$103,AL82,\"\")","v":""},{"$f":"IF(AK82=$B$105,AL82,\"\")","v":""},{"$f":"IF(AK82=$B$107,AL82,\"\")","v":""},{"$f":"IF(AK82=$B$109,AL82,\"\")","v":""},null,{"$f":"IF(AU82=$B$111,CONCATENATE(\"A1\",TEXT(RANK(AV82,$AX$81:$AX$100,0),\"00\")),IF(AU82=$B$113,CONCATENATE(\"A2\",TEXT(RANK(AV82,$AY$81:$AY$100,0),\"00\")),IF(AU82=$B$115,CONCATENATE(\"A3\",TEXT(RANK(AV82,$AZ$81:$AZ$100,0),\"00\")),IF(AU82=$B$117,CONCATENATE(\"A4\",TEXT(RANK(AV82,$BA$81:$BA$100,0),\"00\")),IF(AU82=$B$119,CONCATENATE(\"A5\",TEXT(RANK(AV82,$BB$81:$BB$100,0),\"00\")),\"\")))))","v":""},{"$f":"'IMPLEMENTATION NOTES'!O924","v":0},{"$f":"'IMPLEMENTATION NOTES'!O925","v":"00:00:00"},{"$f":"'IMPLEMENTATION NOTES'!O926","v":0},{"$f":"IF(AU82=$B$111,AV82,\"\")","v":""},{"$f":"IF(AU82=$B$113,AV82,\"\")","v":""},{"$f":"IF(AU82=$B$115,AV82,\"\")","v":""},{"$f":"IF(AU82=$B$117,AV82,\"\")","v":""},{"$f":"IF(AU82=$B$119,AV82,\"\")","v":""},null,{"$f":"IF(BE82=$B$121,CONCATENATE(\"A1\",TEXT(RANK(BF82,$BH$81:$BH$100,0),\"00\")),IF(BE82=$B$123,CONCATENATE(\"A2\",TEXT(RANK(BF82,$BI$81:$BI$100,0),\"00\")),IF(BE82=$B$125,CONCATENATE(\"A3\",TEXT(RANK(BF82,$BJ$81:$BJ$100,0),\"00\")),IF(BE82=$B$127,CONCATENATE(\"A4\",TEXT(RANK(BF82,$BK$81:$BK$100,0),\"00\")),IF(BE82=$B$129,CONCATENATE(\"A5\",TEXT(RANK(BF82,$BL$81:$BL$100,0),\"00\")),\"\")))))","v":""},{"$f":"'IMPLEMENTATION NOTES'!O1188","v":0},{"$f":"'IMPLEMENTATION NOTES'!O1189","v":"00:00:00"},{"$f":"'IMPLEMENTATION NOTES'!O1190","v":0},{"$f":"IF(BE82=$B$121,BF82,\"\")","v":""},{"$f":"IF(BE82=$B$123,BF82,\"\")","v":""},{"$f":"IF(BE82=$B$125,BF82,\"\")","v":""},{"$f":"IF(BE82=$B$127,BF82,\"\")","v":""},{"$f":"IF(BE82=$B$129,BF82,\"\")","v":""}]
[null,{"$f":"'IMPLEMENTATION NOTES'!D28","v":""},{"$f":"IF('IMPLEMENTATION NOTES'!O91=\"\",\"\",'IMPLEMENTATION NOTES'!O91)","v":""},{"$f":"'IMPLEMENTATION NOTES'!O92","v":"00:00:00"},{"$f":"IFERROR(VLOOKUP(\"A201\",$P$81:$S$100,4,FALSE),0)","v":0},{"$f":"IF($C83<G$80,1,0)","v":0},{"$f":"IF(COUNTIF($F83,3)>0,\"        \",IF($F83>0,IF($D83<$H$80,3,2),IF($C83<$H$80,1,0)))","v":0},{"$f":"IF(COUNTIF($F83:$G83,3)>0,\"        \",IF(G83>0,IF($D83<$I$80,3,2),IF($C83<$I$80,1,0)))","v":0},{"$f":"IF(COUNTIF($F83:H83,3)>0,\"        \",IF(H83>0,IF($D83<$J$80,3,2),IF($C83<$J$80,1,0)))","v":0},{"$f":"IF(COUNTIF($F83:I83,3)>0,\"        \",IF(I83>0,IF($D83<$K$80,3,2),IF($C83<$K$80,1,0)))","v":0},{"$f":"IF(COUNTIF($F83:J83,3)>0,\"        \",IF(J83>0,IF($D83<$L$80,3,2),IF($C83<$L$80,1,0)))","v":0},{"$f":"IF(COUNTIF($F83:K83,3)>0,\"        \",IF(K83>0,IF($D83<$M$80,3,2),IF($C83<$M$80,1,0)))","v":0},null,null,null,"",{"$f":"'IMPLEMENTATION NOTES'!O139","v":0},{"$f":"'IMPLEMENTATION NOTES'!O140","v":"00:00:00"},{"$f":"'IMPLEMENTATION NOTES'!O141","v":0},"","","","","",null,"",{"$f":"'IMPLEMENTATION NOTES'!O403","v":0},{"$f":"'IMPLEMENTATION NOTES'!O404","v":"00:00:00"},{"$f":"'IMPLEMENTATION NOTES'!O405","v":0},"","","","","",null,"",{"$f":"'IMPLEMENTATION NOTES'!O667","v":0},{"$f":"'IMPLEMENTATION NOTES'!O668","v":"00:00:00"},{"$f":"'IMPLEMENTATION NOTES'!O669","v":0},"","","","","",null,"",{"$f":"'IMPLEMENTATION NOTES'!O931","v":0},{"$f":"'IMPLEMENTATION NOTES'!O932","v":"00:00:00"},{"$f":"'IMPLEMENTATION NOTES'!O933","v":0},"","","","","",null,"",{"$f":"'IMPLEMENTATION NOTES'!O1195","v":0},{"$f":"'IMPLEMENTATION NOTES'!O1196","v":"00:00:00"},{"$f":"'IMPLEMENTATION NOTES'!O1197","v":0},"","","","",""]
[null,null,null,null,null,{"$f":"IF(F83=0,CONCATENATE(REPT(\"   \",7)),IF(F83=1,CONCATENATE(REPT(\"   \",(($C83-F$80)/$G$79)),REPT(\"█\",8-(($C83-F$80)/$G$79))),IF(F83=2,REPT(\"█\",7),IF(F83=3,REPT(\"█\",($D83-F$80)/$G$79),\"       \"))))","v":"                     "},{"$f":"IF(G83=0,CONCATENATE(REPT(\"   \",7)),IF(G83=1,CONCATENATE(REPT(\"   \",(($C83-G$80)/$G$79)),REPT(\"█\",8-(($C83-G$80)/$G$79))),IF(G83=2,REPT(\"█\",7),IF(G83=3,REPT(\"█\",($D83-G$80)/$G$79),\"       \"))))","v":"                     "},{"$f":"IF(H83=0,CONCATENATE(REPT(\"   \",7)),IF(H83=1,CONCATENATE(REPT(\"   \",(($C83-H$80)/$G$79)),REPT(\"█\",8-(($C83-H$80)/$G$79))),IF(H83=2,REPT(\"█\",7),IF(H83=3,REPT(\"█\",($D83-H$80)/$G$79),\"       \"))))","v":"                     "},{"$f":"IF(I83=0,CONCATENATE(REPT(\"   \",7)),IF(I83=1,CONCATENATE(REPT(\"   \",(($C83-I$80)/$G$79)),REPT(\"█\",8-(($C83-I$80)/$G$79))),IF(I83=2,REPT(\"█\",7),IF(I83=3,REPT(\"█\",($D83-I$80)/$G$79),\"       \"))))","v":"                     "},{"$f":"IF(J83=0,CONCATENATE(REPT(\"   \",7)),IF(J83=1,CONCATENATE(REPT(\"   \",(($C83-J$80)/$G$79)),REPT(\"█\",8-(($C83-J$80)/$G$79))),IF(J83=2,REPT(\"█\",7),IF(J83=3,REPT(\"█\",($D83-J$80)/$G$79),\"       \"))))","v":"                     "},{"$f":"IF(K83=0,CONCATENATE(REPT(\"   \",7)),IF(K83=1,CONCATENATE(REPT(\"   \",(($C83-K$80)/$G$79)),REPT(\"█\",8-(($C83-K$80)/$G$79))),IF(K83=2,REPT(\"█\",7),IF(K83=3,REPT(\"█\",($D83-K$80)/$G$79),\"       \"))))","v":"                     "},{"$f":"IF(L83=0,CONCATENATE(REPT(\"   \",7)),IF(L83=1,CONCATENATE(REPT(\"   \",(($C83-L$80)/$G$79)),REPT(\"█\",8-(($C83-L$80)/$G$79))),IF(L83=2,REPT(\"█\",7),IF(L83=3,REPT(\"█\",($D83-L$80)/$G$79),\"       \"))))","v":"                     "},null,{"$f":"CONCATENATE(F84,G84,H84,I84,J84,K84,L84)","v":"                                                                                                                                                   "},null,"",{"$f":"'IMPLEMENTATION NOTES'!O146","v":0},{"$f":"'IMPLEMENTATION NOTES'!O147","v":"00:00:00"},{"$f":"'IMPLEMENTATION NOTES'!O148","v":0},"","","","","",null,"",{"$f":"'IMPLEMENTATION NOTES'!O410","v":0},{"$f":"'IMPLEMENTATION NOTES'!O411","v":"00:00:00"},{"$f":"'IMPLEMENTATION NOTES'!O412","v":0},"","","","","",null,"",{"$f":"'IMPLEMENTATION NOTES'!O674","v":0},{"$f":"'IMPLEMENTATION NOTES'!O675","v":"00:00:00"},{"$f":"'IMPLEMENTATION NOTES'!O676","v":0},"","","","","",null,"",{"$f":"'IMPLEMENTATION NOTES'!O938","v":0},{"$f":"'IMPLEMENTATION NOTES'!O939","v":"00:00:00"},{"$f":"'IMPLEMENTATION NOTES'!O940","v":0},"","","","","",null,"",{"$f":"'IMPLEMENTATION NOTES'!O1202","v":0},{"$f":"'IMPLEMENTATION NOTES'!O1203","v":"00:00:00"},{"$f":"'IMPLEMENTATION NOTES'!O1204","v":0},"","","","",""]
[null,{"$f":"'IMPLEMENTATION NOTES'!D29","v":""},{"$f":"IF('IMPLEMENTATION NOTES'!O100=\"\",\"\",'IMPLEMENTATION NOTES'!O100)","v":""},{"$f":"'IMPLEMENTATION NOTES'!O101","v":"00:00:00"},{"$f":"IFERROR(VLOOKUP(\"A301\",$P$81:$S$100,4,FALSE),0)","v":0},{"$f":"IF($C85<G$80,1,0)","v":0},{"$f":"IF(COUNTIF($F85,3)>0,\"        \",IF($F85>0,IF($D85<$H$80,3,2),IF($C85<$H$80,1,0)))","v":0},{"$f":"IF(COUNTIF($F85:$G85,3)>0,\"        \",IF(G85>0,IF($D85<$I$80,3,2),IF($C85<$I$80,1,0)))","v":0},{"$f":"IF(COUNTIF($F85:H85,3)>0,\"        \",IF(H85>0,IF($D85<$J$80,3,2),IF($C85<$J$80,1,0)))","v":0},{"$f":"IF(COUNTIF($F85:I85,3)>0,\"        \",IF(I85>0,IF($D85<$K$80,3,2),IF($C85<$K$80,1,0)))","v":0},{"$f":"IF(COUNTIF($F85:J85,3)>0,\"        \",IF(J85>0,IF($D85<$L$80,3,2),IF($C85<$L$80,1,0)))","v":0},{"$f":"IF(COUNTIF($F85:K85,3)>0,\"        \",IF(K85>0,IF($D85<$M$80,3,2),IF($C85<$M$80,1,0)))","v":0},null,null,null,"",{"$f":"'IMPLEMENTATION NOTES'!O153","v":0},{"$f":"'IMPLEMENTATION NOTES'!O154","v":"00:00:00"},{"$f":"'IMPLEMENTATION NOTES'!O155","v":0},"","","","","",null,"",{"$f":"'IMPLEMENTATION NOTES'!O417","v":0},{"$f":"'IMPLEMENTATION NOTES'!O418","v":"00:00:00"},{"$f":"'IMPLEMENTATION NOTES'!O419","v":0},"","","","","",null,"",{"$f":"'IMPLEMENTATION NOTES'!O681","v":0},{"$f":"'IMPLEMENTATION NOTES'!O682","v":"00:00:00"},{"$f":"'IMPLEMENTATION NOTES'!O683","v":0},"","","","","",null,"",{"$f":"'IMPLEMENTATION NOTES'!O945","v":0},{"$f":"'IMPLEMENTATION NOTES'!O946","v":"00:00:00"},{"$f":"'IMPLEMENTATION NOTES'!O947","v":0},"","","","","",null,"",{"$f":"'IMPLEMENTATION NOTES'!O1209","v":0},{"$f":"'IMPLEMENTATION NOTES'!O1210","v":"00:00:00"},{"$f":"'IMPLEMENTATION NOTES'!O1211","v":0},"","","","",""]
[null,null,null,null,null,{"$f":"IF(F85=0,CONCATENATE(REPT(\"   \",7)),IF(F85=1,CONCATENATE(REPT(\"   \",(($C85-F$80)/$G$79)),REPT(\"█\",8-(($C85-F$80)/$G$79))),IF(F85=2,REPT(\"█\",7),IF(F85=3,REPT(\"█\",($D85-F$80)/$G$79),\"       \"))))","v":"                     "},{"$f":"IF(G85=0,CONCATENATE(REPT(\"   \",7)),IF(G85=1,CONCATENATE(REPT(\"   \",(($C85-G$80)/$G$79)),REPT(\"█\",8-(($C85-G$80)/$G$79))),IF(G85=2,REPT(\"█\",7),IF(G85=3,REPT(\"█\",($D85-G$80)/$G$79),\"       \"))))","v":"                     "},{"$f":"IF(H85=0,CONCATENATE(REPT(\"   \",7)),IF(H85=1,CONCATENATE(REPT(\"   \",(($C85-H$80)/$G$79)),REPT(\"█\",8-(($C85-H$80)/$G$79))),IF(H85=2,REPT(\"█\",7),IF(H85=3,REPT(\"█\",($D85-H$80)/$G$79),\"       \"))))","v":"                     "},{"$f":"IF(I85=0,CONCATENATE(REPT(\"   \",7)),IF(I85=1,CONCATENATE(REPT(\"   \",(($C85-I$80)/$G$79)),REPT(\"█\",8-(($C85-I$80)/$G$79))),IF(I85=2,REPT(\"█\",7),IF(I85=3,REPT(\"█\",($D85-I$80)/$G$79),\"       \"))))","v":"                     "},{"$f":"IF(J85=0,CONCATENATE(REPT(\"   \",7)),IF(J85=1,CONCATENATE(REPT(\"   \",(($C85-J$80)/$G$79)),REPT(\"█\",8-(($C85-J$80)/$G$79))),IF(J85=2,REPT(\"█\",7),IF(J85=3,REPT(\"█\",($D85-J$80)/$G$79),\"       \"))))","v":"                     "},{"$f":"IF(K85=0,CONCATENATE(REPT(\"   \",7)),IF(K85=1,CONCATENATE(REPT(\"   \",(($C85-K$80)/$G$79)),REPT(\"█\",8-(($C85-K$80)/$G$79))),IF(K85=2,REPT(\"█\",7),IF(K85=3,REPT(\"█\",($D85-K$80)/$G$79),\"       \"))))","v":"                     "},{"$f":"IF(L85=0,CONCATENATE(REPT(\"   \",7)),IF(L85=1,CONCATENATE(REPT(\"   \",(($C85-L$80)/$G$79)),REPT(\"█\",8-(($C85-L$80)/$G$79))),IF(L85=2,REPT(\"█\",7),IF(L85=3,REPT(\"█\",($D85-L$80)/$G$79),\"       \"))))","v":"                     "},null,{"$f":"CONCATENATE(F86,G86,H86,I86,J86,K86,L86)","v":"                                                                                                                                                   "},null,"",{"$f":"'IMPLEMENTATION NOTES'!O160","v":0},{"$f":"'IMPLEMENTATION NOTES'!O161","v":"00:00:00"},{"$f":"'IMPLEMENTATION NOTES'!O162","v":0},"","","","","",null,"",{"$f":"'IMPLEMENTATION NOTES'!O424","v":0},{"$f":"'IMPLEMENTATION NOTES'!O425","v":"00:00:00"},{"$f":"'IMPLEMENTATION NOTES'!O426","v":0},"","","","","",null,"",{"$f":"'IMPLEMENTATION NOTES'!O688","v":0},{"$f":"'IMPLEMENTATION NOTES'!O689","v":"00:00:00"},{"$f":"'IMPLEMENTATION NOTES'!O690","v":0},"","","","","",null,"",{"$f":"'IMPLEMENTATION NOTES'!O952","v":0},{"$f":"'IMPLEMENTATION NOTES'!O953","v":"00:00:00"},{"$f":"'IMPLEMENTATION NOTES'!O954","v":0},"","","","","",null,"",{"$f":"'IMPLEMENTATION NOTES'!O1216","v":0},{"$f":"'IMPLEMENTATION NOTES'!O1217","v":"00:00:00"},{"$f":"'IMPLEMENTATION NOTES'!O1218","v":0},"","","","",""]
[null,{"$f":"'IMPLEMENTATION NOTES'!D30","v":""},{"$f":"IF('IMPLEMENTATION NOTES'!O109=\"\",\"\",'IMPLEMENTATION NOTES'!O109)","v":""},{"$f":"'IMPLEMENTATION NOTES'!O110","v":"00:00:00"},{"$f":"IFERROR(VLOOKUP(\"A401\",$P$81:$S$100,4,FALSE),0)","v":0},{"$f":"IF($C87<G$80,1,0)","v":0},{"$f":"IF(COUNTIF($F87,3)>0,\"        \",IF($F87>0,IF($D87<$H$80,3,2),IF($C87<$H$80,1,0)))","v":0},{"$f":"IF(COUNTIF($F87:$G87,3)>0,\"        \",IF(G87>0,IF($D87<$I$80,3,2),IF($C87<$I$80,1,0)))","v":0},{"$f":"IF(COUNTIF($F87:H87,3)>0,\"        \",IF(H87>0,IF($D87<$J$80,3,2),IF($C87<$J$80,1,0)))","v":0},{"$f":"IF(COUNTIF($F87:I87,3)>0,\"        \",IF(I87>0,IF($D87<$K$80,3,2),IF($C87<$K$80,1,0)))","v":0},{"$f":"IF(COUNTIF($F87:J87,3)>0,\"        \",IF(J87>0,IF($D87<$L$80,3,2),IF($C87<$L$80,1,0)))","v":0},{"$f":"IF(COUNTIF($F87:K87,3)>0,\"        \",IF(K87>0,IF($D87<$M$80,3,2),IF($C87<$M$80,1,0)))","v":0},null,null,null,"",{"$f":"'IMPLEMENTATION NOTES'!O167","v":0},{"$f":"'IMPLEMENTATION NOTES'!O168","v":"00:00:00"},{"$f":"'IMPLEMENTATION NOTES'!O169","v":0},"","","","","",null,"",{"$f":"'IMPLEMENTATION NOTES'!O431","v":0},{"$f":"'IMPLEMENTATION NOTES'!O432","v":"00:00:00"},{"$f":"'IMPLEMENTATION NOTES'!O433","v":0},"","","","","",null,"",{"$f":"'IMPLEMENTATION NOTES'!O695","v":0},{"$f":"'IMPLEMENTATION NOTES'!O696","v":"00:00:00"},{"$f":"'IMPLEMENTATION NOTES'!O697","v":0},"","","","","",null,"",{"$f":"'IMPLEMENTATION NOTES'!O959","v":0},{"$f":"'IMPLEMENTATION NOTES'!O960","v":"00:00:00"},{"$f":"'IMPLEMENTATION NOTES'!O961","v":0},"","","","","",null,"",{"$f":"'IMPLEMENTATION NOTES'!O1223","v":0},{"$f":"'IMPLEMENTATION NOTES'!O1224","v":"00:00:00"},{"$f":"'IMPLEMENTATION NOTES'!O1225","v":0},"","","","",""]
[null,null,null,null,null,{"$f":"IF(F87=0,CONCATENATE(REPT(\"   \",7)),IF(F87=1,CONCATENATE(REPT(\"   \",(($C87-F$80)/$G$79)),REPT(\"█\",8-(($C87-F$80)/$G$79))),IF(F87=2,REPT(\"█\",7),IF(F87=3,REPT(\"█\",($D87-F$80)/$G$79),\"       \"))))","v":"                     "},{"$f":"IF(G87=0,CONCATENATE(REPT(\"   \",7)),IF(G87=1,CONCATENATE(REPT(\"   \",(($C87-G$80)/$G$79)),REPT(\"█\",8-(($C87-G$80)/$G$79))),IF(G87=2,REPT(\"█\",7),IF(G87=3,REPT(\"█\",($D87-G$80)/$G$79),\"       \"))))","v":"                     "},{"$f":"IF(H87=0,CONCATENATE(REPT(\"   \",7)),IF(H87=1,CONCATENATE(REPT(\"   \",(($C87-H$80)/$G$79)),REPT(\"█\",8-(($C87-H$80)/$G$79))),IF(H87=2,REPT(\"█\",7),IF(H87=3,REPT(\"█\",($D87-H$80)/$G$79),\"       \"))))","v":"                     "},{"$f":"IF(I87=0,CONCATENATE(REPT(\"   \",7)),IF(I87=1,CONCATENATE(REPT(\"   \",(($C87-I$80)/$G$79)),REPT(\"█\",8-(($C87-I$80)/$G$79))),IF(I87=2,REPT(\"█\",7),IF(I87=3,REPT(\"█\",($D87-I$80)/$G$79),\"       \"))))","v":"                     "},{"$f":"IF(J87=0,CONCATENATE(REPT(\"   \",7)),IF(J87=1,CONCATENATE(REPT(\"   \",(($C87-J$80)/$G$79)),REPT(\"█\",8-(($C87-J$80)/$G$79))),IF(J87=2,REPT(\"█\",7),IF(J87=3,REPT(\"█\",($D87-J$80)/$G$79),\"       \"))))","v":"                     "},{"$f":"IF(K87=0,CONCATENATE(REPT(\"   \",7)),IF(K87=1,CONCATENATE(REPT(\"   \",(($C87-K$80)/$G$79)),REPT(\"█\",8-(($C87-K$80)/$G$79))),IF(K87=2,REPT(\"█\",7),IF(K87=3,REPT(\"█\",($D87-K$80)/$G$79),\"       \"))))","v":"                     "},{"$f":"IF(L87=0,CONCATENATE(REPT(\"   \",7)),IF(L87=1,CONCATENATE(REPT(\"   \",(($C87-L$80)/$G$79)),REPT(\"█\",8-(($C87-L$80)/$G$79))),IF(L87=2,REPT(\"█\",7),IF(L87=3,REPT(\"█\",($D87-L$80)/$G$79),\"       \"))))","v":"                     "},null,{"$f":"CONCATENATE(F88,G88,H88,I88,J88,K88,L88)","v":"                                                                                                                                                   "},null,"",{"$f":"'IMPLEMENTATION NOTES'!O174","v":0},{"$f":"'IMPLEMENTATION NOTES'!O175","v":"00:00:00"},{"$f":"'IMPLEMENTATION NOTES'!O176","v":0},"","","","","",null,"",{"$f":"'IMPLEMENTATION NOTES'!O438","v":0},{"$f":"'IMPLEMENTATION NOTES'!O439","v":"00:00:00"},{"$f":"'IMPLEMENTATION NOTES'!O440","v":0},"","","","","",null,"",{"$f":"'IMPLEMENTATION NOTES'!O702","v":0},{"$f":"'IMPLEMENTATION NOTES'!O703","v":"00:00:00"},{"$f":"'IMPLEMENTATION NOTES'!O704","v":0},"","","","","",null,"",{"$f":"'IMPLEMENTATION NOTES'!O966","v":0},{"$f":"'IMPLEMENTATION NOTES'!O967","v":"00:00:00"},{"$f":"'IMPLEMENTATION NOTES'!O968","v":0},"","","","","",null,"",{"$f":"'IMPLEMENTATION NOTES'!O1230","v":0},{"$f":"'IMPLEMENTATION NOTES'!O1231","v":"00:00:00"},{"$f":"'IMPLEMENTATION NOTES'!O1232","v":0},"","","","",""]
[null,{"$f":"'IMPLEMENTATION NOTES'!D31","v":""},{"$f":"IF('IMPLEMENTATION NOTES'!O118=\"\",\"\",'IMPLEMENTATION NOTES'!O118)","v":""},{"$f":"'IMPLEMENTATION NOTES'!O119","v":"00:00:00"},{"$f":"IFERROR(VLOOKUP(\"A501\",$P$81:$S$100,4,FALSE),0)","v":0},{"$f":"IF($C89<G$80,1,0)","v":0},{"$f":"IF(COUNTIF($F89,3)>0,\"        \",IF($F89>0,IF($D89<$H$80,3,2),IF($C89<$H$80,1,0)))","v":0},{"$f":"IF(COUNTIF($F89:$G89,3)>0,\"        \",IF(G89>0,IF($D89<$I$80,3,2),IF($C89<$I$80,1,0)))","v":0},{"$f":"IF(COUNTIF($F89:H89,3)>0,\"        \",IF(H89>0,IF($D89<$J$80,3,2),IF($C89<$J$80,1,0)))","v":0},{"$f":"IF(COUNTIF($F89:I89,3)>0,\"        \",IF(I89>0,IF($D89<$K$80,3,2),IF($C89<$K$80,1,0)))","v":0},{"$f":"IF(COUNTIF($F89:J89,3)>0,\"        \",IF(J89>0,IF($D89<$L$80,3,2),IF($C89<$L$80,1,0)))","v":0},{"$f":"IF(COUNTIF($F89:K89,3)>0,\"        \",IF(K89>0,IF($D89<$M$80,3,2),IF($C89<$M$80,1,0)))","v":0},null,null,null,"",{"$f":"'IMPLEMENTATION NOTES'!O181","v":0},{"$f":"'IMPLEMENTATION NOTES'!O182","v":"00:00:00"},{"$f":"'IMPLEMENTATION NOTES'!O183","v":0},"","","","","",null,"",{"$f":"'IMPLEMENTATION NOTES'!O445","v":0},{"$f":"'IMPLEMENTATION NOTES'!O446","v":"00:00:00"},{"$f":"'IMPLEMENTATION NOTES'!O447","v":0},"","","","","",null,"",{"$f":"'IMPLEMENTATION NOTES'!O709","v":0},{"$f":"'IMPLEMENTATION NOTES'!O710","v":"00:00:00"},{"$f":"'IMPLEMENTATION NOTES'!O711","v":0},"","","","","",null,"",{"$f":"'IMPLEMENTATION NOTES'!O973","v":0},{"$f":"'IMPLEMENTATION NOTES'!O974","v":"00:00:00"},{"$f":"'IMPLEMENTATION NOTES'!O975","v":0},"","","","","",null,"",{"$f":"'IMPLEMENTATION NOTES'!O1237","v":0},{"$f":"'IMPLEMENTATION NOTES'!O1238","v":"00:00:00"},{"$f":"'IMPLEMENTATION NOTES'!O1239","v":0},"","","","",""]
[null,null,null,null,null,{"$f":"IF(F89=0,CONCATENATE(REPT(\"   \",7)),IF(F89=1,CONCATENATE(REPT(\"   \",(($C89-F$80)/$G$79)),REPT(\"█\",8-(($C89-F$80)/$G$79))),IF(F89=2,REPT(\"█\",7),IF(F89=3,REPT(\"█\",($D89-F$80)/$G$79),\"       \"))))","v":"                     "},{"$f":"IF(G89=0,CONCATENATE(REPT(\"   \",7)),IF(G89=1,CONCATENATE(REPT(\"   \",(($C89-G$80)/$G$79)),REPT(\"█\",8-(($C89-G$80)/$G$79))),IF(G89=2,REPT(\"█\",7),IF(G89=3,REPT(\"█\",($D89-G$80)/$G$79),\"       \"))))","v":"                     "},{"$f":"IF(H89=0,CONCATENATE(REPT(\"   \",7)),IF(H89=1,CONCATENATE(REPT(\"   \",(($C89-H$80)/$G$79)),REPT(\"█\",8-(($C89-H$80)/$G$79))),IF(H89=2,REPT(\"█\",7),IF(H89=3,REPT(\"█\",($D89-H$80)/$G$79),\"       \"))))","v":"                     "},{"$f":"IF(I89=0,CONCATENATE(REPT(\"   \",7)),IF(I89=1,CONCATENATE(REPT(\"   \",(($C89-I$80)/$G$79)),REPT(\"█\",8-(($C89-I$80)/$G$79))),IF(I89=2,REPT(\"█\",7),IF(I89=3,REPT(\"█\",($D89-I$80)/$G$79),\"       \"))))","v":"                     "},{"$f":"IF(J89=0,CONCATENATE(REPT(\"   \",7)),IF(J89=1,CONCATENATE(REPT(\"   \",(($C89-J$80)/$G$79)),REPT(\"█\",8-(($C89-J$80)/$G$79))),IF(J89=2,REPT(\"█\",7),IF(J89=3,REPT(\"█\",($D89-J$80)/$G$79),\"       \"))))","v":"                     "},{"$f":"IF(K89=0,CONCATENATE(REPT(\"   \",7)),IF(K89=1,CONCATENATE(REPT(\"   \",(($C89-K$80)/$G$79)),REPT(\"█\",8-(($C89-K$80)/$G$79))),IF(K89=2,REPT(\"█\",7),IF(K89=3,REPT(\"█\",($D89-K$80)/$G$79),\"       \"))))","v":"                     "},{"$f":"IF(L89=0,CONCATENATE(REPT(\"   \",7)),IF(L89=1,CONCATENATE(REPT(\"   \",(($C89-L$80)/$G$79)),REPT(\"█\",8-(($C89-L$80)/$G$79))),IF(L89=2,REPT(\"█\",7),IF(L89=3,REPT(\"█\",($D89-L$80)/$G$79),\"       \"))))","v":"                     "},null,{"$f":"CONCATENATE(F90,G90,H90,I90,J90,K90,L90)","v":"                                                                                                                                                   "},null,"",{"$f":"'IMPLEMENTATION NOTES'!O188","v":0},{"$f":"'IMPLEMENTATION NOTES'!O189","v":"00:00:00"},{"$f":"'IMPLEMENTATION NOTES'!O190","v":0},"","","","","",null,"",{"$f":"'IMPLEMENTATION NOTES'!O452","v":0},{"$f":"'IMPLEMENTATION NOTES'!O453","v":"00:00:00"},{"$f":"'IMPLEMENTATION NOTES'!O454","v":0},"","","","","",null,"",{"$f":"'IMPLEMENTATION NOTES'!O716","v":0},{"$f":"'IMPLEMENTATION NOTES'!O717","v":"00:00:00"},{"$f":"'IMPLEMENTATION NOTES'!O718","v":0},"","","","","",null,"",{"$f":"'IMPLEMENTATION NOTES'!O980","v":0},{"$f":"'IMPLEMENTATION NOTES'!O981","v":"00:00:00"},{"$f":"'IMPLEMENTATION NOTES'!O982","v":0},"","","","","",null,"",{"$f":"'IMPLEMENTATION NOTES'!O1244","v":0},{"$f":"'IMPLEMENTATION NOTES'!O1245","v":"00:00:00"},{"$f":"'IMPLEMENTATION NOTES'!O1246","v":0},"","","","",""]
["Obj2",{"$f":"'IMPLEMENTATION NOTES'!D33","v":""},{"$f":"IF('IMPLEMENTATION NOTES'!O346=\"\",\"\",'IMPLEMENTATION NOTES'!O346)","v":""},{"$f":"'IMPLEMENTATION NOTES'!O347","v":"00:00:00"},{"$f":"IFERROR(VLOOKUP(\"A101\",$Z$81:$AC$100,4,FALSE),0)","v":0},{"$f":"IF($C91<G$80,1,0)","v":0},{"$f":"IF(COUNTIF($F91,3)>0,\"        \",IF($F91>0,IF($D91<$H$80,3,2),IF($C91<$H$80,1,0)))","v":0},{"$f":"IF(COUNTIF($F91:$G91,3)>0,\"        \",IF(G91>0,IF($D91<$I$80,3,2),IF($C91<$I$80,1,0)))","v":0},{"$f":"IF(COUNTIF($F91:H91,3)>0,\"        \",IF(H91>0,IF($D91<$J$80,3,2),IF($C91<$J$80,1,0)))","v":0},{"$f":"IF(COUNTIF($F91:I91,3)>0,\"        \",IF(I91>0,IF($D91<$K$80,3,2),IF($C91<$K$80,1,0)))","v":0},{"$f":"IF(COUNTIF($F91:J91,3)>0,\"        \",IF(J91>0,IF($D91<$L$80,3,2),IF($C91<$L$80,1,0)))","v":0},{"$f":"IF(COUNTIF($F91:K91,3)>0,\"        \",IF(K91>0,IF($D91<$M$80,3,2),IF($C91<$M$80,1,0)))","v":0},null,null,null,"",{"$f":"'IMPLEMENTATION NOTES'!O195","v":0},{"$f":"'IMPLEMENTATION NOTES'!O196","v":"00:00:00"},{"$f":"'IMPLEMENTATION NOTES'!O197","v":0},"","","","","",null,"",{"$f":"'IMPLEMENTATION NOTES'!O459","v":0},{"$f":"'IMPLEMENTATION NOTES'!O460","v":"00:00:00"},{"$f":"'IMPLEMENTATION NOTES'!O461","v":0},"","","","","",null,"",{"$f":"'IMPLEMENTATION NOTES'!O723","v":0},{"$f":"'IMPLEMENTATION NOTES'!O724","v":"00:00:00"},{"$f":"'IMPLEMENTATION NOTES'!O725","v":0},"","","","","",null,"",{"$f":"'IMPLEMENTATION NOTES'!O987","v":0},{"$f":"'IMPLEMENTATION NOTES'!O988","v":"00:00:00"},{"$f":"'IMPLEMENTATION NOTES'!O989","v":0},"","","","","",null,"",{"$f":"'IMPLEMENTATION NOTES'!O1251","v":0},{"$f":"'IMPLEMENTATION NOTES'!O1252","v":"00:00:00"},{"$f":"'IMPLEMENTATION NOTES'!O1253","v":0},"","","","",""]
[null,null,null,null,null,{"$f":"IF(F91=0,CONCATENATE(REPT(\"   \",7)),IF(F91=1,CONCATENATE(REPT(\"   \",(($C91-F$80)/$G$79)),REPT(\"█\",8-(($C91-F$80)/$G$79))),IF(F91=2,REPT(\"█\",7),IF(F91=3,REPT(\"█\",($D91-F$80)/$G$79),\"       \"))))","v":"                     "},{"$f":"IF(G91=0,CONCATENATE(REPT(\"   \",7)),IF(G91=1,CONCATENATE(REPT(\"   \",(($C91-G$80)/$G$79)),REPT(\"█\",8-(($C91-G$80)/$G$79))),IF(G91=2,REPT(\"█\",7),IF(G91=3,REPT(\"█\",($D91-G$80)/$G$79),\"       \"))))","v":"                     "},{"$f":"IF(H91=0,CONCATENATE(REPT(\"   \",7)),IF(H91=1,CONCATENATE(REPT(\"   \",(($C91-H$80)/$G$79)),REPT(\"█\",8-(($C91-H$80)/$G$79))),IF(H91=2,REPT(\"█\",7),IF(H91=3,REPT(\"█\",($D91-H$80)/$G$79),\"       \"))))","v":"                     "},"                     ","                     ","                     ","                     ",null,{"$f":"CONCATENATE(F92,G92,H92,I92,J92,K92,L92)","v":"                                                                                                                                                   "},null,"",{"$f":"'IMPLEMENTATION NOTES'!O202","v":0},{"$f":"'IMPLEMENTATION NOTES'!O203","v":"00:00:00"},{"$f":"'IMPLEMENTATION NOTES'!O204","v":0},"","","","","",null,"",{"$f":"'IMPLEMENTATION NOTES'!O466","v":0},{"$f":"'IMPLEMENTATION NOTES'!O467","v":"00:00:00"},{"$f":"'IMPLEMENTATION NOTES'!O468","v":0},"","","","","",null,"",{"$f":"'IMPLEMENTATION NOTES'!O730","v":0},{"$f":"'IMPLEMENTATION NOTES'!O731","v":"00:00:00"},{"$f":"'IMPLEMENTATION NOTES'!O732","v":0},"","","","","",null,"",{"$f":"'IMPLEMENTATION NOTES'!O994","v":0},{"$f":"'IMPLEMENTATION NOTES'!O995","v":"00:00:00"},{"$f":"'IMPLEMENTATION NOTES'!O996","v":0},"","","","","",null,"",{"$f":"'IMPLEMENTATION NOTES'!O1258","v":0},{"$f":"'IMPLEMENTATION NOTES'!O1259","v":"00:00:00"},{"$f":"'IMPLEMENTATION NOTES'!O1260","v":0},"","","","",""]
[null,{"$f":"'IMPLEMENTATION NOTES'!D34","v":""},{"$f":"IF('IMPLEMENTATION NOTES'!O355=\"\",\"\",'IMPLEMENTATION NOTES'!O355)","v":""},{"$f":"'IMPLEMENTATION NOTES'!O356","v":"00:00:00"},{"$f":"IFERROR(VLOOKUP(\"A201\",$Z$81:$AC$100,4,FALSE),0)","v":0},{"$f":"IF($C93<G$80,1,0)","v":0},{"$f":"IF(COUNTIF($F93,3)>0,\"        \",IF($F93>0,IF($D93<$H$80,3,2),IF($C93<$H$80,1,0)))","v":0},{"$f":"IF(COUNTIF($F93:$G93,3)>0,\"        \",IF(G93>0,IF($D93<$I$80,3,2),IF($C93<$I$80,1,0)))","v":0},{"$f":"IF(COUNTIF($F93:H93,3)>0,\"        \",IF(H93>0,IF($D93<$J$80,3,2),IF($C93<$J$80,1,0)))","v":0},{"$f":"IF(COUNTIF($F93:I93,3)>0,\"        \",IF(I93>0,IF($D93<$K$80,3,2),IF($C93<$K$80,1,0)))","v":0},{"$f":"IF(COUNTIF($F93:J93,3)>0,\"        \",IF(J93>0,IF($D93<$L$80,3,2),IF($C93<$L$80,1,0)))","v":0},{"$f":"IF(COUNTIF($F93:K93,3)>0,\"        \",IF(K93>0,IF($D93<$M$80,3,2),IF($C93<$M$80,1,0)))","v":0},null,null,null,"",{"$f":"'IMPLEMENTATION NOTES'!O209","v":0},{"$f":"'IMPLEMENTATION NOTES'!O210","v":"00:00:00"},{"$f":"'IMPLEMENTATION NOTES'!O211","v":0},"","","","","",null,"",{"$f":"'IMPLEMENTATION NOTES'!O473","v":0},{"$f":"'IMPLEMENTATION NOTES'!O474","v":"00:00:00"},{"$f":"'IMPLEMENTATION NOTES'!O475","v":0},"","","","","",null,"",{"$f":"'IMPLEMENTATION NOTES'!O737","v":0},{"$f":"'IMPLEMENTATION NOTES'!O738","v":"00:00:00"},{"$f":"'IMPLEMENTATION NOTES'!O739","v":0},"","","","","",null,"",{"$f":"'IMPLEMENTATION NOTES'!O1001","v":0},{"$f":"'IMPLEMENTATION NOTES'!O1002","v":"00:00:00"},{"$f":"'IMPLEMENTATION NOTES'!O1003","v":0},"","","","","",null,"",{"$f":"'IMPLEMENTATION NOTES'!O1265","v":0},{"$f":"'IMPLEMENTATION NOTES'!O1266","v":"00:00:00"},{"$f":"'IMPLEMENTATION NOTES'!O1267","v":0},"","","","",""]
[null,null,null,null,null,{"$f":"IF(F93=0,CONCATENATE(REPT(\"   \",7)),IF(F93=1,CONCATENATE(REPT(\"   \",(($C93-F$80)/$G$79)),REPT(\"█\",8-(($C93-F$80)/$G$79))),IF(F93=2,REPT(\"█\",7),IF(F93=3,REPT(\"█\",($D93-F$80)/$G$79),\"       \"))))","v":"                     "},{"$f":"IF(G93=0,CONCATENATE(REPT(\"   \",7)),IF(G93=1,CONCATENATE(REPT(\"   \",(($C93-G$80)/$G$79)),REPT(\"█\",8-(($C93-G$80)/$G$79))),IF(G93=2,REPT(\"█\",7),IF(G93=3,REPT(\"█\",($D93-G$80)/$G$79),\"       \"))))","v":"                     "},{"$f":"IF(H93=0,CONCATENATE(REPT(\"   \",7)),IF(H93=1,CONCATENATE(REPT(\"   \",(($C93-H$80)/$G$79)),REPT(\"█\",8-(($C93-H$80)/$G$79))),IF(H93=2,REPT(\"█\",7),IF(H93=3,REPT(\"█\",($D93-H$80)/$G$79),\"       \"))))","v":"                     "},"                     ","                     ","                     ","                     ",null,{"$f":"CONCATENATE(F94,G94,H94,I94,J94,K94,L94)","v":"                                                                                                                                                   "},null,"",{"$f":"'IMPLEMENTATION NOTES'!O216","v":0},{"$f":"'IMPLEMENTATION NOTES'!O217","v":"00:00:00"},{"$f":"'IMPLEMENTATION NOTES'!O218","v":0},"","","","","",null,"",{"$f":"'IMPLEMENTATION NOTES'!O480","v":0},{"$f":"'IMPLEMENTATION NOTES'!O481","v":"00:00:00"},{"$f":"'IMPLEMENTATION NOTES'!O482","v":0},"","","","","",null,"",{"$f":"'IMPLEMENTATION NOTES'!O744","v":0},{"$f":"'IMPLEMENTATION NOTES'!O745","v":"00:00:00"},{"$f":"'IMPLEMENTATION NOTES'!O746","v":0},"","","","","",null,"",{"$f":"'IMPLEMENTATION NOTES'!O1008","v":0},{"$f":"'IMPLEMENTATION NOTES'!O1009","v":"00:00:00"},{"$f":"'IMPLEMENTATION NOTES'!O1010","v":0},"","","","","",null,"",{"$f":"'IMPLEMENTATION NOTES'!O1272","v":0},{"$f":"'IMPLEMENTATION NOTES'!O1273","v":"00:00:00"},{"$f":"'IMPLEMENTATION NOTES'!O1274","v":0},"","","","",""]
[null,{"$f":"'IMPLEMENTATION NOTES'!D35","v":""},{"$f":"IF('IMPLEMENTATION NOTES'!O364=\"\",\"\",'IMPLEMENTATION NOTES'!O364)","v":""},{"$f":"'IMPLEMENTATION NOTES'!O365","v":"00:00:00"},{"$f":"IFERROR(VLOOKUP(\"A301\",$Z$81:$AC$100,4,FALSE),0)","v":0},{"$f":"IF($C95<G$80,1,0)","v":0},{"$f":"IF(COUNTIF($F95,3)>0,\"        \",IF($F95>0,IF($D95<$H$80,3,2),IF($C95<$H$80,1,0)))","v":0},{"$f":"IF(COUNTIF($F95:$G95,3)>0,\"        \",IF(G95>0,IF($D95<$I$80,3,2),IF($C95<$I$80,1,0)))","v":0},{"$f":"IF(COUNTIF($F95:H95,3)>0,\"        \",IF(H95>0,IF($D95<$J$80,3,2),IF($C95<$J$80,1,0)))","v":0},{"$f":"IF(COUNTIF($F95:I95,3)>0,\"        \",IF(I95>0,IF($D95<$K$80,3,2),IF($C95<$K$80,1,0)))","v":0},{"$f":"IF(COUNTIF($F95:J95,3)>0,\"        \",IF(J95>0,IF($D95<$L$80,3,2),IF($C95<$L$80,1,0)))","v":0},{"$f":"IF(COUNTIF($F95:K95,3)>0,\"        \",IF(K95>0,IF($D95<$M$80,3,2),IF($C95<$M$80,1,0)))","v":0},null,null,null,"",{"$f":"'IMPLEMENTATION NOTES'!O223","v":0},{"$f":"'IMPLEMENTATION NOTES'!O224","v":"00:00:00"},{"$f":"'IMPLEMENTATION NOTES'!O225","v":0},"","","","","",null,"",{"$f":"'IMPLEMENTATION NOTES'!O487","v":0},{"$f":"'IMPLEMENTATION NOTES'!O488","v":"00:00:00"},{"$f":"'IMPLEMENTATION NOTES'!O489","v":0},"","","","","",null,"",{"$f":"'IMPLEMENTATION NOTES'!O751","v":0},{"$f":"'IMPLEMENTATION NOTES'!O752","v":"00:00:00"},{"$f":"'IMPLEMENTATION NOTES'!O753","v":0},"","","","","",null,"",{"$f":"'IMPLEMENTATION NOTES'!O1015","v":0},{"$f":"'IMPLEMENTATION NOTES'!O1016","v":"00:00:00"},{"$f":"'IMPLEMENTATION NOTES'!O1017","v":0},"","","","","",null,"",{"$f":"'IMPLEMENTATION NOTES'!O1279","v":0},{"$f":"'IMPLEMENTATION NOTES'!O1280","v":"00:00:00"},{"$f":"'IMPLEMENTATION NOTES'!O1281","v":0},"","","","",""]
[null,null,null,null,null,{"$f":"IF(F95=0,CONCATENATE(REPT(\"   \",7)),IF(F95=1,CONCATENATE(REPT(\"   \",(($C95-F$80)/$G$79)),REPT(\"█\",8-(($C95-F$80)/$G$79))),IF(F95=2,REPT(\"█\",7),IF(F95=3,REPT(\"█\",($D95-F$80)/$G$79),\"       \"))))","v":"                     "},{"$f":"IF(G95=0,CONCATENATE(REPT(\"   \",7)),IF(G95=1,CONCATENATE(REPT(\"   \",(($C95-G$80)/$G$79)),REPT(\"█\",8-(($C95-G$80)/$G$79))),IF(G95=2,REPT(\"█\",7),IF(G95=3,REPT(\"█\",($D95-G$80)/$G$79),\"       \"))))","v":"                     "},{"$f":"IF(H95=0,CONCATENATE(REPT(\"   \",7)),IF(H95=1,CONCATENATE(REPT(\"   \",(($C95-H$80)/$G$79)),REPT(\"█\",8-(($C95-H$80)/$G$79))),IF(H95=2,REPT(\"█\",7),IF(H95=3,REPT(\"█\",($D95-H$80)/$G$79),\"       \"))))","v":"                     "},"                     ","                     ","                     ","                     ",null,{"$f":"CONCATENATE(F96,G96,H96,I96,J96,K96,L96)","v":"                                                                                                                                                   "},null,"",{"$f":"'IMPLEMENTATION NOTES'!O230","v":0},{"$f":"'IMPLEMENTATION NOTES'!O231","v":"00:00:00"},{"$f":"'IMPLEMENTATION NOTES'!O232","v":0},"","","","","",null,"",{"$f":"'IMPLEMENTATION NOTES'!O494","v":0},{"$f":"'IMPLEMENTATION NOTES'!O495","v":"00:00:00"},{"$f":"'IMPLEMENTATION NOTES'!O496","v":0},"","","","","",null,"",{"$f":"'IMPLEMENTATION NOTES'!O758","v":0},{"$f":"'IMPLEMENTATION NOTES'!O759","v":"00:00:00"},{"$f":"'IMPLEMENTATION NOTES'!O760","v":0},"","","","","",null,"",{"$f":"'IMPLEMENTATION NOTES'!O1022","v":0},{"$f":"'IMPLEMENTATION NOTES'!O1023","v":"00:00:00"},{"$f":"'IMPLEMENTATION NOTES'!O1024","v":0},"","","","","",null,"",{"$f":"'IMPLEMENTATION NOTES'!O1286","v":0},{"$f":"'IMPLEMENTATION NOTES'!O1287","v":"00:00:00"},{"$f":"'IMPLEMENTATION NOTES'!O1288","v":0},"","","","",""]
[null,{"$f":"'IMPLEMENTATION NOTES'!D36","v":""},{"$f":"IF('IMPLEMENTATION NOTES'!O373=\"\",\"\",'IMPLEMENTATION NOTES'!O373)","v":""},{"$f":"'IMPLEMENTATION NOTES'!O364","v":"00:00:00"},{"$f":"IFERROR(VLOOKUP(\"A401\",$Z$81:$AC$100,4,FALSE),0)","v":0},{"$f":"IF($C97<G$80,1,0)","v":0},{"$f":"IF(COUNTIF($F97,3)>0,\"        \",IF($F97>0,IF($D97<$H$80,3,2),IF($C97<$H$80,1,0)))","v":0},{"$f":"IF(COUNTIF($F97:$G97,3)>0,\"        \",IF(G97>0,IF($D97<$I$80,3,2),IF($C97<$I$80,1,0)))","v":0},{"$f":"IF(COUNTIF($F97:H97,3)>0,\"        \",IF(H97>0,IF($D97<$J$80,3,2),IF($C97<$J$80,1,0)))","v":0},{"$f":"IF(COUNTIF($F97:I97,3)>0,\"        \",IF(I97>0,IF($D97<$K$80,3,2),IF($C97<$K$80,1,0)))","v":0},{"$f":"IF(COUNTIF($F97:J97,3)>0,\"        \",IF(J97>0,IF($D97<$L$80,3,2),IF($C97<$L$80,1,0)))","v":0},{"$f":"IF(COUNTIF($F97:K97,3)>0,\"        \",IF(K97>0,IF($D97<$M$80,3,2),IF($C97<$M$80,1,0)))","v":0},null,null,null,"",{"$f":"'IMPLEMENTATION NOTES'!O237","v":0},{"$f":"'IMPLEMENTATION NOTES'!O238","v":"00:00:00"},{"$f":"'IMPLEMENTATION NOTES'!O239","v":0},"","","","","",null,"",{"$f":"'IMPLEMENTATION NOTES'!O501","v":0},{"$f":"'IMPLEMENTATION NOTES'!O502","v":"00:00:00"},{"$f":"'IMPLEMENTATION NOTES'!O503","v":0},"","","","","",null,"",{"$f":"'IMPLEMENTATION NOTES'!O765","v":0},{"$f":"'IMPLEMENTATION NOTES'!O766","v":"00:00:00"},{"$f":"'IMPLEMENTATION NOTES'!O767","v":0},"","","","","",null,"",{"$f":"'IMPLEMENTATION NOTES'!O1029","v":0},{"$f":"'IMPLEMENTATION NOTES'!O1030","v":"00:00:00"},{"$f":"'IMPLEMENTATION NOTES'!O1031","v":0},"","","","","",null,"",{"$f":"'IMPLEMENTATION NOTES'!O1293","v":0},{"$f":"'IMPLEMENTATION NOTES'!O1294","v":"00:00:00"},{"$f":"'IMPLEMENTATION NOTES'!O1295","v":0},"","","","",""]
[null,null,null,null,null,{"$f":"IF(F97=0,CONCATENATE(REPT(\"   \",7)),IF(F97=1,CONCATENATE(REPT(\"   \",(($C97-F$80)/$G$79)),REPT(\"█\",8-(($C97-F$80)/$G$79))),IF(F97=2,REPT(\"█\",7),IF(F97=3,REPT(\"█\",($D97-F$80)/$G$79),\"       \"))))","v":"                     "},{"$f":"IF(G97=0,CONCATENATE(REPT(\"   \",7)),IF(G97=1,CONCATENATE(REPT(\"   \",(($C97-G$80)/$G$79)),REPT(\"█\",8-(($C97-G$80)/$G$79))),IF(G97=2,REPT(\"█\",7),IF(G97=3,REPT(\"█\",($D97-G$80)/$G$79),\"       \"))))","v":"                     "},{"$f":"IF(H97=0,CONCATENATE(REPT(\"   \",7)),IF(H97=1,CONCATENATE(REPT(\"   \",(($C97-H$80)/$G$79)),REPT(\"█\",8-(($C97-H$80)/$G$79))),IF(H97=2,REPT(\"█\",7),IF(H97=3,REPT(\"█\",($D97-H$80)/$G$79),\"       \"))))","v":"                     "},"                     ","                     ","                     ","                     ",null,{"$f":"CONCATENATE(F98,G98,H98,I98,J98,K98,L98)","v":"                                                                                                                                                   "},null,"",{"$f":"'IMPLEMENTATION NOTES'!O244","v":0},{"$f":"'IMPLEMENTATION NOTES'!O245","v":"00:00:00"},{"$f":"'IMPLEMENTATION NOTES'!O246","v":0},"","","","","",null,"",{"$f":"'IMPLEMENTATION NOTES'!O508","v":0},{"$f":"'IMPLEMENTATION NOTES'!O509","v":"00:00:00"},{"$f":"'IMPLEMENTATION NOTES'!O510","v":0},"","","","","",null,"",{"$f":"'IMPLEMENTATION NOTES'!O772","v":0},{"$f":"'IMPLEMENTATION NOTES'!O773","v":"00:00:00"},{"$f":"'IMPLEMENTATION NOTES'!O774","v":0},"","","","","",null,"",{"$f":"'IMPLEMENTATION NOTES'!O1036","v":0},{"$f":"'IMPLEMENTATION NOTES'!O1037","v":"00:00:00"},{"$f":"'IMPLEMENTATION NOTES'!O1038","v":0},"","","","","",null,"",{"$f":"'IMPLEMENTATION NOTES'!O1300","v":0},{"$f":"'IMPLEMENTATION NOTES'!O1301","v":"00:00:00"},{"$f":"'IMPLEMENTATION NOTES'!O1302","v":0},"","","","",""]
[null,{"$f":"'IMPLEMENTATION NOTES'!D37","v":""},{"$f":"IF('IMPLEMENTATION NOTES'!O382=\"\",\"\",'IMPLEMENTATION NOTES'!O382)","v":""},{"$f":"'IMPLEMENTATION NOTES'!O383","v":"00:00:00"},{"$f":"IFERROR(VLOOKUP(\"A501\",$Z$81:$AC$100,4,FALSE),0)","v":0},{"$f":"IF($C99<G$80,1,0)","v":0},{"$f":"IF(COUNTIF($F99,3)>0,\"        \",IF($F99>0,IF($D99<$H$80,3,2),IF($C99<$H$80,1,0)))","v":0},{"$f":"IF(COUNTIF($F99:$G99,3)>0,\"        \",IF(G99>0,IF($D99<$I$80,3,2),IF($C99<$I$80,1,0)))","v":0},{"$f":"IF(COUNTIF($F99:H99,3)>0,\"        \",IF(H99>0,IF($D99<$J$80,3,2),IF($C99<$J$80,1,0)))","v":0},{"$f":"IF(COUNTIF($F99:I99,3)>0,\"        \",IF(I99>0,IF($D99<$K$80,3,2),IF($C99<$K$80,1,0)))","v":0},{"$f":"IF(COUNTIF($F99:J99,3)>0,\"        \",IF(J99>0,IF($D99<$L$80,3,2),IF($C99<$L$80,1,0)))","v":0},{"$f":"IF(COUNTIF($F99:K99,3)>0,\"        \",IF(K99>0,IF($D99<$M$80,3,2),IF($C99<$M$80,1,0)))","v":0},null,null,null,"",{"$f":"'IMPLEMENTATION NOTES'!O251","v":0},{"$f":"'IMPLEMENTATION NOTES'!O252","v":"00:00:00"},{"$f":"'IMPLEMENTATION NOTES'!O253","v":0},"","","","","",null,"",{"$f":"'IMPLEMENTATION NOTES'!O515","v":0},{"$f":"'IMPLEMENTATION NOTES'!O516","v":"00:00:00"},{"$f":"'IMPLEMENTATION NOTES'!O517","v":0},"","","","","",null,"",{"$f":"'IMPLEMENTATION NOTES'!O779","v":0},{"$f":"'IMPLEMENTATION NOTES'!O780","v":"00:00:00"},{"$f":"'IMPLEMENTATION NOTES'!O781","v":0},"","","","","",null,"",{"$f":"'IMPLEMENTATION NOTES'!O1043","v":0},{"$f":"'IMPLEMENTATION NOTES'!O1044","v":"00:00:00"},{"$f":"'IMPLEMENTATION NOTES'!O1045","v":0},"","","","","",null,"",{"$f":"'IMPLEMENTATION NOTES'!O1307","v":0},{"$f":"'IMPLEMENTATION NOTES'!O1308","v":"00:00:00"},{"$f":"'IMPLEMENTATION NOTES'!O1309","v":0},"","","","",""]
[null,null,null,null,null,{"$f":"IF(F99=0,CONCATENATE(REPT(\"   \",7)),IF(F99=1,CONCATENATE(REPT(\"   \",(($C99-F$80)/$G$79)),REPT(\"█\",8-(($C99-F$80)/$G$79))),IF(F99=2,REPT(\"█\",7),IF(F99=3,REPT(\"█\",($D99-F$80)/$G$79),\"       \"))))","v":"                     "},{"$f":"IF(G99=0,CONCATENATE(REPT(\"   \",7)),IF(G99=1,CONCATENATE(REPT(\"   \",(($C99-G$80)/$G$79)),REPT(\"█\",8-(($C99-G$80)/$G$79))),IF(G99=2,REPT(\"█\",7),IF(G99=3,REPT(\"█\",($D99-G$80)/$G$79),\"       \"))))","v":"                     "},{"$f":"IF(H99=0,CONCATENATE(REPT(\"   \",7)),IF(H99=1,CONCATENATE(REPT(\"   \",(($C99-H$80)/$G$79)),REPT(\"█\",8-(($C99-H$80)/$G$79))),IF(H99=2,REPT(\"█\",7),IF(H99=3,REPT(\"█\",($D99-H$80)/$G$79),\"       \"))))","v":"                     "},"                     ","                     ","                     ","                     ",null,{"$f":"CONCATENATE(F100,G100,H100,I100,J100,K100,L100)","v":"                                                                                                                                                   "},null,"",{"$f":"'IMPLEMENTATION NOTES'!O258","v":0},{"$f":"'IMPLEMENTATION NOTES'!O259","v":"00:00:00"},{"$f":"'IMPLEMENTATION NOTES'!O260","v":0},"","","","","",null,"",{"$f":"'IMPLEMENTATION NOTES'!O522","v":0},{"$f":"'IMPLEMENTATION NOTES'!O523","v":"00:00:00"},{"$f":"'IMPLEMENTATION NOTES'!O524","v":0},"","","","","",null,"",{"$f":"'IMPLEMENTATION NOTES'!O786","v":0},{"$f":"'IMPLEMENTATION NOTES'!O787","v":"00:00:00"},{"$f":"'IMPLEMENTATION NOTES'!O788","v":0},"","","","","",null,"",{"$f":"'IMPLEMENTATION NOTES'!O1050","v":0},{"$f":"'IMPLEMENTATION NOTES'!O1051","v":"00:00:00"},{"$f":"'IMPLEMENTATION NOTES'!O1052","v":0},"","","","","",null,"",{"$f":"'IMPLEMENTATION NOTES'!O1314","v":0},{"$f":"'IMPLEMENTATION NOTES'!O1315","v":"00:00:00"},{"$f":"'IMPLEMENTATION NOTES'!O1316","v":0},"","","","",""]
["Obj3",{"$f":"'IMPLEMENTATION NOTES'!D39","v":""},{"$f":"IF('IMPLEMENTATION NOTES'!O610=\"\",\"\",'IMPLEMENTATION NOTES'!O610)","v":""},{"$f":"'IMPLEMENTATION NOTES'!O611","v":"00:00:00"},{"$f":"IFERROR(VLOOKUP(\"A101\",$AJ$81:$AM$100,4,FALSE),0)","v":0},{"$f":"IF($C101<G$80,1,0)","v":0},{"$f":"IF(COUNTIF($F101,3)>0,\"        \",IF($F101>0,IF($D101<$H$80,3,2),IF($C101<$H$80,1,0)))","v":0},{"$f":"IF(COUNTIF($F101:$G101,3)>0,\"        \",IF(G101>0,IF($D101<$I$80,3,2),IF($C101<$I$80,1,0)))","v":0},{"$f":"IF(COUNTIF($F101:H101,3)>0,\"        \",IF(H101>0,IF($D101<$J$80,3,2),IF($C101<$J$80,1,0)))","v":0},{"$f":"IF(COUNTIF($F101:I101,3)>0,\"        \",IF(I101>0,IF($D101<$K$80,3,2),IF($C101<$K$80,1,0)))","v":0},{"$f":"IF(COUNTIF($F101:J101,3)>0,\"        \",IF(J101>0,IF($D101<$L$80,3,2),IF($C101<$L$80,1,0)))","v":0},{"$f":"IF(COUNTIF($F101:K101,3)>0,\"        \",IF(K101>0,IF($D101<$M$80,3,2),IF($C101<$M$80,1,0)))","v":0}]
[null,null,null,null,null,{"$f":"IF(F101=0,CONCATENATE(REPT(\"   \",7)),IF(F101=1,CONCATENATE(REPT(\"   \",(($C101-F$80)/$G$79)),REPT(\"█\",8-(($C101-F$80)/$G$79))),IF(F101=2,REPT(\"█\",7),IF(F101=3,REPT(\"█\",($D101-F$80)/$G$79),\"       \"))))","v":"                     "},{"$f":"IF(G101=0,CONCATENATE(REPT(\"   \",7)),IF(G101=1,CONCATENATE(REPT(\"   \",(($C101-G$80)/$G$79)),REPT(\"█\",8-(($C101-G$80)/$G$79))),IF(G101=2,REPT(\"█\",7),IF(G101=3,REPT(\"█\",($D101-G$80)/$G$79),\"       \"))))","v":"                     "},{"$f":"IF(H101=0,CONCATENATE(REPT(\"   \",7)),IF(H101=1,CONCATENATE(REPT(\"   \",(($C101-H$80)/$G$79)),REPT(\"█\",8-(($C101-H$80)/$G$79))),IF(H101=2,REPT(\"█\",7),IF(H101=3,REPT(\"█\",($D101-H$80)/$G$79),\"       \"))))","v":"                     "},"                     ","                     ","                     ","                     ",null,{"$f":"CONCATENATE(F102,G102,H102,I102,J102,K102,L102)","v":"                                                                                                                                                   "}]
[null,{"$f":"'IMPLEMENTATION NOTES'!D40","v":""},{"$f":"IF('IMPLEMENTATION NOTES'!O619=\"\",\"\",'IMPLEMENTATION NOTES'!O619)","v":""},{"$f":"'IMPLEMENTATION NOTES'!O620","v":"00:00:00"},{"$f":"IFERROR(VLOOKUP(\"A201\",$AJ$81:$AM$100,4,FALSE),0)","v":0},{"$f":"IF($C103<G$80,1,0)","v":0},{"$f":"IF(COUNTIF($F103,3)>0,\"        \",IF($F103>0,IF($D103<$H$80,3,2),IF($C103<$H$80,1,0)))","v":0},{"$f":"IF(COUNTIF($F103:$G103,3)>0,\"        \",IF(G103>0,IF($D103<$I$80,3,2),IF($C103<$I$80,1,0)))","v":0},{"$f":"IF(COUNTIF($F103:H103,3)>0,\"        \",IF(H103>0,IF($D103<$J$80,3,2),IF($C103<$J$80,1,0)))","v":0},{"$f":"IF(COUNTIF($F103:I103,3)>0,\"        \",IF(I103>0,IF($D103<$K$80,3,2),IF($C103<$K$80,1,0)))","v":0},{"$f":"IF(COUNTIF($F103:J103,3)>0,\"        \",IF(J103>0,IF($D103<$L$80,3,2),IF($C103<$L$80,1,0)))","v":0},{"$f":"IF(COUNTIF($F103:K103,3)>0,\"        \",IF(K103>0,IF($D103<$M$80,3,2),IF($C103<$M$80,1,0)))","v":0}]
[null,null,null,null,null,{"$f":"IF(F103=0,CONCATENATE(REPT(\"   \",7)),IF(F103=1,CONCATENATE(REPT(\"   \",(($C103-F$80)/$G$79)),REPT(\"█\",8-(($C103-F$80)/$G$79))),IF(F103=2,REPT(\"█\",7),IF(F103=3,REPT(\"█\",($D103-F$80)/$G$79),\"       \"))))","v":"                     "},{"$f":"IF(G103=0,CONCATENATE(REPT(\"   \",7)),IF(G103=1,CONCATENATE(REPT(\"   \",(($C103-G$80)/$G$79)),REPT(\"█\",8-(($C103-G$80)/$G$79))),IF(G103=2,REPT(\"█\",7),IF(G103=3,REPT(\"█\",($D103-G$80)/$G$79),\"       \"))))","v":"                     "},{"$f":"IF(H103=0,CONCATENATE(REPT(\"   \",7)),IF(H103=1,CONCATENATE(REPT(\"   \",(($C103-H$80)/$G$79)),REPT(\"█\",8-(($C103-H$80)/$G$79))),IF(H103=2,REPT(\"█\",7),IF(H103=3,REPT(\"█\",($D103-H$80)/$G$79),\"       \"))))","v":"                     "},"                     ","                     ","                     ","                     ",null,{"$f":"CONCATENATE(F104,G104,H104,I104,J104,K104,L104)","v":"                                                                                                                                                   "}]
[null,{"$f":"'IMPLEMENTATION NOTES'!D41","v":""},{"$f":"IF('IMPLEMENTATION NOTES'!O628=\"\",\"\",'IMPLEMENTATION NOTES'!O628)","v":""},{"$f":"'IMPLEMENTATION NOTES'!O629","v":"00:00:00"},{"$f":"IFERROR(VLOOKUP(\"A301\",$AJ$81:$AM$100,4,FALSE),0)","v":0},{"$f":"IF($C105<G$80,1,0)","v":0},{"$f":"IF(COUNTIF($F105,3)>0,\"        \",IF($F105>0,IF($D105<$H$80,3,2),IF($C105<$H$80,1,0)))","v":0},{"$f":"IF(COUNTIF($F105:$G105,3)>0,\"        \",IF(G105>0,IF($D105<$I$80,3,2),IF($C105<$I$80,1,0)))","v":0},{"$f":"IF(COUNTIF($F105:H105,3)>0,\"        \",IF(H105>0,IF($D105<$J$80,3,2),IF($C105<$J$80,1,0)))","v":0},{"$f":"IF(COUNTIF($F105:I105,3)>0,\"        \",IF(I105>0,IF($D105<$K$80,3,2),IF($C105<$K$80,1,0)))","v":0},{"$f":"IF(COUNTIF($F105:J105,3)>0,\"        \",IF(J105>0,IF($D105<$L$80,3,2),IF($C105<$L$80,1,0)))","v":0},{"$f":"IF(COUNTIF($F105:K105,3)>0,\"        \",IF(K105>0,IF($D105<$M$80,3,2),IF($C105<$M$80,1,0)))","v":0}]
[null,null,null,null,null,{"$f":"IF(F105=0,CONCATENATE(REPT(\"   \",7)),IF(F105=1,CONCATENATE(REPT(\"   \",(($C105-F$80)/$G$79)),REPT(\"█\",8-(($C105-F$80)/$G$79))),IF(F105=2,REPT(\"█\",7),IF(F105=3,REPT(\"█\",($D105-F$80)/$G$79),\"       \"))))","v":"                     "},{"$f":"IF(G105=0,CONCATENATE(REPT(\"   \",7)),IF(G105=1,CONCATENATE(REPT(\"   \",(($C105-G$80)/$G$79)),REPT(\"█\",8-(($C105-G$80)/$G$79))),IF(G105=2,REPT(\"█\",7),IF(G105=3,REPT(\"█\",($D105-G$80)/$G$79),\"       \"))))","v":"                     "},{"$f":"IF(H105=0,CONCATENATE(REPT(\"   \",7)),IF(H105=1,CONCATENATE(REPT(\"   \",(($C105-H$80)/$G$79)),REPT(\"█\",8-(($C105-H$80)/$G$79))),IF(H105=2,REPT(\"█\",7),IF(H105=3,REPT(\"█\",($D105-H$80)/$G$79),\"       \"))))","v":"                     "},"                     ","                     ","                     ","                     ",null,{"$f":"CONCATENATE(F106,G106,H106,I106,J106,K106,L106)","v":"                                                                                                                                                   "}]
[null,{"$f":"'IMPLEMENTATION NOTES'!D42","v":""},{"$f":"IF('IMPLEMENTATION NOTES'!O637=\"\",\"\",'IMPLEMENTATION NOTES'!O637)","v":""},{"$f":"'IMPLEMENTATION NOTES'!O638","v":"00:00:00"},{"$f":"IFERROR(VLOOKUP(\"A401\",$AJ$81:$AM$100,4,FALSE),0)","v":0},{"$f":"IF($C107<G$80,1,0)","v":0},{"$f":"IF(COUNTIF($F107,3)>0,\"        \",IF($F107>0,IF($D107<$H$80,3,2),IF($C107<$H$80,1,0)))","v":0},{"$f":"IF(COUNTIF($F107:$G107,3)>0,\"        \",IF(G107>0,IF($D107<$I$80,3,2),IF($C107<$I$80,1,0)))","v":0},{"$f":"IF(COUNTIF($F107:H107,3)>0,\"        \",IF(H107>0,IF($D107<$J$80,3,2),IF($C107<$J$80,1,0)))","v":0},{"$f":"IF(COUNTIF($F107:I107,3)>0,\"        \",IF(I107>0,IF($D107<$K$80,3,2),IF($C107<$K$80,1,0)))","v":0},{"$f":"IF(COUNTIF($F107:J107,3)>0,\"        \",IF(J107>0,IF($D107<$L$80,3,2),IF($C107<$L$80,1,0)))","v":0},{"$f":"IF(COUNTIF($F107:K107,3)>0,\"        \",IF(K107>0,IF($D107<$M$80,3,2),IF($C107<$M$80,1,0)))","v":0}]
[null,null,null,null,null,{"$f":"IF(F107=0,CONCATENATE(REPT(\"   \",7)),IF(F107=1,CONCATENATE(REPT(\"   \",(($C107-F$80)/$G$79)),REPT(\"█\",8-(($C107-F$80)/$G$79))),IF(F107=2,REPT(\"█\",7),IF(F107=3,REPT(\"█\",($D107-F$80)/$G$79),\"       \"))))","v":"                     "},{"$f":"IF(G107=0,CONCATENATE(REPT(\"   \",7)),IF(G107=1,CONCATENATE(REPT(\"   \",(($C107-G$80)/$G$79)),REPT(\"█\",8-(($C107-G$80)/$G$79))),IF(G107=2,REPT(\"█\",7),IF(G107=3,REPT(\"█\",($D107-G$80)/$G$79),\"       \"))))","v":"                     "},{"$f":"IF(H107=0,CONCATENATE(REPT(\"   \",7)),IF(H107=1,CONCATENATE(REPT(\"   \",(($C107-H$80)/$G$79)),REPT(\"█\",8-(($C107-H$80)/$G$79))),IF(H107=2,REPT(\"█\",7),IF(H107=3,REPT(\"█\",($D107-H$80)/$G$79),\"       \"))))","v":"                     "},"                     ","                     ","                     ","                     ",null,{"$f":"CONCATENATE(F108,G108,H108,I108,J108,K108,L108)","v":"                                                                                                                                                   "}]
[null,{"$f":"'IMPLEMENTATION NOTES'!D43","v":""},{"$f":"IF('IMPLEMENTATION NOTES'!O646=\"\",\"\",'IMPLEMENTATION NOTES'!O646)","v":""},{"$f":"'IMPLEMENTATION NOTES'!O647","v":"00:00:00"},{"$f":"IFERROR(VLOOKUP(\"A501\",$AJ$81:$AM$100,4,FALSE),0)","v":0},{"$f":"IF($C109<G$80,1,0)","v":0},{"$f":"IF(COUNTIF($F109,3)>0,\"        \",IF($F109>0,IF($D109<$H$80,3,2),IF($C109<$H$80,1,0)))","v":0},{"$f":"IF(COUNTIF($F109:$G109,3)>0,\"        \",IF(G109>0,IF($D109<$I$80,3,2),IF($C109<$I$80,1,0)))","v":0},{"$f":"IF(COUNTIF($F109:H109,3)>0,\"        \",IF(H109>0,IF($D109<$J$80,3,2),IF($C109<$J$80,1,0)))","v":0},{"$f":"IF(COUNTIF($F109:I109,3)>0,\"        \",IF(I109>0,IF($D109<$K$80,3,2),IF($C109<$K$80,1,0)))","v":0},{"$f":"IF(COUNTIF($F109:J109,3)>0,\"        \",IF(J109>0,IF($D109<$L$80,3,2),IF($C109<$L$80,1,0)))","v":0},{"$f":"IF(COUNTIF($F109:K109,3)>0,\"        \",IF(K109>0,IF($D109<$M$80,3,2),IF($C109<$M$80,1,0)))","v":0}]
[null,null,null,null,null,{"$f":"IF(F109=0,CONCATENATE(REPT(\"   \",7)),IF(F109=1,CONCATENATE(REPT(\"   \",(($C109-F$80)/$G$79)),REPT(\"█\",8-(($C109-F$80)/$G$79))),IF(F109=2,REPT(\"█\",7),IF(F109=3,REPT(\"█\",($D109-F$80)/$G$79),\"       \"))))","v":"                     "},{"$f":"IF(G109=0,CONCATENATE(REPT(\"   \",7)),IF(G109=1,CONCATENATE(REPT(\"   \",(($C109-G$80)/$G$79)),REPT(\"█\",8-(($C109-G$80)/$G$79))),IF(G109=2,REPT(\"█\",7),IF(G109=3,REPT(\"█\",($D109-G$80)/$G$79),\"       \"))))","v":"                     "},{"$f":"IF(H109=0,CONCATENATE(REPT(\"   \",7)),IF(H109=1,CONCATENATE(REPT(\"   \",(($C109-H$80)/$G$79)),REPT(\"█\",8-(($C109-H$80)/$G$79))),IF(H109=2,REPT(\"█\",7),IF(H109=3,REPT(\"█\",($D109-H$80)/$G$79),\"       \"))))","v":"                     "},"                     ","                     ","                     ","                     ",null,{"$f":"CONCATENATE(F110,G110,H110,I110,J110,K110,L110)","v":"                                                                                                                                                   "}]
["Obj4",{"$f":"'IMPLEMENTATION NOTES'!D45","v":""},{"$f":"IF('IMPLEMENTATION NOTES'!O874=\"\",\"\",'IMPLEMENTATION NOTES'!O874)","v":""},{"$f":"'IMPLEMENTATION NOTES'!O875","v":"00:00:00"},{"$f":"IFERROR(VLOOKUP(\"A101\",$AT$81:$AW$100,4,FALSE),0)","v":0},{"$f":"IF($C111<G$80,1,0)","v":0},{"$f":"IF(COUNTIF($F111,3)>0,\"        \",IF($F111>0,IF($D111<$H$80,3,2),IF($C111<$H$80,1,0)))","v":0},{"$f":"IF(COUNTIF($F111:$G111,3)>0,\"        \",IF(G111>0,IF($D111<$I$80,3,2),IF($C111<$I$80,1,0)))","v":0},{"$f":"IF(COUNTIF($F111:H111,3)>0,\"        \",IF(H111>0,IF($D111<$J$80,3,2),IF($C111<$J$80,1,0)))","v":0},{"$f":"IF(COUNTIF($F111:I111,3)>0,\"        \",IF(I111>0,IF($D111<$K$80,3,2),IF($C111<$K$80,1,0)))","v":0},{"$f":"IF(COUNTIF($F111:J111,3)>0,\"        \",IF(J111>0,IF($D111<$L$80,3,2),IF($C111<$L$80,1,0)))","v":0},{"$f":"IF(COUNTIF($F111:K111,3)>0,\"        \",IF(K111>0,IF($D111<$M$80,3,2),IF($C111<$M$80,1,0)))","v":0}]
[null,null,null,null,null,{"$f":"IF(F111=0,CONCATENATE(REPT(\"   \",7)),IF(F111=1,CONCATENATE(REPT(\"   \",(($C111-F$80)/$G$79)),REPT(\"█\",8-(($C111-F$80)/$G$79))),IF(F111=2,REPT(\"█\",7),IF(F111=3,REPT(\"█\",($D111-F$80)/$G$79),\"       \"))))","v":"                     "},{"$f":"IF(G111=0,CONCATENATE(REPT(\"   \",7)),IF(G111=1,CONCATENATE(REPT(\"   \",(($C111-G$80)/$G$79)),REPT(\"█\",8-(($C111-G$80)/$G$79))),IF(G111=2,REPT(\"█\",7),IF(G111=3,REPT(\"█\",($D111-G$80)/$G$79),\"       \"))))","v":"                     "},{"$f":"IF(H111=0,CONCATENATE(REPT(\"   \",7)),IF(H111=1,CONCATENATE(REPT(\"   \",(($C111-H$80)/$G$79)),REPT(\"█\",8-(($C111-H$80)/$G$79))),IF(H111=2,REPT(\"█\",7),IF(H111=3,REPT(\"█\",($D111-H$80)/$G$79),\"       \"))))","v":"                     "},"                     ","                     ","                     ","                     ",null,{"$f":"CONCATENATE(F112,G112,H112,I112,J112,K112,L112)","v":"                                                                                                                                                   "}]
[null,{"$f":"'IMPLEMENTATION NOTES'!D46","v":""},{"$f":"IF('IMPLEMENTATION NOTES'!O883=\"\",\"\",'IMPLEMENTATION NOTES'!O883)","v":""},{"$f":"'IMPLEMENTATION NOTES'!O884","v":"00:00:00"},{"$f":"IFERROR(VLOOKUP(\"A201\",$AT$81:$AW$100,4,FALSE),0)","v":0},{"$f":"IF($C113<G$80,1,0)","v":0},{"$f":"IF(COUNTIF($F113,3)>0,\"        \",IF($F113>0,IF($D113<$H$80,3,2),IF($C113<$H$80,1,0)))","v":0},{"$f":"IF(COUNTIF($F113:$G113,3)>0,\"        \",IF(G113>0,IF($D113<$I$80,3,2),IF($C113<$I$80,1,0)))","v":0},{"$f":"IF(COUNTIF($F113:H113,3)>0,\"        \",IF(H113>0,IF($D113<$J$80,3,2),IF($C113<$J$80,1,0)))","v":0},{"$f":"IF(COUNTIF($F113:I113,3)>0,\"        \",IF(I113>0,IF($D113<$K$80,3,2),IF($C113<$K$80,1,0)))","v":0},{"$f":"IF(COUNTIF($F113:J113,3)>0,\"        \",IF(J113>0,IF($D113<$L$80,3,2),IF($C113<$L$80,1,0)))","v":0},{"$f":"IF(COUNTIF($F113:K113,3)>0,\"        \",IF(K113>0,IF($D113<$M$80,3,2),IF($C113<$M$80,1,0)))","v":0}]
[null,null,null,null,null,{"$f":"IF(F113=0,CONCATENATE(REPT(\"   \",7)),IF(F113=1,CONCATENATE(REPT(\"   \",(($C113-F$80)/$G$79)),REPT(\"█\",8-(($C113-F$80)/$G$79))),IF(F113=2,REPT(\"█\",7),IF(F113=3,REPT(\"█\",($D113-F$80)/$G$79),\"       \"))))","v":"                     "},{"$f":"IF(G113=0,CONCATENATE(REPT(\"   \",7)),IF(G113=1,CONCATENATE(REPT(\"   \",(($C113-G$80)/$G$79)),REPT(\"█\",8-(($C113-G$80)/$G$79))),IF(G113=2,REPT(\"█\",7),IF(G113=3,REPT(\"█\",($D113-G$80)/$G$79),\"       \"))))","v":"                     "},{"$f":"IF(H113=0,CONCATENATE(REPT(\"   \",7)),IF(H113=1,CONCATENATE(REPT(\"   \",(($C113-H$80)/$G$79)),REPT(\"█\",8-(($C113-H$80)/$G$79))),IF(H113=2,REPT(\"█\",7),IF(H113=3,REPT(\"█\",($D113-H$80)/$G$79),\"       \"))))","v":"                     "},"                     ","                     ","                     ","                     ",null,{"$f":"CONCATENATE(F114,G114,H114,I114,J114,K114,L114)","v":"                                                                                                                                                   "}]
[null,{"$f":"'IMPLEMENTATION NOTES'!D47","v":""},{"$f":"IF('IMPLEMENTATION NOTES'!O892=\"\",\"\",'IMPLEMENTATION NOTES'!O892)","v":""},{"$f":"'IMPLEMENTATION NOTES'!O893","v":"00:00:00"},{"$f":"IFERROR(VLOOKUP(\"A301\",$AT$81:$AW$100,4,FALSE),0)","v":0},{"$f":"IF($C115<G$80,1,0)","v":0},{"$f":"IF(COUNTIF($F115,3)>0,\"        \",IF($F115>0,IF($D115<$H$80,3,2),IF($C115<$H$80,1,0)))","v":0},{"$f":"IF(COUNTIF($F115:$G115,3)>0,\"        \",IF(G115>0,IF($D115<$I$80,3,2),IF($C115<$I$80,1,0)))","v":0},{"$f":"IF(COUNTIF($F115:H115,3)>0,\"        \",IF(H115>0,IF($D115<$J$80,3,2),IF($C115<$J$80,1,0)))","v":0},{"$f":"IF(COUNTIF($F115:I115,3)>0,\"        \",IF(I115>0,IF($D115<$K$80,3,2),IF($C115<$K$80,1,0)))","v":0},{"$f":"IF(COUNTIF($F115:J115,3)>0,\"        \",IF(J115>0,IF($D115<$L$80,3,2),IF($C115<$L$80,1,0)))","v":0},{"$f":"IF(COUNTIF($F115:K115,3)>0,\"        \",IF(K115>0,IF($D115<$M$80,3,2),IF($C115<$M$80,1,0)))","v":0}]
[null,null,null,null,null,{"$f":"IF(F115=0,CONCATENATE(REPT(\"   \",7)),IF(F115=1,CONCATENATE(REPT(\"   \",(($C115-F$80)/$G$79)),REPT(\"█\",8-(($C115-F$80)/$G$79))),IF(F115=2,REPT(\"█\",7),IF(F115=3,REPT(\"█\",($D115-F$80)/$G$79),\"       \"))))","v":"                     "},{"$f":"IF(G115=0,CONCATENATE(REPT(\"   \",7)),IF(G115=1,CONCATENATE(REPT(\"   \",(($C115-G$80)/$G$79)),REPT(\"█\",8-(($C115-G$80)/$G$79))),IF(G115=2,REPT(\"█\",7),IF(G115=3,REPT(\"█\",($D115-G$80)/$G$79),\"       \"))))","v":"                     "},{"$f":"IF(H115=0,CONCATENATE(REPT(\"   \",7)),IF(H115=1,CONCATENATE(REPT(\"   \",(($C115-H$80)/$G$79)),REPT(\"█\",8-(($C115-H$80)/$G$79))),IF(H115=2,REPT(\"█\",7),IF(H115=3,REPT(\"█\",($D115-H$80)/$G$79),\"       \"))))","v":"                     "},"                     ","                     ","                     ","                     ",null,{"$f":"CONCATENATE(F116,G116,H116,I116,J116,K116,L116)","v":"                                                                                                                                                   "}]
[null,{"$f":"'IMPLEMENTATION NOTES'!D48","v":""},{"$f":"IF('IMPLEMENTATION NOTES'!O901=\"\",\"\",'IMPLEMENTATION NOTES'!O901)","v":""},{"$f":"'IMPLEMENTATION NOTES'!O902","v":"00:00:00"},{"$f":"IFERROR(VLOOKUP(\"A401\",$AT$81:$AW$100,4,FALSE),0)","v":0},{"$f":"IF($C117<G$80,1,0)","v":0},{"$f":"IF(COUNTIF($F117,3)>0,\"        \",IF($F117>0,IF($D117<$H$80,3,2),IF($C117<$H$80,1,0)))","v":0},{"$f":"IF(COUNTIF($F117:$G117,3)>0,\"        \",IF(G117>0,IF($D117<$I$80,3,2),IF($C117<$I$80,1,0)))","v":0},{"$f":"IF(COUNTIF($F117:H117,3)>0,\"        \",IF(H117>0,IF($D117<$J$80,3,2),IF($C117<$J$80,1,0)))","v":0},{"$f":"IF(COUNTIF($F117:I117,3)>0,\"        \",IF(I117>0,IF($D117<$K$80,3,2),IF($C117<$K$80,1,0)))","v":0},{"$f":"IF(COUNTIF($F117:J117,3)>0,\"        \",IF(J117>0,IF($D117<$L$80,3,2),IF($C117<$L$80,1,0)))","v":0},{"$f":"IF(COUNTIF($F117:K117,3)>0,\"        \",IF(K117>0,IF($D117<$M$80,3,2),IF($C117<$M$80,1,0)))","v":0}]
[null,null,null,null,null,{"$f":"IF(F117=0,CONCATENATE(REPT(\"   \",7)),IF(F117=1,CONCATENATE(REPT(\"   \",(($C117-F$80)/$G$79)),REPT(\"█\",8-(($C117-F$80)/$G$79))),IF(F117=2,REPT(\"█\",7),IF(F117=3,REPT(\"█\",($D117-F$80)/$G$79),\"       \"))))","v":"                     "},{"$f":"IF(G117=0,CONCATENATE(REPT(\"   \",7)),IF(G117=1,CONCATENATE(REPT(\"   \",(($C117-G$80)/$G$79)),REPT(\"█\",8-(($C117-G$80)/$G$79))),IF(G117=2,REPT(\"█\",7),IF(G117=3,REPT(\"█\",($D117-G$80)/$G$79),\"       \"))))","v":"                     "},{"$f":"IF(H117=0,CONCATENATE(REPT(\"   \",7)),IF(H117=1,CONCATENATE(REPT(\"   \",(($C117-H$80)/$G$79)),REPT(\"█\",8-(($C117-H$80)/$G$79))),IF(H117=2,REPT(\"█\",7),IF(H117=3,REPT(\"█\",($D117-H$80)/$G$79),\"       \"))))","v":"                     "},"                     ","                     ","                     ","                     ",null,{"$f":"CONCATENATE(F118,G118,H118,I118,J118,K118,L118)","v":"                                                                                                                                                   "}]
[null,{"$f":"'IMPLEMENTATION NOTES'!D49","v":""},{"$f":"IF('IMPLEMENTATION NOTES'!O910=\"\",\"\",'IMPLEMENTATION NOTES'!O910)","v":""},{"$f":"'IMPLEMENTATION NOTES'!O911","v":"00:00:00"},{"$f":"IFERROR(VLOOKUP(\"A501\",$AT$81:$AW$100,4,FALSE),0)","v":0},{"$f":"IF($C119<G$80,1,0)","v":0},{"$f":"IF(COUNTIF($F119,3)>0,\"        \",IF($F119>0,IF($D119<$H$80,3,2),IF($C119<$H$80,1,0)))","v":0},{"$f":"IF(COUNTIF($F119:$G119,3)>0,\"        \",IF(G119>0,IF($D119<$I$80,3,2),IF($C119<$I$80,1,0)))","v":0},{"$f":"IF(COUNTIF($F119:H119,3)>0,\"        \",IF(H119>0,IF($D119<$J$80,3,2),IF($C119<$J$80,1,0)))","v":0},{"$f":"IF(COUNTIF($F119:I119,3)>0,\"        \",IF(I119>0,IF($D119<$K$80,3,2),IF($C119<$K$80,1,0)))","v":0},{"$f":"IF(COUNTIF($F119:J119,3)>0,\"        \",IF(J119>0,IF($D119<$L$80,3,2),IF($C119<$L$80,1,0)))","v":0},{"$f":"IF(COUNTIF($F119:K119,3)>0,\"        \",IF(K119>0,IF($D119<$M$80,3,2),IF($C119<$M$80,1,0)))","v":0}]
[null,null,null,null,null,{"$f":"IF(F119=0,CONCATENATE(REPT(\"   \",7)),IF(F119=1,CONCATENATE(REPT(\"   \",(($C119-F$80)/$G$79)),REPT(\"█\",8-(($C119-F$80)/$G$79))),IF(F119=2,REPT(\"█\",7),IF(F119=3,REPT(\"█\",($D119-F$80)/$G$79),\"       \"))))","v":"                     "},{"$f":"IF(G119=0,CONCATENATE(REPT(\"   \",7)),IF(G119=1,CONCATENATE(REPT(\"   \",(($C119-G$80)/$G$79)),REPT(\"█\",8-(($C119-G$80)/$G$79))),IF(G119=2,REPT(\"█\",7),IF(G119=3,REPT(\"█\",($D119-G$80)/$G$79),\"       \"))))","v":"                     "},{"$f":"IF(H119=0,CONCATENATE(REPT(\"   \",7)),IF(H119=1,CONCATENATE(REPT(\"   \",(($C119-H$80)/$G$79)),REPT(\"█\",8-(($C119-H$80)/$G$79))),IF(H119=2,REPT(\"█\",7),IF(H119=3,REPT(\"█\",($D119-H$80)/$G$79),\"       \"))))","v":"                     "},"                     ","                     ","                     ","                     ",null,{"$f":"CONCATENATE(F120,G120,H120,I120,J120,K120,L120)","v":"                                                                                                                                                   "}]
["Obj4",{"$f":"'IMPLEMENTATION NOTES'!D51","v":""},{"$f":"IF('IMPLEMENTATION NOTES'!O1138=\"\",\"\",'IMPLEMENTATION NOTES'!O1138)","v":""},{"$f":"'IMPLEMENTATION NOTES'!O1139","v":"00:00:00"},{"$f":"IFERROR(VLOOKUP(\"A101\",$BD$81:$BG$100,4,FALSE),0)","v":0},{"$f":"IF($C121<G$80,1,0)","v":0},{"$f":"IF(COUNTIF($F121,3)>0,\"        \",IF($F121>0,IF($D121<$H$80,3,2),IF($C121<$H$80,1,0)))","v":0},{"$f":"IF(COUNTIF($F121:$G121,3)>0,\"        \",IF(G121>0,IF($D121<$I$80,3,2),IF($C121<$I$80,1,0)))","v":0},{"$f":"IF(COUNTIF($F121:H121,3)>0,\"        \",IF(H121>0,IF($D121<$J$80,3,2),IF($C121<$J$80,1,0)))","v":0},{"$f":"IF(COUNTIF($F121:I121,3)>0,\"        \",IF(I121>0,IF($D121<$K$80,3,2),IF($C121<$K$80,1,0)))","v":0},{"$f":"IF(COUNTIF($F121:J121,3)>0,\"        \",IF(J121>0,IF($D121<$L$80,3,2),IF($C121<$L$80,1,0)))","v":0},{"$f":"IF(COUNTIF($F121:K121,3)>0,\"        \",IF(K121>0,IF($D121<$M$80,3,2),IF($C121<$M$80,1,0)))","v":0}]
[null,null,null,null,null,{"$f":"IF(F121=0,CONCATENATE(REPT(\"   \",7)),IF(F121=1,CONCATENATE(REPT(\"   \",(($C121-F$80)/$G$79)),REPT(\"█\",8-(($C121-F$80)/$G$79))),IF(F121=2,REPT(\"█\",7),IF(F121=3,REPT(\"█\",($D121-F$80)/$G$79),\"       \"))))","v":"                     "},{"$f":"IF(G121=0,CONCATENATE(REPT(\"   \",7)),IF(G121=1,CONCATENATE(REPT(\"   \",(($C121-G$80)/$G$79)),REPT(\"█\",8-(($C121-G$80)/$G$79))),IF(G121=2,REPT(\"█\",7),IF(G121=3,REPT(\"█\",($D121-G$80)/$G$79),\"       \"))))","v":"                     "},{"$f":"IF(H121=0,CONCATENATE(REPT(\"   \",7)),IF(H121=1,CONCATENATE(REPT(\"   \",(($C121-H$80)/$G$79)),REPT(\"█\",8-(($C121-H$80)/$G$79))),IF(H121=2,REPT(\"█\",7),IF(H121=3,REPT(\"█\",($D121-H$80)/$G$79),\"       \"))))","v":"                     "},"                     ","                     ","                     ","                     ",null,{"$f":"CONCATENATE(F122,G122,H122,I122,J122,K122,L122)","v":"                                                                                                                                                   "}]
[null,{"$f":"'IMPLEMENTATION NOTES'!D52","v":""},{"$f":"IF('IMPLEMENTATION NOTES'!O1147=\"\",\"\",'IMPLEMENTATION NOTES'!O1147)","v":""},{"$f":"'IMPLEMENTATION NOTES'!O1148","v":"00:00:00"},{"$f":"IFERROR(VLOOKUP(\"A201\",$BD$81:$BG$100,4,FALSE),0)","v":0},{"$f":"IF($C123<G$80,1,0)","v":0},{"$f":"IF(COUNTIF($F123,3)>0,\"        \",IF($F123>0,IF($D123<$H$80,3,2),IF($C123<$H$80,1,0)))","v":0},{"$f":"IF(COUNTIF($F123:$G123,3)>0,\"        \",IF(G123>0,IF($D123<$I$80,3,2),IF($C123<$I$80,1,0)))","v":0},{"$f":"IF(COUNTIF($F123:H123,3)>0,\"        \",IF(H123>0,IF($D123<$J$80,3,2),IF($C123<$J$80,1,0)))","v":0},{"$f":"IF(COUNTIF($F123:I123,3)>0,\"        \",IF(I123>0,IF($D123<$K$80,3,2),IF($C123<$K$80,1,0)))","v":0},{"$f":"IF(COUNTIF($F123:J123,3)>0,\"        \",IF(J123>0,IF($D123<$L$80,3,2),IF($C123<$L$80,1,0)))","v":0},{"$f":"IF(COUNTIF($F123:K123,3)>0,\"        \",IF(K123>0,IF($D123<$M$80,3,2),IF($C123<$M$80,1,0)))","v":0}]
[null,null,null,null,null,{"$f":"IF(F123=0,CONCATENATE(REPT(\"   \",7)),IF(F123=1,CONCATENATE(REPT(\"   \",(($C123-F$80)/$G$79)),REPT(\"█\",8-(($C123-F$80)/$G$79))),IF(F123=2,REPT(\"█\",7),IF(F123=3,REPT(\"█\",($D123-F$80)/$G$79),\"       \"))))","v":"                     "},{"$f":"IF(G123=0,CONCATENATE(REPT(\"   \",7)),IF(G123=1,CONCATENATE(REPT(\"   \",(($C123-G$80)/$G$79)),REPT(\"█\",8-(($C123-G$80)/$G$79))),IF(G123=2,REPT(\"█\",7),IF(G123=3,REPT(\"█\",($D123-G$80)/$G$79),\"       \"))))","v":"                     "},{"$f":"IF(H123=0,CONCATENATE(REPT(\"   \",7)),IF(H123=1,CONCATENATE(REPT(\"   \",(($C123-H$80)/$G$79)),REPT(\"█\",8-(($C123-H$80)/$G$79))),IF(H123=2,REPT(\"█\",7),IF(H123=3,REPT(\"█\",($D123-H$80)/$G$79),\"       \"))))","v":"                     "},"                     ","                     ","                     ","                     ",null,{"$f":"CONCATENATE(F124,G124,H124,I124,J124,K124,L124)","v":"                                                                                                                                                   "}]
[null,{"$f":"'IMPLEMENTATION NOTES'!D53","v":""},{"$f":"IF('IMPLEMENTATION NOTES'!O1156=\"\",\"\",'IMPLEMENTATION NOTES'!O1156)","v":""},{"$f":"'IMPLEMENTATION NOTES'!O1157","v":"00:00:00"},{"$f":"IFERROR(VLOOKUP(\"A301\",$BD$81:$BG$100,4,FALSE),0)","v":0},{"$f":"IF($C125<G$80,1,0)","v":0},{"$f":"IF(COUNTIF($F125,3)>0,\"        \",IF($F125>0,IF($D125<$H$80,3,2),IF($C125<$H$80,1,0)))","v":0},{"$f":"IF(COUNTIF($F125:$G125,3)>0,\"        \",IF(G125>0,IF($D125<$I$80,3,2),IF($C125<$I$80,1,0)))","v":0},{"$f":"IF(COUNTIF($F125:H125,3)>0,\"        \",IF(H125>0,IF($D125<$J$80,3,2),IF($C125<$J$80,1,0)))","v":0},{"$f":"IF(COUNTIF($F125:I125,3)>0,\"        \",IF(I125>0,IF($D125<$K$80,3,2),IF($C125<$K$80,1,0)))","v":0},{"$f":"IF(COUNTIF($F125:J125,3)>0,\"        \",IF(J125>0,IF($D125<$L$80,3,2),IF($C125<$L$80,1,0)))","v":0},{"$f":"IF(COUNTIF($F125:K125,3)>0,\"        \",IF(K125>0,IF($D125<$M$80,3,2),IF($C125<$M$80,1,0)))","v":0}]
[null,null,null,null,null,{"$f":"IF(F125=0,CONCATENATE(REPT(\"   \",7)),IF(F125=1,CONCATENATE(REPT(\"   \",(($C125-F$80)/$G$79)),REPT(\"█\",8-(($C125-F$80)/$G$79))),IF(F125=2,REPT(\"█\",7),IF(F125=3,REPT(\"█\",($D125-F$80)/$G$79),\"       \"))))","v":"                     "},{"$f":"IF(G125=0,CONCATENATE(REPT(\"   \",7)),IF(G125=1,CONCATENATE(REPT(\"   \",(($C125-G$80)/$G$79)),REPT(\"█\",8-(($C125-G$80)/$G$79))),IF(G125=2,REPT(\"█\",7),IF(G125=3,REPT(\"█\",($D125-G$80)/$G$79),\"       \"))))","v":"                     "},{"$f":"IF(H125=0,CONCATENATE(REPT(\"   \",7)),IF(H125=1,CONCATENATE(REPT(\"   \",(($C125-H$80)/$G$79)),REPT(\"█\",8-(($C125-H$80)/$G$79))),IF(H125=2,REPT(\"█\",7),IF(H125=3,REPT(\"█\",($D125-H$80)/$G$79),\"       \"))))","v":"                     "},"                     ","                     ","                     ","                     ",null,{"$f":"CONCATENATE(F126,G126,H126,I126,J126,K126,L126)","v":"                                                                                                                                                   "}]
[null,{"$f":"'IMPLEMENTATION NOTES'!D54","v":""},{"$f":"IF('IMPLEMENTATION NOTES'!O1165=\"\",\"\",'IMPLEMENTATION NOTES'!O1165)","v":""},{"$f":"'IMPLEMENTATION NOTES'!O1166","v":"00:00:00"},{"$f":"IFERROR(VLOOKUP(\"A401\",$BD$81:$BG$100,4,FALSE),0)","v":0},{"$f":"IF($C127<G$80,1,0)","v":0},{"$f":"IF(COUNTIF($F127,3)>0,\"        \",IF($F127>0,IF($D127<$H$80,3,2),IF($C127<$H$80,1,0)))","v":0},{"$f":"IF(COUNTIF($F127:$G127,3)>0,\"        \",IF(G127>0,IF($D127<$I$80,3,2),IF($C127<$I$80,1,0)))","v":0},{"$f":"IF(COUNTIF($F127:H127,3)>0,\"        \",IF(H127>0,IF($D127<$J$80,3,2),IF($C127<$J$80,1,0)))","v":0},{"$f":"IF(COUNTIF($F127:I127,3)>0,\"        \",IF(I127>0,IF($D127<$K$80,3,2),IF($C127<$K$80,1,0)))","v":0},{"$f":"IF(COUNTIF($F127:J127,3)>0,\"        \",IF(J127>0,IF($D127<$L$80,3,2),IF($C127<$L$80,1,0)))","v":0},{"$f":"IF(COUNTIF($F127:K127,3)>0,\"        \",IF(K127>0,IF($D127<$M$80,3,2),IF($C127<$M$80,1,0)))","v":0}]
[null,null,null,null,null,{"$f":"IF(F127=0,CONCATENATE(REPT(\"   \",7)),IF(F127=1,CONCATENATE(REPT(\"   \",(($C127-F$80)/$G$79)),REPT(\"█\",8-(($C127-F$80)/$G$79))),IF(F127=2,REPT(\"█\",7),IF(F127=3,REPT(\"█\",($D127-F$80)/$G$79),\"       \"))))","v":"                     "},{"$f":"IF(G127=0,CONCATENATE(REPT(\"   \",7)),IF(G127=1,CONCATENATE(REPT(\"   \",(($C127-G$80)/$G$79)),REPT(\"█\",8-(($C127-G$80)/$G$79))),IF(G127=2,REPT(\"█\",7),IF(G127=3,REPT(\"█\",($D127-G$80)/$G$79),\"       \"))))","v":"                     "},{"$f":"IF(H127=0,CONCATENATE(REPT(\"   \",7)),IF(H127=1,CONCATENATE(REPT(\"   \",(($C127-H$80)/$G$79)),REPT(\"█\",8-(($C127-H$80)/$G$79))),IF(H127=2,REPT(\"█\",7),IF(H127=3,REPT(\"█\",($D127-H$80)/$G$79),\"       \"))))","v":"                     "},"                     ","                     ","                     ","                     ",null,{"$f":"CONCATENATE(F128,G128,H128,I128,J128,K128,L128)","v":"                                                                                                                                                   "}]
[null,{"$f":"'IMPLEMENTATION NOTES'!D55","v":""},{"$f":"IF('IMPLEMENTATION NOTES'!O1174=\"\",\"\",'IMPLEMENTATION NOTES'!O1174)","v":""},{"$f":"'IMPLEMENTATION NOTES'!O1175","v":"00:00:00"},{"$f":"IFERROR(VLOOKUP(\"A501\",$BD$81:$BG$100,4,FALSE),0)","v":0},{"$f":"IF($C129<G$80,1,0)","v":0},{"$f":"IF(COUNTIF($F129,3)>0,\"        \",IF($F129>0,IF($D129<$H$80,3,2),IF($C129<$H$80,1,0)))","v":0},{"$f":"IF(COUNTIF($F129:$G129,3)>0,\"        \",IF(G129>0,IF($D129<$I$80,3,2),IF($C129<$I$80,1,0)))","v":0},{"$f":"IF(COUNTIF($F129:H129,3)>0,\"        \",IF(H129>0,IF($D129<$J$80,3,2),IF($C129<$J$80,1,0)))","v":0},{"$f":"IF(COUNTIF($F129:I129,3)>0,\"        \",IF(I129>0,IF($D129<$K$80,3,2),IF($C129<$K$80,1,0)))","v":0},{"$f":"IF(COUNTIF($F129:J129,3)>0,\"        \",IF(J129>0,IF($D129<$L$80,3,2),IF($C129<$L$80,1,0)))","v":0},{"$f":"IF(COUNTIF($F129:K129,3)>0,\"        \",IF(K129>0,IF($D129<$M$80,3,2),IF($C129<$M$80,1,0)))","v":0}]
[null,null,null,null,null,{"$f":"IF(F129=0,CONCATENATE(REPT(\"   \",7)),IF(F129=1,CONCATENATE(REPT(\"   \",(($C129-F$80)/$G$79)),REPT(\"█\",8-(($C129-F$80)/$G$79))),IF(F129=2,REPT(\"█\",7),IF(F129=3,REPT(\"█\",($D129-F$80)/$G$79),\"       \"))))","v":"                     "},{"$f":"IF(G129=0,CONCATENATE(REPT(\"   \",7)),IF(G129=1,CONCATENATE(REPT(\"   \",(($C129-G$80)/$G$79)),REPT(\"█\",8-(($C129-G$80)/$G$79))),IF(G129=2,REPT(\"█\",7),IF(G129=3,REPT(\"█\",($D129-G$80)/$G$79),\"       \"))))","v":"                     "},{"$f":"IF(H129=0,CONCATENATE(REPT(\"   \",7)),IF(H129=1,CONCATENATE(REPT(\"   \",(($C129-H$80)/$G$79)),REPT(\"█\",8-(($C129-H$80)/$G$79))),IF(H129=2,REPT(\"█\",7),IF(H129=3,REPT(\"█\",($D129-H$80)/$G$79),\"       \"))))","v":"                     "},"                     ","                     ","                     ","                     ",null,{"$f":"CONCATENATE(F130,G130,H130,I130,J130,K130,L130)","v":"                                                                                                                                                   "}]
[]
["Implement Visibility"]
["Obj 1",{"$f":"B28","v":0},null,"Obj 2",{"$f":"E28","v":0},null,"Obj 3",{"$f":"H28","v":0},null,"Obj 4",{"$f":"K28","v":0},null,"Obj 5",{"$f":"N28","v":0}]
["Update",{"$f":"IF('IMPLEMENTATION NOTES'!$P$1393<>\"\",'IMPLEMENTATION NOTES'!$P$1393,'CENTRAL ANALYSIS'!C134)","v":0},null,"Update",{"$f":"IF('IMPLEMENTATION NOTES'!$P$1394<>\"\",'IMPLEMENTATION NOTES'!$P$1394,'CENTRAL ANALYSIS'!F134)","v":0},null,"Update",{"$f":"IF('IMPLEMENTATION NOTES'!$P$1395<>\"\",'IMPLEMENTATION NOTES'!$P$1395,'CENTRAL ANALYSIS'!I134)","v":0},null,"Update",{"$f":"IF('IMPLEMENTATION NOTES'!$P$1396<>\"\",'IMPLEMENTATION NOTES'!$P$1396,'CENTRAL ANALYSIS'!L134)","v":0},null,"Update",{"$f":"IF('IMPLEMENTATION NOTES'!$P$1397<>\"\",'IMPLEMENTATION NOTES'!$P$1397,'CENTRAL ANALYSIS'!O134)","v":0}]
["Notes",{"$f":"IF('IMPLEMENTATION NOTES'!$Q$1393<>\"\",'IMPLEMENTATION NOTES'!$Q$1393,'CENTRAL ANALYSIS'!C135)","v":0},null,"Notes",{"$f":"IF('IMPLEMENTATION NOTES'!$Q$1394<>\"\",'IMPLEMENTATION NOTES'!$Q$1394,'CENTRAL ANALYSIS'!F135)","v":0},null,"Notes",{"$f":"IF('IMPLEMENTATION NOTES'!$Q$1395<>\"\",'IMPLEMENTATION NOTES'!$Q$1395,'CENTRAL ANALYSIS'!I135)","v":0},null,"Notes",{"$f":"IF('IMPLEMENTATION NOTES'!$Q$1396<>\"\",'IMPLEMENTATION NOTES'!$Q$1396,'CENTRAL ANALYSIS'!L135)","v":0},null,"Notes",{"$f":"IF('IMPLEMENTATION NOTES'!$Q$1397<>\"\",'IMPLEMENTATION NOTES'!$Q$1397,'CENTRAL ANALYSIS'!O135)","v":0}]
[]
["Engagement Events"]
["Rank","Date","Name","Description","Attendance","Month","Month Name"]
[{"$f":"IFERROR(RANK(B139,$B$139:$B$153,1),\"\")","v":""},{"$f":"IF('IN-DEPTH'!L262=\"\",\"\",'IN-DEPTH'!L262)","v":""},{"$f":"'IN-DEPTH'!B262","v":0},{"$f":"'IN-DEPTH'!E262","v":0},{"$f":"'IN-DEPTH'!O262","v":0},{"$f":"IFERROR(MONTH(B139),\"\")","v":""},{"$f":"IFERROR(VLOOKUP(F139,'CENTRAL DATA'!$F$30:$G$41,2,FALSE),\"\")","v":""}]
[{"$f":"IFERROR(RANK(B140,$B$139:$B$153,1),\"\")","v":""},{"$f":"IF('IN-DEPTH'!L263=\"\",\"\",'IN-DEPTH'!L263)","v":""},{"$f":"'IN-DEPTH'!B263","v":0},{"$f":"'IN-DEPTH'!E263","v":0},{"$f":"'IN-DEPTH'!O263","v":0},{"$f":"IFERROR(MONTH(B140),\"\")","v":""},{"$f":"IFERROR(VLOOKUP(F140,'CENTRAL DATA'!$F$30:$G$41,2,FALSE),\"\")","v":""}]
["",{"$f":"IF('IN-DEPTH'!L264=\"\",\"\",'IN-DEPTH'!L264)","v":""},{"$f":"'IN-DEPTH'!B264","v":0},{"$f":"'IN-DEPTH'!E264","v":0},{"$f":"'IN-DEPTH'!O264","v":0},"",{"$f":"IFERROR(VLOOKUP(F141,'CENTRAL DATA'!$F$30:$G$41,2,FALSE),\"\")","v":""}]
["",{"$f":"IF('IN-DEPTH'!L265=\"\",\"\",'IN-DEPTH'!L265)","v":""},{"$f":"'IN-DEPTH'!B265","v":0},{"$f":"'IN-DEPTH'!E265","v":0},{"$f":"'IN-DEPTH'!O265","v":0},"",{"$f":"IFERROR(VLOOKUP(F142,'CENTRAL DATA'!$F$30:$G$41,2,FALSE),\"\")","v":""}]
["",{"$f":"IF('IN-DEPTH'!L266=\"\",\"\",'IN-DEPTH'!L266)","v":""},{"$f":"'IN-DEPTH'!B266","v":0},{"$f":"'IN-DEPTH'!E266","v":0},{"$f":"'IN-DEPTH'!O266","v":0},"",{"$f":"IFERROR(VLOOKUP(F143,'CENTRAL DATA'!$F$30:$G$41,2,FALSE),\"\")","v":""}]
["",{"$f":"IF('IN-DEPTH'!L267=\"\",\"\",'IN-DEPTH'!L267)","v":""},{"$f":"'IN-DEPTH'!B267","v":0},{"$f":"'IN-DEPTH'!E267","v":0},{"$f":"'IN-DEPTH'!O267","v":0},"",{"$f":"IFERROR(VLOOKUP(F144,'CENTRAL DATA'!$F$30:$G$41,2,FALSE),\"\")","v":""}]
["",{"$f":"IF('IN-DEPTH'!L268=\"\",\"\",'IN-DEPTH'!L268)","v":""},{"$f":"'IN-DEPTH'!B268","v":0},{"$f":"'IN-DEPTH'!E268","v":0},{"$f":"'IN-DEPTH'!O268","v":0},"",{"$f":"IFERROR(VLOOKUP(F145,'CENTRAL DATA'!$F$30:$G$41,2,FALSE),\"\")","v":""}]
["",{"$f":"IF('IN-DEPTH'!L269=\"\",\"\",'IN-DEPTH'!L269)","v":""},{"$f":"'IN-DEPTH'!B269","v":0},{"$f":"'IN-DEPTH'!E269","v":0},{"$f":"'IN-DEPTH'!O269","v":0},"",{"$f":"IFERROR(VLOOKUP(F146,'CENTRAL DATA'!$F$30:$G$41,2,FALSE),\"\")","v":""}]
["",{"$f":"IF('IN-DEPTH'!L270=\"\",\"\",'IN-DEPTH'!L270)","v":""},{"$f":"'IN-DEPTH'!B270","v":0},{"$f":"'IN-DEPTH'!E270","v":0},{"$f":"'IN-DEPTH'!O270","v":0},"",{"$f":"IFERROR(VLOOKUP(F147,'CENTRAL DATA'!$F$30:$G$41,2,FALSE),\"\")","v":""}]
["",{"$f":"IF('IN-DEPTH'!L271=\"\",\"\",'IN-DEPTH'!L271)","v":""},{"$f":"'IN-DEPTH'!B271","v":0},{"$f":"'IN-DEPTH'!E271","v":0},{"$f":"'IN-DEPTH'!O271","v":0},"",{"$f":"IFERROR(VLOOKUP(F148,'CENTRAL DATA'!$F$30:$G$41,2,FALSE),\"\")","v":""}]
["",{"$f":"IF('IN-DEPTH'!L272=\"\",\"\",'IN-DEPTH'!L272)","v":""},{"$f":"'IN-DEPTH'!B272","v":0},{"$f":"'IN-DEPTH'!E272","v":0},{"$f":"'IN-DEPTH'!O272","v":0},"",{"$f":"IFERROR(VLOOKUP(F149,'CENTRAL DATA'!$F$30:$G$41,2,FALSE),\"\")","v":""}]
["",{"$f":"IF('IN-DEPTH'!L273=\"\",\"\",'IN-DEPTH'!L273)","v":""},{"$f":"'IN-DEPTH'!B273","v":0},{"$f":"'IN-DEPTH'!E273","v":0},{"$f":"'IN-DEPTH'!O273","v":0},"",{"$f":"IFERROR(VLOOKUP(F150,'CENTRAL DATA'!$F$30:$G$41,2,FALSE),\"\")","v":""}]
["",{"$f":"IF('IN-DEPTH'!L274=\"\",\"\",'IN-DEPTH'!L274)","v":""},{"$f":"'IN-DEPTH'!B274","v":0},{"$f":"'IN-DEPTH'!E274","v":0},{"$f":"'IN-DEPTH'!O274","v":0},"",{"$f":"IFERROR(VLOOKUP(F151,'CENTRAL DATA'!$F$30:$G$41,2,FALSE),\"\")","v":""}]
["",{"$f":"IF('IN-DEPTH'!L275=\"\",\"\",'IN-DEPTH'!L275)","v":""},{"$f":"'IN-DEPTH'!B275","v":0},{"$f":"'IN-DEPTH'!E275","v":0},{"$f":"'IN-DEPTH'!O275","v":0},"",{"$f":"IFERROR(VLOOKUP(F152,'CENTRAL DATA'!$F$30:$G$41,2,FALSE),\"\")","v":""}]
["",{"$f":"IF('IN-DEPTH'!L276=\"\",\"\",'IN-DEPTH'!L276)","v":""},{"$f":"'IN-DEPTH'!B276","v":0},{"$f":"'IN-DEPTH'!E276","v":0},{"$f":"'IN-DEPTH'!O276","v":0},"",{"$f":"IFERROR(VLOOKUP(F153,'CENTRAL DATA'!$F$30:$G$41,2,FALSE),\"\")","v":""}]

{"sheet":"DHRM ADMIN","index":14,"n_rows":38,"n_cols":15,"rows_kept":38,"cut":false,"hidden":true,"merged":[[4,1,6,13],[7,1,8,13],[10,1,11,14],[21,1,22,14],[24,3,24,14],[24,1,24,2]]}
[]
[]
[]
[]
[null,"DHRM ADMIN"]
[]
[]
[null,"The DHRM Admin tab is for annual updates, such as changes to Fiscal Years and tracks the maintenane/updates of the tool's versions."]
[]
[]
[null,"File Maintenance"]
[]
[]
[null,null,null,null,null,null,null,null,null,null,null,null,null,"To update the Fiscal Year references throughout the workbook, enter the fiscal year of the reporting period:",{"$f":"YEAR(PROFILE!N44)","v":1900}]
[null,null,null,null,null,null,null,null,null,null,null,null,null,"End of Fiscal Year Date for Current Retirements:",{"$f":"PROFILE!N44","v":"00:00:00"}]
[null,null,null,null,null,null,null,null,null,null,null,null,null,"End of Fiscal Year Date for Retirements:",{"$f":"O15+365","v":"1900-12-30"}]
[null,null,null,null,null,null,null,null,null,null,null,null,null,"End of Fiscal Year Date for Retirements:",{"$f":"O16+365","v":"1901-12-30"}]
[null,null,null,null,null,null,null,null,null,null,null,null,null,"End of Fiscal Year Date for Retirements:",{"$f":"O17+365","v":"1902-12-30"}]
[null,null,null,null,null,null,null,null,null,null,null,null,null,"End of Fiscal Year Date for Retirements:",{"$f":"O18+365","v":"1903-12-30"}]
[null,null,null,null,null,null,null,null,null,null,null,null,null,"End of Fiscal Year Date for Retirements:",{"$f":"O19+365","v":"1904-12-29"}]
[]
[null,"Version Notes"]
[]
[]
[null,"Version Number",null,"Version Notes"]
[]
[null,null,1,"Initial version released to agencies in May 2024"]
[]
[null,null,1.1000000000000001,"Corrected cell reference for filtering WFP Summary for Objective 4 Progress Update"]
[]
[null,null,1.2,"Made a small update to the summary tab to make the objectives on the at a glance be blank if no objective is added."]
[]
[null,null,1.3,"Fixed complete/incomplete indicators for Risk/Preparedness and Agecny Strategy - upated issues with formuals counting"]
[null,null,null,"Updated number of total items for title complete for agency strategy"]
[null,null,null,"Updated DPB to be Finance Secretary vs. Administration"]
[]
[null,null,1.4,"Upated import process to reflect current template"]
[null,null,null,"Updated future retirement FY indicators to be automatic based on report date in Profile Step 2"]

{"sheet":"DATA IMPORT","index":15,"n_rows":308,"n_cols":13,"rows_kept":308,"cut":false,"hidden":true,"merged":[[4,1,6,14],[7,1,8,14]]}
[]
[]
[]
[]
[null,"DATA IMPORT"]
[]
[]
[null,"The data import tab allows for the import of information from other tools and templates, that can be used as references within this template."]
[]
[]
[]
[null,"Fiscal Year",null,null,null,null,null,null,null,null,null,null,"Fiscal Year"]
[null," Agency Name",null,null,null,null,null,null,null,null,null,null," Agency Name"]
[null," Secretariat",null,null,null,null,null,null,null,null,null,null," Secretariat"]
[null,"Agency Number",null,null,null,null,null,null,null,null,null,null," Agency Number"]
[null,"Total Classified Employees at the Agency",null,null,null,null,null,null,null,null,null,null,"Agency Mission"]
[null,"Total Classified Employees with Disabilities at the Agency",null,null,null,null,null,null,null,null,null,null,"FY Submission or Snapshot"]
[null,"Total Classified Employees with Disabilities who are Leaders/Supervisors (2 or more direct reports)",null,null,null,null,null,null,null,null,null,null,"Template Date"]
[null,"Total Classified Employees with Disabilities at the Agency who are Executives",null,null,null,null,null,null,null,null,null,null,"Classification 1"]
[null,"Total Classified Veterans with Disabilities at the Agency",null,null,null,null,null,null,null,null,null,null,"Classification 2"]
[null,"Total Classified Veterans with Disabilities who are Leaders/Supervisors (2 or more direct reports)",null,null,null,null,null,null,null,null,null,null,"Classification 3"]
[null,"Total Classified Veterans with Disabilities at the Agency who are Executives",null,null,null,null,null,null,null,null,null,null,"Classification 4"]
[null,"Total Classified Hires at the Agency",null,null,null,null,null,null,null,null,null,null,"Classification 5"]
[null,"Total Classified Hires who were Employees with Disabilities",null,null,null,null,null,null,null,null,null,null,"Classification 6"]
[null,"Total Classified Employees with Disabilities hired to Leader/Supervisor Role (2 or more direct reports)",null,null,null,null,null,null,null,null,null,null,"Classification 7"]
[null,"Total Classified Employees with Disabilities hired to Executive Role",null,null,null,null,null,null,null,null,null,null,"Classification 8"]
[null,"Total Classified Applicants to Positions at the Agency",null,null,null,null,null,null,null,null,null,null,"Classification 9"]
[null,"Total Classified Applicants who were Employees with Disabilities",null,null,null,null,null,null,null,null,null,null,"Classification 10"]
[null,"Total Classified Employees with Disabilities that applied for a Leader/Supervisor Role (2 or more direct reports)",null,null,null,null,null,null,null,null,null,null,"Classification 11"]
[null,"Total Classified Employees with Disabilities that applied for an Executive Role",null,null,null,null,null,null,null,null,null,null,"Classification 12"]
[null,"Total Applicants that used the Alternative Hiring Process",null,null,null,null,null,null,null,null,null,null,"Classification 13"]
[null,"Total Individuals Hired from Alternative Hiring Process",null,null,null,null,null,null,null,null,null,null,"Classification 14"]
[null,"Total Employees Hired through Alternative Hiring Process that transitioned to a Classified Employee",null,null,null,null,null,null,null,null,null,null,"Classification 15"]
[null,"Average Years of Service at the Agency for Classified Employees",null,null,null,null,null,null,null,null,null,null,"Executive Definition"]
[null,"Average Years of Service for Classified Employees with Disabilities",null,null,null,null,null,null,null,null,null,null,"Exeutive Position Title 1"]
[null,"Average Years of Service for Classified Employees with Disabilities in a Leader/Supervisor Role (2 or more direct reports)",null,null,null,null,null,null,null,null,null,null,"Exeutive Position Title 2"]
[null,"Average Years of Service for Classified Employees with Disabilities in an Executive Role",null,null,null,null,null,null,null,null,null,null,"Exeutive Position Title 3"]
[null,"Total Number of Internal Promotions of Classified Employees at the Agency",null,null,null,null,null,null,null,null,null,null,"Exeutive Position Title 4"]
[null,"Total Classified Internal Promotions who were Employees with Disabilities",null,null,null,null,null,null,null,null,null,null,"Exeutive Position Title 5"]
[null,"Total Classified Internal Promotions who were Employees with Disabilities to a Leader/Supervisor Role (2 or more direct reports)",null,null,null,null,null,null,null,null,null,null,"Exeutive Position Title 6"]
[null,"Total Classified Internal Promotions who were Employees with Disabilities to an Executive Role",null,null,null,null,null,null,null,null,null,null,"Exeutive Position Title 7"]
[null,"Total Number of Internal Transfers of Classified Employees at the Agency",null,null,null,null,null,null,null,null,null,null,"Exeutive Position Title 8"]
[null,"Total Classified Internal Transfers who were Employees with Disabilities",null,null,null,null,null,null,null,null,null,null,"Exeutive Position Title 9"]
[null,"Total Classified Internal Transfers who were Employees with Disabilities to a Leader/Supervisor Role (2 or more direct reports)",null,null,null,null,null,null,null,null,null,null,"Exeutive Position Title 10"]
[null,"Total Classified Internal Transfers who were Employees with Disabilities to an Executive Role",null,null,null,null,null,null,null,null,null,null,"Exeutive Position Title 11"]
[null,"Total Number of Voluntary Separations of Classified Employees at the Agency",null,null,null,null,null,null,null,null,null,null,"Exeutive Position Title 12"]
[null,"Total Classified Voluntary Separations who were Employees with Disabilities",null,null,null,null,null,null,null,null,null,null,"Exeutive Position Title 13"]
[null,"Total Classified Voluntary Separations who were Employees with Disabilities to a Leader/Supervisor Role (2 or more direct reports)",null,null,null,null,null,null,null,null,null,null,"Exeutive Position Title 14"]
[null,"Total Classified Voluntary Separations who were Employees with Disabilities to an Executive Role",null,null,null,null,null,null,null,null,null,null,"Exeutive Position Title 15"]
[null,"Total Number of External Transfers of Classified Employees at the Agency",null,null,null,null,null,null,null,null,null,null,"Exeutive Position Title 16"]
[null,"Total Classified External Transfers who were Employees with Disabilities",null,null,null,null,null,null,null,null,null,null,"Exeutive Position Title 17"]
[null,"Total Classified External Transfers who were Employees with Disabilities to a Leader/Supervisor Role (2 or more direct reports)",null,null,null,null,null,null,null,null,null,null,"Exeutive Position Title 18"]
[null,"Total Classified External Transfers who were Employees with Disabilities to an Executive Role",null,null,null,null,null,null,null,null,null,null,"Exeutive Position Title 19"]
[null,"Recruitment Stregnths",null,null,null,null,null,null,null,null,null,null,"Exeutive Position Title 20"]
[null,"Retention Strengths",null,null,null,null,null,null,null,null,null,null,"Exeutive Position Title 21"]
[null,"Engagement Strengths",null,null,null,null,null,null,null,null,null,null,"Exeutive Position Title 22"]
[null,"Learning/Development Strengths",null,null,null,null,null,null,null,null,null,null,"Exeutive Position Title 23"]
[null,"Recruitment Weaknesses",null,null,null,null,null,null,null,null,null,null,"Exeutive Position Title 24"]
[null,"Retention Weaknesses",null,null,null,null,null,null,null,null,null,null,"Exeutive Position Title 25"]
[null,"Engagement Weaknesses",null,null,null,null,null,null,null,null,null,null,"Exeutive Position Title 26"]
[null,"Learning/Development Weaknesses",null,null,null,null,null,null,null,null,null,null,"Exeutive Position Title 27"]
[null,"Recruitment Opportunities",null,null,null,null,null,null,null,null,null,null,"Exeutive Position Title 28"]
[null,"Retention Opportunities",null,null,null,null,null,null,null,null,null,null,"Exeutive Position Title 29"]
[null,"Engagement Opportunities",null,null,null,null,null,null,null,null,null,null,"Exeutive Position Title 30"]
[null,"Learning/Development Opportunities",null,null,null,null,null,null,null,null,null,null,"EOP Objecitve 1"]
[null,"Recruitment Threats",null,null,null,null,null,null,null,null,null,null,"EOP Objecitve 2"]
[null,"Retention Threats",null,null,null,null,null,null,null,null,null,null,"EOP Objecitve 3"]
[null,"Engagement Threats",null,null,null,null,null,null,null,null,null,null,"EOP Objecitve 4"]
[null,"Learning/Development Threats",null,null,null,null,null,null,null,null,null,null,"EOP Objecitve 5"]
[null,"Objective 1",null,null,null,null,null,null,null,null,null,null,"SAP Note 1"]
[null,"Objective 1 Action 1",null,null,null,null,null,null,null,null,null,null,"SAP Note 2"]
[null,"Objective 1 Action 2",null,null,null,null,null,null,null,null,null,null,"SAP Note 3"]
[null,"Objective 1 Action 3",null,null,null,null,null,null,null,null,null,null,"SAP Note 4"]
[null,"Objective 1 Action 4",null,null,null,null,null,null,null,null,null,null,"SAP Note 5"]
[null,"Objective 1 Action 5",null,null,null,null,null,null,null,null,null,null,"DOI Goal 1"]
[null,"Objective 2",null,null,null,null,null,null,null,null,null,null,"DOI Goal 2"]
[null,"Objective 2 Action 1",null,null,null,null,null,null,null,null,null,null,"DOI Goal 3"]
[null,"Objective 2 Action 2",null,null,null,null,null,null,null,null,null,null,"Other SP Note 1"]
[null,"Objective 2 Action 3",null,null,null,null,null,null,null,null,null,null,"Other SP Note 2"]
[null,"Objective 2 Action 4",null,null,null,null,null,null,null,null,null,null,"Other SP Note 3"]
[null,"Objective 2 Action 5",null,null,null,null,null,null,null,null,null,null,"Other SP Note 4"]
[null,"Objective 3",null,null,null,null,null,null,null,null,null,null,"Other SP Note 5"]
[null,"Objective 3 Action 1",null,null,null,null,null,null,null,null,null,null,"Maximum Employment Level"]
[null,"Objective 3 Action 2",null,null,null,null,null,null,null,null,null,null,"Total Number of Positions"]
[null,"Objective 3 Action 3",null,null,null,null,null,null,null,null,null,null,"Total Number of Employees"]
[null,"Objective 3 Action 4",null,null,null,null,null,null,null,null,null,null,"Total Number of Employees in their First 5 years"]
[null,"Objective 3 Action 5",null,null,null,null,null,null,null,null,null,null,"Total Number of Employees in their First Year"]
[null,"Objective 4",null,null,null,null,null,null,null,null,null,null,"Total Number of Executive Positions"]
[null,"Objective 4 Action 1",null,null,null,null,null,null,null,null,null,null,"Total Number of Appointed Executive Positions"]
[null,"Objective 4 Action 2",null,null,null,null,null,null,null,null,null,null,"Total Number of Executive Employees"]
[null,"Objective 4 Action 3",null,null,null,null,null,null,null,null,null,null,"Total Number of Positions Assessed for Criticality"]
[null,"Objective 4 Action 4",null,null,null,null,null,null,null,null,null,null,"Total Number of Positions Identified as Critical"]
[null,"Objective 4 Action 5",null,null,null,null,null,null,null,null,null,null,"Total Number of Executive Team Positions Identified as Critical"]
[null,"Objective 5",null,null,null,null,null,null,null,null,null,null,"Total Number of Employees Currently Eligible to Retire"]
[null,"Objective  5 Action 1",null,null,null,null,null,null,null,null,null,null,"Total Number of Employees in Critical Roles Currently Eligible to Retire"]
[null,"Objective 5 Action 2",null,null,null,null,null,null,null,null,null,null,"Total Number of Executives Currenlty Eligible to Retire"]
[null,"Objective 5 Action 3"]
[null,"Objective 5 Action 4"]
[null,"Objective 5 Action 5"]
[null,"Executive Summary",null,null,null,null,null,null,null,null,null,null,"Total Number of Applicants"]
[null,"Red Scale",null,null,null,null,null,null,null,null,null,null,"Total Number of Applicants to Positions Identified as Critical"]
[null,"Yellow Scale",null,null,null,null,null,null,null,null,null,null,"Total Number of Hires"]
[null,"Green Scale",null,null,null,null,null,null,null,null,null,null,"Total Number of Hires to Positions Identified as Critical"]
[null,"SWOT Included in Report",null,null,null,null,null,null,null,null,null,null,"Total Number of Positions Filled during the FY"]
[null,"SWOT Summary",null,null,null,null,null,null,null,null,null,null,"Total Number of Positions Filled During the FY Identified as Critical"]
[null,"Strength Summary",null,null,null,null,null,null,null,null,null,null,"Total Number of Vacant Positions at the End of the FY"]
[null,"Weaknesses Summary",null,null,null,null,null,null,null,null,null,null,"Total Number of Vacant Positions at the End of the FY Identified as Critical"]
[null,"Opportunities Summary",null,null,null,null,null,null,null,null,null,null,"Average Time to Fill (Days) for All Positions"]
[null,"Threats Summary",null,null,null,null,null,null,null,null,null,null,"Average Time to Fill (Days) for Positions Identified as Critical"]
[null,"Objective 1 Progress Summary",null,null,null,null,null,null,null,null,null,null,"Average Years of Service for All Employees"]
[null,"Objective 2 Progress Summary",null,null,null,null,null,null,null,null,null,null,"Total Internal Promotions for All Employees"]
[null,"Objective 3 Progress Summary",null,null,null,null,null,null,null,null,null,null,"Total Internal Transfers for All Employees"]
[null,"Objective 4 Progress Summary",null,null,null,null,null,null,null,null,null,null,"Total External Transfers for All Employees"]
[null,"Objective 5 Progress Summary",null,null,null,null,null,null,null,null,null,null,"Total Voluntary Separations for All Employees"]
[null,"Objective 1 Progress Date",null,null,null,null,null,null,null,null,null,null,"Average Years of Service for All Employees in Critical Roles"]
[null,"Objective 2 Progress Date",null,null,null,null,null,null,null,null,null,null,"Total Internal Promotions for All Employees in Critical Roles"]
[null,"Objective 3 Progress Date",null,null,null,null,null,null,null,null,null,null,"Total Internal Transfers forAll Employees in Critical Roles"]
[null,"Objective 4 Progress Date",null,null,null,null,null,null,null,null,null,null,"Total External Transfers for All Employees in Critical Roles"]
[null,"Objective 5 Progress Date",null,null,null,null,null,null,null,null,null,null,"Total Voluntary Separations for All Employees in Critical Roles"]
[null,null,null,null,null,null,null,null,null,null,null,null,"Average Years of Service of Employees in their First 5 Years"]
[null,null,null,null,null,null,null,null,null,null,null,null,"Total Internal Promotions of Employees in their First 5 Years"]
[null,null,null,null,null,null,null,null,null,null,null,null,"Total Internal Transfers of Employees in their First 5 Years"]
[null,null,null,null,null,null,null,null,null,null,null,null,"Total External Transfers of Employees in their First 5 Years"]
[null,null,null,null,null,null,null,null,null,null,null,null,"Total Voluntary Separations of Employees in their First 5 Years"]
[null,null,null,null,null,null,null,null,null,null,null,null,"Average Years of Service of Employees in their First 5 Years in Critical Roles"]
[null,null,null,null,null,null,null,null,null,null,null,null,"Total Internal Promotions of Employees in their First 5 Years in Critical Roles"]
[null,null,null,null,null,null,null,null,null,null,null,null,"Total Internal Transfers of Employees in their First 5 Years in Critical Roles"]
[null,null,null,null,null,null,null,null,null,null,null,null,"Total External Transfers of Employees in their First 5 Years in Critical Roles"]
[null,null,null,null,null,null,null,null,null,null,null,null,"Total Voluntary Separations of Employees in their First 5 Years in Critical Roles"]
[null,null,null,null,null,null,null,null,null,null,null,null,"Average Years of Service of Employees in their First Year"]
[null,null,null,null,null,null,null,null,null,null,null,null,"Total Internal Promotions of Employees in their First Year"]
[null,null,null,null,null,null,null,null,null,null,null,null,"Total Internal Transfers of Employees in their First Year"]
[null,null,null,null,null,null,null,null,null,null,null,null,"Total External Transfers of Employees in their First Year"]
[null,null,null,null,null,null,null,null,null,null,null,null,"Total Voluntary Separations of Employees in their First Year"]
[null,null,null,null,null,null,null,null,null,null,null,null,"Average Years of Service of Employees in their First Year in Critical Roles"]
[null,null,null,null,null,null,null,null,null,null,null,null,"Total Internal Promotions of Employees in their First Year in Critical Roles"]
[null,null,null,null,null,null,null,null,null,null,null,null,"Total Internal Transfers of Employees in their First Year in Critical Roles"]
[null,null,null,null,null,null,null,null,null,null,null,null,"Total External Transfers of Employees in their First Year in Critical Roles"]
[null,null,null,null,null,null,null,null,null,null,null,null,"Total Voluntary Separations of Employees in their First Year in Critical Roles"]
[null,null,null,null,null,null,null,null,null,null,null,null,"Exit Survey Responses"]
[null,null,null,null,null,null,null,null,null,null,null,null,"Net Promoter Score"]
[null,null,null,null,null,null,null,null,null,null,null,null,"Did the Agency employ interns in the reporting fiscal year?"]
[null,null,null,null,null,null,null,null,null,null,null,null,"How may individuals were in internship roles at the agency?"]
[null,null,null,null,null,null,null,null,null,null,null,null,"How may individuals participated in paid internships supported by agency funds?"]
[null,null,null,null,null,null,null,null,null,null,null,null,"How many individuals participated in paid-internships supported by outside resources/funds (scholarships, grants, etc.)?"]
[null,null,null,null,null,null,null,null,null,null,null,null,"How may individuals participated in unpaid internships (not compensated monetarily in any way)?"]
[null,null,null,null,null,null,null,null,null,null,null,null,"How many unpaid interns received academic credit?"]
[null,null,null,null,null,null,null,null,null,null,null,null,"Total Internal Development Initiatives (Agency Conducted or Hosted)"]
[null,null,null,null,null,null,null,null,null,null,null,null,"Total Number of Employees who Participated in Internal Development"]
[null,null,null,null,null,null,null,null,null,null,null,null,"Total External Development Initiatives (Employees Offsite)"]
[null,null,null,null,null,null,null,null,null,null,null,null,{"$f":"N141","v":0}]
[null,null,null,null,null,null,null,null,null,null,null,null,"Strength Title 1"]
[null,null,null,null,null,null,null,null,null,null,null,null,"Strength Description 1"]
[null,null,null,null,null,null,null,null,null,null,null,null,"Why Strength 1"]
[null,null,null,null,null,null,null,null,null,null,null,null,"Strength Title 2"]
[null,null,null,null,null,null,null,null,null,null,null,null,"Strength Description 2"]
[null,null,null,null,null,null,null,null,null,null,null,null,"Why Strength 2"]
[null,null,null,null,null,null,null,null,null,null,null,null,"Strength Title 3"]
[null,null,null,null,null,null,null,null,null,null,null,null,"Strength Description 3"]
[null,null,null,null,null,null,null,null,null,null,null,null,"Why Strength 3"]
[null,null,null,null,null,null,null,null,null,null,null,null,"Strength Title 4"]
[null,null,null,null,null,null,null,null,null,null,null,null,"Strength Description 4"]
[null,null,null,null,null,null,null,null,null,null,null,null,"Why Strength 4"]
[null,null,null,null,null,null,null,null,null,null,null,null,"Strength Title 5"]
[null,null,null,null,null,null,null,null,null,null,null,null,"Strength Description 5"]
[null,null,null,null,null,null,null,null,null,null,null,null,"Why Strength 5"]
[null,null,null,null,null,null,null,null,null,null,null,null,"Weakness Title 1"]
[null,null,null,null,null,null,null,null,null,null,null,null,"Weakness Description 1"]
[null,null,null,null,null,null,null,null,null,null,null,null,"Weakness Why 1"]
[null,null,null,null,null,null,null,null,null,null,null,null,"Weakness Title 2"]
[null,null,null,null,null,null,null,null,null,null,null,null,"Weakness Description 2"]
[null,null,null,null,null,null,null,null,null,null,null,null,"Weakness Why 2"]
[null,null,null,null,null,null,null,null,null,null,null,null,"Weakness Title 3"]
[null,null,null,null,null,null,null,null,null,null,null,null,"Weakness Description 3"]
[null,null,null,null,null,null,null,null,null,null,null,null,"Weakness Why 3"]
[null,null,null,null,null,null,null,null,null,null,null,null,"Weakness Title 4"]
[null,null,null,null,null,null,null,null,null,null,null,null,"Weakness Description 4"]
[null,null,null,null,null,null,null,null,null,null,null,null,"Weakness Why 4"]
[null,null,null,null,null,null,null,null,null,null,null,null,"Weakness Title 5"]
[null,null,null,null,null,null,null,null,null,null,null,null,"Weakness Description 5"]
[null,null,null,null,null,null,null,null,null,null,null,null,"Weakness Why 5"]
[null,null,null,null,null,null,null,null,null,null,null,null,"Opportunities Title 1"]
[null,null,null,null,null,null,null,null,null,null,null,null,"Opportunities Description 1"]
[null,null,null,null,null,null,null,null,null,null,null,null,"Opportunities Why 1"]
[null,null,null,null,null,null,null,null,null,null,null,null,"Opportunities Title 2"]
[null,null,null,null,null,null,null,null,null,null,null,null,"Opportunities Description 2"]
[null,null,null,null,null,null,null,null,null,null,null,null,"Opportunities Why 2"]
[null,null,null,null,null,null,null,null,null,null,null,null,"Opportunities Title 3"]
[null,null,null,null,null,null,null,null,null,null,null,null,"Opportunities Description 3"]
[null,null,null,null,null,null,null,null,null,null,null,null,"Opportunities Why 3"]
[null,null,null,null,null,null,null,null,null,null,null,null,"Opportunities Title 4"]
[null,null,null,null,null,null,null,null,null,null,null,null,"Opportunities Description 4"]
[null,null,null,null,null,null,null,null,null,null,null,null,"Opportunities Why 4"]
[null,null,null,null,null,null,null,null,null,null,null,null,"Opportunities Title 5"]
[null,null,null,null,null,null,null,null,null,null,null,null,"Opportunities Description 5"]
[null,null,null,null,null,null,null,null,null,null,null,null,"Opportunities Why 5"]
[null,null,null,null,null,null,null,null,null,null,null,null,"Threats Title 1"]
[null,null,null,null,null,null,null,null,null,null,null,null,"Threats Description 1"]
[null,null,null,null,null,null,null,null,null,null,null,null,"Threats Why 1"]
[null,null,null,null,null,null,null,null,null,null,null,null,"Threats Title 2"]
[null,null,null,null,null,null,null,null,null,null,null,null,"Threats Description 2"]
[null,null,null,null,null,null,null,null,null,null,null,null,"Threats Why 2"]
[null,null,null,null,null,null,null,null,null,null,null,null,"Threats Title 3"]
[null,null,null,null,null,null,null,null,null,null,null,null,"Threats Description 3"]
[null,null,null,null,null,null,null,null,null,null,null,null,"Threats Why 3"]
[null,null,null,null,null,null,null,null,null,null,null,null,"Threats Title 4"]
[null,null,null,null,null,null,null,null,null,null,null,null,"Threats Description 4"]
[null,null,null,null,null,null,null,null,null,null,null,null,"Threats Why 4"]
[null,null,null,null,null,null,null,null,null,null,null,null,"Threats Title 5"]
[null,null,null,null,null,null,null,null,null,null,null,null,"Threats Description 5"]
[null,null,null,null,null,null,null,null,null,null,null,null,"Threats Why 5"]
[null,null,null,null,null,null,null,null,null,null,null,null,"Risk EOP Obj 1"]
[null,null,null,null,null,null,null,null,null,null,null,null,"Prep EOP Obj 1"]
[null,null,null,null,null,null,null,null,null,null,null,null,"Needs EOP Obj 1"]
[null,null,null,null,null,null,null,null,null,null,null,null,"Risk EOP Obj 2"]
[null,null,null,null,null,null,null,null,null,null,null,null,"Prep EOP Obj 2"]
[null,null,null,null,null,null,null,null,null,null,null,null,"Needs EOP Obj 2"]
[null,null,null,null,null,null,null,null,null,null,null,null,"Risk EOP Obj 3"]
[null,null,null,null,null,null,null,null,null,null,null,null,"Prep EOP Obj 3"]
[null,null,null,null,null,null,null,null,null,null,null,null,"Needs EOP Obj 3"]
[null,null,null,null,null,null,null,null,null,null,null,null,"Risk EOP Obj 4"]
[null,null,null,null,null,null,null,null,null,null,null,null,"Prep EOP Obj 4"]
[null,null,null,null,null,null,null,null,null,null,null,null,"Needs EOP Obj 4"]
[null,null,null,null,null,null,null,null,null,null,null,null,"Risk EOP Obj 5"]
[null,null,null,null,null,null,null,null,null,null,null,null,"Prep EOP Obj 5"]
[null,null,null,null,null,null,null,null,null,null,null,null,"Needs EOP Obj 5"]
[null,null,null,null,null,null,null,null,null,null,null,null,"SAP Risk Obj 1"]
[null,null,null,null,null,null,null,null,null,null,null,null,"S!P Prep Obj 1"]
[null,null,null,null,null,null,null,null,null,null,null,null,"SAP Needs Obj 1"]
[null,null,null,null,null,null,null,null,null,null,null,null,"SAP Risk Obj 2"]
[null,null,null,null,null,null,null,null,null,null,null,null,"S!P Prep Obj 2"]
[null,null,null,null,null,null,null,null,null,null,null,null,"SAP Needs Obj 2"]
[null,null,null,null,null,null,null,null,null,null,null,null,"SAP Risk Obj 3"]
[null,null,null,null,null,null,null,null,null,null,null,null,"S!P Prep Obj 3"]
[null,null,null,null,null,null,null,null,null,null,null,null,"SAP Needs Obj 3"]
[null,null,null,null,null,null,null,null,null,null,null,null,"SAP Risk Obj 4"]
[null,null,null,null,null,null,null,null,null,null,null,null,"S!P Prep Obj 4"]
[null,null,null,null,null,null,null,null,null,null,null,null,"SAP Needs Obj 4"]
[null,null,null,null,null,null,null,null,null,null,null,null,"SAP Risk Obj 5"]
[null,null,null,null,null,null,null,null,null,null,null,null,"S!P Prep Obj 5"]
[null,null,null,null,null,null,null,null,null,null,null,null,"SAP Needs Obj 5"]
[null,null,null,null,null,null,null,null,null,null,null,null,"DOI Risk Goal 1"]
[null,null,null,null,null,null,null,null,null,null,null,null,"DOI Prep Goal 1"]
[null,null,null,null,null,null,null,null,null,null,null,null,"DOI Needs Goal 1"]
[null,null,null,null,null,null,null,null,null,null,null,null,"DOI Risk Goal 2"]
[null,null,null,null,null,null,null,null,null,null,null,null,"DOI Prep Goal 2"]
[null,null,null,null,null,null,null,null,null,null,null,null,"DOI Needs Goal 2"]
[null,null,null,null,null,null,null,null,null,null,null,null,"DOI Risk Goal 3"]
[null,null,null,null,null,null,null,null,null,null,null,null,"DOI Prep Goal 3"]
[null,null,null,null,null,null,null,null,null,null,null,null,"DOI Needs Goal 3"]
[null,null,null,null,null,null,null,null,null,null,null,null,"Other Strat Risk Obj 1"]
[null,null,null,null,null,null,null,null,null,null,null,null,"Other Strat Prep Obj 1"]
[null,null,null,null,null,null,null,null,null,null,null,null,"Other Strat Needs Obj 1"]
[null,null,null,null,null,null,null,null,null,null,null,null,"Other Strat Risk Obj 2"]
[null,null,null,null,null,null,null,null,null,null,null,null,"Other Strat Prep Obj 2"]
[null,null,null,null,null,null,null,null,null,null,null,null,"Other Strat Needs Obj 2"]
[null,null,null,null,null,null,null,null,null,null,null,null,"Other Strat Risk Obj 3"]
[null,null,null,null,null,null,null,null,null,null,null,null,"Other Strat Prep Obj 3"]
[null,null,null,null,null,null,null,null,null,null,null,null,"Other Strat Needs Obj 3"]
[null,null,null,null,null,null,null,null,null,null,null,null,"Other Strat Risk Obj 4"]
[null,null,null,null,null,null,null,null,null,null,null,null,"Other Strat Prep Obj 4"]
[null,null,null,null,null,null,null,null,null,null,null,null,"Other Strat Needs Obj 4"]
[null,null,null,null,null,null,null,null,null,null,null,null,"Other Strat Risk Obj 5"]
[null,null,null,null,null,null,null,null,null,null,null,null,"Other Strat Prep Obj 5"]
[null,null,null,null,null,null,null,null,null,null,null,null,"Other Strat Needs Obj 5"]
[null,null,null,null,null,null,null,null,null,null,null,null,"Prospective Employee Work Experience"]
[null,null,null,null,null,null,null,null,null,null,null,null,"Leaving Employee Work Experience"]
[null,null,null,null,null,null,null,null,null,null,null,null,"Strat Obj 1"]
[null,null,null,null,null,null,null,null,null,null,null,null,"Strat Action 1:1"]
[null,null,null,null,null,null,null,null,null,null,null,null,"Strat Action 1:2"]
[null,null,null,null,null,null,null,null,null,null,null,null,"Strat Action 1:3"]
[null,null,null,null,null,null,null,null,null,null,null,null,"Strat Action 1:4"]
[null,null,null,null,null,null,null,null,null,null,null,null,"Strat Action 1:5"]
[null,null,null,null,null,null,null,null,null,null,null,null,"Strat Obj 2"]
[null,null,null,null,null,null,null,null,null,null,null,null,"Strat Action 2:1"]
[null,null,null,null,null,null,null,null,null,null,null,null,"Strat Action 2:2"]
[null,null,null,null,null,null,null,null,null,null,null,null,"Strat Action 2:3"]
[null,null,null,null,null,null,null,null,null,null,null,null,"Strat Action 2:4"]
[null,null,null,null,null,null,null,null,null,null,null,null,"Strat Action 2:5"]
[null,null,null,null,null,null,null,null,null,null,null,null,"Strat Obj 3"]
[null,null,null,null,null,null,null,null,null,null,null,null,"Strat Action 3:1"]
[null,null,null,null,null,null,null,null,null,null,null,null,"Strat Action 3:2"]
[null,null,null,null,null,null,null,null,null,null,null,null,"Strat Action 3:3"]
[null,null,null,null,null,null,null,null,null,null,null,null,"Strat Action 3:4"]
[null,null,null,null,null,null,null,null,null,null,null,null,"Strat Action 3:5"]
[null,null,null,null,null,null,null,null,null,null,null,null,"Strat Obj 4"]
[null,null,null,null,null,null,null,null,null,null,null,null,"Strat Action 4:1"]
[null,null,null,null,null,null,null,null,null,null,null,null,"Strat Action 4:2"]
[null,null,null,null,null,null,null,null,null,null,null,null,"Strat Action 4:3"]
[null,null,null,null,null,null,null,null,null,null,null,null,"Strat Action 4:4"]
[null,null,null,null,null,null,null,null,null,null,null,null,"Strat Action 4:5"]
[null,null,null,null,null,null,null,null,null,null,null,null,"Strat Obj 5"]
[null,null,null,null,null,null,null,null,null,null,null,null,"Strat Action 5:1"]
[null,null,null,null,null,null,null,null,null,null,null,null,"Strat Action 5:2"]
[null,null,null,null,null,null,null,null,null,null,null,null,"Strat Action 5:3"]
[null,null,null,null,null,null,null,null,null,null,null,null,"Strat Action 5:4"]
[null,null,null,null,null,null,null,null,null,null,null,null,"Strat Action 5:5"]
[null,null,null,null,null,null,null,null,null,null,null,null,"Strat Progress Obj 1"]
[null,null,null,null,null,null,null,null,null,null,null,null,"Strat Progress Obj 2"]
[null,null,null,null,null,null,null,null,null,null,null,null,"Strat Progress Obj 3"]
[null,null,null,null,null,null,null,null,null,null,null,null,"Strat Progress Obj 4"]
[null,null,null,null,null,null,null,null,null,null,null,null,"Strat Progress Obj 5"]
[null,null,null,null,null,null,null,null,null,null,null,null,"Executive Summary"]
[null,null,null,null,null,null,null,null,null,null,null,null,"Data Highlights"]
[null,null,null,null,null,null,null,null,null,null,null,null,"Critical Role Definitions"]
[null,null,null,null,null,null,null,null,null,null,null,null,"InDepth Enabled"]
[null,null,null,null,null,null,null,null,null,null,null,null,"Comprehensive Enabled"]
[null,null,null,null,null,null,null,null,null,null,null,null,"Response Rate"]

{"sheet":"DATA TRANSFORM","index":16,"n_rows":156,"n_cols":20,"rows_kept":156,"cut":false,"hidden":true,"merged":[[143,4,148,12],[149,4,154,12],[155,4,160,12],[117,5,119,13],[120,5,122,13],[123,5,125,13],[126,5,128,13],[131,4,136,12],[137,4,142,12],[114,5,116,13],[87,5,89,13],[90,5,92,13],[93,3,95,13],[94,1,95,2],[96,5,98,13],[99,5,101,13],[102,5,104,13],[105,5,107,13],[108,5,110,13],[111,3,113,13],[112,1,113,2],[84,5,86,13],[57,3,59,13],[58,1,59,2],[60,5,62,13],[63,5,65,13],[66,5,68,13],[69,5,71,13],[72,5,74,13],[75,3,77,13],[76,1,77,2],[78,5,80,13],[81,5,83,13],[42,5,44,13],[45,5,47,13],[48,5,50,13],[51,5,53,13],[54,5,56,13],[27,2,29,12],[30,2,32,12],[33,2,35,12],[39,3,41,13],[40,1,41,2],[24,2,26,12],[4,1,6,14],[7,1,8,14],[11,2,11,8],[13,2,17,13],[21,2,23,12]]}
[]
[]
[]
[]
[null,"DATA TRANSFORM"]
[]
[]
[null,"The data transform tab allows for the imported information be transformed to the correct format to show on the repsective tabs."]
[]
[]
[null,null,null,null,null,null,null,null,null,null,null,null,null,null,null,null,"Maximum Employment Level",{"$f":"'DATA IMPORT'!N83","v":0},{"$f":"'DATA IMPORT'!O83","v":0},{"$f":"'DATA IMPORT'!P83","v":0}]
[null," Agency Name",{"$f":"IF('DATA IMPORT'!P13=\"\",\"\",'DATA IMPORT'!P13)","v":""},null,null,null,null,null,null,null,null,null,null,null,null,null,"Total Number of Positions",{"$f":"'DATA IMPORT'!N84","v":0},{"$f":"'DATA IMPORT'!O84","v":0},{"$f":"'DATA IMPORT'!P84","v":0}]
[null,null,null,null,null,null,null,null,null,null,null,null,null,null,null,null,"Total Number of Employees",{"$f":"'DATA IMPORT'!N85","v":0},{"$f":"'DATA IMPORT'!O85","v":0},{"$f":"'DATA IMPORT'!P85","v":0}]
[null,"Agency Mission",{"$f":"IF('DATA IMPORT'!P16=\"\",\"\",'DATA IMPORT'!P16)","v":""},null,null,null,null,null,null,null,null,null,null,null,null,null,"Total Number of Employees in their First 5 years",{"$f":"'DATA IMPORT'!N86","v":0},{"$f":"'DATA IMPORT'!O86","v":0},{"$f":"'DATA IMPORT'!P86","v":0}]
[null,null,null,null,null,null,null,null,null,null,null,null,null,null,null,null,"Total Number of Employees in their First Year",{"$f":"'DATA IMPORT'!N87","v":0},{"$f":"'DATA IMPORT'!O87","v":0},{"$f":"'DATA IMPORT'!P87","v":0}]
[null,null,null,null,null,null,null,null,null,null,null,null,null,null,null,null,"Total Number of Executive Positions",{"$f":"'DATA IMPORT'!N88","v":0},{"$f":"'DATA IMPORT'!O88","v":0},{"$f":"'DATA IMPORT'!P88","v":0}]
[null,null,null,null,null,null,null,null,null,null,null,null,null,null,null,null,"Total Number of Appointed Executive Positions",{"$f":"'DATA IMPORT'!N89","v":0},{"$f":"'DATA IMPORT'!O89","v":0},{"$f":"'DATA IMPORT'!P89","v":0}]
[null,null,null,null,null,null,null,null,null,null,null,null,null,null,null,null,"Total Number of Executive Employees",{"$f":"'DATA IMPORT'!N90","v":0},{"$f":"'DATA IMPORT'!O90","v":0},{"$f":"'DATA IMPORT'!P90","v":0}]
[null,null,null,null,null,null,null,null,null,null,null,null,null,null,null,null,"Total Number of Positions Assessed for Criticality",{"$f":"'DATA IMPORT'!N91","v":0},{"$f":"'DATA IMPORT'!O91","v":0},{"$f":"'DATA IMPORT'!P91","v":0}]
[null,null,null,null,null,null,null,null,null,null,null,null,null,null,null,null,"Total Number of Positions Identified as Critical",{"$f":"'DATA IMPORT'!N92","v":0},{"$f":"'DATA IMPORT'!O92","v":0},{"$f":"'DATA IMPORT'!P92","v":0}]
[null,"Employment Opportunities Plan Objectives",null,null,null,null,null,null,null,null,null,null,null,null,null,null,"Total Number of Executive Team Positions Identified as Critical",{"$f":"'DATA IMPORT'!N93","v":0},{"$f":"'DATA IMPORT'!O93","v":0},{"$f":"'DATA IMPORT'!P93","v":0}]
[null,"Objective 1",{"$f":"IF('DATA IMPORT'!E70=\"\",\"\",'DATA IMPORT'!E70)","v":""},null,null,null,null,null,null,null,null,null,null,{"$f":"IF(C22=\"\",1,0)","v":1},null,null,"Total Number of Employees Currently Eligible to Retire",{"$f":"'DATA IMPORT'!N94","v":0},{"$f":"'DATA IMPORT'!O94","v":0},{"$f":"'DATA IMPORT'!P94","v":0}]
[null,null,null,null,null,null,null,null,null,null,null,null,null,null,null,null,"Total Number of Employees in Critical Roles Currently Eligible to Retire",{"$f":"'DATA IMPORT'!N95","v":0},{"$f":"'DATA IMPORT'!O95","v":0},{"$f":"'DATA IMPORT'!P95","v":0}]
[null,null,null,null,null,null,null,null,null,null,null,null,null,null,null,null,"Total Number of Executives Currenlty Eligible to Retire",{"$f":"'DATA IMPORT'!N96","v":0},{"$f":"'DATA IMPORT'!O96","v":0},{"$f":"'DATA IMPORT'!P96","v":0}]
[null,"Objective 2",{"$f":"IF('DATA IMPORT'!E76=\"\",\"\",'DATA IMPORT'!E76)","v":""},null,null,null,null,null,null,null,null,null,null,{"$f":"IF(C25=\"\",1,0)","v":1},"Total Number of Employees Newly Eligible to Retire in Each Upcoming Fiscal Years",{"$f":"'DATA IMPORT'!L97","v":0},{"$f":"'DATA IMPORT'!M97","v":0},{"$f":"'DATA IMPORT'!N97","v":0},{"$f":"'DATA IMPORT'!O97","v":0},{"$f":"'DATA IMPORT'!P97","v":0}]
[null,null,null,null,null,null,null,null,null,null,null,null,null,null,"Total Number of Employees in Critical Roles Newly Eligible to Retire in Each Upcoming Fiscal Years",{"$f":"'DATA IMPORT'!L98","v":0},{"$f":"'DATA IMPORT'!M98","v":0},{"$f":"'DATA IMPORT'!N98","v":0},{"$f":"'DATA IMPORT'!O98","v":0},{"$f":"'DATA IMPORT'!P98","v":0}]
[null,null,null,null,null,null,null,null,null,null,null,null,null,null,"Total Number of Executives Newly Eligible to Retire in Each Upcoming Fiscal Years",{"$f":"'DATA IMPORT'!L99","v":0},{"$f":"'DATA IMPORT'!M99","v":0},{"$f":"'DATA IMPORT'!N99","v":0},{"$f":"'DATA IMPORT'!O99","v":0},{"$f":"'DATA IMPORT'!P99","v":0}]
[null,"Objective 3",{"$f":"IF('DATA IMPORT'!E82=\"\",\"\",'DATA IMPORT'!E82)","v":""},null,null,null,null,null,null,null,null,null,null,{"$f":"IF(C28=\"\",1,0)","v":1},null,null,"Total Number of Applicants",{"$f":"'DATA IMPORT'!N100","v":0},{"$f":"'DATA IMPORT'!O100","v":0},{"$f":"'DATA IMPORT'!P100","v":0}]
[null,null,null,null,null,null,null,null,null,null,null,null,null,null,null,null,"Total Number of Applicants to Positions Identified as Critical",{"$f":"'DATA IMPORT'!N101","v":0},{"$f":"'DATA IMPORT'!O101","v":0},{"$f":"'DATA IMPORT'!P101","v":0}]
[null,null,null,null,null,null,null,null,null,null,null,null,null,null,null,null,"Total Number of Hires",{"$f":"'DATA IMPORT'!N102","v":0},{"$f":"'DATA IMPORT'!O102","v":0},{"$f":"'DATA IMPORT'!P102","v":0}]
[null,"Objective 4",{"$f":"IF('DATA IMPORT'!E88=\"\",\"\",'DATA IMPORT'!E88)","v":""},null,null,null,null,null,null,null,null,null,null,{"$f":"IF(C31=\"\",1,0)","v":1},null,null,"Total Number of Hires to Positions Identified as Critical",{"$f":"'DATA IMPORT'!N103","v":0},{"$f":"'DATA IMPORT'!O103","v":0},{"$f":"'DATA IMPORT'!P103","v":0}]
[null,null,null,null,null,null,null,null,null,null,null,null,null,null,null,null,"Total Number of Positions Filled during the FY",{"$f":"'DATA IMPORT'!N104","v":0},{"$f":"'DATA IMPORT'!O104","v":0},{"$f":"'DATA IMPORT'!P104","v":0}]
[null,null,null,null,null,null,null,null,null,null,null,null,null,null,null,null,"Total Number of Positions Filled During the FY Identified as Critical",{"$f":"'DATA IMPORT'!N105","v":0},{"$f":"'DATA IMPORT'!O105","v":0},{"$f":"'DATA IMPORT'!P105","v":0}]
[null,"Objective 5",{"$f":"IF('DATA IMPORT'!E94=\"\",\"\",'DATA IMPORT'!E94)","v":""},null,null,null,null,null,null,null,null,null,null,{"$f":"IF(C34=\"\",1,0)","v":1},null,null,"Total Number of Vacant Positions at the End of the FY",{"$f":"'DATA IMPORT'!N106","v":0},{"$f":"'DATA IMPORT'!O106","v":0},{"$f":"'DATA IMPORT'!P106","v":0}]
[null,null,null,null,null,null,null,null,null,null,null,null,null,null,null,null,"Total Number of Vacant Positions at the End of the FY Identified as Critical",{"$f":"'DATA IMPORT'!N107","v":0},{"$f":"'DATA IMPORT'!O107","v":0},{"$f":"'DATA IMPORT'!P107","v":0}]
[null,null,null,null,null,null,null,null,null,null,null,null,null,null,null,null,"Average Time to Fill (Days) for All Positions",{"$f":"'DATA IMPORT'!N108","v":0},{"$f":"'DATA IMPORT'!O108","v":0},{"$f":"'DATA IMPORT'!P108","v":0}]
[null,null,null,null,null,null,null,null,null,null,null,null,null,null,null,null,"Average Time to Fill (Days) for Positions Identified as Critical",{"$f":"'DATA IMPORT'!N109","v":0},{"$f":"'DATA IMPORT'!O109","v":0},{"$f":"'DATA IMPORT'!P109","v":0}]
[null,null,null,null,null,null,null,null,null,null,null,null,null,null,null,null,"Average Years of Service for All Employees",{"$f":"'DATA IMPORT'!N110","v":0},{"$f":"'DATA IMPORT'!O110","v":0},{"$f":"'DATA IMPORT'!P110","v":0}]
[null,"Agency Strategy Objectives",null,null,null,null,null,null,null,null,null,null,null,null,null,null,"Total Internal Promotions for All Employees",{"$f":"'DATA IMPORT'!N111","v":0},{"$f":"'DATA IMPORT'!O111","v":0},{"$f":"'DATA IMPORT'!P111","v":0}]
[null,null,"Overall Objective Statement",{"$f":"IF(OR('DATA IMPORT'!P268=\"\",'DATA IMPORT'!P268=0),\"\",'DATA IMPORT'!P268)","v":""},null,null,null,null,null,null,null,null,null,null,{"$f":"IF(D40<>\"\",1,0)","v":0},null,"Total Internal Transfers for All Employees",{"$f":"'DATA IMPORT'!N112","v":0},{"$f":"'DATA IMPORT'!O112","v":0},{"$f":"'DATA IMPORT'!P112","v":0}]
[null,null,null,null,null,null,null,null,null,null,null,null,null,null,null,null,"Total External Transfers for All Employees",{"$f":"'DATA IMPORT'!N113","v":0},{"$f":"'DATA IMPORT'!O113","v":0},{"$f":"'DATA IMPORT'!P113","v":0}]
[null,null,null,null,null,null,null,null,null,null,null,null,null,null,null,null,"Total Voluntary Separations for All Employees",{"$f":"'DATA IMPORT'!N114","v":0},{"$f":"'DATA IMPORT'!O114","v":0},{"$f":"'DATA IMPORT'!P114","v":0}]
[null,null,null,null,null,{"$f":"IF(OR('DATA IMPORT'!P269=\"\",'DATA IMPORT'!P269=0),\"\",'DATA IMPORT'!P269)","v":""},null,null,null,null,null,null,null,null,{"$f":"IF(F43<>\"\",1,0)","v":0},null,"Average Years of Service for All Employees in Critical Roles",{"$f":"'DATA IMPORT'!N115","v":0},{"$f":"'DATA IMPORT'!O115","v":0},{"$f":"'DATA IMPORT'!P115","v":0}]
[null,null,null,null,null,null,null,null,null,null,null,null,null,null,null,null,"Total Internal Promotions for All Employees in Critical Roles",{"$f":"'DATA IMPORT'!N116","v":0},{"$f":"'DATA IMPORT'!O116","v":0},{"$f":"'DATA IMPORT'!P116","v":0}]
[null,null,null,null,null,null,null,null,null,null,null,null,null,null,null,null,"Total Internal Transfers forAll Employees in Critical Roles",{"$f":"'DATA IMPORT'!N117","v":0},{"$f":"'DATA IMPORT'!O117","v":0},{"$f":"'DATA IMPORT'!P117","v":0}]
[null,null,null,null,null,{"$f":"IF(OR('DATA IMPORT'!P270=\"\",'DATA IMPORT'!P270=0),\"\",'DATA IMPORT'!P270)","v":""},null,null,null,null,null,null,null,null,{"$f":"IF(F46<>\"\",1,0)","v":0},null,"Total External Transfers for All Employees in Critical Roles",{"$f":"'DATA IMPORT'!N118","v":0},{"$f":"'DATA IMPORT'!O118","v":0},{"$f":"'DATA IMPORT'!P118","v":0}]
[null,null,null,null,null,null,null,null,null,null,null,null,null,null,null,null,"Total Voluntary Separations for All Employees in Critical Roles",{"$f":"'DATA IMPORT'!N119","v":0},{"$f":"'DATA IMPORT'!O119","v":0},{"$f":"'DATA IMPORT'!P119","v":0}]
[null,null,null,null,null,null,null,null,null,null,null,null,null,null,null,null,"Average Years of Service of Employees in their First 5 Years",{"$f":"'DATA IMPORT'!N120","v":0},{"$f":"'DATA IMPORT'!O120","v":0},{"$f":"'DATA IMPORT'!P120","v":0}]
[null,null,null,null,null,{"$f":"IF(OR('DATA IMPORT'!P271=\"\",'DATA IMPORT'!P271=0),\"\",'DATA IMPORT'!P271)","v":""},null,null,null,null,null,null,null,null,{"$f":"IF(F49<>\"\",1,0)","v":0},null,"Total Internal Promotions of Employees in their First 5 Years",{"$f":"'DATA IMPORT'!N121","v":0},{"$f":"'DATA IMPORT'!O121","v":0},{"$f":"'DATA IMPORT'!P121","v":0}]
[null,null,null,null,null,null,null,null,null,null,null,null,null,null,null,null,"Total Internal Transfers of Employees in their First 5 Years",{"$f":"'DATA IMPORT'!N122","v":0},{"$f":"'DATA IMPORT'!O122","v":0},{"$f":"'DATA IMPORT'!P122","v":0}]
[null,null,null,null,null,null,null,null,null,null,null,null,null,null,null,null,"Total External Transfers of Employees in their First 5 Years",{"$f":"'DATA IMPORT'!N123","v":0},{"$f":"'DATA IMPORT'!O123","v":0},{"$f":"'DATA IMPORT'!P123","v":0}]
[null,null,null,null,null,{"$f":"IF(OR('DATA IMPORT'!P272=\"\",'DATA IMPORT'!P272=0),\"\",'DATA IMPORT'!P272)","v":""},null,null,null,null,null,null,null,null,{"$f":"IF(F52<>\"\",1,0)","v":0},null,"Total Voluntary Separations of Employees in their First 5 Years",{"$f":"'DATA IMPORT'!N124","v":0},{"$f":"'DATA IMPORT'!O124","v":0},{"$f":"'DATA IMPORT'!P124","v":0}]
[null,null,null,null,null,null,null,null,null,null,null,null,null,null,null,null,"Average Years of Service of Employees in their First 5 Years in Critical Roles",{"$f":"'DATA IMPORT'!N125","v":0},{"$f":"'DATA IMPORT'!O125","v":0},{"$f":"'DATA IMPORT'!P125","v":0}]
[null,null,null,null,null,null,null,null,null,null,null,null,null,null,null,null,"Total Internal Promotions of Employees in their First 5 Years in Critical Roles",{"$f":"'DATA IMPORT'!N126","v":0},{"$f":"'DATA IMPORT'!O126","v":0},{"$f":"'DATA IMPORT'!P126","v":0}]
[null,null,null,null,null,{"$f":"IF(OR('DATA IMPORT'!P273=\"\",'DATA IMPORT'!P273=0),\"\",'DATA IMPORT'!P273)","v":""},null,null,null,null,null,null,null,null,{"$f":"IF(F55<>\"\",1,0)","v":0},null,"Total Internal Transfers of Employees in their First 5 Years in Critical Roles",{"$f":"'DATA IMPORT'!N127","v":0},{"$f":"'DATA IMPORT'!O127","v":0},{"$f":"'DATA IMPORT'!P127","v":0}]
[null,null,null,null,null,null,null,null,null,null,null,null,null,null,null,null,"Total External Transfers of Employees in their First 5 Years in Critical Roles",{"$f":"'DATA IMPORT'!N128","v":0},{"$f":"'DATA IMPORT'!O128","v":0},{"$f":"'DATA IMPORT'!P128","v":0}]
[null,null,null,null,null,null,null,null,null,null,null,null,null,null,null,null,"Total Voluntary Separations of Employees in their First 5 Years in Critical Roles",{"$f":"'DATA IMPORT'!N129","v":0},{"$f":"'DATA IMPORT'!O129","v":0},{"$f":"'DATA IMPORT'!P129","v":0}]
[null,null,"Overall Objective Statement",{"$f":"IF(OR('DATA IMPORT'!P274=\"\",'DATA IMPORT'!P274=0),\"\",'DATA IMPORT'!P274)","v":""},null,null,null,null,null,null,null,null,null,null,{"$f":"IF(D58<>\"\",1,0)","v":0},null,"Average Years of Service of Employees in their First Year",{"$f":"'DATA IMPORT'!N130","v":0},{"$f":"'DATA IMPORT'!O130","v":0},{"$f":"'DATA IMPORT'!P130","v":0}]
[null,null,null,null,null,null,null,null,null,null,null,null,null,null,null,null,"Total Internal Promotions of Employees in their First Year",{"$f":"'DATA IMPORT'!N131","v":0},{"$f":"'DATA IMPORT'!O131","v":0},{"$f":"'DATA IMPORT'!P131","v":0}]
[null,null,null,null,null,null,null,null,null,null,null,null,null,null,null,null,"Total Internal Transfers of Employees in their First Year",{"$f":"'DATA IMPORT'!N132","v":0},{"$f":"'DATA IMPORT'!O132","v":0},{"$f":"'DATA IMPORT'!P132","v":0}]
[null,null,null,null,null,{"$f":"IF(OR('DATA IMPORT'!P275=\"\",'DATA IMPORT'!P275=0),\"\",'DATA IMPORT'!P275)","v":""},null,null,null,null,null,null,null,null,{"$f":"IF(F61<>\"\",1,0)","v":0},null,"Total External Transfers of Employees in their First Year",{"$f":"'DATA IMPORT'!N133","v":0},{"$f":"'DATA IMPORT'!O133","v":0},{"$f":"'DATA IMPORT'!P133","v":0}]
[null,null,null,null,null,null,null,null,null,null,null,null,null,null,null,null,"Total Voluntary Separations of Employees in their First Year",{"$f":"'DATA IMPORT'!N134","v":0},{"$f":"'DATA IMPORT'!O134","v":0},{"$f":"'DATA IMPORT'!P134","v":0}]
[null,null,null,null,null,null,null,null,null,null,null,null,null,null,null,null,"Average Years of Service of Employees in their First Year in Critical Roles",{"$f":"'DATA IMPORT'!N135","v":0},{"$f":"'DATA IMPORT'!O135","v":0},{"$f":"'DATA IMPORT'!P135","v":0}]
[null,null,null,null,null,{"$f":"IF(OR('DATA IMPORT'!P276=\"\",'DATA IMPORT'!P276=0),\"\",'DATA IMPORT'!P276)","v":""},null,null,null,null,null,null,null,null,{"$f":"IF(F64<>\"\",1,0)","v":0},null,"Total Internal Promotions of Employees in their First Year in Critical Roles",{"$f":"'DATA IMPORT'!N136","v":0},{"$f":"'DATA IMPORT'!O136","v":0},{"$f":"'DATA IMPORT'!P136","v":0}]
[null,null,null,null,null,null,null,null,null,null,null,null,null,null,null,null,"Total Internal Transfers of Employees in their First Year in Critical Roles",{"$f":"'DATA IMPORT'!N137","v":0},{"$f":"'DATA IMPORT'!O137","v":0},{"$f":"'DATA IMPORT'!P137","v":0}]
[null,null,null,null,null,null,null,null,null,null,null,null,null,null,null,null,"Total External Transfers of Employees in their First Year in Critical Roles",{"$f":"'DATA IMPORT'!N138","v":0},{"$f":"'DATA IMPORT'!O138","v":0},{"$f":"'DATA IMPORT'!P138","v":0}]
[null,null,null,null,null,{"$f":"IF(OR('DATA IMPORT'!P277=\"\",'DATA IMPORT'!P277=0),\"\",'DATA IMPORT'!P277)","v":""},null,null,null,null,null,null,null,null,{"$f":"IF(F67<>\"\",1,0)","v":0},null,"Total Voluntary Separations of Employees in their First Year in Critical Roles",{"$f":"'DATA IMPORT'!N139","v":0},{"$f":"'DATA IMPORT'!O139","v":0},{"$f":"'DATA IMPORT'!P139","v":0}]
[null,null,null,null,null,null,null,null,null,null,null,null,null,null,null,null,"Exit Survey Responses",{"$f":"'DATA IMPORT'!N140","v":0},{"$f":"'DATA IMPORT'!O140","v":0},{"$f":"'DATA IMPORT'!P140","v":0}]
[null,null,null,null,null,null,null,null,null,null,null,null,null,null,null,null,"Net Promoter Score",{"$f":"'DATA IMPORT'!N141","v":0},{"$f":"'DATA IMPORT'!O141","v":0},{"$f":"'DATA IMPORT'!P141","v":0}]
[null,null,null,null,null,{"$f":"IF(OR('DATA IMPORT'!P278=\"\",'DATA IMPORT'!P278=0),\"\",'DATA IMPORT'!P278)","v":""},null,null,null,null,null,null,null,null,{"$f":"IF(F70<>\"\",1,0)","v":0},null,"Did the Agency employ interns in the reporting fiscal year?",{"$f":"'DATA IMPORT'!N142","v":0},{"$f":"'DATA IMPORT'!O142","v":0},{"$f":"'DATA IMPORT'!P142","v":0}]
[null,null,null,null,null,null,null,null,null,null,null,null,null,null,null,null,"How may individuals were in internship roles at the agency?",{"$f":"'DATA IMPORT'!N143","v":0},{"$f":"'DATA IMPORT'!O143","v":0},{"$f":"'DATA IMPORT'!P143","v":0}]
[null,null,null,null,null,null,null,null,null,null,null,null,null,null,null,null,"How may individuals participated in paid internships supported by agency funds?",{"$f":"'DATA IMPORT'!N144","v":0},{"$f":"'DATA IMPORT'!O144","v":0},{"$f":"'DATA IMPORT'!P144","v":0}]
[null,null,null,null,null,{"$f":"IF(OR('DATA IMPORT'!P279=\"\",'DATA IMPORT'!P279=0),\"\",'DATA IMPORT'!P279)","v":""},null,null,null,null,null,null,null,null,{"$f":"IF(F73<>\"\",1,0)","v":0},null,"How many individuals participated in paid-internships supported by outside resources/funds (scholarships, grants, etc.)?",{"$f":"'DATA IMPORT'!N145","v":0},{"$f":"'DATA IMPORT'!O145","v":0},{"$f":"'DATA IMPORT'!P145","v":0}]
[null,null,null,null,null,null,null,null,null,null,null,null,null,null,null,null,"How may individuals participated in unpaid internships (not compensated monetarily in any way)?",{"$f":"'DATA IMPORT'!N146","v":0},{"$f":"'DATA IMPORT'!O146","v":0},{"$f":"'DATA IMPORT'!P146","v":0}]
[null,null,null,null,null,null,null,null,null,null,null,null,null,null,null,null,"How many unpaid interns received academic credit?",{"$f":"'DATA IMPORT'!N147","v":0},{"$f":"'DATA IMPORT'!O147","v":0},{"$f":"'DATA IMPORT'!P147","v":0}]
[null,null,"Overall Objective Statement",{"$f":"IF(OR('DATA IMPORT'!P280=\"\",'DATA IMPORT'!P280=0),\"\",'DATA IMPORT'!P280)","v":""},null,null,null,null,null,null,null,null,null,null,{"$f":"IF(D76<>\"\",1,0)","v":0},null,"Total Internal Development Initiatives (Agency Conducted or Hosted)",{"$f":"'DATA IMPORT'!N148","v":0},{"$f":"'DATA IMPORT'!O148","v":0},{"$f":"'DATA IMPORT'!P148","v":0}]
[null,null,null,null,null,null,null,null,null,null,null,null,null,null,null,null,"Total Number of Employees who Participated in Internal Development",{"$f":"'DATA IMPORT'!N149","v":0},{"$f":"'DATA IMPORT'!O149","v":0},{"$f":"'DATA IMPORT'!P149","v":0}]
[null,null,null,null,null,null,null,null,null,null,null,null,null,null,null,null,"Total External Development Initiatives (Employees Offsite)",{"$f":"'DATA IMPORT'!N150","v":0},{"$f":"'DATA IMPORT'!O150","v":0},{"$f":"'DATA IMPORT'!P150","v":0}]
[null,null,null,null,null,{"$f":"IF(OR('DATA IMPORT'!P281=\"\",'DATA IMPORT'!P281=0),\"\",'DATA IMPORT'!P281)","v":""},null,null,null,null,null,null,null,null,{"$f":"IF(F79<>\"\",1,0)","v":0},null,"Total Number of Employees who Participated in External Development",{"$f":"'DATA IMPORT'!N151","v":0},{"$f":"'DATA IMPORT'!O151","v":0},{"$f":"'DATA IMPORT'!P151","v":0}]
[null,null,null,null,null,null,null,null,null,null,null,null,null,null,null,null,"Response Rate"]
[]
[null,null,null,null,null,{"$f":"IF(OR('DATA IMPORT'!P282=\"\",'DATA IMPORT'!P282=0),\"\",'DATA IMPORT'!P282)","v":""},null,null,null,null,null,null,null,null,{"$f":"IF(F82<>\"\",1,0)","v":0}]
[]
[]
[null,null,null,null,null,{"$f":"IF(OR('DATA IMPORT'!P283=\"\",'DATA IMPORT'!P283=0),\"\",'DATA IMPORT'!P283)","v":""},null,null,null,null,null,null,null,null,{"$f":"IF(F85<>\"\",1,0)","v":0}]
[]
[]
[null,null,null,null,null,{"$f":"IF(OR('DATA IMPORT'!P284=\"\",'DATA IMPORT'!P284=0),\"\",'DATA IMPORT'!P284)","v":""},null,null,null,null,null,null,null,null,{"$f":"IF(F88<>\"\",1,0)","v":0}]
[]
[]
[null,null,null,null,null,{"$f":"IF(OR('DATA IMPORT'!P285=\"\",'DATA IMPORT'!P285=0),\"\",'DATA IMPORT'!P285)","v":""},null,null,null,null,null,null,null,null,{"$f":"IF(F91<>\"\",1,0)","v":0}]
[]
[]
[null,null,"Overall Objective Statement",{"$f":"IF(OR('DATA IMPORT'!P286=\"\",'DATA IMPORT'!P286=0),\"\",'DATA IMPORT'!P286)","v":""},null,null,null,null,null,null,null,null,null,null,{"$f":"IF(D94<>\"\",1,0)","v":0}]
[]
[]
[null,null,null,null,null,{"$f":"IF(OR('DATA IMPORT'!P287=\"\",'DATA IMPORT'!P287=0),\"\",'DATA IMPORT'!P287)","v":""},null,null,null,null,null,null,null,null,{"$f":"IF(F97<>\"\",1,0)","v":0}]
[]
[]
[null,null,null,null,null,{"$f":"IF(OR('DATA IMPORT'!P288=\"\",'DATA IMPORT'!P288=0),\"\",'DATA IMPORT'!P288)","v":""},null,null,null,null,null,null,null,null,{"$f":"IF(F100<>\"\",1,0)","v":0}]
[]
[]
[null,null,null,null,null,{"$f":"IF(OR('DATA IMPORT'!P289=\"\",'DATA IMPORT'!P289=0),\"\",'DATA IMPORT'!P289)","v":""},null,null,null,null,null,null,null,null,{"$f":"IF(F103<>\"\",1,0)","v":0}]
[]
[]
[null,null,null,null,null,{"$f":"IF(OR('DATA IMPORT'!P290=\"\",'DATA IMPORT'!P290=0),\"\",'DATA IMPORT'!P290)","v":""},null,null,null,null,null,null,null,null,{"$f":"IF(F106<>\"\",1,0)","v":0}]
[]
[]
[null,null,null,null,null,{"$f":"IF(OR('DATA IMPORT'!P291=\"\",'DATA IMPORT'!P291=0),\"\",'DATA IMPORT'!P291)","v":""},null,null,null,null,null,null,null,null,{"$f":"IF(F109<>\"\",1,0)","v":0}]
[]
[]
[null,null,"Overall Objective Statement",{"$f":"IF(OR('DATA IMPORT'!P292=\"\",'DATA IMPORT'!P292=0),\"\",'DATA IMPORT'!P292)","v":""},null,null,null,null,null,null,null,null,null,null,{"$f":"IF(D112<>\"\",1,0)","v":0}]
[]
[]
[null,null,null,null,null,{"$f":"IF(OR('DATA IMPORT'!P293=\"\",'DATA IMPORT'!P293=0),\"\",'DATA IMPORT'!P293)","v":""},null,null,null,null,null,null,null,null,{"$f":"IF(F115<>\"\",1,0)","v":0}]
[]
[]
[null,null,null,null,null,{"$f":"IF(OR('DATA IMPORT'!P294=\"\",'DATA IMPORT'!P294=0),\"\",'DATA IMPORT'!P294)","v":""},null,null,null,null,null,null,null,null,{"$f":"IF(F118<>\"\",1,0)","v":0}]
[]
[]
[null,null,null,null,null,{"$f":"IF(OR('DATA IMPORT'!P295=\"\",'DATA IMPORT'!P295=0),\"\",'DATA IMPORT'!P295)","v":""},null,null,null,null,null,null,null,null,{"$f":"IF(F121<>\"\",1,0)","v":0}]
[]
[]
[null,null,null,null,null,{"$f":"IF(OR('DATA IMPORT'!P296=\"\",'DATA IMPORT'!P296=0),\"\",'DATA IMPORT'!P296)","v":""},null,null,null,null,null,null,null,null,{"$f":"IF(F124<>\"\",1,0)","v":0}]
[]
[]
[null,null,null,null,null,{"$f":"IF(OR('DATA IMPORT'!P297=\"\",'DATA IMPORT'!P297=0),\"\",'DATA IMPORT'!P297)","v":""},null,null,null,null,null,null,null,null,{"$f":"IF(F127<>\"\",1,0)","v":0}]
[]
[]
[]
[]
[null,null,null,"Objective Progress Summary",{"$f":"IF('DATA IMPORT'!P298=\"\",\"\",'DATA IMPORT'!P298)","v":""}]
[]
[]
[]
[]
[]
[null,null,null,"Objective Progress Summary",{"$f":"IF('DATA IMPORT'!P299=\"\",\"\",'DATA IMPORT'!P299)","v":""}]
[]
[]
[]
[]
[]
[null,null,null,"Objective Progress Summary",{"$f":"IF('DATA IMPORT'!P300=\"\",\"\",'DATA IMPORT'!P300)","v":""}]
[]
[]
[]
[]
[]
[null,null,null,"Objective Progress Summary",{"$f":"IF('DATA IMPORT'!P301=\"\",\"\",'DATA IMPORT'!P301)","v":""}]
[]
[]
[]
[]
[]
[null,null,null,"Objective Progress Summary",{"$f":"IF('DATA IMPORT'!P302=\"\",\"\",'DATA IMPORT'!P302)","v":""}]

{"sheet":"DATA EXPORT","index":17,"n_rows":308,"n_cols":16,"rows_kept":308,"cut":false,"hidden":true,"merged":[[4,1,6,14],[7,1,8,14]]}
[]
[]
[]
[]
[null,"DATA EXPORT"]
[]
[]
[null,"The data export tab allows for the information from this template to be easily organized and export to other tools or extracted for analysis."]
[]
[]
[null,null,null,null,null,null,null,null,null,null,null,null,null,{"$f":"FOUNDATIONAL!N21","v":"FY-2"},{"$f":"FOUNDATIONAL!O21","v":"FY-1"},{"$f":"FOUNDATIONAL!P21","v":false}]
[null,null,null,null,null,null,null,null,null,null,null,null,"Fiscal Year",{"$f":"P12-2","v":1898},{"$f":"P12-1","v":1899},{"$f":"'DHRM ADMIN'!O14","v":1900}]
[null,null,null,null,null,null,null,null,null,null,null,null," Agency Name",null,null,{"$f":"PROFILE!J23","v":0}]
[null,null,null,null,null,null,null,null,null,null,null,null," Secretariat",null,null,{"$f":"PROFILE!J24","v":""}]
[null,null,null,null,null,null,null,null,null,null,null,null," Agency Number",null,null,{"$f":"PROFILE!P25","v":""}]
[null,null,null,null,null,null,null,null,null,null,null,null,"Agency Mission",null,null,{"$f":"PROFILE!E30","v":0}]
[null,null,null,null,null,null,null,null,null,null,null,null,"FY Submission or Snapshot",null,null,{"$f":"PROFILE!L43","v":0}]
[null,null,null,null,null,null,null,null,null,null,null,null,"Template Date",null,null,{"$f":"PROFILE!N44","v":"00:00:00"}]
[null,null,null,null,null,null,null,null,null,null,null,null,"Classification 1",null,null,{"$f":"PROFILE!C58","v":0}]
[null,null,null,null,null,null,null,null,null,null,null,null,"Classification 2",null,null,{"$f":"PROFILE!C59","v":0}]
[null,null,null,null,null,null,null,null,null,null,null,null,"Classification 3",null,null,{"$f":"PROFILE!C60","v":0}]
[null,null,null,null,null,null,null,null,null,null,null,null,"Classification 4",null,null,{"$f":"PROFILE!C61","v":0}]
[null,null,null,null,null,null,null,null,null,null,null,null,"Classification 5",null,null,{"$f":"PROFILE!C62","v":0}]
[null,null,null,null,null,null,null,null,null,null,null,null,"Classification 6",null,null,{"$f":"PROFILE!C63","v":0}]
[null,null,null,null,null,null,null,null,null,null,null,null,"Classification 7",null,null,{"$f":"PROFILE!C64","v":0}]
[null,null,null,null,null,null,null,null,null,null,null,null,"Classification 8",null,null,{"$f":"PROFILE!C65","v":0}]
[null,null,null,null,null,null,null,null,null,null,null,null,"Classification 9",null,null,{"$f":"PROFILE!C66","v":0}]
[null,null,null,null,null,null,null,null,null,null,null,null,"Classification 10",null,null,{"$f":"PROFILE!C67","v":0}]
[null,null,null,null,null,null,null,null,null,null,null,null,"Classification 11",null,null,{"$f":"PROFILE!C68","v":0}]
[null,null,null,null,null,null,null,null,null,null,null,null,"Classification 12",null,null,{"$f":"PROFILE!C69","v":0}]
[null,null,null,null,null,null,null,null,null,null,null,null,"Classification 13",null,null,{"$f":"PROFILE!C70","v":0}]
[null,null,null,null,null,null,null,null,null,null,null,null,"Classification 14",null,null,{"$f":"PROFILE!C71","v":0}]
[null,null,null,null,null,null,null,null,null,null,null,null,"Classification 15",null,null,{"$f":"PROFILE!C72","v":0}]
[null,null,null,null,null,null,null,null,null,null,null,null,"Executive Definition",null,null,{"$f":"PROFILE!E89","v":0}]
[null,null,null,null,null,null,null,null,null,null,null,null,"Exeutive Position Title 1",null,null,{"$f":"PROFILE!E98","v":0}]
[null,null,null,null,null,null,null,null,null,null,null,null,"Exeutive Position Title 2",null,null,{"$f":"PROFILE!E99","v":0}]
[null,null,null,null,null,null,null,null,null,null,null,null,"Exeutive Position Title 3",null,null,{"$f":"PROFILE!E100","v":0}]
[null,null,null,null,null,null,null,null,null,null,null,null,"Exeutive Position Title 4",null,null,{"$f":"PROFILE!E101","v":0}]
[null,null,null,null,null,null,null,null,null,null,null,null,"Exeutive Position Title 5",null,null,{"$f":"PROFILE!E102","v":0}]
[null,null,null,null,null,null,null,null,null,null,null,null,"Exeutive Position Title 6",null,null,{"$f":"PROFILE!E103","v":0}]
[null,null,null,null,null,null,null,null,null,null,null,null,"Exeutive Position Title 7",null,null,{"$f":"PROFILE!E104","v":0}]
[null,null,null,null,null,null,null,null,null,null,null,null,"Exeutive Position Title 8",null,null,{"$f":"PROFILE!E105","v":0}]
[null,null,null,null,null,null,null,null,null,null,null,null,"Exeutive Position Title 9",null,null,{"$f":"PROFILE!E106","v":0}]
[null,null,null,null,null,null,null,null,null,null,null,null,"Exeutive Position Title 10",null,null,{"$f":"PROFILE!E107","v":0}]
[null,null,null,null,null,null,null,null,null,null,null,null,"Exeutive Position Title 11",null,null,{"$f":"PROFILE!E108","v":0}]
[null,null,null,null,null,null,null,null,null,null,null,null,"Exeutive Position Title 12",null,null,{"$f":"PROFILE!E109","v":0}]
[null,null,null,null,null,null,null,null,null,null,null,null,"Exeutive Position Title 13",null,null,{"$f":"PROFILE!E110","v":0}]
[null,null,null,null,null,null,null,null,null,null,null,null,"Exeutive Position Title 14",null,null,{"$f":"PROFILE!E111","v":0}]
[null,null,null,null,null,null,null,null,null,null,null,null,"Exeutive Position Title 15",null,null,{"$f":"PROFILE!E112","v":0}]
[null,null,null,null,null,null,null,null,null,null,null,null,"Exeutive Position Title 16",null,null,{"$f":"PROFILE!E113","v":0}]
[null,null,null,null,null,null,null,null,null,null,null,null,"Exeutive Position Title 17",null,null,{"$f":"PROFILE!E114","v":0}]
[null,null,null,null,null,null,null,null,null,null,null,null,"Exeutive Position Title 18",null,null,{"$f":"PROFILE!E115","v":0}]
[null,null,null,null,null,null,null,null,null,null,null,null,"Exeutive Position Title 19",null,null,{"$f":"PROFILE!E116","v":0}]
[null,null,null,null,null,null,null,null,null,null,null,null,"Exeutive Position Title 20",null,null,{"$f":"PROFILE!E117","v":0}]
[null,null,null,null,null,null,null,null,null,null,null,null,"Exeutive Position Title 21",null,null,{"$f":"PROFILE!E118","v":0}]
[null,null,null,null,null,null,null,null,null,null,null,null,"Exeutive Position Title 22",null,null,{"$f":"PROFILE!E119","v":0}]
[null,null,null,null,null,null,null,null,null,null,null,null,"Exeutive Position Title 23",null,null,{"$f":"PROFILE!E120","v":0}]
[null,null,null,null,null,null,null,null,null,null,null,null,"Exeutive Position Title 24",null,null,{"$f":"PROFILE!E121","v":0}]
[null,null,null,null,null,null,null,null,null,null,null,null,"Exeutive Position Title 25",null,null,{"$f":"PROFILE!E122","v":0}]
[null,null,null,null,null,null,null,null,null,null,null,null,"Exeutive Position Title 26",null,null,{"$f":"PROFILE!E123","v":0}]
[null,null,null,null,null,null,null,null,null,null,null,null,"Exeutive Position Title 27",null,null,{"$f":"PROFILE!E124","v":0}]
[null,null,null,null,null,null,null,null,null,null,null,null,"Exeutive Position Title 28",null,null,{"$f":"PROFILE!E125","v":0}]
[null,null,null,null,null,null,null,null,null,null,null,null,"Exeutive Position Title 29",null,null,{"$f":"PROFILE!E126","v":0}]
[null,null,null,null,null,null,null,null,null,null,null,null,"Exeutive Position Title 30",null,null,{"$f":"PROFILE!E127","v":0}]
[null,null,null,null,null,null,null,null,null,null,null,null,"EOP Objecitve 1",null,null,{"$f":"PROFILE!F148","v":0}]
[null,null,null,null,null,null,null,null,null,null,null,null,"EOP Objecitve 2",null,null,{"$f":"PROFILE!F151","v":0}]
[null,null,null,null,null,null,null,null,null,null,null,null,"EOP Objecitve 3",null,null,{"$f":"PROFILE!F154","v":0}]
[null,null,null,null,null,null,null,null,null,null,null,null,"EOP Objecitve 4",null,null,{"$f":"PROFILE!F157","v":0}]
[null,null,null,null,null,null,null,null,null,null,null,null,"EOP Objecitve 5",null,null,{"$f":"PROFILE!F160","v":0}]
[null,null,null,null,null,null,null,null,null,null,null,null,"SAP Note 1",null,null,{"$f":"PROFILE!F167","v":0}]
[null,null,null,null,null,null,null,null,null,null,null,null,"SAP Note 2",null,null,{"$f":"PROFILE!F171","v":0}]
[null,null,null,null,null,null,null,null,null,null,null,null,"SAP Note 3",null,null,{"$f":"PROFILE!F175","v":0}]
[null,null,null,null,null,null,null,null,null,null,null,null,"SAP Note 4",null,null,{"$f":"PROFILE!F179","v":0}]
[null,null,null,null,null,null,null,null,null,null,null,null,"SAP Note 5",null,null,{"$f":"PROFILE!F183","v":0}]
[null,null,null,null,null,null,null,null,null,null,null,null,"DOI Goal 1",null,null,{"$f":"PROFILE!F191","v":0}]
[null,null,null,null,null,null,null,null,null,null,null,null,"DOI Goal 2",null,null,{"$f":"PROFILE!F197","v":0}]
[null,null,null,null,null,null,null,null,null,null,null,null,"DOI Goal 3",null,null,{"$f":"PROFILE!F203","v":0}]
[null,null,null,null,null,null,null,null,null,null,null,null,"Other SP Note 1",null,null,{"$f":"PROFILE!F213","v":0}]
[null,null,null,null,null,null,null,null,null,null,null,null,"Other SP Note 2",null,null,{"$f":"PROFILE!F217","v":0}]
[null,null,null,null,null,null,null,null,null,null,null,null,"Other SP Note 3",null,null,{"$f":"PROFILE!F221","v":0}]
[null,null,null,null,null,null,null,null,null,null,null,null,"Other SP Note 4",null,null,{"$f":"PROFILE!F225","v":0}]
[null,null,null,null,null,null,null,null,null,null,null,null,"Other SP Note 5",null,null,{"$f":"PROFILE!F229","v":0}]
[null,null,null,null,null,null,null,null,null,null,null,null,"Maximum Employment Level",{"$f":"FOUNDATIONAL!N23","v":""},{"$f":"FOUNDATIONAL!O23","v":0},{"$f":"FOUNDATIONAL!P23","v":0}]
[null,null,null,null,null,null,null,null,null,null,null,null,"Total Number of Positions",{"$f":"FOUNDATIONAL!N28","v":0},{"$f":"FOUNDATIONAL!O28","v":0},{"$f":"FOUNDATIONAL!P28","v":0}]
[null,null,null,null,null,null,null,null,null,null,null,null,"Total Number of Employees",{"$f":"FOUNDATIONAL!N29","v":0},{"$f":"FOUNDATIONAL!O29","v":0},{"$f":"FOUNDATIONAL!P29","v":0}]
[null,null,null,null,null,null,null,null,null,null,null,null,"Total Number of Employees in their First 5 years",{"$f":"FOUNDATIONAL!N30","v":0},{"$f":"FOUNDATIONAL!O30","v":0},{"$f":"FOUNDATIONAL!P30","v":0}]
[null,null,null,null,null,null,null,null,null,null,null,null,"Total Number of Employees in their First Year",{"$f":"FOUNDATIONAL!N31","v":0},{"$f":"FOUNDATIONAL!O31","v":0},{"$f":"FOUNDATIONAL!P31","v":0}]
[null,null,null,null,null,null,null,null,null,null,null,null,"Total Number of Executive Positions",{"$f":"FOUNDATIONAL!N36","v":0},{"$f":"FOUNDATIONAL!O36","v":0},{"$f":"FOUNDATIONAL!P36","v":0}]
[null,null,null,null,null,null,null,null,null,null,null,null,"Total Number of Appointed Executive Positions",{"$f":"FOUNDATIONAL!N37","v":0},{"$f":"FOUNDATIONAL!O37","v":0},{"$f":"FOUNDATIONAL!P37","v":0}]
[null,null,null,null,null,null,null,null,null,null,null,null,"Total Number of Executive Employees",{"$f":"FOUNDATIONAL!N38","v":0},{"$f":"FOUNDATIONAL!O38","v":0},{"$f":"FOUNDATIONAL!P38","v":0}]
[null,null,null,null,null,null,null,null,null,null,null,null,"Total Number of Positions Assessed for Criticality",{"$f":"FOUNDATIONAL!N49","v":0},{"$f":"FOUNDATIONAL!O49","v":0},{"$f":"FOUNDATIONAL!P49","v":0}]
[null,null,null,null,null,null,null,null,null,null,null,null,"Total Number of Positions Identified as Critical",{"$f":"FOUNDATIONAL!N50","v":0},{"$f":"FOUNDATIONAL!O50","v":0},{"$f":"FOUNDATIONAL!P50","v":0}]
[null,null,null,null,null,null,null,null,null,null,null,null,"Total Number of Executive Team Positions Identified as Critical",{"$f":"FOUNDATIONAL!N51","v":0},{"$f":"FOUNDATIONAL!O51","v":0},{"$f":"FOUNDATIONAL!P51","v":0}]
[null,null,null,null,null,null,null,null,null,null,null,null,"Total Number of Employees Currently Eligible to Retire",{"$f":"FOUNDATIONAL!N56","v":0},{"$f":"FOUNDATIONAL!O56","v":0},{"$f":"FOUNDATIONAL!P56","v":0}]
[null,null,null,null,null,null,null,null,null,null,null,null,"Total Number of Employees in Critical Roles Currently Eligible to Retire",{"$f":"FOUNDATIONAL!N57","v":0},{"$f":"FOUNDATIONAL!O57","v":0},{"$f":"FOUNDATIONAL!P57","v":0}]
[null,null,null,null,null,null,null,null,null,null,null,null,"Total Number of Executives Currenlty Eligible to Retire",{"$f":"FOUNDATIONAL!N58","v":0},{"$f":"FOUNDATIONAL!O58","v":0},{"$f":"FOUNDATIONAL!P58","v":0}]
[null,null,null,null,null,null,null,null,null,null,"Total Number of Employees Newly Eligible to Retire in Each Upcoming Fiscal Years",{"$f":"FOUNDATIONAL!L62","v":0},{"$f":"FOUNDATIONAL!M62","v":0},{"$f":"FOUNDATIONAL!N62","v":0},{"$f":"FOUNDATIONAL!O62","v":0},{"$f":"FOUNDATIONAL!P62","v":0}]
[null,null,null,null,null,null,null,null,null,null,"Total Number of Employees in Critical Roles Newly Eligible to Retire in Each Upcoming Fiscal Years",{"$f":"FOUNDATIONAL!L63","v":0},{"$f":"FOUNDATIONAL!M63","v":0},{"$f":"FOUNDATIONAL!N63","v":0},{"$f":"FOUNDATIONAL!O63","v":0},{"$f":"FOUNDATIONAL!P63","v":0}]
[null,null,null,null,null,null,null,null,null,null,"Total Number of Executives Newly Eligible to Retire in Each Upcoming Fiscal Years",{"$f":"FOUNDATIONAL!L64","v":0},{"$f":"FOUNDATIONAL!M64","v":0},{"$f":"FOUNDATIONAL!N64","v":0},{"$f":"FOUNDATIONAL!O64","v":0},{"$f":"FOUNDATIONAL!P64","v":0}]
[null,null,null,null,null,null,null,null,null,null,null,null,"Total Number of Applicants",{"$f":"FOUNDATIONAL!N76","v":0},{"$f":"FOUNDATIONAL!O76","v":0},{"$f":"FOUNDATIONAL!P76","v":0}]
[null,null,null,null,null,null,null,null,null,null,null,null,"Total Number of Applicants to Positions Identified as Critical",{"$f":"FOUNDATIONAL!N77","v":0},{"$f":"FOUNDATIONAL!O77","v":0},{"$f":"FOUNDATIONAL!P77","v":0}]
[null,null,null,null,null,null,null,null,null,null,null,null,"Total Number of Hires",{"$f":"FOUNDATIONAL!N82","v":0},{"$f":"FOUNDATIONAL!O82","v":0},{"$f":"FOUNDATIONAL!P82","v":0}]
[null,null,null,null,null,null,null,null,null,null,null,null,"Total Number of Hires to Positions Identified as Critical",{"$f":"FOUNDATIONAL!N83","v":0},{"$f":"FOUNDATIONAL!O83","v":0},{"$f":"FOUNDATIONAL!P83","v":0}]
[null,null,null,null,null,null,null,null,null,null,null,null,"Total Number of Positions Filled during the FY",{"$f":"FOUNDATIONAL!N88","v":0},{"$f":"FOUNDATIONAL!O88","v":0},{"$f":"FOUNDATIONAL!P88","v":0}]
[null,null,null,null,null,null,null,null,null,null,null,null,"Total Number of Positions Filled During the FY Identified as Critical",{"$f":"FOUNDATIONAL!N89","v":0},{"$f":"FOUNDATIONAL!O89","v":0},{"$f":"FOUNDATIONAL!P89","v":0}]
[null,null,null,null,null,null,null,null,null,null,null,null,"Total Number of Vacant Positions at the End of the FY",{"$f":"FOUNDATIONAL!N94","v":0},{"$f":"FOUNDATIONAL!O94","v":0},{"$f":"FOUNDATIONAL!P94","v":0}]
[null,null,null,null,null,null,null,null,null,null,null,null,"Total Number of Vacant Positions at the End of the FY Identified as Critical",{"$f":"FOUNDATIONAL!N95","v":0},{"$f":"FOUNDATIONAL!O95","v":0},{"$f":"FOUNDATIONAL!P95","v":0}]
[null,null,null,null,null,null,null,null,null,null,null,null,"Average Time to Fill (Days) for All Positions",{"$f":"FOUNDATIONAL!N100","v":0},{"$f":"FOUNDATIONAL!O100","v":0},{"$f":"FOUNDATIONAL!P100","v":0}]
[null,null,null,null,null,null,null,null,null,null,null,null,"Average Time to Fill (Days) for Positions Identified as Critical",{"$f":"FOUNDATIONAL!N101","v":0},{"$f":"FOUNDATIONAL!O101","v":0},{"$f":"FOUNDATIONAL!P101","v":0}]
[null,null,null,null,null,null,null,null,null,null,null,null,"Average Years of Service for All Employees",{"$f":"FOUNDATIONAL!N114","v":0},{"$f":"FOUNDATIONAL!O114","v":0},{"$f":"FOUNDATIONAL!P114","v":0}]
[null,null,null,null,null,null,null,null,null,null,null,null,"Total Internal Promotions for All Employees",{"$f":"FOUNDATIONAL!N115","v":0},{"$f":"FOUNDATIONAL!O115","v":0},{"$f":"FOUNDATIONAL!P115","v":0}]
[null,null,null,null,null,null,null,null,null,null,null,null,"Total Internal Transfers for All Employees",{"$f":"FOUNDATIONAL!N116","v":0},{"$f":"FOUNDATIONAL!O116","v":0},{"$f":"FOUNDATIONAL!P116","v":0}]
[null,null,null,null,null,null,null,null,null,null,null,null,"Total External Transfers for All Employees",{"$f":"FOUNDATIONAL!N117","v":0},{"$f":"FOUNDATIONAL!O117","v":0},{"$f":"FOUNDATIONAL!P117","v":0}]
[null,null,null,null,null,null,null,null,null,null,null,null,"Total Voluntary Separations for All Employees",{"$f":"FOUNDATIONAL!N118","v":0},{"$f":"FOUNDATIONAL!O118","v":0},{"$f":"FOUNDATIONAL!P118","v":0}]
[null,null,null,null,null,null,null,null,null,null,null,null,"Average Years of Service for All Employees in Critical Roles",{"$f":"FOUNDATIONAL!N120","v":0},{"$f":"FOUNDATIONAL!O120","v":0},{"$f":"FOUNDATIONAL!P120","v":0}]
[null,null,null,null,null,null,null,null,null,null,null,null,"Total Internal Promotions for All Employees in Critical Roles",{"$f":"FOUNDATIONAL!N121","v":0},{"$f":"FOUNDATIONAL!O121","v":0},{"$f":"FOUNDATIONAL!P121","v":0}]
[null,null,null,null,null,null,null,null,null,null,null,null,"Total Internal Transfers forAll Employees in Critical Roles",{"$f":"FOUNDATIONAL!N122","v":0},{"$f":"FOUNDATIONAL!O122","v":0},{"$f":"FOUNDATIONAL!P122","v":0}]
[null,null,null,null,null,null,null,null,null,null,null,null,"Total External Transfers for All Employees in Critical Roles",{"$f":"FOUNDATIONAL!N123","v":0},{"$f":"FOUNDATIONAL!O123","v":0},{"$f":"FOUNDATIONAL!P123","v":0}]
[null,null,null,null,null,null,null,null,null,null,null,null,"Total Voluntary Separations for All Employees in Critical Roles",{"$f":"FOUNDATIONAL!N124","v":0},{"$f":"FOUNDATIONAL!O124","v":0},{"$f":"FOUNDATIONAL!P124","v":0}]
[null,null,null,null,null,null,null,null,null,null,null,null,"Average Years of Service of Employees in their First 5 Years",{"$f":"FOUNDATIONAL!N129","v":0},{"$f":"FOUNDATIONAL!O129","v":0},{"$f":"FOUNDATIONAL!P129","v":0}]
[null,null,null,null,null,null,null,null,null,null,null,null,"Total Internal Promotions of Employees in their First 5 Years",{"$f":"FOUNDATIONAL!N130","v":0},{"$f":"FOUNDATIONAL!O130","v":0},{"$f":"FOUNDATIONAL!P130","v":0}]
[null,null,null,null,null,null,null,null,null,null,null,null,"Total Internal Transfers of Employees in their First 5 Years",{"$f":"FOUNDATIONAL!N131","v":0},{"$f":"FOUNDATIONAL!O131","v":0},{"$f":"FOUNDATIONAL!P131","v":0}]
[null,null,null,null,null,null,null,null,null,null,null,null,"Total External Transfers of Employees in their First 5 Years",{"$f":"FOUNDATIONAL!N132","v":0},{"$f":"FOUNDATIONAL!O132","v":0},{"$f":"FOUNDATIONAL!P132","v":0}]
[null,null,null,null,null,null,null,null,null,null,null,null,"Total Voluntary Separations of Employees in their First 5 Years",{"$f":"FOUNDATIONAL!N133","v":0},{"$f":"FOUNDATIONAL!O133","v":0},{"$f":"FOUNDATIONAL!P133","v":0}]
[null,null,null,null,null,null,null,null,null,null,null,null,"Average Years of Service of Employees in their First 5 Years in Critical Roles",{"$f":"FOUNDATIONAL!N135","v":0},{"$f":"FOUNDATIONAL!O135","v":0},{"$f":"FOUNDATIONAL!P135","v":0}]
[null,null,null,null,null,null,null,null,null,null,null,null,"Total Internal Promotions of Employees in their First 5 Years in Critical Roles",{"$f":"FOUNDATIONAL!N136","v":0},{"$f":"FOUNDATIONAL!O136","v":0},{"$f":"FOUNDATIONAL!P136","v":0}]
[null,null,null,null,null,null,null,null,null,null,null,null,"Total Internal Transfers of Employees in their First 5 Years in Critical Roles",{"$f":"FOUNDATIONAL!N137","v":0},{"$f":"FOUNDATIONAL!O137","v":0},{"$f":"FOUNDATIONAL!P137","v":0}]
[null,null,null,null,null,null,null,null,null,null,null,null,"Total External Transfers of Employees in their First 5 Years in Critical Roles",{"$f":"FOUNDATIONAL!N138","v":0},{"$f":"FOUNDATIONAL!O138","v":0},{"$f":"FOUNDATIONAL!P138","v":0}]
[null,null,null,null,null,null,null,null,null,null,null,null,"Total Voluntary Separations of Employees in their First 5 Years in Critical Roles",{"$f":"FOUNDATIONAL!N139","v":0},{"$f":"FOUNDATIONAL!O139","v":0},{"$f":"FOUNDATIONAL!P139","v":0}]
[null,null,null,null,null,null,null,null,null,null,null,null,"Average Years of Service of Employees in their First Year",{"$f":"FOUNDATIONAL!N144","v":0},{"$f":"FOUNDATIONAL!O144","v":0},{"$f":"FOUNDATIONAL!P144","v":0}]
[null,null,null,null,null,null,null,null,null,null,null,null,"Total Internal Promotions of Employees in their First Year",{"$f":"FOUNDATIONAL!N145","v":0},{"$f":"FOUNDATIONAL!O145","v":0},{"$f":"FOUNDATIONAL!P145","v":0}]
[null,null,null,null,null,null,null,null,null,null,null,null,"Total Internal Transfers of Employees in their First Year",{"$f":"FOUNDATIONAL!N146","v":0},{"$f":"FOUNDATIONAL!O146","v":0},{"$f":"FOUNDATIONAL!P146","v":0}]
[null,null,null,null,null,null,null,null,null,null,null,null,"Total External Transfers of Employees in their First Year",{"$f":"FOUNDATIONAL!N147","v":0},{"$f":"FOUNDATIONAL!O147","v":0},{"$f":"FOUNDATIONAL!P147","v":0}]
[null,null,null,null,null,null,null,null,null,null,null,null,"Total Voluntary Separations of Employees in their First Year",{"$f":"FOUNDATIONAL!N148","v":0},{"$f":"FOUNDATIONAL!O148","v":0},{"$f":"FOUNDATIONAL!P148","v":0}]
[null,null,null,null,null,null,null,null,null,null,null,null,"Average Years of Service of Employees in their First Year in Critical Roles",{"$f":"FOUNDATIONAL!N150","v":0},{"$f":"FOUNDATIONAL!O150","v":0},{"$f":"FOUNDATIONAL!P150","v":0}]
[null,null,null,null,null,null,null,null,null,null,null,null,"Total Internal Promotions of Employees in their First Year in Critical Roles",{"$f":"FOUNDATIONAL!N151","v":0},{"$f":"FOUNDATIONAL!O151","v":0},{"$f":"FOUNDATIONAL!P151","v":0}]
[null,null,null,null,null,null,null,null,null,null,null,null,"Total Internal Transfers of Employees in their First Year in Critical Roles",{"$f":"FOUNDATIONAL!N152","v":0},{"$f":"FOUNDATIONAL!O152","v":0},{"$f":"FOUNDATIONAL!P152","v":0}]
[null,null,null,null,null,null,null,null,null,null,null,null,"Total External Transfers of Employees in their First Year in Critical Roles",{"$f":"FOUNDATIONAL!N153","v":0},{"$f":"FOUNDATIONAL!O153","v":0},{"$f":"FOUNDATIONAL!P153","v":0}]
[null,null,null,null,null,null,null,null,null,null,null,null,"Total Voluntary Separations of Employees in their First Year in Critical Roles",{"$f":"FOUNDATIONAL!N154","v":0},{"$f":"FOUNDATIONAL!O154","v":0},{"$f":"FOUNDATIONAL!P154","v":0}]
[null,null,null,null,null,null,null,null,null,null,null,null,"Exit Survey Responses",{"$f":"FOUNDATIONAL!N159","v":""},{"$f":"FOUNDATIONAL!O159","v":0},{"$f":"FOUNDATIONAL!P159","v":0}]
[null,null,null,null,null,null,null,null,null,null,null,null,"Net Promoter Score",{"$f":"FOUNDATIONAL!N161","v":""},{"$f":"FOUNDATIONAL!O161","v":0},{"$f":"FOUNDATIONAL!P161","v":0}]
[null,null,null,null,null,null,null,null,null,null,null,null,"Did the Agency employ interns in the reporting fiscal year?",{"$f":"FOUNDATIONAL!N174","v":0},{"$f":"FOUNDATIONAL!O174","v":0},{"$f":"FOUNDATIONAL!P174","v":0}]
[null,null,null,null,null,null,null,null,null,null,null,null,"How may individuals were in internship roles at the agency?",{"$f":"FOUNDATIONAL!N175","v":0},{"$f":"FOUNDATIONAL!O175","v":0},{"$f":"FOUNDATIONAL!P175","v":0}]
[null,null,null,null,null,null,null,null,null,null,null,null,"How may individuals participated in paid internships supported by agency funds?",{"$f":"FOUNDATIONAL!N176","v":0},{"$f":"FOUNDATIONAL!O176","v":0},{"$f":"FOUNDATIONAL!P176","v":0}]
[null,null,null,null,null,null,null,null,null,null,null,null,"How many individuals participated in paid-internships supported by outside resources/funds (scholarships, grants, etc.)?",{"$f":"FOUNDATIONAL!N177","v":0},{"$f":"FOUNDATIONAL!O177","v":0},{"$f":"FOUNDATIONAL!P177","v":0}]
[null,null,null,null,null,null,null,null,null,null,null,null,"How may individuals participated in unpaid internships (not compensated monetarily in any way)?",{"$f":"FOUNDATIONAL!N178","v":0},{"$f":"FOUNDATIONAL!O178","v":0},{"$f":"FOUNDATIONAL!P178","v":0}]
[null,null,null,null,null,null,null,null,null,null,null,null,"How many unpaid interns received academic credit?",{"$f":"FOUNDATIONAL!N179","v":0},{"$f":"FOUNDATIONAL!O179","v":0},{"$f":"FOUNDATIONAL!P179","v":0}]
[null,null,null,null,null,null,null,null,null,null,null,null,"Total Internal Development Initiatives (Agency Conducted or Hosted)",{"$f":"FOUNDATIONAL!N184","v":0},{"$f":"FOUNDATIONAL!O184","v":0},{"$f":"FOUNDATIONAL!P184","v":0}]
[null,null,null,null,null,null,null,null,null,null,null,null,"Total Number of Employees who Participated in Internal Development",{"$f":"FOUNDATIONAL!N185","v":0},{"$f":"FOUNDATIONAL!O185","v":0},{"$f":"FOUNDATIONAL!P185","v":0}]
[null,null,null,null,null,null,null,null,null,null,null,null,"Total External Development Initiatives (Employees Offsite)",{"$f":"FOUNDATIONAL!N190","v":0},{"$f":"FOUNDATIONAL!O190","v":0},{"$f":"FOUNDATIONAL!P190","v":0}]
[null,null,null,null,null,null,null,null,null,null,null,null,"Total Number of Employees who Participated in External Development",{"$f":"FOUNDATIONAL!N191","v":0},{"$f":"FOUNDATIONAL!O191","v":0},{"$f":"FOUNDATIONAL!P191","v":0}]
[null,null,null,null,null,null,null,null,null,null,null,null,"Strength Title 1",null,null,{"$f":"SWOT!C27","v":0}]
[null,null,null,null,null,null,null,null,null,null,null,null,"Strength Description 1",null,null,{"$f":"SWOT!E27","v":0}]
[null,null,null,null,null,null,null,null,null,null,null,null,"Why Strength 1",null,null,{"$f":"SWOT!I27","v":0}]
[null,null,null,null,null,null,null,null,null,null,null,null,"Strength Title 2",null,null,{"$f":"SWOT!C32","v":0}]
[null,null,null,null,null,null,null,null,null,null,null,null,"Strength Description 2",null,null,{"$f":"SWOT!E32","v":0}]
[null,null,null,null,null,null,null,null,null,null,null,null,"Why Strength 2",null,null,{"$f":"SWOT!I32","v":0}]
[null,null,null,null,null,null,null,null,null,null,null,null,"Strength Title 3",null,null,{"$f":"SWOT!C37","v":0}]
[null,null,null,null,null,null,null,null,null,null,null,null,"Strength Description 3",null,null,{"$f":"SWOT!E37","v":0}]
[null,null,null,null,null,null,null,null,null,null,null,null,"Why Strength 3",null,null,{"$f":"SWOT!I37","v":0}]
[null,null,null,null,null,null,null,null,null,null,null,null,"Strength Title 4",null,null,{"$f":"SWOT!C42","v":0}]
[null,null,null,null,null,null,null,null,null,null,null,null,"Strength Description 4",null,null,{"$f":"SWOT!E42","v":0}]
[null,null,null,null,null,null,null,null,null,null,null,null,"Why Strength 4",null,null,{"$f":"SWOT!I42","v":0}]
[null,null,null,null,null,null,null,null,null,null,null,null,"Strength Title 5",null,null,{"$f":"SWOT!C47","v":0}]
[null,null,null,null,null,null,null,null,null,null,null,null,"Strength Description 5",null,null,{"$f":"SWOT!E47","v":0}]
[null,null,null,null,null,null,null,null,null,null,null,null,"Why Strength 5",null,null,{"$f":"SWOT!I47","v":0}]
[null,null,null,null,null,null,null,null,null,null,null,null,"Weakness Title 1",null,null,{"$f":"SWOT!C61","v":0}]
[null,null,null,null,null,null,null,null,null,null,null,null,"Weakness Description 1",null,null,{"$f":"SWOT!E61","v":0}]
[null,null,null,null,null,null,null,null,null,null,null,null,"Weakness Why 1",null,null,{"$f":"SWOT!I61","v":0}]
[null,null,null,null,null,null,null,null,null,null,null,null,"Weakness Title 2",null,null,{"$f":"SWOT!C66","v":0}]
[null,null,null,null,null,null,null,null,null,null,null,null,"Weakness Description 2",null,null,{"$f":"SWOT!E66","v":0}]
[null,null,null,null,null,null,null,null,null,null,null,null,"Weakness Why 2",null,null,{"$f":"SWOT!I66","v":0}]
[null,null,null,null,null,null,null,null,null,null,null,null,"Weakness Title 3",null,null,{"$f":"SWOT!C71","v":0}]
[null,null,null,null,null,null,null,null,null,null,null,null,"Weakness Description 3",null,null,{"$f":"SWOT!E71","v":0}]
[null,null,null,null,null,null,null,null,null,null,null,null,"Weakness Why 3",null,null,{"$f":"SWOT!I71","v":0}]
[null,null,null,null,null,null,null,null,null,null,null,null,"Weakness Title 4",null,null,{"$f":"SWOT!C76","v":0}]
[null,null,null,null,null,null,null,null,null,null,null,null,"Weakness Description 4",null,null,{"$f":"SWOT!E76","v":0}]
[null,null,null,null,null,null,null,null,null,null,null,null,"Weakness Why 4",null,null,{"$f":"SWOT!I76","v":0}]
[null,null,null,null,null,null,null,null,null,null,null,null,"Weakness Title 5",null,null,{"$f":"SWOT!C81","v":0}]
[null,null,null,null,null,null,null,null,null,null,null,null,"Weakness Description 5",null,null,{"$f":"SWOT!E81","v":0}]
[null,null,null,null,null,null,null,null,null,null,null,null,"Weakness Why 5",null,null,{"$f":"SWOT!I81","v":0}]
[null,null,null,null,null,null,null,null,null,null,null,null,"Opportunities Title 1",null,null,{"$f":"SWOT!C95","v":0}]
[null,null,null,null,null,null,null,null,null,null,null,null,"Opportunities Description 1",null,null,{"$f":"SWOT!E95","v":0}]
[null,null,null,null,null,null,null,null,null,null,null,null,"Opportunities Why 1",null,null,{"$f":"SWOT!I95","v":0}]
[null,null,null,null,null,null,null,null,null,null,null,null,"Opportunities Title 2",null,null,{"$f":"SWOT!C100","v":0}]
[null,null,null,null,null,null,null,null,null,null,null,null,"Opportunities Description 2",null,null,{"$f":"SWOT!E100","v":0}]
[null,null,null,null,null,null,null,null,null,null,null,null,"Opportunities Why 2",null,null,{"$f":"SWOT!I100","v":0}]
[null,null,null,null,null,null,null,null,null,null,null,null,"Opportunities Title 3",null,null,{"$f":"SWOT!C105","v":0}]
[null,null,null,null,null,null,null,null,null,null,null,null,"Opportunities Description 3",null,null,{"$f":"SWOT!E105","v":0}]
[null,null,null,null,null,null,null,null,null,null,null,null,"Opportunities Why 3",null,null,{"$f":"SWOT!I105","v":0}]
[null,null,null,null,null,null,null,null,null,null,null,null,"Opportunities Title 4",null,null,{"$f":"SWOT!C110","v":0}]
[null,null,null,null,null,null,null,null,null,null,null,null,"Opportunities Description 4",null,null,{"$f":"SWOT!E110","v":0}]
[null,null,null,null,null,null,null,null,null,null,null,null,"Opportunities Why 4",null,null,{"$f":"SWOT!I110","v":0}]
[null,null,null,null,null,null,null,null,null,null,null,null,"Opportunities Title 5",null,null,{"$f":"SWOT!C115","v":0}]
[null,null,null,null,null,null,null,null,null,null,null,null,"Opportunities Description 5",null,null,{"$f":"SWOT!E115","v":0}]
[null,null,null,null,null,null,null,null,null,null,null,null,"Opportunities Why 5",null,null,{"$f":"SWOT!I115","v":0}]
[null,null,null,null,null,null,null,null,null,null,null,null,"Threats Title 1",null,null,{"$f":"SWOT!C129","v":0}]
[null,null,null,null,null,null,null,null,null,null,null,null,"Threats Description 1",null,null,{"$f":"SWOT!E129","v":0}]
[null,null,null,null,null,null,null,null,null,null,null,null,"Threats Why 1",null,null,{"$f":"SWOT!I129","v":0}]
[null,null,null,null,null,null,null,null,null,null,null,null,"Threats Title 2",null,null,{"$f":"SWOT!C134","v":0}]
[null,null,null,null,null,null,null,null,null,null,null,null,"Threats Description 2",null,null,{"$f":"SWOT!E134","v":0}]
[null,null,null,null,null,null,null,null,null,null,null,null,"Threats Why 2",null,null,{"$f":"SWOT!I134","v":0}]
[null,null,null,null,null,null,null,null,null,null,null,null,"Threats Title 3",null,null,{"$f":"SWOT!C139","v":0}]
[null,null,null,null,null,null,null,null,null,null,null,null,"Threats Description 3",null,null,{"$f":"SWOT!E139","v":0}]
[null,null,null,null,null,null,null,null,null,null,null,null,"Threats Why 3",null,null,{"$f":"SWOT!I139","v":0}]
[null,null,null,null,null,null,null,null,null,null,null,null,"Threats Title 4",null,null,{"$f":"SWOT!C144","v":0}]
[null,null,null,null,null,null,null,null,null,null,null,null,"Threats Description 4",null,null,{"$f":"SWOT!E144","v":0}]
[null,null,null,null,null,null,null,null,null,null,null,null,"Threats Why 4",null,null,{"$f":"SWOT!I144","v":0}]
[null,null,null,null,null,null,null,null,null,null,null,null,"Threats Title 5",null,null,{"$f":"SWOT!C149","v":0}]
[null,null,null,null,null,null,null,null,null,null,null,null,"Threats Description 5",null,null,{"$f":"SWOT!E149","v":0}]
[null,null,null,null,null,null,null,null,null,null,null,null,"Threats Why 5",null,null,{"$f":"SWOT!I149","v":0}]
[null,null,null,null,null,null,null,null,null,null,null,null,"Risk EOP Obj 1",null,null,{"$f":"'RISK & PREPARDNESS'!I41","v":0}]
[null,null,null,null,null,null,null,null,null,null,null,null,"Prep EOP Obj 1",null,null,{"$f":"'RISK & PREPARDNESS'!I43","v":0}]
[null,null,null,null,null,null,null,null,null,null,null,null,"Needs EOP Obj 1",null,null,{"$f":"'RISK & PREPARDNESS'!F46","v":0}]
[null,null,null,null,null,null,null,null,null,null,null,null,"Risk EOP Obj 2",null,null,{"$f":"'RISK & PREPARDNESS'!I60","v":0}]
[null,null,null,null,null,null,null,null,null,null,null,null,"Prep EOP Obj 2",null,null,{"$f":"'RISK & PREPARDNESS'!I62","v":0}]
[null,null,null,null,null,null,null,null,null,null,null,null,"Needs EOP Obj 2",null,null,{"$f":"'RISK & PREPARDNESS'!F65","v":0}]
[null,null,null,null,null,null,null,null,null,null,null,null,"Risk EOP Obj 3",null,null,{"$f":"'RISK & PREPARDNESS'!I79","v":0}]
[null,null,null,null,null,null,null,null,null,null,null,null,"Prep EOP Obj 3",null,null,{"$f":"'RISK & PREPARDNESS'!I81","v":0}]
[null,null,null,null,null,null,null,null,null,null,null,null,"Needs EOP Obj 3",null,null,{"$f":"'RISK & PREPARDNESS'!F84","v":0}]
[null,null,null,null,null,null,null,null,null,null,null,null,"Risk EOP Obj 4",null,null,{"$f":"'RISK & PREPARDNESS'!I98","v":0}]
[null,null,null,null,null,null,null,null,null,null,null,null,"Prep EOP Obj 4",null,null,{"$f":"'RISK & PREPARDNESS'!I100","v":0}]
[null,null,null,null,null,null,null,null,null,null,null,null,"Needs EOP Obj 4",null,null,{"$f":"'RISK & PREPARDNESS'!F103","v":0}]
[null,null,null,null,null,null,null,null,null,null,null,null,"Risk EOP Obj 5",null,null,{"$f":"'RISK & PREPARDNESS'!I117","v":0}]
[null,null,null,null,null,null,null,null,null,null,null,null,"Prep EOP Obj 5",null,null,{"$f":"'RISK & PREPARDNESS'!I119","v":0}]
[null,null,null,null,null,null,null,null,null,null,null,null,"Needs EOP Obj 5",null,null,{"$f":"'RISK & PREPARDNESS'!F122","v":0}]
[null,null,null,null,null,null,null,null,null,null,null,null,"SAP Risk Obj 1",null,null,{"$f":"'RISK & PREPARDNESS'!I141","v":0}]
[null,null,null,null,null,null,null,null,null,null,null,null,"S!P Prep Obj 1",null,null,{"$f":"'RISK & PREPARDNESS'!I143","v":0}]
[null,null,null,null,null,null,null,null,null,null,null,null,"SAP Needs Obj 1",null,null,{"$f":"'RISK & PREPARDNESS'!F146","v":0}]
[null,null,null,null,null,null,null,null,null,null,null,null,"SAP Risk Obj 2",null,null,{"$f":"'RISK & PREPARDNESS'!I161","v":0}]
[null,null,null,null,null,null,null,null,null,null,null,null,"S!P Prep Obj 2",null,null,{"$f":"'RISK & PREPARDNESS'!I163","v":0}]
[null,null,null,null,null,null,null,null,null,null,null,null,"SAP Needs Obj 2",null,null,{"$f":"'RISK & PREPARDNESS'!F166","v":0}]
[null,null,null,null,null,null,null,null,null,null,null,null,"SAP Risk Obj 3",null,null,{"$f":"'RISK & PREPARDNESS'!I181","v":0}]
[null,null,null,null,null,null,null,null,null,null,null,null,"S!P Prep Obj 3",null,null,{"$f":"'RISK & PREPARDNESS'!I183","v":0}]
[null,null,null,null,null,null,null,null,null,null,null,null,"SAP Needs Obj 3",null,null,{"$f":"'RISK & PREPARDNESS'!F186","v":0}]
[null,null,null,null,null,null,null,null,null,null,null,null,"SAP Risk Obj 4",null,null,{"$f":"'RISK & PREPARDNESS'!I201","v":0}]
[null,null,null,null,null,null,null,null,null,null,null,null,"S!P Prep Obj 4",null,null,{"$f":"'RISK & PREPARDNESS'!I203","v":0}]
[null,null,null,null,null,null,null,null,null,null,null,null,"SAP Needs Obj 4",null,null,{"$f":"'RISK & PREPARDNESS'!F206","v":0}]
[null,null,null,null,null,null,null,null,null,null,null,null,"SAP Risk Obj 5",null,null,{"$f":"'RISK & PREPARDNESS'!I221","v":0}]
[null,null,null,null,null,null,null,null,null,null,null,null,"S!P Prep Obj 5",null,null,{"$f":"'RISK & PREPARDNESS'!I223","v":0}]
[null,null,null,null,null,null,null,null,null,null,null,null,"SAP Needs Obj 5",null,null,{"$f":"'RISK & PREPARDNESS'!F226","v":0}]
[null,null,null,null,null,null,null,null,null,null,null,null,"DOI Risk Goal 1",null,null,{"$f":"'RISK & PREPARDNESS'!I247","v":0}]
[null,null,null,null,null,null,null,null,null,null,null,null,"DOI Prep Goal 1",null,null,{"$f":"'RISK & PREPARDNESS'!I249","v":0}]
[null,null,null,null,null,null,null,null,null,null,null,null,"DOI Needs Goal 1",null,null,{"$f":"'RISK & PREPARDNESS'!F252","v":0}]
[null,null,null,null,null,null,null,null,null,null,null,null,"DOI Risk Goal 2",null,null,{"$f":"'RISK & PREPARDNESS'!I269","v":0}]
[null,null,null,null,null,null,null,null,null,null,null,null,"DOI Prep Goal 2",null,null,{"$f":"'RISK & PREPARDNESS'!I271","v":0}]
[null,null,null,null,null,null,null,null,null,null,null,null,"DOI Needs Goal 2",null,null,{"$f":"'RISK & PREPARDNESS'!F274","v":0}]
[null,null,null,null,null,null,null,null,null,null,null,null,"DOI Risk Goal 3",null,null,{"$f":"'RISK & PREPARDNESS'!I291","v":0}]
[null,null,null,null,null,null,null,null,null,null,null,null,"DOI Prep Goal 3",null,null,{"$f":"'RISK & PREPARDNESS'!I293","v":0}]
[null,null,null,null,null,null,null,null,null,null,null,null,"DOI Needs Goal 3",null,null,{"$f":"'RISK & PREPARDNESS'!F296","v":0}]
[null,null,null,null,null,null,null,null,null,null,null,null,"Other Strat Risk Obj 1",null,null,{"$f":"'RISK & PREPARDNESS'!I315","v":0}]
[null,null,null,null,null,null,null,null,null,null,null,null,"Other Strat Prep Obj 1",null,null,{"$f":"'RISK & PREPARDNESS'!I317","v":0}]
[null,null,null,null,null,null,null,null,null,null,null,null,"Other Strat Needs Obj 1",null,null,{"$f":"'RISK & PREPARDNESS'!F320","v":0}]
[null,null,null,null,null,null,null,null,null,null,null,null,"Other Strat Risk Obj 2",null,null,{"$f":"'RISK & PREPARDNESS'!I335","v":0}]
[null,null,null,null,null,null,null,null,null,null,null,null,"Other Strat Prep Obj 2",null,null,{"$f":"'RISK & PREPARDNESS'!I337","v":0}]
[null,null,null,null,null,null,null,null,null,null,null,null,"Other Strat Needs Obj 2",null,null,{"$f":"'RISK & PREPARDNESS'!F340","v":0}]
[null,null,null,null,null,null,null,null,null,null,null,null,"Other Strat Risk Obj 3",null,null,{"$f":"'RISK & PREPARDNESS'!I355","v":0}]
[null,null,null,null,null,null,null,null,null,null,null,null,"Other Strat Prep Obj 3",null,null,{"$f":"'RISK & PREPARDNESS'!I357","v":0}]
[null,null,null,null,null,null,null,null,null,null,null,null,"Other Strat Needs Obj 3",null,null,{"$f":"'RISK & PREPARDNESS'!F360","v":0}]
[null,null,null,null,null,null,null,null,null,null,null,null,"Other Strat Risk Obj 4",null,null,{"$f":"'RISK & PREPARDNESS'!I375","v":0}]
[null,null,null,null,null,null,null,null,null,null,null,null,"Other Strat Prep Obj 4",null,null,{"$f":"'RISK & PREPARDNESS'!I377","v":0}]
[null,null,null,null,null,null,null,null,null,null,null,null,"Other Strat Needs Obj 4",null,null,{"$f":"'RISK & PREPARDNESS'!F380","v":0}]
[null,null,null,null,null,null,null,null,null,null,null,null,"Other Strat Risk Obj 5",null,null,{"$f":"'RISK & PREPARDNESS'!I395","v":0}]
[null,null,null,null,null,null,null,null,null,null,null,null,"Other Strat Prep Obj 5",null,null,{"$f":"'RISK & PREPARDNESS'!I397","v":0}]
[null,null,null,null,null,null,null,null,null,null,null,null,"Other Strat Needs Obj 5",null,null,{"$f":"'RISK & PREPARDNESS'!F400","v":0}]
[null,null,null,null,null,null,null,null,null,null,null,null,"Prospective Employee Work Experience",null,null,{"$f":"'AGENCY STRATEGY'!F21","v":0}]
[null,null,null,null,null,null,null,null,null,null,null,null,"Leaving Employee Work Experience",null,null,{"$f":"'AGENCY STRATEGY'!F25","v":0}]
[null,null,null,null,null,null,null,null,null,null,null,null,"Strat Obj 1",null,null,{"$f":"'AGENCY STRATEGY'!F46","v":0}]
[null,null,null,null,null,null,null,null,null,null,null,null,"Strat Action 1:1",null,null,{"$f":"'AGENCY STRATEGY'!H53","v":0}]
[null,null,null,null,null,null,null,null,null,null,null,null,"Strat Action 1:2",null,null,{"$f":"'AGENCY STRATEGY'!H56","v":0}]
[null,null,null,null,null,null,null,null,null,null,null,null,"Strat Action 1:3",null,null,{"$f":"'AGENCY STRATEGY'!H59","v":""}]
[null,null,null,null,null,null,null,null,null,null,null,null,"Strat Action 1:4",null,null,{"$f":"'AGENCY STRATEGY'!H62","v":""}]
[null,null,null,null,null,null,null,null,null,null,null,null,"Strat Action 1:5",null,null,{"$f":"'AGENCY STRATEGY'!H65","v":""}]
[null,null,null,null,null,null,null,null,null,null,null,null,"Strat Obj 2",null,null,{"$f":"'AGENCY STRATEGY'!F95","v":0}]
[null,null,null,null,null,null,null,null,null,null,null,null,"Strat Action 2:1",null,null,{"$f":"'AGENCY STRATEGY'!H102","v":0}]
[null,null,null,null,null,null,null,null,null,null,null,null,"Strat Action 2:2",null,null,{"$f":"'AGENCY STRATEGY'!H105","v":0}]
[null,null,null,null,null,null,null,null,null,null,null,null,"Strat Action 2:3",null,null,{"$f":"'AGENCY STRATEGY'!H108","v":""}]
[null,null,null,null,null,null,null,null,null,null,null,null,"Strat Action 2:4",null,null,{"$f":"'AGENCY STRATEGY'!H111","v":""}]
[null,null,null,null,null,null,null,null,null,null,null,null,"Strat Action 2:5",null,null,{"$f":"'AGENCY STRATEGY'!H114","v":""}]
[null,null,null,null,null,null,null,null,null,null,null,null,"Strat Obj 3",null,null,{"$f":"'AGENCY STRATEGY'!F144","v":0}]
[null,null,null,null,null,null,null,null,null,null,null,null,"Strat Action 3:1",null,null,{"$f":"'AGENCY STRATEGY'!H151","v":0}]
[null,null,null,null,null,null,null,null,null,null,null,null,"Strat Action 3:2",null,null,{"$f":"'AGENCY STRATEGY'!H154","v":""}]
[null,null,null,null,null,null,null,null,null,null,null,null,"Strat Action 3:3",null,null,{"$f":"'AGENCY STRATEGY'!H157","v":""}]
[null,null,null,null,null,null,null,null,null,null,null,null,"Strat Action 3:4",null,null,{"$f":"'AGENCY STRATEGY'!H160","v":""}]
[null,null,null,null,null,null,null,null,null,null,null,null,"Strat Action 3:5",null,null,{"$f":"'AGENCY STRATEGY'!H163","v":""}]
[null,null,null,null,null,null,null,null,null,null,null,null,"Strat Obj 4",null,null,{"$f":"'AGENCY STRATEGY'!F193","v":""}]
[null,null,null,null,null,null,null,null,null,null,null,null,"Strat Action 4:1",null,null,{"$f":"'AGENCY STRATEGY'!H200","v":0}]
[null,null,null,null,null,null,null,null,null,null,null,null,"Strat Action 4:2",null,null,{"$f":"'AGENCY STRATEGY'!H203","v":""}]
[null,null,null,null,null,null,null,null,null,null,null,null,"Strat Action 4:3",null,null,{"$f":"'AGENCY STRATEGY'!H206","v":""}]
[null,null,null,null,null,null,null,null,null,null,null,null,"Strat Action 4:4",null,null,{"$f":"'AGENCY STRATEGY'!H209","v":""}]
[null,null,null,null,null,null,null,null,null,null,null,null,"Strat Action 4:5",null,null,{"$f":"'AGENCY STRATEGY'!H212","v":""}]
[null,null,null,null,null,null,null,null,null,null,null,null,"Strat Obj 5",null,null,{"$f":"'AGENCY STRATEGY'!F242","v":0}]
[null,null,null,null,null,null,null,null,null,null,null,null,"Strat Action 5:1",null,null,{"$f":"'AGENCY STRATEGY'!H249","v":""}]
[null,null,null,null,null,null,null,null,null,null,null,null,"Strat Action 5:2",null,null,{"$f":"'AGENCY STRATEGY'!H252","v":""}]
[null,null,null,null,null,null,null,null,null,null,null,null,"Strat Action 5:3",null,null,{"$f":"'AGENCY STRATEGY'!H255","v":""}]
[null,null,null,null,null,null,null,null,null,null,null,null,"Strat Action 5:4",null,null,{"$f":"'AGENCY STRATEGY'!H258","v":""}]
[null,null,null,null,null,null,null,null,null,null,null,null,"Strat Action 5:5",null,null,{"$f":"'AGENCY STRATEGY'!H261","v":""}]
[null,null,null,null,null,null,null,null,null,null,null,null,"Strat Progress Obj 1",null,null,{"$f":"'AGENCY STRATEGY'!H76","v":0}]
[null,null,null,null,null,null,null,null,null,null,null,null,"Strat Progress Obj 2",null,null,{"$f":"'AGENCY STRATEGY'!H125","v":0}]
[null,null,null,null,null,null,null,null,null,null,null,null,"Strat Progress Obj 3",null,null,{"$f":"'AGENCY STRATEGY'!H174","v":0}]
[null,null,null,null,null,null,null,null,null,null,null,null,"Strat Progress Obj 4",null,null,{"$f":"'AGENCY STRATEGY'!H223","v":0}]
[null,null,null,null,null,null,null,null,null,null,null,null,"Strat Progress Obj 5",null,null,{"$f":"'AGENCY STRATEGY'!H272","v":0}]
[null,null,null,null,null,null,null,null,null,null,null,null,"Executive Summary",null,null,{"$f":"'WFP SUMMARY'!G47","v":0}]
[null,null,null,null,null,null,null,null,null,null,null,null,"Data Highlights",null,null,{"$f":"'WFP SUMMARY'!G112","v":0}]
[null,null,null,null,null,null,null,null,null,null,null,null,"Critical Role Definitions",null,null,{"$f":"'WFP SUMMARY'!M147","v":0}]
[null,null,null,null,null,null,null,null,null,null,null,null,"InDepth Enabled",null,null,{"$f":"'CENTRAL ANALYSIS'!J23","v":false}]
[null,null,null,null,null,null,null,null,null,null,null,null,"Comprehensive Enabled",null,null,{"$f":"'CENTRAL ANALYSIS'!J24","v":false}]
[null,null,null,null,null,null,null,null,null,null,null,null,"Response Rate",{"$f":"FOUNDATIONAL!N160","v":""},{"$f":"FOUNDATIONAL!O160","v":0},{"$f":"FOUNDATIONAL!P160","v":0}]